{"text_format":"1","workbook":"xlsx","n_sheets":7,"sheets":["Kitchen","Summary","Data Validation Lists","Codes","Prices Furniture","Lighting Prices","Codes check"],"not_rendered":{"charts":0,"images":1,"macros":1,"external_links":0,"defined_names":6,"comments":0,"pivot_tables":0},"unopened":[],"bounds":{"document_bytes":16777216,"sheet_cells":100000,"rows_first":2000,"rows_last":500,"rows_between":2000,"halvings":0,"cell_chars":16384,"cell_head_chars":4096},"cells_cut":0,"cells_raw":0,"read":"whole","date_system":"1900"}

{"sheet":"Kitchen","index":0,"n_rows":468,"n_cols":23,"rows_kept":468,"cut":false,"hidden":false,"merged":[[7,7,7,9],[78,1,79,1],[78,2,79,2],[136,0,137,0],[144,0,145,0],[144,4,145,4],[114,4,115,4],[136,1,137,1],[136,2,137,2],[136,3,137,3],[136,4,137,4],[144,3,145,3],[114,1,115,1],[114,2,115,2],[10,0,11,0],[78,0,79,0],[2,1,2,2],[2,3,2,4],[4,3,5,4],[4,1,5,2],[3,3,3,4],[3,1,3,2],[178,0,179,0],[178,1,179,1],[178,2,179,2],[178,3,179,3],[178,4,179,4],[10,3,11,3],[10,4,11,4],[78,3,79,3],[78,4,79,4],[10,1,11,1],[10,2,11,2],[203,2,204,2],[203,3,204,3],[203,4,204,4],[114,3,115,3],[144,1,145,1],[144,2,145,2],[238,4,239,4],[416,2,417,2],[416,3,417,3],[409,3,410,3],[114,0,115,0],[350,4,351,4],[226,4,227,4],[238,3,239,3],[238,2,239,2],[350,2,351,2],[350,3,351,3],[226,2,227,2],[226,3,227,3],[226,0,227,0],[203,0,204,0],[226,1,227,1],[238,0,239,0],[350,1,351,1],[376,0,377,0],[376,1,377,1],[238,1,239,1],[416,0,417,0],[416,1,417,1],[350,0,351,0],[409,2,410,2],[409,4,410,4],[376,2,377,2],[376,3,377,3],[409,0,410,0],[409,1,410,1],[416,4,417,4],[376,4,377,4],[108,0,109,0],[108,1,109,1],[108,2,109,2],[108,3,109,3],[108,4,109,4]]}
["Range",null,null,null,null,null,null,null,null,null,null,null,null,null,null,null,null,null,"Enter %","Total Cost Ex Vat","RRP Ex Vat","Cash Margin","Margin %"]
["Cabinet Colour",null,null,null,null,null,null,null,null,null,null,null,null,null,null,null,null,"My Furniture Discount",0.4,{"$f":"SUM(T12:T468)","v":75},{"$f":"D9/1.2","v":75},{"$f":"U2-T2","v":0},{"$f":"V2/U2","v":0}]
["Drawer Box","Customer Name  ",null,null,null,null,null,null,null,null,null,null,null,null,null,null,null,"Add Retail Discount",0]
["Rigid","Order Ref  "]
["Home Delivery","Other Comments  ",null,null,null,null,null,null,null,null,null,null,null,null,null,null,null,"Additional Margin"]
[null,null,null,null,null,null,null,null,null,null,null,null,null,null,null,null,null,"Lights",0.3]
[null,null,null,null,{"$f":"VLOOKUP('Data Validation Lists'!B1,'Data Validation Lists'!A2:D378,4,FALSE)","v":"Stocked"},null,null,null,null,null,null,null,null,null,null,null,null,"Other",0.3]
[null,"Qty","RRP","Total RRP","Part Code",null,null,"Drw Boxes"]
[null,1,null,{"$f":"SUM(D13:D468)","v":90},null,null,"Rigid","Std","Pan","Low"]
[]
["Base Units"]
[]
["150 HL Pull Out Base VS SUB",null,{"$f":"IF($E13=\"Not Available\",\"\",VLOOKUP(E13,'Prices Furniture'!A:F,5,FALSE)*(1-$S$3))","v":408},{"$f":"IF(B13=\"\",\"\",B13*C13)","v":""},{"$f":"VLOOKUP(A13,Codes!$B:$AP,'Data Validation Lists'!$B$1+2,FALSE)","v":"@LK-EMD-BP15TY"},null,{"$f":"IF(AND(B13>0,'Data Validation Lists'!$I$1=1),B13,\"\")","v":""},null,null,null,null,null,null,null,null,null,null,"Furniture",null,{"$f":"IF(B13=\"\",\"\",SUM(D13/1.2)*(1-$S$2)/(1-$S$3))","v":""}]
["300 HL Pull Out Base VS SUB",null,{"$f":"IF($E14=\"Not Available\",\"\",VLOOKUP(E14,'Prices Furniture'!A:F,5,FALSE)*(1-$S$3))","v":634},{"$f":"IF(B14=\"\",\"\",B14*C14)","v":""},{"$f":"VLOOKUP(A14,Codes!$B:$AP,'Data Validation Lists'!$B$1+2,FALSE)","v":"@LK-EMD-BP3TY"},null,{"$f":"IF(AND(B14>0,'Data Validation Lists'!$I$1=1),B14,\"\")","v":""},null,null,null,null,null,null,null,null,null,null,"Furniture",null,""]
[null,null,null,null,null,null,{"$f":"IF(AND(B15>0,'Data Validation Lists'!$I$1=1),B15,\"\")","v":""},null,null,null,null,null,null,null,null,null,null,"Furniture",null,""]
["150 HL Base Unit",null,{"$f":"IF($E16=\"Not Available\",\"\",VLOOKUP(E16,'Prices Furniture'!A:F,5,FALSE)*(1-$S$3))","v":228},{"$f":"IF(B16=\"\",\"\",B16*C16)","v":""},{"$f":"VLOOKUP(A16,Codes!$B:$AP,'Data Validation Lists'!$B$1+2,FALSE)","v":"@LK-EMD-BH15"},null,{"$f":"IF(AND(B16>0,'Data Validation Lists'!$I$1=1),B16,\"\")","v":""},null,null,null,null,null,null,null,null,null,null,"Furniture",null,""]
["300 HL Base Unit",null,{"$f":"IF($E17=\"Not Available\",\"\",VLOOKUP(E17,'Prices Furniture'!A:F,5,FALSE)*(1-$S$3))","v":239},"",{"$f":"VLOOKUP(A17,Codes!$B:$AP,'Data Validation Lists'!$B$1+2,FALSE)","v":"@LK-EMD-BH30"},null,{"$f":"IF(AND(B17>0,'Data Validation Lists'!$I$1=1),B17,\"\")","v":""},null,null,null,null,null,null,null,null,null,null,"Furniture",null,""]
["400 HL Base Unit",null,{"$f":"IF($E18=\"Not Available\",\"\",VLOOKUP(E18,'Prices Furniture'!A:F,5,FALSE)*(1-$S$3))","v":249},"",{"$f":"VLOOKUP(A18,Codes!$B:$AP,'Data Validation Lists'!$B$1+2,FALSE)","v":"@LK-EMD-BH40"},null,{"$f":"IF(AND(B18>0,'Data Validation Lists'!$I$1=1),B18,\"\")","v":""},null,null,null,null,null,null,null,null,null,null,"Furniture",null,""]
["450 HL Base Unit",null,{"$f":"IF($E19=\"Not Available\",\"\",VLOOKUP(E19,'Prices Furniture'!A:F,5,FALSE)*(1-$S$3))","v":272},"",{"$f":"VLOOKUP(A19,Codes!$B:$AP,'Data Validation Lists'!$B$1+2,FALSE)","v":"@LK-EMD-BH45"},null,{"$f":"IF(AND(B19>0,'Data Validation Lists'!$I$1=1),B19,\"\")","v":""},null,null,null,null,null,null,null,null,null,null,"Furniture",null,""]
["500 HL Base Unit",null,{"$f":"IF($E20=\"Not Available\",\"\",VLOOKUP(E20,'Prices Furniture'!A:F,5,FALSE)*(1-$S$3))","v":283},"",{"$f":"VLOOKUP(A20,Codes!$B:$AP,'Data Validation Lists'!$B$1+2,FALSE)","v":"@LK-EMD-BH50"},null,{"$f":"IF(AND(B20>0,'Data Validation Lists'!$I$1=1),B20,\"\")","v":""},null,null,null,null,null,null,null,null,null,null,"Furniture",null,""]
["500 HL Sink Base Unit (Inc Liner)",null,{"$f":"IF($E21=\"Not Available\",\"\",VLOOKUP(E21,'Prices Furniture'!A:F,5,FALSE)*(1-$S$3))","v":313},"",{"$f":"VLOOKUP(A21,Codes!$B:$AP,'Data Validation Lists'!$B$1+2,FALSE)","v":"@LK-EMD-BH50S"},null,{"$f":"IF(AND(B21>0,'Data Validation Lists'!$I$1=1),B21,\"\")","v":""},null,null,null,null,null,null,null,null,null,null,"Furniture",null,""]
["600 HL Base Unit",null,{"$f":"IF($E22=\"Not Available\",\"\",VLOOKUP(E22,'Prices Furniture'!A:F,5,FALSE)*(1-$S$3))","v":319},"",{"$f":"VLOOKUP(A22,Codes!$B:$AP,'Data Validation Lists'!$B$1+2,FALSE)","v":"@LK-EMD-BH60"},null,{"$f":"IF(AND(B22>0,'Data Validation Lists'!$I$1=1),B22,\"\")","v":""},null,null,null,null,null,null,null,null,null,null,"Furniture",null,""]
["600 HL Sink Base Unit (Inc Liner)",null,{"$f":"IF($E23=\"Not Available\",\"\",VLOOKUP(E23,'Prices Furniture'!A:F,5,FALSE)*(1-$S$3))","v":365},"",{"$f":"VLOOKUP(A23,Codes!$B:$AP,'Data Validation Lists'!$B$1+2,FALSE)","v":"@LK-EMD-BH60S"},null,{"$f":"IF(AND(B23>0,'Data Validation Lists'!$I$1=1),B23,\"\")","v":""},null,null,null,null,null,null,null,null,null,null,"Furniture",null,""]
["700 HL Base Unit",null,{"$f":"IF($E24=\"Not Available\",\"\",VLOOKUP(E24,'Prices Furniture'!A:F,5,FALSE)*(1-$S$3))","v":388},"",{"$f":"VLOOKUP(A24,Codes!$B:$AP,'Data Validation Lists'!$B$1+2,FALSE)","v":"@LK-EMD-BH70"},null,{"$f":"IF(AND(B24>0,'Data Validation Lists'!$I$1=1),B24,\"\")","v":""},null,null,null,null,null,null,null,null,null,null,"Furniture",null,""]
["800 HL Base Unit",null,{"$f":"IF($E25=\"Not Available\",\"\",VLOOKUP(E25,'Prices Furniture'!A:F,5,FALSE)*(1-$S$3))","v":394},{"$f":"IF(B25=\"\",\"\",B25*C25)","v":""},{"$f":"VLOOKUP(A25,Codes!$B:$AP,'Data Validation Lists'!$B$1+2,FALSE)","v":"@LK-EMD-BH80"},null,{"$f":"IF(AND(B25>0,'Data Validation Lists'!$I$1=1),B25,\"\")","v":""},null,null,null,null,null,null,null,null,null,null,"Furniture",null,""]
["800 HL Sink Base Unit (Inc Liner)",null,{"$f":"IF($E26=\"Not Available\",\"\",VLOOKUP(E26,'Prices Furniture'!A:F,5,FALSE)*(1-$S$3))","v":440},"",{"$f":"VLOOKUP(A26,Codes!$B:$AP,'Data Validation Lists'!$B$1+2,FALSE)","v":"@LK-EMD-BH80S"},null,{"$f":"IF(AND(B26>0,'Data Validation Lists'!$I$1=1),B26,\"\")","v":""},null,null,null,null,null,null,null,null,null,null,"Furniture",null,""]
["900 HL Base Unit",null,{"$f":"IF($E27=\"Not Available\",\"\",VLOOKUP(E27,'Prices Furniture'!A:F,5,FALSE)*(1-$S$3))","v":418},"",{"$f":"VLOOKUP(A27,Codes!$B:$AP,'Data Validation Lists'!$B$1+2,FALSE)","v":"@LK-EMD-BH90"},null,{"$f":"IF(AND(B27>0,'Data Validation Lists'!$I$1=1),B27,\"\")","v":""},null,null,null,null,null,null,null,null,null,null,"Furniture",null,""]
["900 HL Sink Base Unit (Inc Liner)",null,{"$f":"IF($E28=\"Not Available\",\"\",VLOOKUP(E28,'Prices Furniture'!A:F,5,FALSE)*(1-$S$3))","v":464},"",{"$f":"VLOOKUP(A28,Codes!$B:$AP,'Data Validation Lists'!$B$1+2,FALSE)","v":"@LK-EMD-BH90S"},null,{"$f":"IF(AND(B28>0,'Data Validation Lists'!$I$1=1),B28,\"\")","v":""},null,null,null,null,null,null,null,null,null,null,"Furniture",null,""]
["1000 HL Base Unit",null,{"$f":"IF($E29=\"Not Available\",\"\",VLOOKUP(E29,'Prices Furniture'!A:F,5,FALSE)*(1-$S$3))","v":439},"",{"$f":"VLOOKUP(A29,Codes!$B:$AP,'Data Validation Lists'!$B$1+2,FALSE)","v":"@LK-EMD-BH100"},null,{"$f":"IF(AND(B29>0,'Data Validation Lists'!$I$1=1),B29,\"\")","v":""},null,null,null,null,null,null,null,null,null,null,"Furniture",null,""]
["1000 HL Sink Base Unit (Inc Liner)",null,{"$f":"IF($E30=\"Not Available\",\"\",VLOOKUP(E30,'Prices Furniture'!A:F,5,FALSE)*(1-$S$3))","v":485},"",{"$f":"VLOOKUP(A30,Codes!$B:$AP,'Data Validation Lists'!$B$1+2,FALSE)","v":"@LK-EMD-BH10S"},null,{"$f":"IF(AND(B30>0,'Data Validation Lists'!$I$1=1),B30,\"\")","v":""},null,null,null,null,null,null,null,null,null,null,"Furniture",null,""]
[null,null,null,null,null,null,null,null,null,null,null,null,null,null,null,null,null,"Furniture",null,""]
["300 HL Base Unit & Bin",null,{"$f":"IF($E32=\"Not Available\",\"\",VLOOKUP(E32,'Prices Furniture'!A:F,5,FALSE)*(1-$S$3))","v":607},{"$f":"IF(B32=\"\",\"\",B32*C32)","v":""},{"$f":"VLOOKUP(A32,Codes!$B:$AP,'Data Validation Lists'!$B$1+2,FALSE)","v":"@LK-EMD-BH3B"},null,{"$f":"IF(AND(B32>0,'Data Validation Lists'!$I$1=1),B32,\"\")","v":""},null,null,null,null,null,null,null,null,null,null,"Furniture",null,""]
["400 HL Base Unit & Bin",null,{"$f":"IF($E33=\"Not Available\",\"\",VLOOKUP(E33,'Prices Furniture'!A:F,5,FALSE)*(1-$S$3))","v":682},"",{"$f":"VLOOKUP(A33,Codes!$B:$AP,'Data Validation Lists'!$B$1+2,FALSE)","v":"@LK-EMD-BH4B"},null,{"$f":"IF(AND(B33>0,'Data Validation Lists'!$I$1=1),B33,\"\")","v":""},null,null,null,null,null,null,null,null,null,null,"Furniture",null,""]
["450 HL Base Unit & Bin",null,{"$f":"IF($E34=\"Not Available\",\"\",VLOOKUP(E34,'Prices Furniture'!A:F,5,FALSE)*(1-$S$3))","v":710},"",{"$f":"VLOOKUP(A34,Codes!$B:$AP,'Data Validation Lists'!$B$1+2,FALSE)","v":"@LK-EMD-BH45B"},null,{"$f":"IF(AND(B34>0,'Data Validation Lists'!$I$1=1),B34,\"\")","v":""},null,null,null,null,null,null,null,null,null,null,"Furniture",null,""]
["500 HL Base Unit & Bin",null,{"$f":"IF($E35=\"Not Available\",\"\",VLOOKUP(E35,'Prices Furniture'!A:F,5,FALSE)*(1-$S$3))","v":727},"",{"$f":"VLOOKUP(A35,Codes!$B:$AP,'Data Validation Lists'!$B$1+2,FALSE)","v":"@LK-EMD-BH5B"},null,{"$f":"IF(AND(B35>0,'Data Validation Lists'!$I$1=1),B35,\"\")","v":""},null,null,null,null,null,null,null,null,null,null,"Furniture",null,""]
["600 HL Base Unit & Bin (2 Bins)",null,{"$f":"IF($E36=\"Not Available\",\"\",VLOOKUP(E36,'Prices Furniture'!A:F,5,FALSE)*(1-$S$3))","v":800},"",{"$f":"VLOOKUP(A36,Codes!$B:$AP,'Data Validation Lists'!$B$1+2,FALSE)","v":"@LK-EMD-BH6B2"},null,{"$f":"IF(AND(B36>0,'Data Validation Lists'!$I$1=1),B36,\"\")","v":""},null,null,null,null,null,null,null,null,null,null,"Furniture",null,""]
[]
["800 HL Cnr Base (300 Door)",null,{"$f":"IF($E38=\"Not Available\",\"\",VLOOKUP(E38,'Prices Furniture'!A:F,5,FALSE)*(1-$S$3))","v":374},{"$f":"IF(B38=\"\",\"\",B38*C38)","v":""},{"$f":"VLOOKUP(A38,Codes!$B:$AP,'Data Validation Lists'!$B$1+2,FALSE)","v":"@LK-EMD-BC83"},null,{"$f":"IF(AND(B38>0,'Data Validation Lists'!$I$1=1),B38,\"\")","v":""},null,null,null,null,null,null,null,null,null,null,"Furniture",null,{"$f":"IF(B38=\"\",\"\",SUM(D38/1.2)*(1-$S$2)/(1-$S$3))","v":""}]
["800 HL Cnr Base Unit (400 Door)",null,{"$f":"IF($E39=\"Not Available\",\"\",VLOOKUP(E39,'Prices Furniture'!A:F,5,FALSE)*(1-$S$3))","v":380},"",{"$f":"VLOOKUP(A39,Codes!$B:$AP,'Data Validation Lists'!$B$1+2,FALSE)","v":"@LK-EMD-BC84"},null,{"$f":"IF(AND(B39>0,'Data Validation Lists'!$I$1=1),B39,\"\")","v":""},null,null,null,null,null,null,null,null,null,null,"Furniture",null,""]
["800 HL Cnr Base (450 Door)",null,{"$f":"IF($E40=\"Not Available\",\"\",VLOOKUP(E40,'Prices Furniture'!A:F,5,FALSE)*(1-$S$3))","v":392},"",{"$f":"VLOOKUP(A40,Codes!$B:$AP,'Data Validation Lists'!$B$1+2,FALSE)","v":"@LK-EMD-BC845"},null,{"$f":"IF(AND(B40>0,'Data Validation Lists'!$I$1=1),B40,\"\")","v":""},null,null,null,null,null,null,null,null,null,null,"Furniture",null,""]
["900 HL Cnr Base (450 Door)",null,{"$f":"IF($E41=\"Not Available\",\"\",VLOOKUP(E41,'Prices Furniture'!A:F,5,FALSE)*(1-$S$3))","v":392},"",{"$f":"VLOOKUP(A41,Codes!$B:$AP,'Data Validation Lists'!$B$1+2,FALSE)","v":"@LK-EMD-BC945"},null,{"$f":"IF(AND(B41>0,'Data Validation Lists'!$I$1=1),B41,\"\")","v":""},null,null,null,null,null,null,null,null,null,null,"Furniture",null,""]
["1000 HL Cnr Base (450 Door)",null,{"$f":"IF($E42=\"Not Available\",\"\",VLOOKUP(E42,'Prices Furniture'!A:F,5,FALSE)*(1-$S$3))","v":397},"",{"$f":"VLOOKUP(A42,Codes!$B:$AP,'Data Validation Lists'!$B$1+2,FALSE)","v":"@LK-EMD-BC145"},null,{"$f":"IF(AND(B42>0,'Data Validation Lists'!$I$1=1),B42,\"\")","v":""},null,null,null,null,null,null,null,null,null,null,"Furniture",null,""]
["1000 HL Cnr Base (500 Door)",null,{"$f":"IF($E43=\"Not Available\",\"\",VLOOKUP(E43,'Prices Furniture'!A:F,5,FALSE)*(1-$S$3))","v":405},"",{"$f":"VLOOKUP(A43,Codes!$B:$AP,'Data Validation Lists'!$B$1+2,FALSE)","v":"@LK-EMD-BC15"},null,{"$f":"IF(AND(B43>0,'Data Validation Lists'!$I$1=1),B43,\"\")","v":""},null,null,null,null,null,null,null,null,null,null,"Furniture",null,""]
["1000 HL Cnr Base (600 Door)",null,{"$f":"IF($E44=\"Not Available\",\"\",VLOOKUP(E44,'Prices Furniture'!A:F,5,FALSE)*(1-$S$3))","v":421},"",{"$f":"VLOOKUP(A44,Codes!$B:$AP,'Data Validation Lists'!$B$1+2,FALSE)","v":"@LK-EMD-BC16"},null,{"$f":"IF(AND(B44>0,'Data Validation Lists'!$I$1=1),B44,\"\")","v":""},null,null,null,null,null,null,null,null,null,null,"Furniture",null,""]
["1000 Cnr Base CORNERSTONE MAXX LH - 500 door",null,{"$f":"IF($E45=\"Not Available\",\"\",VLOOKUP(E45,'Prices Furniture'!A:F,5,FALSE)*(1-$S$3))","v":1270},"",{"$f":"VLOOKUP(A45,Codes!$B:$AP,'Data Validation Lists'!$B$1+2,FALSE)","v":"@LK-EMD-BCL15L"},"Note: This unit is handed by the Wirework",{"$f":"IF(AND(B45>0,'Data Validation Lists'!$I$1=1),B45,\"\")","v":""},null,null,null,null,null,null,null,null,null,null,"Furniture",null,""]
["1000 Cnr Base CORNERSTONE MAXX RH - 500 door",null,{"$f":"IF($E46=\"Not Available\",\"\",VLOOKUP(E46,'Prices Furniture'!A:F,5,FALSE)*(1-$S$3))","v":1270},"",{"$f":"VLOOKUP(A46,Codes!$B:$AP,'Data Validation Lists'!$B$1+2,FALSE)","v":"@LK-EMD-BCL15R"},"Note: This unit is handed by the Wirework",{"$f":"IF(AND(B46>0,'Data Validation Lists'!$I$1=1),B46,\"\")","v":""},null,null,null,null,null,null,null,null,null,null,"Furniture",null,""]
["1000 Cnr Base CORNERSTONE MAXX LH - 600 door",null,{"$f":"IF($E47=\"Not Available\",\"\",VLOOKUP(E47,'Prices Furniture'!A:F,5,FALSE)*(1-$S$3))","v":1349},"",{"$f":"VLOOKUP(A47,Codes!$B:$AP,'Data Validation Lists'!$B$1+2,FALSE)","v":"@LK-EMD-BCL16L"},"Note: This unit is handed by the Wirework",{"$f":"IF(AND(B47>0,'Data Validation Lists'!$I$1=1),B47,\"\")","v":""},null,null,null,null,null,null,null,null,null,null,"Furniture",null,""]
["1000 Cnr Base CORNERSTONE MAXX RH - 600 door",null,{"$f":"IF($E48=\"Not Available\",\"\",VLOOKUP(E48,'Prices Furniture'!A:F,5,FALSE)*(1-$S$3))","v":1349},"",{"$f":"VLOOKUP(A48,Codes!$B:$AP,'Data Validation Lists'!$B$1+2,FALSE)","v":"@LK-EMD-BCL16R"},"Note: This unit is handed by the Wirework",{"$f":"IF(AND(B48>0,'Data Validation Lists'!$I$1=1),B48,\"\")","v":""},null,null,null,null,null,null,null,null,null,null,"Furniture",null,""]
["900 Corner Base VS COR FLEX - 450 door",null,{"$f":"IF($E49=\"Not Available\",\"\",VLOOKUP(E49,'Prices Furniture'!A:F,5,FALSE)*(1-$S$3))","v":1402},"",{"$f":"VLOOKUP(A49,Codes!$B:$AP,'Data Validation Lists'!$B$1+2,FALSE)","v":"@LK-EMD-BCO945"},null,{"$f":"IF(AND(B49>0,'Data Validation Lists'!$I$1=1),B49,\"\")","v":""},null,null,null,null,null,null,null,null,null,null,"Furniture",null,""]
["1000 Corner Base VS COR FLEX - 450 door",null,{"$f":"IF($E50=\"Not Available\",\"\",VLOOKUP(E50,'Prices Furniture'!A:F,5,FALSE)*(1-$S$3))","v":1407},"",{"$f":"VLOOKUP(A50,Codes!$B:$AP,'Data Validation Lists'!$B$1+2,FALSE)","v":"@LK-EMD-BCO145"},null,{"$f":"IF(AND(B50>0,'Data Validation Lists'!$I$1=1),B50,\"\")","v":""},null,null,null,null,null,null,null,null,null,null,"Furniture",null,""]
["1000 Corner Base VS COR FLEX - 500 door",null,{"$f":"IF($E51=\"Not Available\",\"\",VLOOKUP(E51,'Prices Furniture'!A:F,5,FALSE)*(1-$S$3))","v":1415},"",{"$f":"VLOOKUP(A51,Codes!$B:$AP,'Data Validation Lists'!$B$1+2,FALSE)","v":"@LK-EMD-BCO15"},null,{"$f":"IF(AND(B51>0,'Data Validation Lists'!$I$1=1),B51,\"\")","v":""},null,null,null,null,null,null,null,null,null,null,"Furniture",null,""]
["1000 Corner Base VS COR FLEX - 600 door",null,{"$f":"IF($E52=\"Not Available\",\"\",VLOOKUP(E52,'Prices Furniture'!A:F,5,FALSE)*(1-$S$3))","v":1431},"",{"$f":"VLOOKUP(A52,Codes!$B:$AP,'Data Validation Lists'!$B$1+2,FALSE)","v":"@LK-EMD-BCO16"},null,{"$f":"IF(AND(B52>0,'Data Validation Lists'!$I$1=1),B52,\"\")","v":""},null,null,null,null,null,null,null,null,null,null,"Furniture",null,""]
["950 HL Cnr L Base",null,{"$f":"IF($E53=\"Not Available\",\"\",VLOOKUP(E53,'Prices Furniture'!A:F,5,FALSE)*(1-$S$3))","v":618},"",{"$f":"VLOOKUP(A53,Codes!$B:$AP,'Data Validation Lists'!$B$1+2,FALSE)","v":"@LK-EMD-BCL9"},null,{"$f":"IF(AND(B53>0,'Data Validation Lists'!$I$1=1),B53,\"\")","v":""},null,null,null,null,null,null,null,null,null,null,"Furniture",null,""]
[null,null,null,null,null,null,null,null,null,null,null,null,null,null,null,null,null,"Furniture",null,""]
["600 Belfast Sink Unit (495mm High)",null,{"$f":"IF($E55=\"Not Available\",\"\",VLOOKUP(E55,'Prices Furniture'!A:F,5,FALSE)*(1-$S$3))","v":285},{"$f":"IF(B55=\"\",\"\",B55*C55)","v":""},{"$f":"VLOOKUP(A55,Codes!$B:$AP,'Data Validation Lists'!$B$1+2,FALSE)","v":"@LK-EMD-BSU6495"},null,{"$f":"IF(AND(B55>0,'Data Validation Lists'!$I$1=1),B55,\"\")","v":""},null,null,null,null,null,null,null,null,null,null,"Furniture",null,""]
["600 Belfast Sink Unit (450mm High)",null,{"$f":"IF($E56=\"Not Available\",\"\",VLOOKUP(E56,'Prices Furniture'!A:F,5,FALSE)*(1-$S$3))","v":283},{"$f":"IF(B56=\"\",\"\",B56*C56)","v":""},{"$f":"VLOOKUP(A56,Codes!$B:$AP,'Data Validation Lists'!$B$1+2,FALSE)","v":"@LK-EMD-BSU6450"},null,{"$f":"IF(AND(B56>0,'Data Validation Lists'!$I$1=1),B56,\"\")","v":""},null,null,null,null,null,null,null,null,null,null,"Furniture",null,""]
[null,null,null,null,null,null,null,null,null,null,null,null,null,null,null,null,null,"Furniture",null,""]
["300 HL Pan Drawer Unit with 2 Internal Drawers",null,{"$f":"IF($E58=\"Not Available\",\"\",VLOOKUP(E58,'Prices Furniture'!A:F,5,FALSE)*(1-$S$3))","v":628},{"$f":"IF(B58=\"\",\"\",B58*C58)","v":""},{"$f":"VLOOKUP(A58,Codes!$B:$AP,'Data Validation Lists'!$B$1+2,FALSE)","v":"@LK-EMD-BHD3"},null,{"$f":"IF(AND(B58>0,'Data Validation Lists'!$I$1=1),B58,\"\")","v":""},{"$f":"IF(AND(B58>0,'Data Validation Lists'!$I$10>1),(B58*2),\"\")","v":""},{"$f":"IF(AND($B58>0,'Data Validation Lists'!$I$10>1),SUM($B58*1),\"\")","v":""},null,null,null,null,null,null,null,null,"Furniture",null,{"$f":"IF(B58=\"\",\"\",SUM(D58/1.2)*(1-$S$2)/(1-$S$3))","v":""}]
["400 HL Pan Drawer Unit with 2 Internal Drawers",null,{"$f":"IF($E59=\"Not Available\",\"\",VLOOKUP(E59,'Prices Furniture'!A:F,5,FALSE)*(1-$S$3))","v":677},{"$f":"IF(B59=\"\",\"\",B59*C59)","v":""},{"$f":"VLOOKUP(A59,Codes!$B:$AP,'Data Validation Lists'!$B$1+2,FALSE)","v":"@LK-EMD-BHD4"},null,{"$f":"IF(AND(B59>0,'Data Validation Lists'!$I$1=1),B59,\"\")","v":""},{"$f":"IF(AND(B59>0,'Data Validation Lists'!$I$10>1),(B59*2),\"\")","v":""},{"$f":"IF(AND($B59>0,'Data Validation Lists'!$I$10>1),SUM($B59*1),\"\")","v":""},null,null,null,null,null,null,null,null,"Furniture",null,""]
["500 HL Pan Drawer Unit with 2 Internal Drawers",null,{"$f":"IF($E60=\"Not Available\",\"\",VLOOKUP(E60,'Prices Furniture'!A:F,5,FALSE)*(1-$S$3))","v":740},"",{"$f":"VLOOKUP(A60,Codes!$B:$AP,'Data Validation Lists'!$B$1+2,FALSE)","v":"@LK-EMD-BHD5"},null,{"$f":"IF(AND(B60>0,'Data Validation Lists'!$I$1=1),B60,\"\")","v":""},{"$f":"IF(AND(B60>0,'Data Validation Lists'!$I$10>1),(B60*2),\"\")","v":""},{"$f":"IF(AND($B60>0,'Data Validation Lists'!$I$10>1),SUM($B60*1),\"\")","v":""},null,null,null,null,null,null,null,null,"Furniture",null,""]
["600 HL Pan Drawer Unit with 2 Internal Drawers",null,{"$f":"IF($E61=\"Not Available\",\"\",VLOOKUP(E61,'Prices Furniture'!A:F,5,FALSE)*(1-$S$3))","v":796},"",{"$f":"VLOOKUP(A61,Codes!$B:$AP,'Data Validation Lists'!$B$1+2,FALSE)","v":"@LK-EMD-BHD6"},null,{"$f":"IF(AND(B61>0,'Data Validation Lists'!$I$1=1),B61,\"\")","v":""},{"$f":"IF(AND(B61>0,'Data Validation Lists'!$I$10>1),(B61*2),\"\")","v":""},{"$f":"IF(AND($B61>0,'Data Validation Lists'!$I$10>1),SUM($B61*1),\"\")","v":""},null,null,null,null,null,null,null,null,"Furniture",null,""]
[null,null,null,null,null,null,null,null,null,null,null,null,null,null,null,null,null,"Furniture",null,""]
["500 4 Drw Base Unit",null,{"$f":"IF($E63=\"Not Available\",\"\",VLOOKUP(E63,'Prices Furniture'!A:F,5,FALSE)*(1-$S$3))","v":846},{"$f":"IF(B63=\"\",\"\",B63*C63)","v":""},{"$f":"VLOOKUP(A63,Codes!$B:$AP,'Data Validation Lists'!$B$1+2,FALSE)","v":"@LK-EMD-BD54"},null,{"$f":"IF(AND(B63>0,'Data Validation Lists'!$I$1=1),B63,\"\")","v":""},{"$f":"IF(AND($B63>0,'Data Validation Lists'!$I$10>1),SUM($B63*3),\"\")","v":""},{"$f":"IF(AND($B63>0,'Data Validation Lists'!$I$10>1),SUM($B63*1),\"\")","v":""},null,null,null,null,null,null,null,null,"Furniture",null,""]
[null,null,null,null,null,null,null,null,null,null,null,null,null,null,null,null,null,"Furniture",null,""]
["500 3 Drw Base Unit",null,{"$f":"IF($E65=\"Not Available\",\"\",VLOOKUP(E65,'Prices Furniture'!A:F,5,FALSE)*(1-$S$3))","v":714},{"$f":"IF(B65=\"\",\"\",B65*C65)","v":""},{"$f":"VLOOKUP(A65,Codes!$B:$AP,'Data Validation Lists'!$B$1+2,FALSE)","v":"@LK-EMD-BD53"},null,{"$f":"IF(AND(B65>0,'Data Validation Lists'!$I$1=1),B65,\"\")","v":""},{"$f":"IF(AND($B65>0,'Data Validation Lists'!$I$10>1),SUM($B65*1),\"\")","v":""},{"$f":"IF(AND($B65>0,'Data Validation Lists'!$I$10>1),SUM($B65*2),\"\")","v":""},null,null,null,null,null,null,null,null,"Furniture",null,""]
["600 3 Drw Base Unit",null,{"$f":"IF($E66=\"Not Available\",\"\",VLOOKUP(E66,'Prices Furniture'!A:F,5,FALSE)*(1-$S$3))","v":806},"",{"$f":"VLOOKUP(A66,Codes!$B:$AP,'Data Validation Lists'!$B$1+2,FALSE)","v":"@LK-EMD-BD63"},null,{"$f":"IF(AND(B66>0,'Data Validation Lists'!$I$1=1),B66,\"\")","v":""},{"$f":"IF(AND($B66>0,'Data Validation Lists'!$I$10>1),SUM($B66*1),\"\")","v":""},{"$f":"IF(AND($B66>0,'Data Validation Lists'!$I$10>1),SUM($B66*2),\"\")","v":""},null,null,null,null,null,null,null,null,"Furniture",null,""]
["800 3 Drw Base Unit",null,{"$f":"IF($E67=\"Not Available\",\"\",VLOOKUP(E67,'Prices Furniture'!A:F,5,FALSE)*(1-$S$3))","v":813},"",{"$f":"VLOOKUP(A67,Codes!$B:$AP,'Data Validation Lists'!$B$1+2,FALSE)","v":"@LK-EMD-BD83"},null,{"$f":"IF(AND(B67>0,'Data Validation Lists'!$I$1=1),B67,\"\")","v":""},{"$f":"IF(AND($B67>0,'Data Validation Lists'!$I$10>1),SUM($B67*1),\"\")","v":""},{"$f":"IF(AND($B67>0,'Data Validation Lists'!$I$10>1),SUM($B67*2),\"\")","v":""},null,null,null,null,null,null,null,null,"Furniture",null,""]
["900 3 Drw Base Unit",null,{"$f":"IF($E68=\"Not Available\",\"\",VLOOKUP(E68,'Prices Furniture'!A:F,5,FALSE)*(1-$S$3))","v":828},"",{"$f":"VLOOKUP(A68,Codes!$B:$AP,'Data Validation Lists'!$B$1+2,FALSE)","v":"@LK-EMD-BD93"},null,{"$f":"IF(AND(B68>0,'Data Validation Lists'!$I$1=1),B68,\"\")","v":""},{"$f":"IF(AND($B68>0,'Data Validation Lists'!$I$10>1),SUM($B68*1),\"\")","v":""},{"$f":"IF(AND($B68>0,'Data Validation Lists'!$I$10>1),SUM($B68*2),\"\")","v":""},null,null,null,null,null,null,null,null,"Furniture",null,""]
["1000 3 Drw Base Unit",null,{"$f":"IF($E69=\"Not Available\",\"\",VLOOKUP(E69,'Prices Furniture'!A:F,5,FALSE)*(1-$S$3))","v":845},"",{"$f":"VLOOKUP(A69,Codes!$B:$AP,'Data Validation Lists'!$B$1+2,FALSE)","v":"@LK-EMD-BD13"},null,{"$f":"IF(AND(B69>0,'Data Validation Lists'!$I$1=1),B69,\"\")","v":""},{"$f":"IF(AND($B69>0,'Data Validation Lists'!$I$10>1),SUM($B69*1),\"\")","v":""},{"$f":"IF(AND($B69>0,'Data Validation Lists'!$I$10>1),SUM($B69*2),\"\")","v":""},null,null,null,null,null,null,null,null,"Furniture",null,""]
[null,null,null,null,null,null,null,null,null,null,null,null,null,null,null,null,null,"Furniture",null,""]
["600 2 Pan Drw Unit",null,{"$f":"IF($E71=\"Not Available\",\"\",VLOOKUP(E71,'Prices Furniture'!A:F,5,FALSE)*(1-$S$3))","v":683},{"$f":"IF(B71=\"\",\"\",B71*C71)","v":""},{"$f":"VLOOKUP(A71,Codes!$B:$AP,'Data Validation Lists'!$B$1+2,FALSE)","v":"@LK-EMD-BD62"},null,{"$f":"IF(AND(B71>0,'Data Validation Lists'!$I$1=1),B71,\"\")","v":""},null,{"$f":"IF(AND($B71>0,'Data Validation Lists'!$I$10>1),SUM($B71*2),\"\")","v":""},null,null,null,null,null,null,null,null,"Furniture",null,""]
["900 2 Pan Drw Unit",null,{"$f":"IF($E72=\"Not Available\",\"\",VLOOKUP(E72,'Prices Furniture'!A:F,5,FALSE)*(1-$S$3))","v":700},{"$f":"IF(B72=\"\",\"\",B72*C72)","v":""},{"$f":"VLOOKUP(A72,Codes!$B:$AP,'Data Validation Lists'!$B$1+2,FALSE)","v":"@LK-EMD-BD92"},null,{"$f":"IF(AND(B72>0,'Data Validation Lists'!$I$1=1),B72,\"\")","v":""},null,{"$f":"IF(AND($B72>0,'Data Validation Lists'!$I$10>1),SUM($B72*2),\"\")","v":""},null,null,null,null,null,null,null,null,"Furniture",null,""]
[null,null,null,null,null,null,null,null,null,null,null,null,null,null,null,null,null,"Furniture",null,""]
["600 2 Pan Drw Unit + 1 Internal",null,{"$f":"IF($E74=\"Not Available\",\"\",VLOOKUP(E74,'Prices Furniture'!A:F,5,FALSE)*(1-$S$3))","v":859},{"$f":"IF(B74=\"\",\"\",B74*C74)","v":""},{"$f":"VLOOKUP(A74,Codes!$B:$AP,'Data Validation Lists'!$B$1+2,FALSE)","v":"@LK-EMD-BD62I"},null,{"$f":"IF(AND(B74>0,'Data Validation Lists'!$I$1=1),B74,\"\")","v":""},{"$f":"IF(AND($B74>0,'Data Validation Lists'!$I$10>1),SUM($B74*1),\"\")","v":""},{"$f":"IF(AND($B74>0,'Data Validation Lists'!$I$10>1),SUM($B74*2),\"\")","v":""},null,null,null,null,null,null,null,null,"Furniture",null,""]
["900 2 Pan Drw Unit + 1 Internal",null,{"$f":"IF($E75=\"Not Available\",\"\",VLOOKUP(E75,'Prices Furniture'!A:F,5,FALSE)*(1-$S$3))","v":901},{"$f":"IF(B75=\"\",\"\",B75*C75)","v":""},{"$f":"VLOOKUP(A75,Codes!$B:$AP,'Data Validation Lists'!$B$1+2,FALSE)","v":"@LK-EMD-BD92I"},null,{"$f":"IF(AND(B75>0,'Data Validation Lists'!$I$1=1),B75,\"\")","v":""},{"$f":"IF(AND($B75>0,'Data Validation Lists'!$I$10>1),SUM($B75*1),\"\")","v":""},{"$f":"IF(AND($B75>0,'Data Validation Lists'!$I$10>1),SUM($B75*2),\"\")","v":""},null,null,null,null,null,null,null,null,"Furniture",null,""]
[null,null,null,null,null,null,null,null,null,null,null,null,null,null,null,null,null,"Furniture",null,""]
["600 Low Single Drawer unit 360 high",null,{"$f":"IF($E77=\"Not Available\",\"\",VLOOKUP(E77,'Prices Furniture'!A:F,5,FALSE)*(1-$S$3))","v":384},{"$f":"IF(B77=\"\",\"\",B77*C77)","v":""},{"$f":"VLOOKUP(A77,Codes!$B:$AP,'Data Validation Lists'!$B$1+2,FALSE)","v":"@LK-EMD-BD635L"},null,{"$f":"IF(AND(B77>0,'Data Validation Lists'!$I$1=1),B77,\"\")","v":""},null,null,{"$f":"IF(AND($B77>0,'Data Validation Lists'!$I$10>1),SUM($B77*1),\"\")","v":""},null,null,null,null,null,null,null,"Furniture",null,{"$f":"IF(B77=\"\",\"\",SUM(D77/1.2)*(1-$S$2)/(1-$S$3))","v":""}]
[null,null,null,null,null,null,null,null,null,null,null,null,null,null,null,null,null,"Furniture",null,""]
["Wall Units (720mm High)",null,null,null,null,null,null,null,null,null,null,null,null,null,null,null,null,"Furniture",null,""]
[null,null,null,null,null,null,null,null,null,null,null,null,null,null,null,null,null,"Furniture",null,""]
["300 Wall Unit (720mm High)",null,{"$f":"IF($E81=\"Not Available\",\"\",VLOOKUP(E81,'Prices Furniture'!A:F,5,FALSE)*(1-$S$3))","v":221},{"$f":"IF(B81=\"\",\"\",B81*C81)","v":""},{"$f":"VLOOKUP(A81,Codes!$B:$AP,'Data Validation Lists'!$B$1+2,FALSE)","v":"@LK-EMD-W30"},null,{"$f":"IF(AND(B81>0,'Data Validation Lists'!$I$1=1),B81,\"\")","v":""},null,null,null,null,null,null,null,null,null,null,"Furniture",null,""]
["350 Wall Unit (720mm High)",null,{"$f":"IF($E82=\"Not Available\",\"\",VLOOKUP(E82,'Prices Furniture'!A:F,5,FALSE)*(1-$S$3))","v":227},"",{"$f":"VLOOKUP(A82,Codes!$B:$AP,'Data Validation Lists'!$B$1+2,FALSE)","v":"@LK-EMD-W35"},null,{"$f":"IF(AND(B82>0,'Data Validation Lists'!$I$1=1),B82,\"\")","v":""},null,null,null,null,null,null,null,null,null,null,"Furniture",null,""]
["400 Wall Unit (720mm High)",null,{"$f":"IF($E83=\"Not Available\",\"\",VLOOKUP(E83,'Prices Furniture'!A:F,5,FALSE)*(1-$S$3))","v":235},"",{"$f":"VLOOKUP(A83,Codes!$B:$AP,'Data Validation Lists'!$B$1+2,FALSE)","v":"@LK-EMD-W40"},null,{"$f":"IF(AND(B83>0,'Data Validation Lists'!$I$1=1),B83,\"\")","v":""},null,null,null,null,null,null,null,null,null,null,"Furniture",null,""]
["450 Wall Unit (720mm High)",null,{"$f":"IF($E84=\"Not Available\",\"\",VLOOKUP(E84,'Prices Furniture'!A:F,5,FALSE)*(1-$S$3))","v":252},"",{"$f":"VLOOKUP(A84,Codes!$B:$AP,'Data Validation Lists'!$B$1+2,FALSE)","v":"@LK-EMD-W45"},null,{"$f":"IF(AND(B84>0,'Data Validation Lists'!$I$1=1),B84,\"\")","v":""},null,null,null,null,null,null,null,null,null,null,"Furniture",null,""]
["500 Wall Unit (720mm High)",null,{"$f":"IF($E85=\"Not Available\",\"\",VLOOKUP(E85,'Prices Furniture'!A:F,5,FALSE)*(1-$S$3))","v":266},"",{"$f":"VLOOKUP(A85,Codes!$B:$AP,'Data Validation Lists'!$B$1+2,FALSE)","v":"@LK-EMD-W50"},null,{"$f":"IF(AND(B85>0,'Data Validation Lists'!$I$1=1),B85,\"\")","v":""},null,null,null,null,null,null,null,null,null,null,"Furniture",null,""]
["600 Wall Unit (720mm High)",null,{"$f":"IF($E86=\"Not Available\",\"\",VLOOKUP(E86,'Prices Furniture'!A:F,5,FALSE)*(1-$S$3))","v":290},"",{"$f":"VLOOKUP(A86,Codes!$B:$AP,'Data Validation Lists'!$B$1+2,FALSE)","v":"@LK-EMD-W60"},null,{"$f":"IF(AND(B86>0,'Data Validation Lists'!$I$1=1),B86,\"\")","v":""},null,null,null,null,null,null,null,null,null,null,"Furniture",null,""]
["700 Wall Unit (720mm High)",null,{"$f":"IF($E87=\"Not Available\",\"\",VLOOKUP(E87,'Prices Furniture'!A:F,5,FALSE)*(1-$S$3))","v":383},"",{"$f":"VLOOKUP(A87,Codes!$B:$AP,'Data Validation Lists'!$B$1+2,FALSE)","v":"@LK-EMD-W70"},null,{"$f":"IF(AND(B87>0,'Data Validation Lists'!$I$1=1),B87,\"\")","v":""},null,null,null,null,null,null,null,null,null,null,"Furniture",null,""]
["800 Wall Unit (720mm High)",null,{"$f":"IF($E88=\"Not Available\",\"\",VLOOKUP(E88,'Prices Furniture'!A:F,5,FALSE)*(1-$S$3))","v":389},"",{"$f":"VLOOKUP(A88,Codes!$B:$AP,'Data Validation Lists'!$B$1+2,FALSE)","v":"@LK-EMD-W80"},null,{"$f":"IF(AND(B88>0,'Data Validation Lists'!$I$1=1),B88,\"\")","v":""},null,null,null,null,null,null,null,null,null,null,"Furniture",null,""]
["900 Wall Unit (720mm High)",null,{"$f":"IF($E89=\"Not Available\",\"\",VLOOKUP(E89,'Prices Furniture'!A:F,5,FALSE)*(1-$S$3))","v":409},{"$f":"IF(B89=\"\",\"\",B89*C89)","v":""},{"$f":"VLOOKUP(A89,Codes!$B:$AP,'Data Validation Lists'!$B$1+2,FALSE)","v":"@LK-EMD-W90"},null,{"$f":"IF(AND(B89>0,'Data Validation Lists'!$I$1=1),B89,\"\")","v":""},null,null,null,null,null,null,null,null,null,null,"Furniture",null,""]
["1000 Wall Unit (720mm High)",null,{"$f":"IF($E90=\"Not Available\",\"\",VLOOKUP(E90,'Prices Furniture'!A:F,5,FALSE)*(1-$S$3))","v":434},{"$f":"IF(B90=\"\",\"\",B90*C90)","v":""},{"$f":"VLOOKUP(A90,Codes!$B:$AP,'Data Validation Lists'!$B$1+2,FALSE)","v":"@LK-EMD-W100"},null,{"$f":"IF(AND(B90>0,'Data Validation Lists'!$I$1=1),B90,\"\")","v":""},null,null,null,null,null,null,null,null,null,null,"Furniture",null,""]
[null,null,null,null,null,null,null,null,null,null,null,null,null,null,null,null,null,"Furniture",null,""]
["600 Cnr Wall Unit (720mm High)",null,{"$f":"IF($E92=\"Not Available\",\"\",VLOOKUP(E92,'Prices Furniture'!A:F,5,FALSE)*(1-$S$3))","v":309},{"$f":"IF(B92=\"\",\"\",B92*C92)","v":""},{"$f":"VLOOKUP(A92,Codes!$B:$AP,'Data Validation Lists'!$B$1+2,FALSE)","v":"@LK-EMD-WC6"},null,{"$f":"IF(AND(B92>0,'Data Validation Lists'!$I$1=1),B92,\"\")","v":""},null,null,null,null,null,null,null,null,null,null,"Furniture",null,""]
["900 Cnr Wall Unit (720mm High)",null,{"$f":"IF($E93=\"Not Available\",\"\",VLOOKUP(E93,'Prices Furniture'!A:F,5,FALSE)*(1-$S$3))","v":371},{"$f":"IF(B93=\"\",\"\",B93*C93)","v":""},{"$f":"VLOOKUP(A93,Codes!$B:$AP,'Data Validation Lists'!$B$1+2,FALSE)","v":"@LK-EMD-WC9"},null,{"$f":"IF(AND(B93>0,'Data Validation Lists'!$I$1=1),B93,\"\")","v":""},null,null,null,null,null,null,null,null,null,null,"Furniture",null,""]
["650 L Cnr Wall Unit (720mm High)",null,{"$f":"IF($E94=\"Not Available\",\"\",VLOOKUP(E94,'Prices Furniture'!A:F,5,FALSE)*(1-$S$3))","v":553},{"$f":"IF(B94=\"\",\"\",B94*C94)","v":""},{"$f":"VLOOKUP(A94,Codes!$B:$AP,'Data Validation Lists'!$B$1+2,FALSE)","v":"@LK-EMD-WCL65"},null,{"$f":"IF(AND(B94>0,'Data Validation Lists'!$I$1=1),B94,\"\")","v":""},null,null,null,null,null,null,null,null,null,null,"Furniture",null,""]
[null,null,null,null,null,null,null,null,null,null,null,null,null,null,null,null,null,"Furniture",null,""]
["600 Wall Microwave Unit",null,{"$f":"IF($E96=\"Not Available\",\"\",VLOOKUP(E96,'Prices Furniture'!A:F,5,FALSE)*(1-$S$3))","v":361},{"$f":"IF(B96=\"\",\"\",B96*C96)","v":""},{"$f":"VLOOKUP(A96,Codes!$B:$AP,'Data Validation Lists'!$B$1+2,FALSE)","v":"@LK-EMD-WM60"},null,{"$f":"IF(AND(B96>0,'Data Validation Lists'!$I$1=1),B96,\"\")","v":""},null,null,null,null,null,null,null,null,null,null,"Furniture",null,""]
["600 Boiler Housing",null,{"$f":"IF($E97=\"Not Available\",\"\",VLOOKUP(E97,'Prices Furniture'!A:F,5,FALSE)*(1-$S$3))","v":282},{"$f":"IF(B97=\"\",\"\",B97*C97)","v":""},{"$f":"VLOOKUP(A97,Codes!$B:$AP,'Data Validation Lists'!$B$1+2,FALSE)","v":"@LK-EMD-WBHU"},null,null,null,null,null,null,null,null,null,null,null,null,"Furniture",null,""]
[null,null,null,null,null,null,null,null,null,null,null,null,null,null,null,null,null,"Furniture",null,""]
["600 Bifold Unit",null,{"$f":"IF($E99=\"Not Available\",\"\",VLOOKUP(E99,'Prices Furniture'!A:F,5,FALSE)*(1-$S$3))","v":663},{"$f":"IF(B99=\"\",\"\",B99*C99)","v":""},{"$f":"VLOOKUP(A99,Codes!$B:$AP,'Data Validation Lists'!$B$1+2,FALSE)","v":"@LK-EMD-WBI60"},null,{"$f":"IF(AND(B99>0,'Data Validation Lists'!$I$1=1),B99,\"\")","v":""},null,null,null,null,null,null,null,null,null,null,"Furniture",null,""]
["900 Bifold Unit",null,{"$f":"IF($E100=\"Not Available\",\"\",VLOOKUP(E100,'Prices Furniture'!A:F,5,FALSE)*(1-$S$3))","v":695},{"$f":"IF(B100=\"\",\"\",B100*C100)","v":""},{"$f":"VLOOKUP(A100,Codes!$B:$AP,'Data Validation Lists'!$B$1+2,FALSE)","v":"@LK-EMD-WBI90"},null,{"$f":"IF(AND(B100>0,'Data Validation Lists'!$I$1=1),B100,\"\")","v":""},null,null,null,null,null,null,null,null,null,null,"Furniture",null,""]
[null,null,null,null,null,null,null,null,null,null,null,null,null,null,null,null,null,"Furniture",null,""]
["600 285 Bridging Unit",null,{"$f":"IF($E102=\"Not Available\",\"\",VLOOKUP(E102,'Prices Furniture'!A:F,5,FALSE)*(1-$S$3))","v":237},{"$f":"IF(B102=\"\",\"\",B102*C102)","v":""},{"$f":"VLOOKUP(A102,Codes!$B:$AP,'Data Validation Lists'!$B$1+2,FALSE)","v":"@LK-EMD-WB62"},null,{"$f":"IF(AND(B102>0,'Data Validation Lists'!$I$1=1),B102,\"\")","v":""},null,null,null,null,null,null,null,null,null,null,"Furniture",null,""]
["800 285 Bridging Unit",null,{"$f":"IF($E103=\"Not Available\",\"\",VLOOKUP(E103,'Prices Furniture'!A:F,5,FALSE)*(1-$S$3))","v":295},{"$f":"IF(B103=\"\",\"\",B103*C103)","v":""},{"$f":"VLOOKUP(A103,Codes!$B:$AP,'Data Validation Lists'!$B$1+2,FALSE)","v":"@LK-EMD-WB82"},null,{"$f":"IF(AND(B103>0,'Data Validation Lists'!$I$1=1),B103,\"\")","v":""},null,null,null,null,null,null,null,null,null,null,"Furniture",null,""]
["900 285 Bridging Unit",null,{"$f":"IF($E104=\"Not Available\",\"\",VLOOKUP(E104,'Prices Furniture'!A:F,5,FALSE)*(1-$S$3))","v":312},{"$f":"IF(B104=\"\",\"\",B104*C104)","v":""},{"$f":"VLOOKUP(A104,Codes!$B:$AP,'Data Validation Lists'!$B$1+2,FALSE)","v":"@LK-EMD-WB92"},null,{"$f":"IF(AND(B104>0,'Data Validation Lists'!$I$1=1),B104,\"\")","v":""},null,null,null,null,null,null,null,null,null,null,"Furniture",null,""]
["1000 285 Bridging Unit",null,{"$f":"IF($E105=\"Not Available\",\"\",VLOOKUP(E105,'Prices Furniture'!A:F,5,FALSE)*(1-$S$3))","v":338},{"$f":"IF(B105=\"\",\"\",B105*C105)","v":""},{"$f":"VLOOKUP(A105,Codes!$B:$AP,'Data Validation Lists'!$B$1+2,FALSE)","v":"@LK-EMD-WB12"},null,{"$f":"IF(AND(B105>0,'Data Validation Lists'!$I$1=1),B105,\"\")","v":""},null,null,null,null,null,null,null,null,null,null,"Furniture",null,""]
[null,null,null,null,null,null,null,null,null,null,null,null,null,null,null,null,null,"Furniture",null,""]
["600 355mm Bridging Unit",null,{"$f":"IF($E107=\"Not Available\",\"\",VLOOKUP(E107,'Prices Furniture'!A:F,5,FALSE)*(1-$S$3))","v":295},{"$f":"IF(B107=\"\",\"\",B107*C107)","v":""},{"$f":"VLOOKUP(A107,Codes!$B:$AP,'Data Validation Lists'!$B$1+2,FALSE)","v":"@LK-EMD-WB63"},null,{"$f":"IF(AND(B107>0,'Data Validation Lists'!$I$1=1),B107,\"\")","v":""},null,null,null,null,null,null,null,null,null,null,"Furniture",null,""]
["900 355mm Bridging Unit",null,{"$f":"IF($E108=\"Not Available\",\"\",VLOOKUP(E108,'Prices Furniture'!A:F,5,FALSE)*(1-$S$3))","v":344},{"$f":"IF(B108=\"\",\"\",B108*C108)","v":""},{"$f":"VLOOKUP(A108,Codes!$B:$AP,'Data Validation Lists'!$B$1+2,FALSE)","v":"@LK-EMD-WB93"},null,{"$f":"IF(AND(B108>0,'Data Validation Lists'!$I$1=1),B108,\"\")","v":""},null,null,null,null,null,null,null,null,null,null,"Furniture",null,""]
["Over Counter Corner Appliance Housings (1248mm High)",null,null,null,null,null,null,null,null,null,null,null,null,null,null,null,null,"Furniture",null,{"$f":"IF(B109=\"\",\"\",SUM(D109/1.2)*(1-$S$2)/(1-$S$3))","v":""}]
[null,null,null,null,null,null,null,null,null,null,null,null,null,null,null,null,null,"Furniture",null,""]
["600 Corner Single Oven Housing",null,{"$f":"IF($E111=\"Not Available\",\"\",VLOOKUP(E111,'Prices Furniture'!A:F,5,FALSE)*(1-$S$3))","v":654},{"$f":"IF(B111=\"\",\"\",B111*C111)","v":""},{"$f":"VLOOKUP(A111,Codes!$B:$AP,'Data Validation Lists'!$B$1+2,FALSE)","v":"@LK-EMD-CH-SO"},null,null,null,null,null,null,null,null,null,null,null,null,"Furniture",null,""]
["600 Corner Compact App/Micro Housing",null,{"$f":"IF($E112=\"Not Available\",\"\",VLOOKUP(E112,'Prices Furniture'!A:F,5,FALSE)*(1-$S$3))","v":700},{"$f":"IF(B112=\"\",\"\",B112*C112)","v":""},{"$f":"VLOOKUP(A112,Codes!$B:$AP,'Data Validation Lists'!$B$1+2,FALSE)","v":"@LK-EMD-CH-MW"},null,null,{"$f":"IF(AND($B112>0,'Data Validation Lists'!$I$10>1),SUM($B112*1),\"\")","v":""},null,null,null,null,null,null,null,null,null,"Furniture",null,""]
["600 Corner Storage Unit",null,{"$f":"IF($E113=\"Not Available\",\"\",VLOOKUP(E113,'Prices Furniture'!A:F,5,FALSE)*(1-$S$3))","v":880},{"$f":"IF(B113=\"\",\"\",B113*C113)","v":""},{"$f":"VLOOKUP(A113,Codes!$B:$AP,'Data Validation Lists'!$B$1+2,FALSE)","v":"@LK-EMD-CH-ST"},null,null,{"$f":"IF(AND($B113>0,'Data Validation Lists'!$I$10>1),SUM($B113*1),\"\")","v":""},null,null,null,null,null,null,null,null,null,"Furniture",null,""]
[null,null,null,null,null,null,null,null,null,null,null,null,null,null,null,null,null,"Furniture",null,""]
["Appliance Housings (1968mm High)",null,null,null,null,null,null,null,null,null,null,null,null,null,null,null,null,"Furniture",null,{"$f":"IF(B115=\"\",\"\",SUM(D115/1.2)*(1-$S$2)/(1-$S$3))","v":""}]
[null,null,null,null,null,null,null,null,null,null,null,null,null,null,null,null,null,"Furniture",null,""]
["600 50/50 FF Housing Unit",null,{"$f":"IF($E117=\"Not Available\",\"\",VLOOKUP(E117,'Prices Furniture'!A:F,5,FALSE)*(1-$S$3))","v":735},{"$f":"IF(B117=\"\",\"\",B117*C117)","v":""},{"$f":"VLOOKUP(A117,Codes!$B:$AP,'Data Validation Lists'!$B$1+2,FALSE)","v":"@LK-EMD-AH-F55"},null,null,null,null,null,null,null,null,null,null,null,null,"Furniture",null,""]
["600 70/30 FF Housing Unit",null,{"$f":"IF($E118=\"Not Available\",\"\",VLOOKUP(E118,'Prices Furniture'!A:F,5,FALSE)*(1-$S$3))","v":711},{"$f":"IF(B118=\"\",\"\",B118*C118)","v":""},{"$f":"VLOOKUP(A118,Codes!$B:$AP,'Data Validation Lists'!$B$1+2,FALSE)","v":"@LK-EMD-AH-F73"},null,null,null,null,null,null,null,null,null,null,null,null,"Furniture",null,""]
[null,null,null,null,null,null,null,null,null,null,null,null,null,null,null,null,null,"Furniture",null,""]
["600 Dble Oven Housing",null,{"$f":"IF($E120=\"Not Available\",\"\",VLOOKUP(E120,'Prices Furniture'!A:F,5,FALSE)*(1-$S$3))","v":731},{"$f":"IF(B120=\"\",\"\",B120*C120)","v":""},{"$f":"VLOOKUP(A120,Codes!$B:$AP,'Data Validation Lists'!$B$1+2,FALSE)","v":"@LK-EMD-AH-DO"},null,null,null,null,null,null,null,null,null,null,null,null,"Furniture",null,""]
["600 Dble Oven & 2 Drws",null,{"$f":"IF($E121=\"Not Available\",\"\",VLOOKUP(E121,'Prices Furniture'!A:F,5,FALSE)*(1-$S$3))","v":1058},{"$f":"IF(B121=\"\",\"\",B121*C121)","v":""},{"$f":"VLOOKUP(A121,Codes!$B:$AP,'Data Validation Lists'!$B$1+2,FALSE)","v":"@LK-EMD-AH-DO2D"},null,null,null,{"$f":"IF(AND($B121>0,'Data Validation Lists'!$I$10>1),SUM($B121*2),\"\")","v":""},null,null,null,null,null,null,null,null,"Furniture",null,""]
["600 Double Oven & MW unit",null,{"$f":"IF($E122=\"Not Available\",\"\",VLOOKUP(E122,'Prices Furniture'!A:F,5,FALSE)*(1-$S$3))","v":927},{"$f":"IF(B122=\"\",\"\",B122*C122)","v":""},{"$f":"VLOOKUP(A122,Codes!$B:$AP,'Data Validation Lists'!$B$1+2,FALSE)","v":"@LK-EMD-AH-DMW"},null,null,null,{"$f":"IF(AND($B122>0,'Data Validation Lists'!$I$10>1),SUM($B122*1),\"\")","v":""},null,null,null,null,null,null,null,null,"Furniture",null,""]
[null,null,null,null,null,null,null,null,null,null,null,null,null,null,null,null,null,"Furniture",null,""]
["600 Single Oven Housing",null,{"$f":"IF($E124=\"Not Available\",\"\",VLOOKUP(E124,'Prices Furniture'!A:F,5,FALSE)*(1-$S$3))","v":750},{"$f":"IF(B124=\"\",\"\",B124*C124)","v":""},{"$f":"VLOOKUP(A124,Codes!$B:$AP,'Data Validation Lists'!$B$1+2,FALSE)","v":"@LK-EMD-AH-SO"},null,null,{"$f":"IF(AND($B124>0,'Data Validation Lists'!$I$10>1),SUM($B124*1),\"\")","v":""},null,null,null,null,null,null,null,null,null,"Furniture",null,""]
["600 Single Oven + 1 Drw Unit",null,{"$f":"IF($E125=\"Not Available\",\"\",VLOOKUP(E125,'Prices Furniture'!A:F,5,FALSE)*(1-$S$3))","v":896},"",{"$f":"VLOOKUP(A125,Codes!$B:$AP,'Data Validation Lists'!$B$1+2,FALSE)","v":"@LK-EMD-AH-SO1D"},null,null,{"$f":"IF(AND($B125>0,'Data Validation Lists'!$I$10>1),SUM($B125*1),\"\")","v":""},null,null,null,null,null,null,null,null,null,"Furniture",null,""]
["600 Single Oven + 2 Drws Unit",null,{"$f":"IF($E126=\"Not Available\",\"\",VLOOKUP(E126,'Prices Furniture'!A:F,5,FALSE)*(1-$S$3))","v":1112},"",{"$f":"VLOOKUP(A126,Codes!$B:$AP,'Data Validation Lists'!$B$1+2,FALSE)","v":"@LK-EMD-AH-SO2D"},null,null,null,{"$f":"IF(AND($B126>0,'Data Validation Lists'!$I$10>1),SUM($B126*2),\"\")","v":""},null,null,null,null,null,null,null,null,"Furniture",null,""]
["600 Single Oven + 3 Drws Unit",null,{"$f":"IF($E127=\"Not Available\",\"\",VLOOKUP(E127,'Prices Furniture'!A:F,5,FALSE)*(1-$S$3))","v":1261},"",{"$f":"VLOOKUP(A127,Codes!$B:$AP,'Data Validation Lists'!$B$1+2,FALSE)","v":"@LK-EMD-AH-SO3D"},null,null,{"$f":"IF(AND($B127>0,'Data Validation Lists'!$I$10>1),SUM($B127*1),\"\")","v":""},{"$f":"IF(AND($B127>0,'Data Validation Lists'!$I$10>1),SUM($B127*2),\"\")","v":""},null,null,null,null,null,null,null,null,"Furniture",null,""]
["600 Sgle Oven & MW 2 Door unit",null,{"$f":"IF($E128=\"Not Available\",\"\",VLOOKUP(E128,'Prices Furniture'!A:F,5,FALSE)*(1-$S$3))","v":786},"",{"$f":"VLOOKUP(A128,Codes!$B:$AP,'Data Validation Lists'!$B$1+2,FALSE)","v":"@LK-EMD-AH-SMW"},null,null,null,null,null,null,null,null,null,null,null,null,"Furniture",null,""]
["600 Single Oven & MW 2 Drw unit",null,{"$f":"IF($E129=\"Not Available\",\"\",VLOOKUP(E129,'Prices Furniture'!A:F,5,FALSE)*(1-$S$3))","v":1074},{"$f":"IF(B129=\"\",\"\",B129*C129)","v":""},{"$f":"VLOOKUP(A129,Codes!$B:$AP,'Data Validation Lists'!$B$1+2,FALSE)","v":"@LK-EMD-AH-SM2D"},null,null,{"$f":"IF(AND($B129>0,'Data Validation Lists'!$I$10>1),SUM($B129*1),\"\")","v":""},{"$f":"IF(AND($B129>0,'Data Validation Lists'!$I$10>1),SUM($B129*1),\"\")","v":""},null,null,null,null,null,null,null,null,"Furniture",null,{"$f":"IF(B129=\"\",\"\",SUM(D129/1.2)*(1-$S$2)/(1-$S$3))","v":""}]
["600 Twin Single Oven Housing",null,{"$f":"IF($E130=\"Not Available\",\"\",VLOOKUP(E130,'Prices Furniture'!A:F,5,FALSE)*(1-$S$3))","v":876},"",{"$f":"VLOOKUP(A130,Codes!$B:$AP,'Data Validation Lists'!$B$1+2,FALSE)","v":"@LK-EMD-AH-SOT"},null,null,null,{"$f":"IF(AND($B130>0,'Data Validation Lists'!$I$10>1),SUM($B130*1),\"\")","v":""},null,null,null,null,null,null,null,null,"Furniture",null,""]
[null,null,null,null,null,null,null,null,null,null,null,null,null,null,null,null,null,"Furniture",null,""]
["600 Compact / Microwave Housing",null,{"$f":"IF($E132=\"Not Available\",\"\",VLOOKUP(E132,'Prices Furniture'!A:F,5,FALSE)*(1-$S$3))","v":823},{"$f":"IF(B132=\"\",\"\",B132*C132)","v":""},{"$f":"VLOOKUP(A132,Codes!$B:$AP,'Data Validation Lists'!$B$1+2,FALSE)","v":"@LK-EMD-AH-CO"},null,null,null,null,null,null,null,null,null,null,null,null,"Furniture",null,""]
[null,null,null,null,null,null,null,null,null,null,null,null,null,null,null,null,null,"Furniture",null,""]
["600 BU Oven Housing",null,{"$f":"IF($E134=\"Not Available\",\"\",VLOOKUP(E134,'Prices Furniture'!A:F,5,FALSE)*(1-$S$3))","v":199},{"$f":"IF(B134=\"\",\"\",B134*C134)","v":""},{"$f":"VLOOKUP(A134,Codes!$B:$AP,'Data Validation Lists'!$B$1+2,FALSE)","v":"@LK-EMD-BOH6"},null,{"$f":"IF(AND(B134>0,'Data Validation Lists'!$I$1=1),B134,\"\")","v":""},null,null,null,null,null,null,null,null,null,null,"Furniture",null,""]
["600 BU Oven Housing with drawer -18mm",null,{"$f":"IF($E135=\"Not Available\",\"\",VLOOKUP(E135,'Prices Furniture'!A:F,5,FALSE)*(1-$S$3))","v":312},{"$f":"IF(B135=\"\",\"\",B135*C135)","v":""},{"$f":"VLOOKUP(A135,Codes!$B:$AP,'Data Validation Lists'!$B$1+2,FALSE)","v":"@LK-EMD-BOHD6"},null,{"$f":"IF(AND(B135>0,'Data Validation Lists'!$I$1=1),B135,\"\")","v":""},null,null,null,null,null,null,null,null,null,null,"Furniture",null,""]
[null,null,null,null,null,null,null,null,null,null,null,null,null,null,null,null,null,"Furniture",null,""]
["Appliance Doors",null,null,null,null,null,null,null,null,null,null,null,null,null,null,null,null,"Furniture",null,""]
[null,null,null,null,null,null,null,null,null,null,null,null,null,null,null,null,null,"Furniture",null,""]
["600 Integrated Extractor Door",null,{"$f":"IF($E139=\"Not Available\",\"\",VLOOKUP(E139,'Prices Furniture'!A:F,5,FALSE)*(1-$S$3))","v":95},{"$f":"IF(B139=\"\",\"\",B139*C139)","v":""},{"$f":"VLOOKUP(A139,Codes!$B:$AP,'Data Validation Lists'!$B$1+2,FALSE)","v":"@LK-EMD-AD60ICH"},null,null,null,null,null,null,null,null,null,null,null,null,"Furniture",null,""]
["600 Fridge/Dishwasher Fascia",null,{"$f":"IF($E140=\"Not Available\",\"\",VLOOKUP(E140,'Prices Furniture'!A:F,5,FALSE)*(1-$S$3))","v":131},{"$f":"IF(B140=\"\",\"\",B140*C140)","v":""},{"$f":"VLOOKUP(A140,Codes!$B:$AP,'Data Validation Lists'!$B$1+2,FALSE)","v":"@LK-EMD-AD60FD"},null,null,null,null,null,null,null,null,null,null,null,null,"Furniture",null,""]
["450 Integrated Dishwasher Fascia",null,{"$f":"IF($E141=\"Not Available\",\"\",VLOOKUP(E141,'Prices Furniture'!A:F,5,FALSE)*(1-$S$3))","v":107},{"$f":"IF(B141=\"\",\"\",B141*C141)","v":""},{"$f":"VLOOKUP(A141,Codes!$B:$AP,'Data Validation Lists'!$B$1+2,FALSE)","v":"@LK-EMD-AD45I"},null,null,null,null,null,null,null,null,null,null,null,null,"Furniture",null,""]
["600 Semi Int Dishwasher Fascia",null,{"$f":"IF($E142=\"Not Available\",\"\",VLOOKUP(E142,'Prices Furniture'!A:F,5,FALSE)*(1-$S$3))","v":129},{"$f":"IF(B142=\"\",\"\",B142*C142)","v":""},{"$f":"VLOOKUP(A142,Codes!$B:$AP,'Data Validation Lists'!$B$1+2,FALSE)","v":"@LK-EMD-AD60S"},null,null,null,null,null,null,null,null,null,null,null,null,"Furniture",null,""]
["900 Boiler Door",null,{"$f":"IF($E143=\"Not Available\",\"\",VLOOKUP(E143,'Prices Furniture'!A:F,5,FALSE)*(1-$S$3))","v":133},{"$f":"IF(B143=\"\",\"\",B143*C143)","v":""},{"$f":"VLOOKUP(A143,Codes!$B:$AP,'Data Validation Lists'!$B$1+2,FALSE)","v":"@LK-EMD-BLD9"},null,null,null,null,null,null,null,null,null,null,null,null,"Furniture",null,""]
[null,null,null,null,null,null,null,null,null,null,null,null,null,null,null,null,null,"Furniture",null,""]
["Larders (1968mm High)",null,null,null,null,null,null,null,null,null,null,null,null,null,null,null,null,"Furniture",null,""]
[null,null,null,null,null,null,null,null,null,null,null,null,null,null,null,null,null,"Furniture",null,""]
["300 Larder Unit",null,{"$f":"IF($E147=\"Not Available\",\"\",VLOOKUP(E147,'Prices Furniture'!A:F,5,FALSE)*(1-$S$3))","v":663},{"$f":"IF(B147=\"\",\"\",B147*C147)","v":""},{"$f":"VLOOKUP(A147,Codes!$B:$AP,'Data Validation Lists'!$B$1+2,FALSE)","v":"@LK-EMD-L3"},null,null,null,null,null,null,null,null,null,null,null,null,"Furniture",null,""]
[]
["500 Larder Unit",null,{"$f":"IF($E149=\"Not Available\",\"\",VLOOKUP(E149,'Prices Furniture'!A:F,5,FALSE)*(1-$S$3))","v":723},"",{"$f":"VLOOKUP(A149,Codes!$B:$AP,'Data Validation Lists'!$B$1+2,FALSE)","v":"@LK-EMD-L5"},null,null,null,null,null,null,null,null,null,null,null,null,"Furniture",null,""]
["600 Larder Unit",null,{"$f":"IF($E150=\"Not Available\",\"\",VLOOKUP(E150,'Prices Furniture'!A:F,5,FALSE)*(1-$S$3))","v":794},"",{"$f":"VLOOKUP(A150,Codes!$B:$AP,'Data Validation Lists'!$B$1+2,FALSE)","v":"@LK-EMD-L6"},null,null,null,null,null,null,null,null,null,null,null,null,"Furniture",null,{"$f":"IF(B150=\"\",\"\",SUM(D150/1.2)*(1-$S$2)/(1-$S$3))","v":""}]
[]
["300 Larder & TAL LARDER Pull Out",null,{"$f":"IF($E152=\"Not Available\",\"\",VLOOKUP(E152,'Prices Furniture'!A:F,5,FALSE)*(1-$S$3))","v":1445},{"$f":"IF(B152=\"\",\"\",B152*C152)","v":""},{"$f":"VLOOKUP(A152,Codes!$B:$AP,'Data Validation Lists'!$B$1+2,FALSE)","v":"@LK-EMD-LP3"},null,null,null,null,null,null,null,null,null,null,null,null,"Furniture",null,""]
[]
["300 Larder Tower",null,{"$f":"IF($E154=\"Not Available\",\"\",VLOOKUP(E154,'Prices Furniture'!A:F,5,FALSE)*(1-$S$3))","v":1764},"",{"$f":"VLOOKUP(A154,Codes!$B:$AP,'Data Validation Lists'!$B$1+2,FALSE)","v":"@LK-EMD-LT3"},null,null,null,null,null,null,null,null,null,null,null,null,"Furniture",null,""]
["500 Larder Tower",null,{"$f":"IF($E155=\"Not Available\",\"\",VLOOKUP(E155,'Prices Furniture'!A:F,5,FALSE)*(1-$S$3))","v":1892},"",{"$f":"VLOOKUP(A155,Codes!$B:$AP,'Data Validation Lists'!$B$1+2,FALSE)","v":"@LK-EMD-LT5"},null,null,null,null,null,null,null,null,null,null,null,null,"Furniture",null,""]
["600 Larder Tower",null,{"$f":"IF($E156=\"Not Available\",\"\",VLOOKUP(E156,'Prices Furniture'!A:F,5,FALSE)*(1-$S$3))","v":2029},"",{"$f":"VLOOKUP(A156,Codes!$B:$AP,'Data Validation Lists'!$B$1+2,FALSE)","v":"@LK-EMD-LT6"},null,null,null,null,null,null,null,null,null,null,null,null,"Furniture",null,""]
[]
["500 Larder & TAL GATE PRO Pull Out",null,{"$f":"IF($E158=\"Not Available\",\"\",VLOOKUP(E158,'Prices Furniture'!A:F,5,FALSE)*(1-$S$3))","v":1915},{"$f":"IF(B158=\"\",\"\",B158*C158)","v":""},{"$f":"VLOOKUP(A158,Codes!$B:$AP,'Data Validation Lists'!$B$1+2,FALSE)","v":"@LK-EMD-LP5T"},null,null,null,null,null,null,null,null,null,null,null,null,"Furniture",null,{"$f":"IF(B158=\"\",\"\",SUM(D158/1.2)*(1-$S$2)/(1-$S$3))","v":""}]
["600 Larder & TAL GATE PRO Pull Out",null,{"$f":"IF($E159=\"Not Available\",\"\",VLOOKUP(E159,'Prices Furniture'!A:F,5,FALSE)*(1-$S$3))","v":1980},"",{"$f":"VLOOKUP(A159,Codes!$B:$AP,'Data Validation Lists'!$B$1+2,FALSE)","v":"@LK-EMD-LP6T"},null,null,null,null,null,null,null,null,null,null,null,null,"Furniture",null,""]
["500 Larder & TAL GATE Pull Out",null,{"$f":"IF($E160=\"Not Available\",\"\",VLOOKUP(E160,'Prices Furniture'!A:F,5,FALSE)*(1-$S$3))","v":1657},"",{"$f":"VLOOKUP(A160,Codes!$B:$AP,'Data Validation Lists'!$B$1+2,FALSE)","v":"@LK-EMD-LP5TS"},null,null,null,null,null,null,null,null,null,null,null,null,"Furniture",null,""]
["600 Larder & TAL GATE Pull Out",null,{"$f":"IF($E161=\"Not Available\",\"\",VLOOKUP(E161,'Prices Furniture'!A:F,5,FALSE)*(1-$S$3))","v":1781},"",{"$f":"VLOOKUP(A161,Codes!$B:$AP,'Data Validation Lists'!$B$1+2,FALSE)","v":"@LK-EMD-LP6TS"},null,null,null,null,null,null,null,null,null,null,null,null,"Furniture",null,""]
[null,null,null,null,null,null,null,null,null,null,null,null,null,null,null,null,null,"Furniture",null,""]
["Angled Corner Larder",null,{"$f":"IF($E163=\"Not Available\",\"\",VLOOKUP(E163,'Prices Furniture'!A:F,5,FALSE)*(1-$S$3))","v":2084},{"$f":"IF(B163=\"\",\"\",B163*C163)","v":""},{"$f":"VLOOKUP(A163,Codes!$B:$AP,'Data Validation Lists'!$B$1+2,FALSE)","v":"@LK-EMD-LAC"},null,null,null,null,null,null,null,null,null,null,null,null,"Furniture",null,""]
[null,null,null,null,null,null,null,null,null,null,null,null,null,null,null,null,null,"Furniture",null,""]
["1000mm Larder 4 Doors",null,{"$f":"IF($E165=\"Not Available\",\"\",VLOOKUP(E165,'Prices Furniture'!A:F,5,FALSE)*(1-$S$3))","v":1124},{"$f":"IF(B165=\"\",\"\",B165*C165)","v":""},{"$f":"VLOOKUP(A165,Codes!$B:$AP,'Data Validation Lists'!$B$1+2,FALSE)","v":"@LK-EMD-LPN14D"},null,null,null,null,null,null,null,null,null,null,null,null,"Furniture",null,""]
["1000mm Larder 2 Doors 3 Drawers",null,{"$f":"IF($E166=\"Not Available\",\"\",VLOOKUP(E166,'Prices Furniture'!A:F,5,FALSE)*(1-$S$3))","v":1523},"",{"$f":"VLOOKUP(A166,Codes!$B:$AP,'Data Validation Lists'!$B$1+2,FALSE)","v":"@LK-EMD-LPN12D3DW"},null,null,{"$f":"IF(AND($B166>0,'Data Validation Lists'!$I$10>1),SUM($B166*1),\"\")","v":""},{"$f":"IF(AND($B166>0,'Data Validation Lists'!$I$10>1),SUM($B166*2),\"\")","v":""},null,null,null,null,null,null,null,null,"Furniture",null,""]
["1000mm Larder 2 Doors 2 Drawers",null,{"$f":"IF($E167=\"Not Available\",\"\",VLOOKUP(E167,'Prices Furniture'!A:F,5,FALSE)*(1-$S$3))","v":1392},"",{"$f":"VLOOKUP(A167,Codes!$B:$AP,'Data Validation Lists'!$B$1+2,FALSE)","v":"@LK-EMD-LPN12D2DW"},null,null,null,{"$f":"IF(AND($B167>0,'Data Validation Lists'!$I$10>1),SUM($B167*2),\"\")","v":""},null,null,null,null,null,null,null,null,"Furniture",null,""]
[]
["1000mm Blind Corner larder 500 door",null,{"$f":"IF($E169=\"Not Available\",\"\",VLOOKUP(E169,'Prices Furniture'!A:F,5,FALSE)*(1-$S$3))","v":944},{"$f":"IF(B169=\"\",\"\",B169*C169)","v":""},{"$f":"VLOOKUP(A169,Codes!$B:$AP,'Data Validation Lists'!$B$1+2,FALSE)","v":"@LK-EMD-LBC15"},null,null,null,null,null,null,null,null,null,null,null,null,"Furniture",null,{"$f":"IF(B169=\"\",\"\",SUM(D169/1.2)*(1-$S$2)/(1-$S$3))","v":""}]
[]
["1000mm Blind Corner larder 600 door",null,{"$f":"IF($E171=\"Not Available\",\"\",VLOOKUP(E171,'Prices Furniture'!A:F,5,FALSE)*(1-$S$3))","v":970},"",{"$f":"VLOOKUP(A171,Codes!$B:$AP,'Data Validation Lists'!$B$1+2,FALSE)","v":"@LK-EMD-LBC16"},null,null,null,null,null,null,null,null,null,null,null,null,"Furniture",null,""]
[]
["1000 Corner Larder VS CORNERSTONE MAXX LH 500 Door",null,{"$f":"IF($E173=\"Not Available\",\"\",VLOOKUP(E173,'Prices Furniture'!A:F,5,FALSE)*(1-$S$3))","v":2782},"",{"$f":"VLOOKUP(A173,Codes!$B:$AP,'Data Validation Lists'!$B$1+2,FALSE)","v":"@LK-EMD-LBCLM15L"},"Note: This unit is handed by the Wirework",null,null,null,null,null,null,null,null,null,null,null,"Furniture",null,""]
["1000 Corner Larder VS CORNERSTONE MAXX RH 500 Door",null,{"$f":"IF($E174=\"Not Available\",\"\",VLOOKUP(E174,'Prices Furniture'!A:F,5,FALSE)*(1-$S$3))","v":2782},"",{"$f":"VLOOKUP(A174,Codes!$B:$AP,'Data Validation Lists'!$B$1+2,FALSE)","v":"@LK-EMD-LBCLM15R"},"Note: This unit is handed by the Wirework",null,null,null,null,null,null,null,null,null,null,null,"Furniture",null,""]
["1000 Corner Larder VS CORNERSTONE MAXX LH 600 Door",null,{"$f":"IF($E175=\"Not Available\",\"\",VLOOKUP(E175,'Prices Furniture'!A:F,5,FALSE)*(1-$S$3))","v":2934},"",{"$f":"VLOOKUP(A175,Codes!$B:$AP,'Data Validation Lists'!$B$1+2,FALSE)","v":"@LK-EMD-LBCLM16L"},"Note: This unit is handed by the Wirework",null,null,null,null,null,null,null,null,null,null,null,"Furniture",null,""]
["1000 Corner Larder VS CORNERSTONE MAXX RH 600 Door",null,{"$f":"IF($E176=\"Not Available\",\"\",VLOOKUP(E176,'Prices Furniture'!A:F,5,FALSE)*(1-$S$3))","v":2934},"",{"$f":"VLOOKUP(A176,Codes!$B:$AP,'Data Validation Lists'!$B$1+2,FALSE)","v":"@LK-EMD-LBCLM16R"},"Note: This unit is handed by the Wirework",null,null,null,null,null,null,null,null,null,null,null,"Furniture",null,""]
[null,null,null,null,null,null,null,null,null,null,null,null,null,null,null,null,null,"Furniture",null,""]
[null,null,null,null,null,null,null,null,null,null,null,null,null,null,null,null,null,"Furniture",null,""]
["Lifestyle Larders (1968mm High)",null,null,null,null,null,null,null,null,null,null,null,null,null,null,null,null,"Furniture",null,""]
[null,null,null,null,null,null,null,null,null,null,null,null,null,null,null,null,null,"Furniture",null,""]
[null,null,null,null,null,null,null,null,null,null,null,null,null,null,null,null,null,"Furniture",null,""]
["600 Easy Access Larder",null,{"$f":"IF($E182=\"Not Available\",\"\",VLOOKUP(E182,'Prices Furniture'!A:F,5,FALSE)*(1-$S$3))","v":836},{"$f":"IF(B182=\"\",\"\",B182*C182)","v":""},{"$f":"VLOOKUP(A182,Codes!$B:$AP,'Data Validation Lists'!$B$1+2,FALSE)","v":"@LK-EMD-LL6EA"},null,null,null,null,null,null,null,null,null,null,null,null,"Furniture",null,""]
["600 Cleaning & Utility Larder",null,{"$f":"IF($E183=\"Not Available\",\"\",VLOOKUP(E183,'Prices Furniture'!A:F,5,FALSE)*(1-$S$3))","v":786},"",{"$f":"VLOOKUP(A183,Codes!$B:$AP,'Data Validation Lists'!$B$1+2,FALSE)","v":"@LK-EMD-LL6CU"},null,null,null,null,null,null,null,null,null,null,null,null,"Furniture",null,""]
["1000 Cleaning & Utility Larder",null,{"$f":"IF($E184=\"Not Available\",\"\",VLOOKUP(E184,'Prices Furniture'!A:F,5,FALSE)*(1-$S$3))","v":1235},"",{"$f":"VLOOKUP(A184,Codes!$B:$AP,'Data Validation Lists'!$B$1+2,FALSE)","v":"@LK-EMD-LL10CU"},null,null,null,null,null,null,null,null,null,null,null,null,"Furniture",null,""]
["1000 Cleaning & Utility Ex Shelves Larder",null,{"$f":"IF($E185=\"Not Available\",\"\",VLOOKUP(E185,'Prices Furniture'!A:F,5,FALSE)*(1-$S$3))","v":1334},"",{"$f":"VLOOKUP(A185,Codes!$B:$AP,'Data Validation Lists'!$B$1+2,FALSE)","v":"@LK-EMD-LL10CUS"},null,null,null,null,null,null,null,null,null,null,null,null,"Furniture",null,""]
["1000 Combi Larder",null,{"$f":"IF($E186=\"Not Available\",\"\",VLOOKUP(E186,'Prices Furniture'!A:F,5,FALSE)*(1-$S$3))","v":1245},"",{"$f":"VLOOKUP(A186,Codes!$B:$AP,'Data Validation Lists'!$B$1+2,FALSE)","v":"@LK-EMD-LL10CB"},null,null,null,null,null,null,null,null,null,null,null,null,"Furniture",null,""]
[null,null,null,null,null,null,null,null,null,null,null,null,null,null,null,null,null,"Furniture",null,""]
["800mm Laundry Stacker Larder",null,{"$f":"IF($E188=\"Not Available\",\"\",VLOOKUP(E188,'Prices Furniture'!A:F,5,FALSE)*(1-$S$3))","v":1364},{"$f":"IF(B188=\"\",\"\",B188*C188)","v":""},{"$f":"VLOOKUP(A188,Codes!$B:$AP,'Data Validation Lists'!$B$1+2,FALSE)","v":"@LK-EMD-LL8LS"},null,null,null,null,null,null,null,null,null,null,null,null,"Furniture",null,{"$f":"IF(B188=\"\",\"\",SUM(D188/1.2)*(1-$S$2)/(1-$S$3))","v":""}]
[null,null,null,null,null,null,null,null,null,null,null,null,null,null,null,null,null,"Furniture",null,""]
["Lifestyle Cube for Combi 447d Anthracite Linen",null,{"$f":"IF($E190=\"Not Available\",\"\",VLOOKUP(E190,'Prices Furniture'!A:F,5,FALSE)*(1-$S$3))","v":121},{"$f":"IF(B190=\"\",\"\",B190*C190)","v":""},{"$f":"VLOOKUP(A190,Codes!$B:$AP,'Data Validation Lists'!$B$1+2,FALSE)","v":"LK-A-ALN-LSCUBE4"},null,null,null,null,null,null,null,null,null,null,null,null,"Furniture",null,""]
["Lifestyle Cube for Combi 447d Grey Linen",null,{"$f":"IF($E191=\"Not Available\",\"\",VLOOKUP(E191,'Prices Furniture'!A:F,5,FALSE)*(1-$S$3))","v":121},"",{"$f":"VLOOKUP(A191,Codes!$B:$AP,'Data Validation Lists'!$B$1+2,FALSE)","v":"LK-A-GLN-LSCUBE4"},null,null,null,null,null,null,null,null,null,null,null,null,"Furniture",null,""]
["Lifestyle Cube for Combi 447d Oak",null,{"$f":"IF($E192=\"Not Available\",\"\",VLOOKUP(E192,'Prices Furniture'!A:F,5,FALSE)*(1-$S$3))","v":121},"",{"$f":"VLOOKUP(A192,Codes!$B:$AP,'Data Validation Lists'!$B$1+2,FALSE)","v":"LK-A-LISW-LSCUBE4"},null,null,null,null,null,null,null,null,null,null,null,null,"Furniture",null,""]
["Lifestyle Cube for Combi 447d Stone Grey",null,{"$f":"IF($E193=\"Not Available\",\"\",VLOOKUP(E193,'Prices Furniture'!A:F,5,FALSE)*(1-$S$3))","v":121},"",{"$f":"VLOOKUP(A193,Codes!$B:$AP,'Data Validation Lists'!$B$1+2,FALSE)","v":"LK-A-STG-LSCUBE4"},null,null,null,null,null,null,null,null,null,null,null,null,"Furniture",null,{"$f":"IF(B193=\"\",\"\",SUM(D193/1.2)*(1-$S$2)/(1-$S$3))","v":""}]
["Lifestyle Cube for Combi 447d Matt White",null,{"$f":"IF($E194=\"Not Available\",\"\",VLOOKUP(E194,'Prices Furniture'!A:F,5,FALSE)*(1-$S$3))","v":121},{"$f":"IF(B194=\"\",\"\",B194*C194)","v":""},{"$f":"VLOOKUP(A194,Codes!$B:$AP,'Data Validation Lists'!$B$1+2,FALSE)","v":"LK-A-WHT-LSCUBE4"},null,null,null,null,null,null,null,null,null,null,null,null,"Furniture",null,{"$f":"IF(B194=\"\",\"\",SUM(D194/1.2)*(1-$S$2)/(1-$S$3))","v":""}]
["Lifestyle Cube for Combi 447d Walnut",null,{"$f":"IF($E195=\"Not Available\",\"\",VLOOKUP(E195,'Prices Furniture'!A:F,5,FALSE)*(1-$S$3))","v":121},{"$f":"IF(B195=\"\",\"\",B195*C195)","v":""},{"$f":"VLOOKUP(A195,Codes!$B:$AP,'Data Validation Lists'!$B$1+2,FALSE)","v":"LK-A-WAL-LSCUBE4"},null,null,null,null,null,null,null,null,null,null,null,null,"Furniture",null,{"$f":"IF(B195=\"\",\"\",SUM(D195/1.2)*(1-$S$2)/(1-$S$3))","v":""}]
[null,null,null,null,null,null,null,null,null,null,null,null,null,null,null,null,null,"Furniture",null,""]
["Lifestyle Cube for Combi 547d Anthracite Linen",null,{"$f":"IF($E197=\"Not Available\",\"\",VLOOKUP(E197,'Prices Furniture'!A:F,5,FALSE)*(1-$S$3))","v":140},"",{"$f":"VLOOKUP(A197,Codes!$B:$AP,'Data Validation Lists'!$B$1+2,FALSE)","v":"LK-A-ALN-LSCUBE5"},null,null,null,null,null,null,null,null,null,null,null,null,"Furniture",null,""]
["Lifestyle Cube for Combi 547d Grey Linen",null,{"$f":"IF($E198=\"Not Available\",\"\",VLOOKUP(E198,'Prices Furniture'!A:F,5,FALSE)*(1-$S$3))","v":140},"",{"$f":"VLOOKUP(A198,Codes!$B:$AP,'Data Validation Lists'!$B$1+2,FALSE)","v":"LK-A-GLN-LSCUBE5"},null,null,null,null,null,null,null,null,null,null,null,null,"Furniture",null,""]
["Lifestyle Cube for Combi 547d Oak",null,{"$f":"IF($E199=\"Not Available\",\"\",VLOOKUP(E199,'Prices Furniture'!A:F,5,FALSE)*(1-$S$3))","v":140},"",{"$f":"VLOOKUP(A199,Codes!$B:$AP,'Data Validation Lists'!$B$1+2,FALSE)","v":"LK-A-LISW-LSCUBE5"},null,null,null,null,null,null,null,null,null,null,null,null,"Furniture",null,""]
["Lifestyle Cube for Combi 547d Stone Grey",null,{"$f":"IF($E200=\"Not Available\",\"\",VLOOKUP(E200,'Prices Furniture'!A:F,5,FALSE)*(1-$S$3))","v":140},"",{"$f":"VLOOKUP(A200,Codes!$B:$AP,'Data Validation Lists'!$B$1+2,FALSE)","v":"LK-A-STG-LSCUBE5"},null,null,null,null,null,null,null,null,null,null,null,null,"Furniture",null,""]
["Lifestyle Cube for Combi 547d Matt White",null,{"$f":"IF($E201=\"Not Available\",\"\",VLOOKUP(E201,'Prices Furniture'!A:F,5,FALSE)*(1-$S$3))","v":140},{"$f":"IF(B201=\"\",\"\",B201*C201)","v":""},{"$f":"VLOOKUP(A201,Codes!$B:$AP,'Data Validation Lists'!$B$1+2,FALSE)","v":"LK-A-WHT-LSCUBE5"},null,null,null,null,null,null,null,null,null,null,null,null,"Furniture",null,{"$f":"IF(B201=\"\",\"\",SUM(D201/1.2)*(1-$S$2)/(1-$S$3))","v":""}]
["Lifestyle Cube for Combi 547d Walnut",null,{"$f":"IF($E202=\"Not Available\",\"\",VLOOKUP(E202,'Prices Furniture'!A:F,5,FALSE)*(1-$S$3))","v":140},"",{"$f":"VLOOKUP(A202,Codes!$B:$AP,'Data Validation Lists'!$B$1+2,FALSE)","v":"LK-A-WAL-LSCUBE5"},null,null,null,null,null,null,null,null,null,null,null,null,"Furniture",null,""]
[null,null,null,null,null,null,null,null,null,null,null,null,null,null,null,null,null,"Furniture",null,""]
["Extra Tall Over Counter Corner Appliance Housings (1428mm High)",null,null,null,null,null,null,null,null,null,null,null,null,null,null,null,null,"Furniture",null,{"$f":"IF(B204=\"\",\"\",SUM(D204/1.2)*(1-$S$2)/(1-$S$3))","v":""}]
[null,null,null,null,null,null,null,null,null,null,null,null,null,null,null,null,null,"Furniture",null,""]
["600 Tall Corner Single Oven Housing",null,{"$f":"IF($E206=\"Not Available\",\"\",VLOOKUP(E206,'Prices Furniture'!A:F,5,FALSE)*(1-$S$3))","v":846},{"$f":"IF(B206=\"\",\"\",B206*C206)","v":""},{"$f":"VLOOKUP(A206,Codes!$B:$AP,'Data Validation Lists'!$B$1+2,FALSE)","v":"@LK-EMD-TCH-SO"},null,null,{"$f":"IF(AND($B206>0,'Data Validation Lists'!$I$10>1),SUM($B206*1),\"\")","v":""},null,null,null,null,null,null,null,null,null,"Furniture",null,""]
["600 Tall Corner Compact/Micro Housing",null,{"$f":"IF($E207=\"Not Available\",\"\",VLOOKUP(E207,'Prices Furniture'!A:F,5,FALSE)*(1-$S$3))","v":759},{"$f":"IF(B207=\"\",\"\",B207*C207)","v":""},{"$f":"VLOOKUP(A207,Codes!$B:$AP,'Data Validation Lists'!$B$1+2,FALSE)","v":"@LK-EMD-TCH-MW"},null,null,null,null,null,null,null,null,null,null,null,null,"Furniture",null,""]
["600 Tall Corner Storage Unit",null,{"$f":"IF($E208=\"Not Available\",\"\",VLOOKUP(E208,'Prices Furniture'!A:F,5,FALSE)*(1-$S$3))","v":918},{"$f":"IF(B208=\"\",\"\",B208*C208)","v":""},{"$f":"VLOOKUP(A208,Codes!$B:$AP,'Data Validation Lists'!$B$1+2,FALSE)","v":"@LK-EMD-TCH-ST"},null,null,{"$f":"IF(AND($B208>0,'Data Validation Lists'!$I$10>1),SUM($B208*1),\"\")","v":""},null,null,null,null,null,null,null,null,null,"Furniture",null,""]
[null,null,null,null,null,null,null,null,null,null,null,null,null,null,null,null,null,"Furniture",null,""]
[null,null,null,null,null,null,null,null,null,null,null,null,null,null,null,null,null,"Furniture",null,{"$f":"IF(B210=\"\",\"\",SUM(D210/1.2)*(1-$S$2)/(1-$S$3))","v":""}]
["Lifestyle Cube for Combi 447d Anthracite Linen",null,{"$f":"IF($E211=\"Not Available\",\"\",VLOOKUP(E211,'Prices Furniture'!A:F,5,FALSE)*(1-$S$3))","v":121},{"$f":"IF(B211=\"\",\"\",B211*C211)","v":""},{"$f":"VLOOKUP(A211,Codes!$B:$AP,'Data Validation Lists'!$B$1+2,FALSE)","v":"LK-A-ALN-LSCUBE4"},null,null,null,null,null,null,null,null,null,null,null,null,"Furniture",null,{"$f":"IF(B211=\"\",\"\",SUM(D211/1.2)*(1-$S$2)/(1-$S$3))","v":""}]
["Lifestyle Cube for Combi 447d Grey Linen",null,{"$f":"IF($E212=\"Not Available\",\"\",VLOOKUP(E212,'Prices Furniture'!A:F,5,FALSE)*(1-$S$3))","v":121},"",{"$f":"VLOOKUP(A212,Codes!$B:$AP,'Data Validation Lists'!$B$1+2,FALSE)","v":"LK-A-GLN-LSCUBE4"},null,null,null,null,null,null,null,null,null,null,null,null,"Furniture",null,""]
["Lifestyle Cube for Combi 447d Oak",null,{"$f":"IF($E213=\"Not Available\",\"\",VLOOKUP(E213,'Prices Furniture'!A:F,5,FALSE)*(1-$S$3))","v":121},"",{"$f":"VLOOKUP(A213,Codes!$B:$AP,'Data Validation Lists'!$B$1+2,FALSE)","v":"LK-A-LISW-LSCUBE4"},null,null,null,null,null,null,null,null,null,null,null,null,"Furniture",null,""]
["Lifestyle Cube for Combi 447d Stone Grey",null,{"$f":"IF($E214=\"Not Available\",\"\",VLOOKUP(E214,'Prices Furniture'!A:F,5,FALSE)*(1-$S$3))","v":121},"",{"$f":"VLOOKUP(A214,Codes!$B:$AP,'Data Validation Lists'!$B$1+2,FALSE)","v":"LK-A-STG-LSCUBE4"},null,null,null,null,null,null,null,null,null,null,null,null,"Furniture",null,""]
["Lifestyle Cube for Combi 447d Matt White",null,{"$f":"IF($E215=\"Not Available\",\"\",VLOOKUP(E215,'Prices Furniture'!A:F,5,FALSE)*(1-$S$3))","v":121},"",{"$f":"VLOOKUP(A215,Codes!$B:$AP,'Data Validation Lists'!$B$1+2,FALSE)","v":"LK-A-WHT-LSCUBE4"},null,null,null,null,null,null,null,null,null,null,null,null,"Furniture",null,""]
["Lifestyle Cube for Combi 447d Walnut",null,{"$f":"IF($E216=\"Not Available\",\"\",VLOOKUP(E216,'Prices Furniture'!A:F,5,FALSE)*(1-$S$3))","v":121},{"$f":"IF(B216=\"\",\"\",B216*C216)","v":""},{"$f":"VLOOKUP(A216,Codes!$B:$AP,'Data Validation Lists'!$B$1+2,FALSE)","v":"LK-A-WAL-LSCUBE4"},null,null,null,null,null,null,null,null,null,null,null,null,"Furniture",null,{"$f":"IF(B216=\"\",\"\",SUM(D216/1.2)*(1-$S$2)/(1-$S$3))","v":""}]
[null,null,null,null,null,null,null,null,null,null,null,null,null,null,null,null,null,"Furniture",null,""]
["Lifestyle Cube for Combi 547d Anthracite Linen",null,{"$f":"IF($E218=\"Not Available\",\"\",VLOOKUP(E218,'Prices Furniture'!A:F,5,FALSE)*(1-$S$3))","v":140},{"$f":"IF(B218=\"\",\"\",B218*C218)","v":""},{"$f":"VLOOKUP(A218,Codes!$B:$AP,'Data Validation Lists'!$B$1+2,FALSE)","v":"LK-A-ALN-LSCUBE5"},null,null,null,null,null,null,null,null,null,null,null,null,"Furniture",null,""]
["Lifestyle Cube for Combi 547d Grey Linen",null,{"$f":"IF($E219=\"Not Available\",\"\",VLOOKUP(E219,'Prices Furniture'!A:F,5,FALSE)*(1-$S$3))","v":140},"",{"$f":"VLOOKUP(A219,Codes!$B:$AP,'Data Validation Lists'!$B$1+2,FALSE)","v":"LK-A-GLN-LSCUBE5"},null,null,null,null,null,null,null,null,null,null,null,null,"Furniture",null,""]
["Lifestyle Cube for Combi 547d Oak",null,{"$f":"IF($E220=\"Not Available\",\"\",VLOOKUP(E220,'Prices Furniture'!A:F,5,FALSE)*(1-$S$3))","v":140},"",{"$f":"VLOOKUP(A220,Codes!$B:$AP,'Data Validation Lists'!$B$1+2,FALSE)","v":"LK-A-LISW-LSCUBE5"},null,null,null,null,null,null,null,null,null,null,null,null,"Furniture",null,""]
["Lifestyle Cube for Combi 547d Stone Grey",null,{"$f":"IF($E221=\"Not Available\",\"\",VLOOKUP(E221,'Prices Furniture'!A:F,5,FALSE)*(1-$S$3))","v":140},"",{"$f":"VLOOKUP(A221,Codes!$B:$AP,'Data Validation Lists'!$B$1+2,FALSE)","v":"LK-A-STG-LSCUBE5"},null,null,null,null,null,null,null,null,null,null,null,null,"Furniture",null,""]
["Lifestyle Cube for Combi 547d Matt White",null,{"$f":"IF($E222=\"Not Available\",\"\",VLOOKUP(E222,'Prices Furniture'!A:F,5,FALSE)*(1-$S$3))","v":140},{"$f":"IF(B222=\"\",\"\",B222*C222)","v":""},{"$f":"VLOOKUP(A222,Codes!$B:$AP,'Data Validation Lists'!$B$1+2,FALSE)","v":"LK-A-WHT-LSCUBE5"},null,null,null,null,null,null,null,null,null,null,null,null,"Furniture",null,{"$f":"IF(B222=\"\",\"\",SUM(D222/1.2)*(1-$S$2)/(1-$S$3))","v":""}]
["Lifestyle Cube for Combi 547d Walnut",null,{"$f":"IF($E223=\"Not Available\",\"\",VLOOKUP(E223,'Prices Furniture'!A:F,5,FALSE)*(1-$S$3))","v":140},"",{"$f":"VLOOKUP(A223,Codes!$B:$AP,'Data Validation Lists'!$B$1+2,FALSE)","v":"LK-A-WAL-LSCUBE5"},null,null,null,null,null,null,null,null,null,null,null,null,"Furniture",null,""]
[null,null,null,null,null,null,null,null,null,null,null,null,null,null,null,null,null,"Furniture",null,""]
["ASSEMBLED",{"$f":"IF(SUM(G13:G342)>0,SUM(G13:G342),\"\")","v":""},{"$f":"IF($E225=\"Not Available\",\"\",VLOOKUP(E225,'Prices Furniture'!A:F,5,FALSE))","v":18},{"$f":"IF(B225=\"\",\"\",B225*C225)","v":""},{"$f":"IF('Data Validation Lists'!$I$1=1,VLOOKUP(A225,Codes!$B:$AP,'Data Validation Lists'!$B$1+2,FALSE),\"Not Available\")","v":"RIGID BUILD"},null,null,null,null,null,null,null,null,null,null,null,null,"Furniture",null,{"$f":"IF(B225=\"\",\"\",SUM(D225/1.2))","v":""}]
[null,null,null,null,null,null,null,null,null,null,null,null,null,null,null,null,null,"Furniture",null,{"$f":"IF(B226=\"\",\"\",SUM(D226/1.2)*(1-$S$2)/(1-$S$3))","v":""}]
["Panels and Trims",null,null,null,null,null,null,null,null,null,null,null,null,null,null,null,null,"Furniture",null,""]
[null,null,null,null,null,null,null,null,null,null,null,null,null,null,null,null,null,"Furniture",null,""]
["720 Wall Rep end Panel",null,{"$f":"IF($E229=\"Not Available\",\"\",VLOOKUP(E229,'Prices Furniture'!A:F,5,FALSE)*(1-$S$3))","v":77},{"$f":"IF(B229=\"\",\"\",B229*C229)","v":""},{"$f":"VLOOKUP(A229,Codes!$B:$AP,'Data Validation Lists'!$B$1+2,FALSE)","v":"LK-A-EMD-WREP72"},null,null,null,null,null,null,null,null,null,null,null,null,"Furniture",null,""]
["720 x 360 Plant on Wall End Panel",null,{"$f":"IF($E230=\"Not Available\",\"\",VLOOKUP(E230,'Prices Furniture'!A:F,5,FALSE)*(1-$S$3))","v":92},{"$f":"IF(B230=\"\",\"\",B230*C230)","v":""},{"$f":"VLOOKUP(A230,Codes!$B:$AP,'Data Validation Lists'!$B$1+2,FALSE)","v":"LK-A-EMD-PWEP72"},null,null,null,null,null,null,null,null,null,null,null,null,"Furniture",null,""]
["Plant on Wall End Panel 2000 x 360",null,{"$f":"IF($E231=\"Not Available\",\"\",VLOOKUP(E231,'Prices Furniture'!A:F,5,FALSE)*(1-$S$3))","v":200},{"$f":"IF(B231=\"\",\"\",B231*C231)","v":""},{"$f":"VLOOKUP(A231,Codes!$B:$AP,'Data Validation Lists'!$B$1+2,FALSE)","v":"LK-A-EMD-PWEP20"},null,null,null,null,null,null,null,null,null,null,null,null,"Furniture",null,{"$f":"IF(B231=\"\",\"\",SUM(D231/1.2)*(1-$S$2)/(1-$S$3))","v":""}]
["End Support / Plant on Base Panel",null,{"$f":"IF($E232=\"Not Available\",\"\",VLOOKUP(E232,'Prices Furniture'!A:F,5,FALSE)*(1-$S$3))","v":135},"",{"$f":"VLOOKUP(A232,Codes!$B:$AP,'Data Validation Lists'!$B$1+2,FALSE)","v":"LK-A-EMD-ESP"},null,null,null,null,null,null,null,null,null,null,null,null,"Furniture",null,""]
["Large Universal Panel 2.4 x 900mm",null,{"$f":"IF($E233=\"Not Available\",\"\",VLOOKUP(E233,'Prices Furniture'!A:F,5,FALSE)*(1-$S$3))","v":391},"",{"$f":"VLOOKUP(A233,Codes!$B:$AP,'Data Validation Lists'!$B$1+2,FALSE)","v":"LK-A-EMD-LUP"},null,null,null,null,null,null,null,null,null,null,null,null,"Furniture",null,""]
["Plant on Tall End Panel 2400x630",null,{"$f":"IF($E234=\"Not Available\",\"\",VLOOKUP(E234,'Prices Furniture'!A:F,5,FALSE)*(1-$S$3))","v":305},"",{"$f":"VLOOKUP(A234,Codes!$B:$AP,'Data Validation Lists'!$B$1+2,FALSE)","v":"LK-A-EMD-PTEP"},null,null,null,null,null,null,null,null,null,null,null,null,"Furniture",null,""]
["Plinth",null,{"$f":"IF($E235=\"Not Available\",\"\",VLOOKUP(E235,'Prices Furniture'!A:F,5,FALSE)*(1-$S$3))","v":90},{"$f":"IF(B235=\"\",\"\",B235*C235)","v":""},{"$f":"VLOOKUP(A235,Codes!$B:$AP,'Data Validation Lists'!$B$1+2,FALSE)","v":"LK-A-EMD-PL"},null,null,null,null,null,null,null,null,null,null,null,null,"Furniture",null,{"$f":"IF(B235=\"\",\"\",SUM(D235/1.2)*(1-$S$2)/(1-$S$3))","v":""}]
["Modern Sq Bul Pelmet / Cornice",null,{"$f":"IF($E236=\"Not Available\",\"\",VLOOKUP(E236,'Prices Furniture'!A:F,5,FALSE)*(1-$S$3))","v":86},"",{"$f":"VLOOKUP(A236,Codes!$B:$AP,'Data Validation Lists'!$B$1+2,FALSE)","v":"LK-A-EMD-BLPEL"},null,null,null,null,null,null,null,null,null,null,null,null,"Furniture",null,""]
["22mm Edging - 10m",null,{"$f":"IF($E237=\"Not Available\",\"\",VLOOKUP(E237,'Prices Furniture'!A:F,5,FALSE)*(1-$S$3))","v":37},{"$f":"IF(B237=\"\",\"\",B237*C237)","v":""},{"$f":"VLOOKUP(A237,Codes!$B:$AP,'Data Validation Lists'!$B$1+2,FALSE)","v":"LK-A-EMD-ET"},null,null,null,null,null,null,null,null,null,null,null,null,"Furniture",null,{"$f":"IF(B237=\"\",\"\",SUM(D237/1.2)*(1-$S$2)/(1-$S$3))","v":""}]
[]
["Handles",null,null,null,null,null,null,null,null,null,null,null,null,null,null,null,null,"Furniture",null,{"$f":"IF(B239=\"\",\"\",SUM(D239/1.2)*(1-$S$2)/(1-$S$3))","v":""}]
[null,null,null,null,null,null,null,null,null,null,null,null,null,null,null,null,null,"Furniture",null,""]
["H003 Satin Nickel D Handle",null,{"$f":"IF($E241=\"Not Available\",\"\",VLOOKUP(E241,'Prices Furniture'!A:F,5,FALSE)*(1-$S$3))","v":11},{"$f":"IF(B241=\"\",\"\",B241*C241)","v":""},{"$f":"VLOOKUP(A241,Codes!$B:$AP,'Data Validation Lists'!$B$1+2,FALSE)","v":"LK-HD-003"},null,null,null,null,null,null,null,null,null,null,null,null,"Furniture",null,""]
["H1003 Long Chrome Front Fix Puro Handle",null,{"$f":"IF($E242=\"Not Available\",\"\",VLOOKUP(E242,'Prices Furniture'!A:F,5,FALSE)*(1-$S$3))","v":15},{"$f":"IF(B242=\"\",\"\",B242*C242)","v":""},{"$f":"VLOOKUP(A242,Codes!$B:$AP,'Data Validation Lists'!$B$1+2,FALSE)","v":"LK-HD-1003"},null,null,null,null,null,null,null,null,null,null,null,null,"Furniture",null,""]
["H1007 Long Chrome Back Fix Puro Handle",null,{"$f":"IF($E243=\"Not Available\",\"\",VLOOKUP(E243,'Prices Furniture'!A:F,5,FALSE)*(1-$S$3))","v":18},"",{"$f":"VLOOKUP(A243,Codes!$B:$AP,'Data Validation Lists'!$B$1+2,FALSE)","v":"LK-HD-1007"},null,null,null,null,null,null,null,null,null,null,null,null,"Furniture",null,""]
["H1009 Pewter Round Knob Handle",null,{"$f":"IF($E244=\"Not Available\",\"\",VLOOKUP(E244,'Prices Furniture'!A:F,5,FALSE)*(1-$S$3))","v":10},"",{"$f":"VLOOKUP(A244,Codes!$B:$AP,'Data Validation Lists'!$B$1+2,FALSE)","v":"LK-HD-1009"},null,null,null,null,null,null,null,null,null,null,null,null,"Furniture",null,""]
["H1011 Brushed Nickel Curved End Handle",null,{"$f":"IF($E245=\"Not Available\",\"\",VLOOKUP(E245,'Prices Furniture'!A:F,5,FALSE)*(1-$S$3))","v":16},"",{"$f":"VLOOKUP(A245,Codes!$B:$AP,'Data Validation Lists'!$B$1+2,FALSE)","v":"LK-HD-1011"},null,null,null,null,null,null,null,null,null,null,null,null,"Furniture",null,""]
["H1013 Chrome Curved End Handle",null,{"$f":"IF($E246=\"Not Available\",\"\",VLOOKUP(E246,'Prices Furniture'!A:F,5,FALSE)*(1-$S$3))","v":16},"",{"$f":"VLOOKUP(A246,Codes!$B:$AP,'Data Validation Lists'!$B$1+2,FALSE)","v":"LK-HD-1013"},null,null,null,null,null,null,null,null,null,null,null,null,"Furniture",null,""]
["H1015 Copper Curved End Handle",null,{"$f":"IF($E247=\"Not Available\",\"\",VLOOKUP(E247,'Prices Furniture'!A:F,5,FALSE)*(1-$S$3))","v":16},"",{"$f":"VLOOKUP(A247,Codes!$B:$AP,'Data Validation Lists'!$B$1+2,FALSE)","v":"LK-HD-1015"},null,null,null,null,null,null,null,null,null,null,null,null,"Furniture",null,""]
["H1018 Stainless Steel D Handle",null,{"$f":"IF($E248=\"Not Available\",\"\",VLOOKUP(E248,'Prices Furniture'!A:F,5,FALSE)*(1-$S$3))","v":32},"",{"$f":"VLOOKUP(A248,Codes!$B:$AP,'Data Validation Lists'!$B$1+2,FALSE)","v":"LK-HD-1018"},null,null,null,null,null,null,null,null,null,null,null,null,"Furniture",null,""]
["H1019 Black Chrome D Handle",null,{"$f":"IF($E249=\"Not Available\",\"\",VLOOKUP(E249,'Prices Furniture'!A:F,5,FALSE)*(1-$S$3))","v":30},"",{"$f":"VLOOKUP(A249,Codes!$B:$AP,'Data Validation Lists'!$B$1+2,FALSE)","v":"LK-HD-1019"},null,null,null,null,null,null,null,null,null,null,null,null,"Furniture",null,""]
["H1020 Chrome Cup Handle",null,{"$f":"IF($E250=\"Not Available\",\"\",VLOOKUP(E250,'Prices Furniture'!A:F,5,FALSE)*(1-$S$3))","v":23},"",{"$f":"VLOOKUP(A250,Codes!$B:$AP,'Data Validation Lists'!$B$1+2,FALSE)","v":"LK-HD-1020"},null,null,null,null,null,null,null,null,null,null,null,null,"Furniture",null,""]
["H1022 Chrome Cup Handle",null,{"$f":"IF($E251=\"Not Available\",\"\",VLOOKUP(E251,'Prices Furniture'!A:F,5,FALSE)*(1-$S$3))","v":13},"",{"$f":"VLOOKUP(A251,Codes!$B:$AP,'Data Validation Lists'!$B$1+2,FALSE)","v":"LK-HD-1022"},null,null,null,null,null,null,null,null,null,null,null,null,"Furniture",null,""]
["H1024 Black Satin Cup Handle",null,{"$f":"IF($E252=\"Not Available\",\"\",VLOOKUP(E252,'Prices Furniture'!A:F,5,FALSE)*(1-$S$3))","v":13},"",{"$f":"VLOOKUP(A252,Codes!$B:$AP,'Data Validation Lists'!$B$1+2,FALSE)","v":"LK-HD-1024"},null,null,null,null,null,null,null,null,null,null,null,null,"Furniture",null,""]
["H1025 Chrome Round Knob Handle",null,{"$f":"IF($E253=\"Not Available\",\"\",VLOOKUP(E253,'Prices Furniture'!A:F,5,FALSE)*(1-$S$3))","v":17},"",{"$f":"VLOOKUP(A253,Codes!$B:$AP,'Data Validation Lists'!$B$1+2,FALSE)","v":"LK-HD-1025"},null,null,null,null,null,null,null,null,null,null,null,null,"Furniture",null,""]
["H1026 Black Satin Round Knob Handle",null,{"$f":"IF($E254=\"Not Available\",\"\",VLOOKUP(E254,'Prices Furniture'!A:F,5,FALSE)*(1-$S$3))","v":17},"",{"$f":"VLOOKUP(A254,Codes!$B:$AP,'Data Validation Lists'!$B$1+2,FALSE)","v":"LK-HD-1026"},null,null,null,null,null,null,null,null,null,null,null,null,"Furniture",null,""]
["H1027 Chrome Square Knob Handle",null,{"$f":"IF($E255=\"Not Available\",\"\",VLOOKUP(E255,'Prices Furniture'!A:F,5,FALSE)*(1-$S$3))","v":17},"",{"$f":"VLOOKUP(A255,Codes!$B:$AP,'Data Validation Lists'!$B$1+2,FALSE)","v":"LK-HD-1027"},null,null,null,null,null,null,null,null,null,null,null,null,"Furniture",null,""]
["H1028 Black Satin Square Knob Handle",null,{"$f":"IF($E256=\"Not Available\",\"\",VLOOKUP(E256,'Prices Furniture'!A:F,5,FALSE)*(1-$S$3))","v":18},"",{"$f":"VLOOKUP(A256,Codes!$B:$AP,'Data Validation Lists'!$B$1+2,FALSE)","v":"LK-HD-1028"},null,null,null,null,null,null,null,null,null,null,null,null,"Furniture",null,""]
["H1030 Antique Bronze Cup Handle",null,{"$f":"IF($E257=\"Not Available\",\"\",VLOOKUP(E257,'Prices Furniture'!A:F,5,FALSE)*(1-$S$3))","v":17},"",{"$f":"VLOOKUP(A257,Codes!$B:$AP,'Data Validation Lists'!$B$1+2,FALSE)","v":"LK-HD-1030"},null,null,null,null,null,null,null,null,null,null,null,null,"Furniture",null,""]
["H1031 Antique Bronze Knob Handle",null,{"$f":"IF($E258=\"Not Available\",\"\",VLOOKUP(E258,'Prices Furniture'!A:F,5,FALSE)*(1-$S$3))","v":17},"",{"$f":"VLOOKUP(A258,Codes!$B:$AP,'Data Validation Lists'!$B$1+2,FALSE)","v":"LK-HD-1031"},null,null,null,null,null,null,null,null,null,null,null,null,"Furniture",null,""]
["H146 Satin Nickel D Handle",null,{"$f":"IF($E259=\"Not Available\",\"\",VLOOKUP(E259,'Prices Furniture'!A:F,5,FALSE)*(1-$S$3))","v":13},"",{"$f":"VLOOKUP(A259,Codes!$B:$AP,'Data Validation Lists'!$B$1+2,FALSE)","v":"LK-HD-146"},null,null,null,null,null,null,null,null,null,null,null,null,"Furniture",null,""]
["H149 Chrome Knob Handle",null,{"$f":"IF($E260=\"Not Available\",\"\",VLOOKUP(E260,'Prices Furniture'!A:F,5,FALSE)*(1-$S$3))","v":13},"",{"$f":"VLOOKUP(A260,Codes!$B:$AP,'Data Validation Lists'!$B$1+2,FALSE)","v":"LK-HD-149"},null,null,null,null,null,null,null,null,null,null,null,null,"Furniture",null,""]
["H150 Chrome Cup Handle",null,{"$f":"IF($E261=\"Not Available\",\"\",VLOOKUP(E261,'Prices Furniture'!A:F,5,FALSE)*(1-$S$3))","v":13},"",{"$f":"VLOOKUP(A261,Codes!$B:$AP,'Data Validation Lists'!$B$1+2,FALSE)","v":"LK-HD-150"},null,null,null,null,null,null,null,null,null,null,null,null,"Furniture",null,""]
["H222 Stainless Steel Bar Handle",null,{"$f":"IF($E262=\"Not Available\",\"\",VLOOKUP(E262,'Prices Furniture'!A:F,5,FALSE)*(1-$S$3))","v":14},"",{"$f":"VLOOKUP(A262,Codes!$B:$AP,'Data Validation Lists'!$B$1+2,FALSE)","v":"LK-HD-222"},null,null,null,null,null,null,null,null,null,null,null,null,"Furniture",null,""]
["H264 Steel Arch End Handle",null,{"$f":"IF($E263=\"Not Available\",\"\",VLOOKUP(E263,'Prices Furniture'!A:F,5,FALSE)*(1-$S$3))","v":14},"",{"$f":"VLOOKUP(A263,Codes!$B:$AP,'Data Validation Lists'!$B$1+2,FALSE)","v":"LK-HD-264"},null,null,null,null,null,null,null,null,null,null,null,null,"Furniture",null,""]
["H318 Stainless Steel Bar Handle",null,{"$f":"IF($E264=\"Not Available\",\"\",VLOOKUP(E264,'Prices Furniture'!A:F,5,FALSE)*(1-$S$3))","v":15},"",{"$f":"VLOOKUP(A264,Codes!$B:$AP,'Data Validation Lists'!$B$1+2,FALSE)","v":"LK-HD-318"},null,null,null,null,null,null,null,null,null,null,null,null,"Furniture",null,""]
["H363 Pewter Effect D Handle",null,{"$f":"IF($E265=\"Not Available\",\"\",VLOOKUP(E265,'Prices Furniture'!A:F,5,FALSE)*(1-$S$3))","v":13},"",{"$f":"VLOOKUP(A265,Codes!$B:$AP,'Data Validation Lists'!$B$1+2,FALSE)","v":"LK-HD-363"},null,null,null,null,null,null,null,null,null,null,null,null,"Furniture",null,""]
["H504 Antique Bronze Handle",null,{"$f":"IF($E266=\"Not Available\",\"\",VLOOKUP(E266,'Prices Furniture'!A:F,5,FALSE)*(1-$S$3))","v":13},"",{"$f":"VLOOKUP(A266,Codes!$B:$AP,'Data Validation Lists'!$B$1+2,FALSE)","v":"LK-HD-504"},null,null,null,null,null,null,null,null,null,null,null,null,"Furniture",null,""]
["H820 Steel Collar Handle",null,{"$f":"IF($E267=\"Not Available\",\"\",VLOOKUP(E267,'Prices Furniture'!A:F,5,FALSE)*(1-$S$3))","v":14},"",{"$f":"VLOOKUP(A267,Codes!$B:$AP,'Data Validation Lists'!$B$1+2,FALSE)","v":"LK-HD-820"},null,null,null,null,null,null,null,null,null,null,null,null,"Furniture",null,""]
["H917 Stainless Steel D Handle",null,{"$f":"IF($E268=\"Not Available\",\"\",VLOOKUP(E268,'Prices Furniture'!A:F,5,FALSE)*(1-$S$3))","v":13},"",{"$f":"VLOOKUP(A268,Codes!$B:$AP,'Data Validation Lists'!$B$1+2,FALSE)","v":"LK-HD-917"},null,null,null,null,null,null,null,null,null,null,null,null,"Furniture",null,""]
["H918 Satin Nickel D Handle",null,{"$f":"IF($E269=\"Not Available\",\"\",VLOOKUP(E269,'Prices Furniture'!A:F,5,FALSE)*(1-$S$3))","v":10},"",{"$f":"VLOOKUP(A269,Codes!$B:$AP,'Data Validation Lists'!$B$1+2,FALSE)","v":"LK-HD-918"},null,null,null,null,null,null,null,null,null,null,null,null,"Furniture",null,""]
["H931 Satin Nickel D Handle",null,{"$f":"IF($E270=\"Not Available\",\"\",VLOOKUP(E270,'Prices Furniture'!A:F,5,FALSE)*(1-$S$3))","v":16},"",{"$f":"VLOOKUP(A270,Codes!$B:$AP,'Data Validation Lists'!$B$1+2,FALSE)","v":"LK-HD-931"},null,null,null,null,null,null,null,null,null,null,null,null,"Furniture",null,""]
["H932 Satin Nickel Strap Handle",null,{"$f":"IF($E271=\"Not Available\",\"\",VLOOKUP(E271,'Prices Furniture'!A:F,5,FALSE)*(1-$S$3))","v":10},"",{"$f":"VLOOKUP(A271,Codes!$B:$AP,'Data Validation Lists'!$B$1+2,FALSE)","v":"LK-HD-932"},null,null,null,null,null,null,null,null,null,null,null,null,"Furniture",null,{"$f":"IF(B271=\"\",\"\",SUM(D271/1.2)*(1-$S$2)/(1-$S$3))","v":""}]
["H933 Satin Nickel D Handle",null,{"$f":"IF($E272=\"Not Available\",\"\",VLOOKUP(E272,'Prices Furniture'!A:F,5,FALSE)*(1-$S$3))","v":13},"",{"$f":"VLOOKUP(A272,Codes!$B:$AP,'Data Validation Lists'!$B$1+2,FALSE)","v":"LK-HD-933"},null,null,null,null,null,null,null,null,null,null,null,null,"Furniture",null,""]
["H941 Chrome D Handle",null,{"$f":"IF($E273=\"Not Available\",\"\",VLOOKUP(E273,'Prices Furniture'!A:F,5,FALSE)*(1-$S$3))","v":16},"",{"$f":"VLOOKUP(A273,Codes!$B:$AP,'Data Validation Lists'!$B$1+2,FALSE)","v":"LK-HD-941"},null,null,null,null,null,null,null,null,null,null,null,null,"Furniture",null,""]
["H942 Antique Effect D Handle",null,{"$f":"IF($E274=\"Not Available\",\"\",VLOOKUP(E274,'Prices Furniture'!A:F,5,FALSE)*(1-$S$3))","v":10},"",{"$f":"VLOOKUP(A274,Codes!$B:$AP,'Data Validation Lists'!$B$1+2,FALSE)","v":"LK-HD-942"},null,null,null,null,null,null,null,null,null,null,null,null,"Furniture",null,""]
["H943 Antique Effect Cup Handle",null,{"$f":"IF($E275=\"Not Available\",\"\",VLOOKUP(E275,'Prices Furniture'!A:F,5,FALSE)*(1-$S$3))","v":10},"",{"$f":"VLOOKUP(A275,Codes!$B:$AP,'Data Validation Lists'!$B$1+2,FALSE)","v":"LK-HD-943"},null,null,null,null,null,null,null,null,null,null,null,null,"Furniture",null,""]
["H947 Chrome D Handle",null,{"$f":"IF($E276=\"Not Available\",\"\",VLOOKUP(E276,'Prices Furniture'!A:F,5,FALSE)*(1-$S$3))","v":17},"",{"$f":"VLOOKUP(A276,Codes!$B:$AP,'Data Validation Lists'!$B$1+2,FALSE)","v":"LK-HD-947"},null,null,null,null,null,null,null,null,null,null,null,null,"Furniture",null,""]
["H962 Copper Angular Handle",null,{"$f":"IF($E277=\"Not Available\",\"\",VLOOKUP(E277,'Prices Furniture'!A:F,5,FALSE)*(1-$S$3))","v":24},"",{"$f":"VLOOKUP(A277,Codes!$B:$AP,'Data Validation Lists'!$B$1+2,FALSE)","v":"LK-HD-962"},null,null,null,null,null,null,null,null,null,null,null,null,"Furniture",null,""]
["H1032 Satin Brass 16mm Curved End Handle",null,{"$f":"IF($E278=\"Not Available\",\"\",VLOOKUP(E278,'Prices Furniture'!A:F,5,FALSE)*(1-$S$3))","v":23},"",{"$f":"VLOOKUP(A278,Codes!$B:$AP,'Data Validation Lists'!$B$1+2,FALSE)","v":"LK-HD-1032"},null,null,null,null,null,null,null,null,null,null,null,null,"Furniture",null,""]
["H1033 Satin Brass 9mm Slim D Handle",null,{"$f":"IF($E279=\"Not Available\",\"\",VLOOKUP(E279,'Prices Furniture'!A:F,5,FALSE)*(1-$S$3))","v":16},"",{"$f":"VLOOKUP(A279,Codes!$B:$AP,'Data Validation Lists'!$B$1+2,FALSE)","v":"LK-HD-1033"},null,null,null,null,null,null,null,null,null,null,null,null,"Furniture",null,""]
["H1038 Chocolate 26mm Flared D Handle",null,{"$f":"IF($E280=\"Not Available\",\"\",VLOOKUP(E280,'Prices Furniture'!A:F,5,FALSE)*(1-$S$3))","v":23},"",{"$f":"VLOOKUP(A280,Codes!$B:$AP,'Data Validation Lists'!$B$1+2,FALSE)","v":"LK-HD-1038"},null,null,null,null,null,null,null,null,null,null,null,null,"Furniture",null,""]
["H1039 Graphite 26mm Flared D Handle",null,{"$f":"IF($E281=\"Not Available\",\"\",VLOOKUP(E281,'Prices Furniture'!A:F,5,FALSE)*(1-$S$3))","v":23},"",{"$f":"VLOOKUP(A281,Codes!$B:$AP,'Data Validation Lists'!$B$1+2,FALSE)","v":"LK-HD-1039"},null,null,null,null,null,null,null,null,null,null,null,null,"Furniture",null,""]
["H1040 Copper 26mm Flared D Handle",null,{"$f":"IF($E282=\"Not Available\",\"\",VLOOKUP(E282,'Prices Furniture'!A:F,5,FALSE)*(1-$S$3))","v":23},"",{"$f":"VLOOKUP(A282,Codes!$B:$AP,'Data Validation Lists'!$B$1+2,FALSE)","v":"LK-HD-1040"},null,null,null,null,null,null,null,null,null,null,null,null,"Furniture",null,""]
["H1043 Satin Brass Round Knob",null,{"$f":"IF($E283=\"Not Available\",\"\",VLOOKUP(E283,'Prices Furniture'!A:F,5,FALSE)*(1-$S$3))","v":15},"",{"$f":"VLOOKUP(A283,Codes!$B:$AP,'Data Validation Lists'!$B$1+2,FALSE)","v":"LK-HD-1043"},null,null,null,null,null,null,null,null,null,null,null,null,"Furniture",null,""]
["H1044 Satin Brass Cup Handle",null,{"$f":"IF($E284=\"Not Available\",\"\",VLOOKUP(E284,'Prices Furniture'!A:F,5,FALSE)*(1-$S$3))","v":17},"",{"$f":"VLOOKUP(A284,Codes!$B:$AP,'Data Validation Lists'!$B$1+2,FALSE)","v":"LK-HD-1044"},null,null,null,null,null,null,null,null,null,null,null,null,"Furniture",null,""]
["H1045 Brushed Copper Cup Handle",null,{"$f":"IF($E285=\"Not Available\",\"\",VLOOKUP(E285,'Prices Furniture'!A:F,5,FALSE)*(1-$S$3))","v":23},"",{"$f":"VLOOKUP(A285,Codes!$B:$AP,'Data Validation Lists'!$B$1+2,FALSE)","v":"LK-HD-1045"},null,null,null,null,null,null,null,null,null,null,null,null,"Furniture",null,""]
["H1046 Brushed Copper Knob",null,{"$f":"IF($E286=\"Not Available\",\"\",VLOOKUP(E286,'Prices Furniture'!A:F,5,FALSE)*(1-$S$3))","v":17},"",{"$f":"VLOOKUP(A286,Codes!$B:$AP,'Data Validation Lists'!$B$1+2,FALSE)","v":"LK-HD-1046"},null,null,null,null,null,null,null,null,null,null,null,null,"Furniture",null,""]
["H1047 Brushed Satin Cup",null,{"$f":"IF($E287=\"Not Available\",\"\",VLOOKUP(E287,'Prices Furniture'!A:F,5,FALSE)*(1-$S$3))","v":26},{"$f":"IF(B287=\"\",\"\",B287*C287)","v":""},{"$f":"VLOOKUP(A287,Codes!$B:$AP,'Data Validation Lists'!$B$1+2,FALSE)","v":"LK-HD-1047"},null,null,null,null,null,null,null,null,null,null,null,null,"Furniture",null,""]
["H1048 Brushed Satin Knob",null,{"$f":"IF($E288=\"Not Available\",\"\",VLOOKUP(E288,'Prices Furniture'!A:F,5,FALSE)*(1-$S$3))","v":18},"",{"$f":"VLOOKUP(A288,Codes!$B:$AP,'Data Validation Lists'!$B$1+2,FALSE)","v":"LK-HD-1048"},null,null,null,null,null,null,null,null,null,null,null,null,"Furniture",null,""]
["H1049 Black Nickel Cup",null,{"$f":"IF($E289=\"Not Available\",\"\",VLOOKUP(E289,'Prices Furniture'!A:F,5,FALSE)*(1-$S$3))","v":23},"",{"$f":"VLOOKUP(A289,Codes!$B:$AP,'Data Validation Lists'!$B$1+2,FALSE)","v":"LK-HD-1049"},null,null,null,null,null,null,null,null,null,null,null,null,"Furniture",null,""]
["H1050 Black Nickel Knob",null,{"$f":"IF($E290=\"Not Available\",\"\",VLOOKUP(E290,'Prices Furniture'!A:F,5,FALSE)*(1-$S$3))","v":17},"",{"$f":"VLOOKUP(A290,Codes!$B:$AP,'Data Validation Lists'!$B$1+2,FALSE)","v":"LK-HD-1050"},null,null,null,null,null,null,null,null,null,null,null,null,"Furniture",null,""]
["H1051 American Coppe Cup",null,{"$f":"IF($E291=\"Not Available\",\"\",VLOOKUP(E291,'Prices Furniture'!A:F,5,FALSE)*(1-$S$3))","v":24},"",{"$f":"VLOOKUP(A291,Codes!$B:$AP,'Data Validation Lists'!$B$1+2,FALSE)","v":"LK-HD-1051"},null,null,null,null,null,null,null,null,null,null,null,null,"Furniture",null,""]
["H1052 American Coppe Knob",null,{"$f":"IF($E292=\"Not Available\",\"\",VLOOKUP(E292,'Prices Furniture'!A:F,5,FALSE)*(1-$S$3))","v":18},"",{"$f":"VLOOKUP(A292,Codes!$B:$AP,'Data Validation Lists'!$B$1+2,FALSE)","v":"LK-HD-1052"},null,null,null,null,null,null,null,null,null,null,null,null,"Furniture",null,""]
["H1053 American Coppe Cup",null,{"$f":"IF($E293=\"Not Available\",\"\",VLOOKUP(E293,'Prices Furniture'!A:F,5,FALSE)*(1-$S$3))","v":37},"",{"$f":"VLOOKUP(A293,Codes!$B:$AP,'Data Validation Lists'!$B$1+2,FALSE)","v":"LK-HD-1053"},null,null,null,null,null,null,null,null,null,null,null,null,"Furniture",null,""]
["H1054 American Coppe Knob",null,{"$f":"IF($E294=\"Not Available\",\"\",VLOOKUP(E294,'Prices Furniture'!A:F,5,FALSE)*(1-$S$3))","v":27},"",{"$f":"VLOOKUP(A294,Codes!$B:$AP,'Data Validation Lists'!$B$1+2,FALSE)","v":"LK-HD-1054"},null,null,null,null,null,null,null,null,null,null,null,null,"Furniture",null,""]
["H1055 Black Nickel Cup",null,{"$f":"IF($E295=\"Not Available\",\"\",VLOOKUP(E295,'Prices Furniture'!A:F,5,FALSE)*(1-$S$3))","v":36},"",{"$f":"VLOOKUP(A295,Codes!$B:$AP,'Data Validation Lists'!$B$1+2,FALSE)","v":"LK-HD-1055"},null,null,null,null,null,null,null,null,null,null,null,null,"Furniture",null,""]
["H1056 Black Nickel Knob",null,{"$f":"IF($E296=\"Not Available\",\"\",VLOOKUP(E296,'Prices Furniture'!A:F,5,FALSE)*(1-$S$3))","v":28},"",{"$f":"VLOOKUP(A296,Codes!$B:$AP,'Data Validation Lists'!$B$1+2,FALSE)","v":"LK-HD-1056"},null,null,null,null,null,null,null,null,null,null,null,null,"Furniture",null,""]
["H1057 Brushed Satin Cup",null,{"$f":"IF($E297=\"Not Available\",\"\",VLOOKUP(E297,'Prices Furniture'!A:F,5,FALSE)*(1-$S$3))","v":35},"",{"$f":"VLOOKUP(A297,Codes!$B:$AP,'Data Validation Lists'!$B$1+2,FALSE)","v":"LK-HD-1057"},null,null,null,null,null,null,null,null,null,null,null,null,"Furniture",null,""]
["H1058 Brushed Satin Knob",null,{"$f":"IF($E298=\"Not Available\",\"\",VLOOKUP(E298,'Prices Furniture'!A:F,5,FALSE)*(1-$S$3))","v":27},"",{"$f":"VLOOKUP(A298,Codes!$B:$AP,'Data Validation Lists'!$B$1+2,FALSE)","v":"LK-HD-1058"},null,null,null,null,null,null,null,null,null,null,null,null,"Furniture",null,""]
["H1059 Brushed Satin Pull",null,{"$f":"IF($E299=\"Not Available\",\"\",VLOOKUP(E299,'Prices Furniture'!A:F,5,FALSE)*(1-$S$3))","v":19},"",{"$f":"VLOOKUP(A299,Codes!$B:$AP,'Data Validation Lists'!$B$1+2,FALSE)","v":"LK-HD-1059"},null,null,null,null,null,null,null,null,null,null,null,null,"Furniture",null,""]
["H1060 Brushed Satin Knob",null,{"$f":"IF($E300=\"Not Available\",\"\",VLOOKUP(E300,'Prices Furniture'!A:F,5,FALSE)*(1-$S$3))","v":16},"",{"$f":"VLOOKUP(A300,Codes!$B:$AP,'Data Validation Lists'!$B$1+2,FALSE)","v":"LK-HD-1060"},null,null,null,null,null,null,null,null,null,null,null,null,"Furniture",null,""]
["H1061 Chrome Pull",null,{"$f":"IF($E301=\"Not Available\",\"\",VLOOKUP(E301,'Prices Furniture'!A:F,5,FALSE)*(1-$S$3))","v":19},"",{"$f":"VLOOKUP(A301,Codes!$B:$AP,'Data Validation Lists'!$B$1+2,FALSE)","v":"LK-HD-1061"},null,null,null,null,null,null,null,null,null,null,null,null,"Furniture",null,""]
["H1062 Chrome Knob",null,{"$f":"IF($E302=\"Not Available\",\"\",VLOOKUP(E302,'Prices Furniture'!A:F,5,FALSE)*(1-$S$3))","v":16},"",{"$f":"VLOOKUP(A302,Codes!$B:$AP,'Data Validation Lists'!$B$1+2,FALSE)","v":"LK-HD-1062"},null,null,null,null,null,null,null,null,null,null,null,null,"Furniture",null,""]
["H1065 St Steel Bar Handle",null,{"$f":"IF($E303=\"Not Available\",\"\",VLOOKUP(E303,'Prices Furniture'!A:F,5,FALSE)*(1-$S$3))","v":14},"",{"$f":"VLOOKUP(A303,Codes!$B:$AP,'Data Validation Lists'!$B$1+2,FALSE)","v":"LK-HD-1065"},null,null,null,null,null,null,null,null,null,null,null,null,"Furniture",null,{"$f":"IF(B303=\"\",\"\",SUM(D303/1.2)*(1-$S$2)/(1-$S$3))","v":""}]
["H1066 St Steel / Rose Gold Bar Handle",null,{"$f":"IF($E304=\"Not Available\",\"\",VLOOKUP(E304,'Prices Furniture'!A:F,5,FALSE)*(1-$S$3))","v":15},"",{"$f":"VLOOKUP(A304,Codes!$B:$AP,'Data Validation Lists'!$B$1+2,FALSE)","v":"LK-HD-1066"},null,null,null,null,null,null,null,null,null,null,null,null,"Furniture",null,""]
["H1067 Black Bar Handle",null,{"$f":"IF($E305=\"Not Available\",\"\",VLOOKUP(E305,'Prices Furniture'!A:F,5,FALSE)*(1-$S$3))","v":15},"",{"$f":"VLOOKUP(A305,Codes!$B:$AP,'Data Validation Lists'!$B$1+2,FALSE)","v":"LK-HD-1067"},null,null,null,null,null,null,null,null,null,null,null,null,"Furniture",null,""]
["H1070 Matt Black Short Rear Fix Handle",null,{"$f":"IF($E306=\"Not Available\",\"\",VLOOKUP(E306,'Prices Furniture'!A:F,5,FALSE)*(1-$S$3))","v":11},{"$f":"IF(B306=\"\",\"\",B306*C306)","v":""},{"$f":"VLOOKUP(A306,Codes!$B:$AP,'Data Validation Lists'!$B$1+2,FALSE)","v":"LK-HD-1070"},null,null,null,null,null,null,null,null,null,null,null,null,"Furniture",null,""]
["H1071 Matt Black Long Rear Fix Handle",null,{"$f":"IF($E307=\"Not Available\",\"\",VLOOKUP(E307,'Prices Furniture'!A:F,5,FALSE)*(1-$S$3))","v":13},"",{"$f":"VLOOKUP(A307,Codes!$B:$AP,'Data Validation Lists'!$B$1+2,FALSE)","v":"LK-HD-1071"},null,null,null,null,null,null,null,null,null,null,null,null,"Furniture",null,""]
["H1072 Brushed Gold Short Rear Fix Handle",null,{"$f":"IF($E308=\"Not Available\",\"\",VLOOKUP(E308,'Prices Furniture'!A:F,5,FALSE)*(1-$S$3))","v":11},"",{"$f":"VLOOKUP(A308,Codes!$B:$AP,'Data Validation Lists'!$B$1+2,FALSE)","v":"LK-HD-1072"},null,null,null,null,null,null,null,null,null,null,null,null,"Furniture",null,""]
["H1073 Brushed Gold Long Rear Fix Handle",null,{"$f":"IF($E309=\"Not Available\",\"\",VLOOKUP(E309,'Prices Furniture'!A:F,5,FALSE)*(1-$S$3))","v":13},"",{"$f":"VLOOKUP(A309,Codes!$B:$AP,'Data Validation Lists'!$B$1+2,FALSE)","v":"LK-HD-1073"},null,null,null,null,null,null,null,null,null,null,null,null,"Furniture",null,""]
["H1074 Matt Black Ocean IX Recycled Plastic D Handle",null,{"$f":"IF($E310=\"Not Available\",\"\",VLOOKUP(E310,'Prices Furniture'!A:F,5,FALSE)*(1-$S$3))","v":15},"",{"$f":"VLOOKUP(A310,Codes!$B:$AP,'Data Validation Lists'!$B$1+2,FALSE)","v":"LK-HD-1074"},null,null,null,null,null,null,null,null,null,null,null,null,"Furniture",null,""]
["H1075 Matt Black Ocean IX Recycled Plastic Knob",null,{"$f":"IF($E311=\"Not Available\",\"\",VLOOKUP(E311,'Prices Furniture'!A:F,5,FALSE)*(1-$S$3))","v":15},"",{"$f":"VLOOKUP(A311,Codes!$B:$AP,'Data Validation Lists'!$B$1+2,FALSE)","v":"LK-HD-1075"},null,null,null,null,null,null,null,null,null,null,null,null,"Furniture",null,""]
["H1076 Matt Black Knurled Knob",null,{"$f":"IF($E312=\"Not Available\",\"\",VLOOKUP(E312,'Prices Furniture'!A:F,5,FALSE)*(1-$S$3))","v":10},"",{"$f":"VLOOKUP(A312,Codes!$B:$AP,'Data Validation Lists'!$B$1+2,FALSE)","v":"LK-HD-1076"},null,null,null,null,null,null,null,null,null,null,null,null,"Furniture",null,""]
["H1077 Matt Black Knurled D Handle",null,{"$f":"IF($E313=\"Not Available\",\"\",VLOOKUP(E313,'Prices Furniture'!A:F,5,FALSE)*(1-$S$3))","v":14},"",{"$f":"VLOOKUP(A313,Codes!$B:$AP,'Data Validation Lists'!$B$1+2,FALSE)","v":"LK-HD-1077"},null,null,null,null,null,null,null,null,null,null,null,null,"Furniture",null,""]
["H1078 Brushed Nickel Knurled Knob",null,{"$f":"IF($E314=\"Not Available\",\"\",VLOOKUP(E314,'Prices Furniture'!A:F,5,FALSE)*(1-$S$3))","v":10},"",{"$f":"VLOOKUP(A314,Codes!$B:$AP,'Data Validation Lists'!$B$1+2,FALSE)","v":"LK-HD-1078"},null,null,null,null,null,null,null,null,null,null,null,null,"Furniture",null,""]
["H1079 Brushed Nickel Knurled D Handle",null,{"$f":"IF($E315=\"Not Available\",\"\",VLOOKUP(E315,'Prices Furniture'!A:F,5,FALSE)*(1-$S$3))","v":14},"",{"$f":"VLOOKUP(A315,Codes!$B:$AP,'Data Validation Lists'!$B$1+2,FALSE)","v":"LK-HD-1079"},null,null,null,null,null,null,null,null,null,null,null,null,"Furniture",null,""]
["H1080 Matt Black Cup Handle",null,{"$f":"IF($E316=\"Not Available\",\"\",VLOOKUP(E316,'Prices Furniture'!A:F,5,FALSE)*(1-$S$3))","v":13},"",{"$f":"VLOOKUP(A316,Codes!$B:$AP,'Data Validation Lists'!$B$1+2,FALSE)","v":"LK-HD-1080"},null,null,null,null,null,null,null,null,null,null,null,null,"Furniture",null,""]
["H1081 Matt Black Knob",null,{"$f":"IF($E317=\"Not Available\",\"\",VLOOKUP(E317,'Prices Furniture'!A:F,5,FALSE)*(1-$S$3))","v":13},"",{"$f":"VLOOKUP(A317,Codes!$B:$AP,'Data Validation Lists'!$B$1+2,FALSE)","v":"LK-HD-1081"},null,null,null,null,null,null,null,null,null,null,null,null,"Furniture",null,""]
["H1082 Dark Brushed Brass Ribbed Bar Handle",null,{"$f":"IF($E318=\"Not Available\",\"\",VLOOKUP(E318,'Prices Furniture'!A:F,5,FALSE)*(1-$S$3))","v":35},"",{"$f":"VLOOKUP(A318,Codes!$B:$AP,'Data Validation Lists'!$B$1+2,FALSE)","v":"LK-HD-1082"},null,null,null,null,null,null,null,null,null,null,null,null,"Furniture",null,""]
["H1082B Dark Brushed Brass Ribbed Bar Handle & Back Plate",null,{"$f":"IF($E319=\"Not Available\",\"\",VLOOKUP(E319,'Prices Furniture'!A:F,5,FALSE)*(1-$S$3))","v":49},{"$f":"IF(B319=\"\",\"\",B319*C319)","v":""},{"$f":"VLOOKUP(A319,Codes!$B:$AP,'Data Validation Lists'!$B$1+2,FALSE)","v":"@LK-HD-1082B"},null,null,null,null,null,null,null,null,null,null,null,null,"Furniture",null,""]
["H1083 Dark Brushed Brass Ribbed Cup Handle",null,{"$f":"IF($E320=\"Not Available\",\"\",VLOOKUP(E320,'Prices Furniture'!A:F,5,FALSE)*(1-$S$3))","v":30},"",{"$f":"VLOOKUP(A320,Codes!$B:$AP,'Data Validation Lists'!$B$1+2,FALSE)","v":"LK-HD-1083"},null,null,null,null,null,null,null,null,null,null,null,null,"Furniture",null,""]
["H1084 Dark Brushed Brass Ribbed Knob",null,{"$f":"IF($E321=\"Not Available\",\"\",VLOOKUP(E321,'Prices Furniture'!A:F,5,FALSE)*(1-$S$3))","v":19},"",{"$f":"VLOOKUP(A321,Codes!$B:$AP,'Data Validation Lists'!$B$1+2,FALSE)","v":"LK-HD-1084"},null,null,null,null,null,null,null,null,null,null,null,null,"Furniture",null,""]
["H1084B Dark Brushed Brass Ribbed Knob & Back Plate",null,{"$f":"IF($E322=\"Not Available\",\"\",VLOOKUP(E322,'Prices Furniture'!A:F,5,FALSE)*(1-$S$3))","v":28},{"$f":"IF(B322=\"\",\"\",B322*C322)","v":""},{"$f":"VLOOKUP(A322,Codes!$B:$AP,'Data Validation Lists'!$B$1+2,FALSE)","v":"@LK-HD-1084B"},null,null,null,null,null,null,null,null,null,null,null,null,"Furniture",null,""]
["H1085 Dark Brushed Brass Ribbed Eclipse Handle",null,{"$f":"IF($E323=\"Not Available\",\"\",VLOOKUP(E323,'Prices Furniture'!A:F,5,FALSE)*(1-$S$3))","v":26},"",{"$f":"VLOOKUP(A323,Codes!$B:$AP,'Data Validation Lists'!$B$1+2,FALSE)","v":"LK-HD-1085"},null,null,null,null,null,null,null,null,null,null,null,null,"Furniture",null,""]
["H1086 Dark Brushed Brass Smooth Eclipse Handle",null,{"$f":"IF($E324=\"Not Available\",\"\",VLOOKUP(E324,'Prices Furniture'!A:F,5,FALSE)*(1-$S$3))","v":26},"",{"$f":"VLOOKUP(A324,Codes!$B:$AP,'Data Validation Lists'!$B$1+2,FALSE)","v":"LK-HD-1086"},null,null,null,null,null,null,null,null,null,null,null,null,"Furniture",null,""]
["H1087 Brushed Satin Brass Ribbed Bar Handle",null,{"$f":"IF($E325=\"Not Available\",\"\",VLOOKUP(E325,'Prices Furniture'!A:F,5,FALSE)*(1-$S$3))","v":35},"",{"$f":"VLOOKUP(A325,Codes!$B:$AP,'Data Validation Lists'!$B$1+2,FALSE)","v":"LK-HD-1087"},null,null,null,null,null,null,null,null,null,null,null,null,"Furniture",null,""]
["H1087B Brushed Satin Brass Ribbed Bar Handle & Back Plate",null,{"$f":"IF($E326=\"Not Available\",\"\",VLOOKUP(E326,'Prices Furniture'!A:F,5,FALSE)*(1-$S$3))","v":49},{"$f":"IF(B326=\"\",\"\",B326*C326)","v":""},{"$f":"VLOOKUP(A326,Codes!$B:$AP,'Data Validation Lists'!$B$1+2,FALSE)","v":"@LK-HD-1087B"},null,null,null,null,null,null,null,null,null,null,null,null,"Furniture",null,""]
["H1088 Brushed Satin Brass Ribbed Cup Handle",null,{"$f":"IF($E327=\"Not Available\",\"\",VLOOKUP(E327,'Prices Furniture'!A:F,5,FALSE)*(1-$S$3))","v":30},{"$f":"IF(B327=\"\",\"\",B327*C327)","v":""},{"$f":"VLOOKUP(A327,Codes!$B:$AP,'Data Validation Lists'!$B$1+2,FALSE)","v":"LK-HD-1088"},null,null,null,null,null,null,null,null,null,null,null,null,"Furniture",null,""]
["H1089 Brushed Satin Brass Ribbed Knob",null,{"$f":"IF($E328=\"Not Available\",\"\",VLOOKUP(E328,'Prices Furniture'!A:F,5,FALSE)*(1-$S$3))","v":19},"",{"$f":"VLOOKUP(A328,Codes!$B:$AP,'Data Validation Lists'!$B$1+2,FALSE)","v":"LK-HD-1089"},null,null,null,null,null,null,null,null,null,null,null,null,"Furniture",null,""]
["H1089B Brushed Satin Brass Ribbed Knob & Back Plate",null,{"$f":"IF($E329=\"Not Available\",\"\",VLOOKUP(E329,'Prices Furniture'!A:F,5,FALSE)*(1-$S$3))","v":28},{"$f":"IF(B329=\"\",\"\",B329*C329)","v":""},{"$f":"VLOOKUP(A329,Codes!$B:$AP,'Data Validation Lists'!$B$1+2,FALSE)","v":"@LK-HD-1089B"},null,null,null,null,null,null,null,null,null,null,null,null,"Furniture",null,""]
["H1090 Brushed Satin Brass Ribbed Eclipse Handle",null,{"$f":"IF($E330=\"Not Available\",\"\",VLOOKUP(E330,'Prices Furniture'!A:F,5,FALSE)*(1-$S$3))","v":26},"",{"$f":"VLOOKUP(A330,Codes!$B:$AP,'Data Validation Lists'!$B$1+2,FALSE)","v":"LK-HD-1090"},null,null,null,null,null,null,null,null,null,null,null,null,"Furniture",null,""]
["H1091 Brushed Satin Brass Smooth Eclipse Handle",null,{"$f":"IF($E331=\"Not Available\",\"\",VLOOKUP(E331,'Prices Furniture'!A:F,5,FALSE)*(1-$S$3))","v":26},"",{"$f":"VLOOKUP(A331,Codes!$B:$AP,'Data Validation Lists'!$B$1+2,FALSE)","v":"LK-HD-1091"},null,null,null,null,null,null,null,null,null,null,null,null,"Furniture",null,""]
["H1092 Matt Black Ribbed Bar Handle",null,{"$f":"IF($E332=\"Not Available\",\"\",VLOOKUP(E332,'Prices Furniture'!A:F,5,FALSE)*(1-$S$3))","v":35},"",{"$f":"VLOOKUP(A332,Codes!$B:$AP,'Data Validation Lists'!$B$1+2,FALSE)","v":"LK-HD-1092"},null,null,null,null,null,null,null,null,null,null,null,null,"Furniture",null,""]
["H1092B Matt Black Ribbed Bar Handle & Back Plate",null,{"$f":"IF($E333=\"Not Available\",\"\",VLOOKUP(E333,'Prices Furniture'!A:F,5,FALSE)*(1-$S$3))","v":49},{"$f":"IF(B333=\"\",\"\",B333*C333)","v":""},{"$f":"VLOOKUP(A333,Codes!$B:$AP,'Data Validation Lists'!$B$1+2,FALSE)","v":"@LK-HD-1092B"},null,null,null,null,null,null,null,null,null,null,null,null,"Furniture",null,{"$f":"IF(B333=\"\",\"\",SUM(D333/1.2)*(1-$S$2)/(1-$S$3))","v":""}]
["H1093 Matt Black Ribbed Cup Handle",null,{"$f":"IF($E334=\"Not Available\",\"\",VLOOKUP(E334,'Prices Furniture'!A:F,5,FALSE)*(1-$S$3))","v":30},"",{"$f":"VLOOKUP(A334,Codes!$B:$AP,'Data Validation Lists'!$B$1+2,FALSE)","v":"LK-HD-1093"},null,null,null,null,null,null,null,null,null,null,null,null,"Furniture",null,""]
["H1094 Matt Black Ribbed Knob",null,{"$f":"IF($E335=\"Not Available\",\"\",VLOOKUP(E335,'Prices Furniture'!A:F,5,FALSE)*(1-$S$3))","v":19},"",{"$f":"VLOOKUP(A335,Codes!$B:$AP,'Data Validation Lists'!$B$1+2,FALSE)","v":"LK-HD-1094"},null,null,null,null,null,null,null,null,null,null,null,null,"Furniture",null,""]
["H1094B Matt Black Ribbed Knob & Back Plate",null,{"$f":"IF($E336=\"Not Available\",\"\",VLOOKUP(E336,'Prices Furniture'!A:F,5,FALSE)*(1-$S$3))","v":28},{"$f":"IF(B336=\"\",\"\",B336*C336)","v":""},{"$f":"VLOOKUP(A336,Codes!$B:$AP,'Data Validation Lists'!$B$1+2,FALSE)","v":"@LK-HD-1094B"},null,null,null,null,null,null,null,null,null,null,null,null,"Furniture",null,""]
["H1095 Polished Nickel T-Bar Knob",null,{"$f":"IF($E337=\"Not Available\",\"\",VLOOKUP(E337,'Prices Furniture'!A:F,5,FALSE)*(1-$S$3))","v":17},"",{"$f":"VLOOKUP(A337,Codes!$B:$AP,'Data Validation Lists'!$B$1+2,FALSE)","v":"LK-HD-1095"},null,null,null,null,null,null,null,null,null,null,null,null,"Furniture",null,""]
["H1096 Polished Nickel Bar Handle",null,{"$f":"IF($E338=\"Not Available\",\"\",VLOOKUP(E338,'Prices Furniture'!A:F,5,FALSE)*(1-$S$3))","v":30},"",{"$f":"VLOOKUP(A338,Codes!$B:$AP,'Data Validation Lists'!$B$1+2,FALSE)","v":"LK-HD-1096"},null,null,null,null,null,null,null,null,null,null,null,null,"Furniture",null,""]
["H1097 Matt Black T-Bar Knob",null,{"$f":"IF($E339=\"Not Available\",\"\",VLOOKUP(E339,'Prices Furniture'!A:F,5,FALSE)*(1-$S$3))","v":17},"",{"$f":"VLOOKUP(A339,Codes!$B:$AP,'Data Validation Lists'!$B$1+2,FALSE)","v":"LK-HD-1097"},null,null,null,null,null,null,null,null,null,null,null,null,"Furniture",null,""]
["H1098 Matt Black Bar Handle",null,{"$f":"IF($E340=\"Not Available\",\"\",VLOOKUP(E340,'Prices Furniture'!A:F,5,FALSE)*(1-$S$3))","v":30},"",{"$f":"VLOOKUP(A340,Codes!$B:$AP,'Data Validation Lists'!$B$1+2,FALSE)","v":"LK-HD-1098"},null,null,null,null,null,null,null,null,null,null,null,null,"Furniture",null,""]
["H1099 Dark Brushed Brass T-Bar Knob",null,{"$f":"IF($E341=\"Not Available\",\"\",VLOOKUP(E341,'Prices Furniture'!A:F,5,FALSE)*(1-$S$3))","v":17},"",{"$f":"VLOOKUP(A341,Codes!$B:$AP,'Data Validation Lists'!$B$1+2,FALSE)","v":"LK-HD-1099"},null,null,null,null,null,null,null,null,null,null,null,null,"Furniture",null,""]
["H1100 Dark Brushed Brass Bar Handle",null,{"$f":"IF($E342=\"Not Available\",\"\",VLOOKUP(E342,'Prices Furniture'!A:F,5,FALSE)*(1-$S$3))","v":30},"",{"$f":"VLOOKUP(A342,Codes!$B:$AP,'Data Validation Lists'!$B$1+2,FALSE)","v":"LK-HD-1100"},null,null,null,null,null,null,null,null,null,null,null,null,"Furniture",null,""]
["H1101 American Bronze Round Knob Handle",null,{"$f":"IF($E343=\"Not Available\",\"\",VLOOKUP(E343,'Prices Furniture'!A:F,5,FALSE)*(1-$S$3))","v":18},{"$f":"IF(B343=\"\",\"\",B343*C343)","v":""},{"$f":"VLOOKUP(A343,Codes!$B:$AP,'Data Validation Lists'!$B$1+2,FALSE)","v":"LK-HD-H1101"},null,null,null,null,null,null,null,null,null,null,null,null,"Furniture",null,{"$f":"IF(B343=\"\",\"\",SUM(D343/1.2)*(1-$S$2)/(1-$S$3))","v":""}]
["H1102 American Bronze D Handle (with back plate)",null,{"$f":"IF($E344=\"Not Available\",\"\",VLOOKUP(E344,'Prices Furniture'!A:F,5,FALSE)*(1-$S$3))","v":32},"",{"$f":"VLOOKUP(A344,Codes!$B:$AP,'Data Validation Lists'!$B$1+2,FALSE)","v":"LK-HD-H1102"},null,null,null,null,null,null,null,null,null,null,null,null,"Furniture",null,""]
["H1103 Brushed Satin Brass Round Knob Handle",null,{"$f":"IF($E345=\"Not Available\",\"\",VLOOKUP(E345,'Prices Furniture'!A:F,5,FALSE)*(1-$S$3))","v":18},"",{"$f":"VLOOKUP(A345,Codes!$B:$AP,'Data Validation Lists'!$B$1+2,FALSE)","v":"LK-HD-H1103"},null,null,null,null,null,null,null,null,null,null,null,null,"Furniture",null,""]
["H1104 Brushed Satin Brass D Handle (with back plate)",null,{"$f":"IF($E346=\"Not Available\",\"\",VLOOKUP(E346,'Prices Furniture'!A:F,5,FALSE)*(1-$S$3))","v":32},"",{"$f":"VLOOKUP(A346,Codes!$B:$AP,'Data Validation Lists'!$B$1+2,FALSE)","v":"LK-HD-H1104"},null,null,null,null,null,null,null,null,null,null,null,null,"Furniture",null,""]
["H1105 American Bronze Bronze Square Knob Handle",null,{"$f":"IF($E347=\"Not Available\",\"\",VLOOKUP(E347,'Prices Furniture'!A:F,5,FALSE)*(1-$S$3))","v":12},"",{"$f":"VLOOKUP(A347,Codes!$B:$AP,'Data Validation Lists'!$B$1+2,FALSE)","v":"LK-HD-H1105"},null,null,null,null,null,null,null,null,null,null,null,null,"Furniture",null,""]
["H1106 American Bronze Curved D Handle",null,{"$f":"IF($E348=\"Not Available\",\"\",VLOOKUP(E348,'Prices Furniture'!A:F,5,FALSE)*(1-$S$3))","v":18},"",{"$f":"VLOOKUP(A348,Codes!$B:$AP,'Data Validation Lists'!$B$1+2,FALSE)","v":"LK-HD-H1106"},null,null,null,null,null,null,null,null,null,null,null,null,"Furniture",null,""]
["H1107 Satin Nickel Bronze Square Knob Handle",null,{"$f":"IF($E349=\"Not Available\",\"\",VLOOKUP(E349,'Prices Furniture'!A:F,5,FALSE)*(1-$S$3))","v":12},"",{"$f":"VLOOKUP(A349,Codes!$B:$AP,'Data Validation Lists'!$B$1+2,FALSE)","v":"LK-HD-H1107"},null,null,null,null,null,null,null,null,null,null,null,null,"Furniture",null,""]
["H1108 Satin Nickel Curved D Handle",null,{"$f":"IF($E350=\"Not Available\",\"\",VLOOKUP(E350,'Prices Furniture'!A:F,5,FALSE)*(1-$S$3))","v":18},"",{"$f":"VLOOKUP(A350,Codes!$B:$AP,'Data Validation Lists'!$B$1+2,FALSE)","v":"LK-HD-H1108"},null,null,null,null,null,null,null,null,null,null,null,null,"Furniture",null,""]
["Internal Drawers",null,null,null,null,null,null,null,null,null,null,null,null,null,null,null,null,"Furniture"]
[null,null,null,null,null,null,null,null,null,null,null,null,null,null,null,null,null,"Furniture"]
["300 Internal Drawer Box - Excel",null,{"$f":"IF($E353=\"Not Available\",\"\",VLOOKUP(E353,'Prices Furniture'!A:F,5,FALSE)*(1-$S$3))","v":143},{"$f":"IF(B353=\"\",\"\",B353*C353)","v":""},{"$f":"VLOOKUP(A353,Codes!$B:$AP,'Data Validation Lists'!$B$1+2,FALSE)","v":"@LK-ST-IDBEX3"},"**If going inside a doored unit, hinges must be changed to 155°",null,null,null,null,null,null,null,null,null,null,null,"Furniture",null,{"$f":"IF(B353=\"\",\"\",SUM(D353/1.2)*(1-$S$2)/(1-$S$3))","v":""}]
["400 Internal Drawer Box - Excel",null,{"$f":"IF($E354=\"Not Available\",\"\",VLOOKUP(E354,'Prices Furniture'!A:F,5,FALSE)*(1-$S$3))","v":155},"",{"$f":"VLOOKUP(A354,Codes!$B:$AP,'Data Validation Lists'!$B$1+2,FALSE)","v":"@LK-ST-IDBEX4"},"**If going inside a doored unit, hinges must be changed to 155°",null,null,null,null,null,null,null,null,null,null,null,"Furniture",null,""]
["500 Internal Drawer Box - Excel",null,{"$f":"IF($E355=\"Not Available\",\"\",VLOOKUP(E355,'Prices Furniture'!A:F,5,FALSE)*(1-$S$3))","v":168},"",{"$f":"VLOOKUP(A355,Codes!$B:$AP,'Data Validation Lists'!$B$1+2,FALSE)","v":"@LK-ST-IDBEX5"},"**If going inside a doored unit, hinges must be changed to 155°",null,null,null,null,null,null,null,null,null,null,null,"Furniture",null,""]
["600 Internal Drawer Box - Excel",null,{"$f":"IF($E356=\"Not Available\",\"\",VLOOKUP(E356,'Prices Furniture'!A:F,5,FALSE)*(1-$S$3))","v":176},"",{"$f":"VLOOKUP(A356,Codes!$B:$AP,'Data Validation Lists'!$B$1+2,FALSE)","v":"@LK-ST-IDBEX6"},"**If going inside a doored unit, hinges must be changed to 155°",null,null,null,null,null,null,null,null,null,null,null,"Furniture",null,""]
["800 Internal Drawer Box - Excel",null,{"$f":"IF($E357=\"Not Available\",\"\",VLOOKUP(E357,'Prices Furniture'!A:F,5,FALSE)*(1-$S$3))","v":193},"",{"$f":"VLOOKUP(A357,Codes!$B:$AP,'Data Validation Lists'!$B$1+2,FALSE)","v":"@LK-ST-IDBEX8"},"**If going inside a doored unit, hinges must be changed to 155°",null,null,null,null,null,null,null,null,null,null,null,"Furniture",null,""]
["900 Internal Drawer Box - Excel",null,{"$f":"IF($E358=\"Not Available\",\"\",VLOOKUP(E358,'Prices Furniture'!A:F,5,FALSE)*(1-$S$3))","v":201},"",{"$f":"VLOOKUP(A358,Codes!$B:$AP,'Data Validation Lists'!$B$1+2,FALSE)","v":"@LK-ST-IDBEX9"},"**If going inside a doored unit, hinges must be changed to 155°",null,null,null,null,null,null,null,null,null,null,null,"Furniture",null,""]
["1000 Internal Drawer Box - Excel",null,{"$f":"IF($E359=\"Not Available\",\"\",VLOOKUP(E359,'Prices Furniture'!A:F,5,FALSE)*(1-$S$3))","v":206},"",{"$f":"VLOOKUP(A359,Codes!$B:$AP,'Data Validation Lists'!$B$1+2,FALSE)","v":"@LK-ST-IDBEX10"},"**If going inside a doored unit, hinges must be changed to 155°",null,null,null,null,null,null,null,null,null,null,null,"Furniture",null,""]
["300 Internal Larder Drawer - Excel",null,{"$f":"IF($E360=\"Not Available\",\"\",VLOOKUP(E360,'Prices Furniture'!A:F,5,FALSE)*(1-$S$3))","v":157},"",{"$f":"VLOOKUP(A360,Codes!$B:$AP,'Data Validation Lists'!$B$1+2,FALSE)","v":"@LK-ST-IDBEX3PD"},"**If going inside a doored unit, hinges must be changed to 155°",null,null,null,null,null,null,null,null,null,null,null,"Furniture",null,""]
["500 Internal Larder Drawer - Excel",null,{"$f":"IF($E361=\"Not Available\",\"\",VLOOKUP(E361,'Prices Furniture'!A:F,5,FALSE)*(1-$S$3))","v":183},"",{"$f":"VLOOKUP(A361,Codes!$B:$AP,'Data Validation Lists'!$B$1+2,FALSE)","v":"@LK-ST-IDBEX5PD"},"**If going inside a doored unit, hinges must be changed to 155°",null,null,null,null,null,null,null,null,null,null,null,"Furniture",null,""]
["600 Internal Larder Drawer - Excel",null,{"$f":"IF($E362=\"Not Available\",\"\",VLOOKUP(E362,'Prices Furniture'!A:F,5,FALSE)*(1-$S$3))","v":196},"",{"$f":"VLOOKUP(A362,Codes!$B:$AP,'Data Validation Lists'!$B$1+2,FALSE)","v":"@LK-ST-IDBEX6PD"},"**If going inside a doored unit, hinges must be changed to 155°",null,null,null,null,null,null,null,null,null,null,null,"Furniture",null,""]
["Excel Plus 300 Glass drawer Box",null,{"$f":"IF($E363=\"Not Available\",\"\",VLOOKUP(E363,'Prices Furniture'!A:F,5,FALSE)*(1-$S$3))","v":203},"",{"$f":"VLOOKUP(A363,Codes!$B:$AP,'Data Validation Lists'!$B$1+2,FALSE)","v":"LK-DB-EXPG3"},"**If going inside a doored unit, hinges must be changed to 155°",null,null,null,null,null,null,null,null,null,null,null,"Furniture",null,""]
["Excel Plus 400 Glass drawer Box",null,{"$f":"IF($E364=\"Not Available\",\"\",VLOOKUP(E364,'Prices Furniture'!A:F,5,FALSE)*(1-$S$3))","v":219},"",{"$f":"VLOOKUP(A364,Codes!$B:$AP,'Data Validation Lists'!$B$1+2,FALSE)","v":"LK-DB-EXPG4"},"**If going inside a doored unit, hinges must be changed to 155°",null,null,null,null,null,null,null,null,null,null,null,"Furniture",null,""]
["Excel Plus 500 Glass drawer Box",null,{"$f":"IF($E365=\"Not Available\",\"\",VLOOKUP(E365,'Prices Furniture'!A:F,5,FALSE)*(1-$S$3))","v":219},"",{"$f":"VLOOKUP(A365,Codes!$B:$AP,'Data Validation Lists'!$B$1+2,FALSE)","v":"LK-DB-EXPG5"},"**If going inside a doored unit, hinges must be changed to 155°",null,null,null,null,null,null,null,null,null,null,null,"Furniture",null,""]
["Excel Plus 600 Glass drawer Box",null,{"$f":"IF($E366=\"Not Available\",\"\",VLOOKUP(E366,'Prices Furniture'!A:F,5,FALSE)*(1-$S$3))","v":238},{"$f":"IF(B366=\"\",\"\",B366*C366)","v":""},{"$f":"VLOOKUP(A366,Codes!$B:$AP,'Data Validation Lists'!$B$1+2,FALSE)","v":"LK-DB-EXPG6"},"**If going inside a doored unit, hinges must be changed to 155°",null,null,null,null,null,null,null,null,null,null,null,"Furniture",null,""]
["Excel Plus 800 Glass drawer Box",null,{"$f":"IF($E367=\"Not Available\",\"\",VLOOKUP(E367,'Prices Furniture'!A:F,5,FALSE)*(1-$S$3))","v":286},"",{"$f":"VLOOKUP(A367,Codes!$B:$AP,'Data Validation Lists'!$B$1+2,FALSE)","v":"LK-DB-EXPG8"},"**If going inside a doored unit, hinges must be changed to 155°",null,null,null,null,null,null,null,null,null,null,null,"Furniture",null,""]
["Excel Plus 900 Glass drawer Box",null,{"$f":"IF($E368=\"Not Available\",\"\",VLOOKUP(E368,'Prices Furniture'!A:F,5,FALSE)*(1-$S$3))","v":286},"",{"$f":"VLOOKUP(A368,Codes!$B:$AP,'Data Validation Lists'!$B$1+2,FALSE)","v":"LK-DB-EXPG9"},"**If going inside a doored unit, hinges must be changed to 155°",null,null,null,null,null,null,null,null,null,null,null,"Furniture",null,""]
["Excel Plus 1000 Glass drawer Box",null,{"$f":"IF($E369=\"Not Available\",\"\",VLOOKUP(E369,'Prices Furniture'!A:F,5,FALSE)*(1-$S$3))","v":304},"",{"$f":"VLOOKUP(A369,Codes!$B:$AP,'Data Validation Lists'!$B$1+2,FALSE)","v":"LK-DB-EXPG10"},"**If going inside a doored unit, hinges must be changed to 155°",null,null,null,null,null,null,null,null,null,null,null,"Furniture",null,""]
["Excel Plus 300 Glass pan drawer Box",null,{"$f":"IF($E370=\"Not Available\",\"\",VLOOKUP(E370,'Prices Furniture'!A:F,5,FALSE)*(1-$S$3))","v":320},"",{"$f":"VLOOKUP(A370,Codes!$B:$AP,'Data Validation Lists'!$B$1+2,FALSE)","v":"LK-DB-EXPG3PD"},"**If going inside a doored unit, hinges must be changed to 155°",null,null,null,null,null,null,null,null,null,null,null,"Furniture",null,""]
["Excel Plus 400 Glass pan drawer Box",null,{"$f":"IF($E371=\"Not Available\",\"\",VLOOKUP(E371,'Prices Furniture'!A:F,5,FALSE)*(1-$S$3))","v":338},"",{"$f":"VLOOKUP(A371,Codes!$B:$AP,'Data Validation Lists'!$B$1+2,FALSE)","v":"LK-DB-EXPG4PD"},"**If going inside a doored unit, hinges must be changed to 155°",null,null,null,null,null,null,null,null,null,null,null,"Furniture",null,""]
["Excel Plus 500 Glass pan drawer Box",null,{"$f":"IF($E372=\"Not Available\",\"\",VLOOKUP(E372,'Prices Furniture'!A:F,5,FALSE)*(1-$S$3))","v":338},"",{"$f":"VLOOKUP(A372,Codes!$B:$AP,'Data Validation Lists'!$B$1+2,FALSE)","v":"LK-DB-EXPG5PD"},"**If going inside a doored unit, hinges must be changed to 155°",null,null,null,null,null,null,null,null,null,null,null,"Furniture",null,""]
["Excel Plus 600 Glass pan drawer Box",null,{"$f":"IF($E373=\"Not Available\",\"\",VLOOKUP(E373,'Prices Furniture'!A:F,5,FALSE)*(1-$S$3))","v":352},"",{"$f":"VLOOKUP(A373,Codes!$B:$AP,'Data Validation Lists'!$B$1+2,FALSE)","v":"LK-DB-EXPG6PD"},"**If going inside a doored unit, hinges must be changed to 155°",null,null,null,null,null,null,null,null,null,null,null,"Furniture",null,""]
["Excel Plus 800 Glass pan drawer Box",null,{"$f":"IF($E374=\"Not Available\",\"\",VLOOKUP(E374,'Prices Furniture'!A:F,5,FALSE)*(1-$S$3))","v":405},"",{"$f":"VLOOKUP(A374,Codes!$B:$AP,'Data Validation Lists'!$B$1+2,FALSE)","v":"LK-DB-EXPG8PD"},"**If going inside a doored unit, hinges must be changed to 155°",null,null,null,null,null,null,null,null,null,null,null,"Furniture",null,""]
["Excel Plus 900 Glass pan drawer Box",null,{"$f":"IF($E375=\"Not Available\",\"\",VLOOKUP(E375,'Prices Furniture'!A:F,5,FALSE)*(1-$S$3))","v":422},"",{"$f":"VLOOKUP(A375,Codes!$B:$AP,'Data Validation Lists'!$B$1+2,FALSE)","v":"LK-DB-EXPG9PD"},"**If going inside a doored unit, hinges must be changed to 155°",null,null,null,null,null,null,null,null,null,null,null,"Furniture",null,""]
["Excel Plus 1000 Glass pan drawer Box",null,{"$f":"IF($E376=\"Not Available\",\"\",VLOOKUP(E376,'Prices Furniture'!A:F,5,FALSE)*(1-$S$3))","v":438},"",{"$f":"VLOOKUP(A376,Codes!$B:$AP,'Data Validation Lists'!$B$1+2,FALSE)","v":"LK-DB-EXPG10PD"},"**If going inside a doored unit, hinges must be changed to 155°",null,null,null,null,null,null,null,null,null,null,null,"Furniture",null,""]
["Excel Drawer Accessories",null,null,null,null,null,null,null,null,null,null,null,null,null,null,null,null,"Furniture"]
[null,null,null,null,null,null,null,null,null,null,null,null,null,null,null,null,null,"Furniture"]
["Adjustable Cut Tray 400 - 600mm 55698301",null,{"$f":"IF($E379=\"Not Available\",\"\",VLOOKUP(E379,'Prices Furniture'!A:F,5,FALSE)*(1-$S$3))","v":122},"",{"$f":"VLOOKUP(A379,Codes!$B:$AP,'Data Validation Lists'!$B$1+2,FALSE)","v":"LK-ST-CTEX4-6"},null,null,null,null,null,null,null,null,null,null,null,null,"Furniture",null,{"$f":"IF(B379=\"\",\"\",SUM(D379/1.2)*(1-$S$2)/(1-$S$3))","v":""}]
["Adjustable Cut Tray 800-1000mm 55698301",null,{"$f":"IF($E380=\"Not Available\",\"\",VLOOKUP(E380,'Prices Furniture'!A:F,5,FALSE)*(1-$S$3))","v":152},"",{"$f":"VLOOKUP(A380,Codes!$B:$AP,'Data Validation Lists'!$B$1+2,FALSE)","v":"LK-ST-CTEX8-10"},null,null,null,null,null,null,null,null,null,null,null,null,"Furniture",null,""]
["400mm Excel Cutlery Tray",null,{"$f":"IF($E381=\"Not Available\",\"\",VLOOKUP(E381,'Prices Furniture'!A:F,5,FALSE)*(1-$S$3))","v":37},"",{"$f":"VLOOKUP(A381,Codes!$B:$AP,'Data Validation Lists'!$B$1+2,FALSE)","v":"LK-ST-CT4-GG"},null,null,null,null,null,null,null,null,null,null,null,null,"Furniture",null,""]
["500mm Excel Cutlery Tray",null,{"$f":"IF($E382=\"Not Available\",\"\",VLOOKUP(E382,'Prices Furniture'!A:F,5,FALSE)*(1-$S$3))","v":37},"",{"$f":"VLOOKUP(A382,Codes!$B:$AP,'Data Validation Lists'!$B$1+2,FALSE)","v":"LK-ST-CT5-GG"},null,null,null,null,null,null,null,null,null,null,null,null,"Furniture",null,""]
["600mm Excel Cutlery Tray",null,{"$f":"IF($E383=\"Not Available\",\"\",VLOOKUP(E383,'Prices Furniture'!A:F,5,FALSE)*(1-$S$3))","v":37},"",{"$f":"VLOOKUP(A383,Codes!$B:$AP,'Data Validation Lists'!$B$1+2,FALSE)","v":"LK-ST-CT6-GG"},null,null,null,null,null,null,null,null,null,null,null,null,"Furniture",null,""]
["800mm Excel Cutlery Tray",null,{"$f":"IF($E384=\"Not Available\",\"\",VLOOKUP(E384,'Prices Furniture'!A:F,5,FALSE)*(1-$S$3))","v":37},"",{"$f":"VLOOKUP(A384,Codes!$B:$AP,'Data Validation Lists'!$B$1+2,FALSE)","v":"LK-ST-CT8-GG"},null,null,null,null,null,null,null,null,null,null,null,null,"Furniture",null,""]
["900mm Excel Cutlery Tray",null,{"$f":"IF($E385=\"Not Available\",\"\",VLOOKUP(E385,'Prices Furniture'!A:F,5,FALSE)*(1-$S$3))","v":37},"",{"$f":"VLOOKUP(A385,Codes!$B:$AP,'Data Validation Lists'!$B$1+2,FALSE)","v":"LK-ST-CT9-GG"},null,null,null,null,null,null,null,null,null,null,null,null,"Furniture",null,""]
["1000mm Excel Cutlery Tray",null,{"$f":"IF($E386=\"Not Available\",\"\",VLOOKUP(E386,'Prices Furniture'!A:F,5,FALSE)*(1-$S$3))","v":37},"",{"$f":"VLOOKUP(A386,Codes!$B:$AP,'Data Validation Lists'!$B$1+2,FALSE)","v":"LK-ST-CT10-GG"},null,null,null,null,null,null,null,null,null,null,null,null,"Furniture",null,""]
["Foil and Film Beech Cutlery Tray Insert",null,{"$f":"IF($E387=\"Not Available\",\"\",VLOOKUP(E387,'Prices Furniture'!A:F,5,FALSE)*(1-$S$3))","v":101},{"$f":"IF(B387=\"\",\"\",B387*C387)","v":""},{"$f":"VLOOKUP(A387,Codes!$B:$AP,'Data Validation Lists'!$B$1+2,FALSE)","v":"LK-ST-CTIFILM"},null,null,null,null,null,null,null,null,null,null,null,null,"Furniture",null,""]
["Knife Block Beech Cutlery Tray Insert",null,{"$f":"IF($E388=\"Not Available\",\"\",VLOOKUP(E388,'Prices Furniture'!A:F,5,FALSE)*(1-$S$3))","v":101},"",{"$f":"VLOOKUP(A388,Codes!$B:$AP,'Data Validation Lists'!$B$1+2,FALSE)","v":"LK-ST-CTIKNIFE"},null,null,null,null,null,null,null,null,null,null,null,null,"Furniture",null,""]
["Spice Holder Beech Cutlery Tray Insert",null,{"$f":"IF($E389=\"Not Available\",\"\",VLOOKUP(E389,'Prices Furniture'!A:F,5,FALSE)*(1-$S$3))","v":101},"",{"$f":"VLOOKUP(A389,Codes!$B:$AP,'Data Validation Lists'!$B$1+2,FALSE)","v":"LK-ST-CTISPICE"},null,null,null,null,null,null,null,null,null,null,null,null,"Furniture",null,""]
["Chopping Board Beech Cutlery Tray Insert",null,{"$f":"IF($E390=\"Not Available\",\"\",VLOOKUP(E390,'Prices Furniture'!A:F,5,FALSE)*(1-$S$3))","v":101},"",{"$f":"VLOOKUP(A390,Codes!$B:$AP,'Data Validation Lists'!$B$1+2,FALSE)","v":"LK-ST-CTICHOP"},null,null,null,null,null,null,null,null,null,null,null,null,"Furniture",null,""]
["500 Beech Cutlery Tray Excel",null,{"$f":"IF($E391=\"Not Available\",\"\",VLOOKUP(E391,'Prices Furniture'!A:F,5,FALSE)*(1-$S$3))","v":180},"",{"$f":"VLOOKUP(A391,Codes!$B:$AP,'Data Validation Lists'!$B$1+2,FALSE)","v":"LK-ST-CT5-BH"},null,null,null,null,null,null,null,null,null,null,null,null,"Furniture",null,""]
["600 Beech Cutlery Tray Excel",null,{"$f":"IF($E392=\"Not Available\",\"\",VLOOKUP(E392,'Prices Furniture'!A:F,5,FALSE)*(1-$S$3))","v":205},"",{"$f":"VLOOKUP(A392,Codes!$B:$AP,'Data Validation Lists'!$B$1+2,FALSE)","v":"LK-ST-CT6-BH"},null,null,null,null,null,null,null,null,null,null,null,null,"Furniture",null,""]
["800mm Beech Cutlery Tray Excel",null,{"$f":"IF($E393=\"Not Available\",\"\",VLOOKUP(E393,'Prices Furniture'!A:F,5,FALSE)*(1-$S$3))","v":246},"",{"$f":"VLOOKUP(A393,Codes!$B:$AP,'Data Validation Lists'!$B$1+2,FALSE)","v":"LK-ST-CT8-BH"},null,null,null,null,null,null,null,null,null,null,null,null,"Furniture",null,""]
["900 Beech Cutlery Tray Excel",null,{"$f":"IF($E394=\"Not Available\",\"\",VLOOKUP(E394,'Prices Furniture'!A:F,5,FALSE)*(1-$S$3))","v":266},"",{"$f":"VLOOKUP(A394,Codes!$B:$AP,'Data Validation Lists'!$B$1+2,FALSE)","v":"LK-ST-CT9-BH"},null,null,null,null,null,null,null,null,null,null,null,null,"Furniture",null,""]
["1000mm Beech Cutlery Tray Excel",null,{"$f":"IF($E395=\"Not Available\",\"\",VLOOKUP(E395,'Prices Furniture'!A:F,5,FALSE)*(1-$S$3))","v":297},"",{"$f":"VLOOKUP(A395,Codes!$B:$AP,'Data Validation Lists'!$B$1+2,FALSE)","v":"LK-ST-CT10-BH"},null,null,null,null,null,null,null,null,null,null,null,null,"Furniture",null,""]
["500 Beech Cutlery Tray Excel Internal",null,{"$f":"IF($E396=\"Not Available\",\"\",VLOOKUP(E396,'Prices Furniture'!A:F,5,FALSE)*(1-$S$3))","v":180},{"$f":"IF(B396=\"\",\"\",B396*C396)","v":""},{"$f":"VLOOKUP(A396,Codes!$B:$AP,'Data Validation Lists'!$B$1+2,FALSE)","v":"LK-ST-CT5-BHI"},null,null,null,null,null,null,null,null,null,null,null,null,"Furniture",null,""]
["600 Beech Cutlery Tray Excel Internal",null,{"$f":"IF($E397=\"Not Available\",\"\",VLOOKUP(E397,'Prices Furniture'!A:F,5,FALSE)*(1-$S$3))","v":205},"",{"$f":"VLOOKUP(A397,Codes!$B:$AP,'Data Validation Lists'!$B$1+2,FALSE)","v":"LK-ST-CT6-BHI"},null,null,null,null,null,null,null,null,null,null,null,null,"Furniture",null,""]
["800mm Beech Cutlery Tray Excel Internal",null,{"$f":"IF($E398=\"Not Available\",\"\",VLOOKUP(E398,'Prices Furniture'!A:F,5,FALSE)*(1-$S$3))","v":246},"",{"$f":"VLOOKUP(A398,Codes!$B:$AP,'Data Validation Lists'!$B$1+2,FALSE)","v":"LK-ST-CT8-BHI"},null,null,null,null,null,null,null,null,null,null,null,null,"Furniture",null,""]
["900 Beech Cutlery Tray Excel Internal",null,{"$f":"IF($E399=\"Not Available\",\"\",VLOOKUP(E399,'Prices Furniture'!A:F,5,FALSE)*(1-$S$3))","v":266},"",{"$f":"VLOOKUP(A399,Codes!$B:$AP,'Data Validation Lists'!$B$1+2,FALSE)","v":"LK-ST-CT9-BHI"},null,null,null,null,null,null,null,null,null,null,null,null,"Furniture",null,""]
["1000mm Beech Cutlery Tray Excel Internal",null,{"$f":"IF($E400=\"Not Available\",\"\",VLOOKUP(E400,'Prices Furniture'!A:F,5,FALSE)*(1-$S$3))","v":297},"",{"$f":"VLOOKUP(A400,Codes!$B:$AP,'Data Validation Lists'!$B$1+2,FALSE)","v":"LK-ST-CT10-BHI"},null,null,null,null,null,null,null,null,null,null,null,null,"Furniture",null,""]
["Excel Pan Drawer Glass Sides",null,{"$f":"IF($E401=\"Not Available\",\"\",VLOOKUP(E401,'Prices Furniture'!A:F,5,FALSE)*(1-$S$3))","v":65},"",{"$f":"VLOOKUP(A401,Codes!$B:$AP,'Data Validation Lists'!$B$1+2,FALSE)","v":"LK-ST-EXGPDS"},null,null,null,null,null,null,null,null,null,null,null,null,"Furniture",null,""]
["600 Plate Rack Insert Excel",null,{"$f":"IF($E402=\"Not Available\",\"\",VLOOKUP(E402,'Prices Furniture'!A:F,5,FALSE)*(1-$S$3))","v":195},"",{"$f":"VLOOKUP(A402,Codes!$B:$AP,'Data Validation Lists'!$B$1+2,FALSE)","v":"LK-ST-PR6-BH"},null,null,null,null,null,null,null,null,null,null,null,null,"Furniture",null,""]
["800 Plate Rack Insert Excel",null,{"$f":"IF($E403=\"Not Available\",\"\",VLOOKUP(E403,'Prices Furniture'!A:F,5,FALSE)*(1-$S$3))","v":230},"",{"$f":"VLOOKUP(A403,Codes!$B:$AP,'Data Validation Lists'!$B$1+2,FALSE)","v":"LK-ST-PR8-BH"},null,null,null,null,null,null,null,null,null,null,null,null,"Furniture",null,""]
["900 Plate Rack Insert Excel",null,{"$f":"IF($E404=\"Not Available\",\"\",VLOOKUP(E404,'Prices Furniture'!A:F,5,FALSE)*(1-$S$3))","v":257},"",{"$f":"VLOOKUP(A404,Codes!$B:$AP,'Data Validation Lists'!$B$1+2,FALSE)","v":"LK-ST-PR9-BH"},null,null,null,null,null,null,null,null,null,null,null,null,"Furniture",null,""]
["1000 Plate Rack Insert Excel",null,{"$f":"IF($E405=\"Not Available\",\"\",VLOOKUP(E405,'Prices Furniture'!A:F,5,FALSE)*(1-$S$3))","v":282},"",{"$f":"VLOOKUP(A405,Codes!$B:$AP,'Data Validation Lists'!$B$1+2,FALSE)","v":"LK-ST-PR10BH"},null,null,null,null,null,null,null,null,null,null,null,null,"Furniture",null,""]
["600 Pan & Plate Stack Insert Excel",null,{"$f":"IF($E406=\"Not Available\",\"\",VLOOKUP(E406,'Prices Furniture'!A:F,5,FALSE)*(1-$S$3))","v":246},"",{"$f":"VLOOKUP(A406,Codes!$B:$AP,'Data Validation Lists'!$B$1+2,FALSE)","v":"LK-ST-PS6-BH"},null,null,null,null,null,null,null,null,null,null,null,null,"Furniture",null,""]
["800 Pan & Plate Stack Insert Excel",null,{"$f":"IF($E407=\"Not Available\",\"\",VLOOKUP(E407,'Prices Furniture'!A:F,5,FALSE)*(1-$S$3))","v":286},"",{"$f":"VLOOKUP(A407,Codes!$B:$AP,'Data Validation Lists'!$B$1+2,FALSE)","v":"LK-ST-PS8-BH"},null,null,null,null,null,null,null,null,null,null,null,null,"Furniture",null,""]
["900 Pan & Plate Stack Insert Excel",null,{"$f":"IF($E408=\"Not Available\",\"\",VLOOKUP(E408,'Prices Furniture'!A:F,5,FALSE)*(1-$S$3))","v":317},"",{"$f":"VLOOKUP(A408,Codes!$B:$AP,'Data Validation Lists'!$B$1+2,FALSE)","v":"LK-ST-PS9-BH"},null,null,null,null,null,null,null,null,null,null,null,null,"Furniture",null,""]
["1000 Pan & Plate Stack Insert Excel",null,{"$f":"IF($E409=\"Not Available\",\"\",VLOOKUP(E409,'Prices Furniture'!A:F,5,FALSE)*(1-$S$3))","v":347},"",{"$f":"VLOOKUP(A409,Codes!$B:$AP,'Data Validation Lists'!$B$1+2,FALSE)","v":"LK-ST-PS10BH"},null,null,null,null,null,null,null,null,null,null,null,null,"Furniture",null,""]
["Excel Plus Internal Glass Drawer Accessories",null,null,null,null,null,null,null,null,null,null,null,null,null,null,null,null,"Furniture"]
[null,null,null,null,null,null,null,null,null,null,null,null,null,null,null,null,null,"Furniture"]
["500 Beech Cutlery Tray Excel Plus Internal",null,{"$f":"IF($E412=\"Not Available\",\"\",VLOOKUP(E412,'Prices Furniture'!A:F,5,FALSE)*(1-$S$3))","v":180},{"$f":"IF(B412=\"\",\"\",B412*C412)","v":""},{"$f":"VLOOKUP(A412,Codes!$B:$AP,'Data Validation Lists'!$B$1+2,FALSE)","v":"LK-ST-CT5-BHPI"},null,null,null,null,null,null,null,null,null,null,null,null,"Furniture",null,{"$f":"IF(B412=\"\",\"\",SUM(D412/1.2)*(1-$S$2)/(1-$S$3))","v":""}]
["600 Beech Cutlery Tray Excel Plus Internal",null,{"$f":"IF($E413=\"Not Available\",\"\",VLOOKUP(E413,'Prices Furniture'!A:F,5,FALSE)*(1-$S$3))","v":205},"",{"$f":"VLOOKUP(A413,Codes!$B:$AP,'Data Validation Lists'!$B$1+2,FALSE)","v":"LK-ST-CT6-BHPI"},null,null,null,null,null,null,null,null,null,null,null,null,"Furniture",null,{"$f":"IF(B413=\"\",\"\",SUM(D413/1.2)*(1-$S$2)/(1-$S$3))","v":""}]
["800mm Beech Cutlery Tray Excel Plus Internal",null,{"$f":"IF($E414=\"Not Available\",\"\",VLOOKUP(E414,'Prices Furniture'!A:F,5,FALSE)*(1-$S$3))","v":246},"",{"$f":"VLOOKUP(A414,Codes!$B:$AP,'Data Validation Lists'!$B$1+2,FALSE)","v":"LK-ST-CT8-BHPI"},null,null,null,null,null,null,null,null,null,null,null,null,"Furniture",null,{"$f":"IF(B414=\"\",\"\",SUM(D414/1.2)*(1-$S$2)/(1-$S$3))","v":""}]
["900 Beech Cutlery Tray Excel Plus Internal",null,{"$f":"IF($E415=\"Not Available\",\"\",VLOOKUP(E415,'Prices Furniture'!A:F,5,FALSE)*(1-$S$3))","v":266},"",{"$f":"VLOOKUP(A415,Codes!$B:$AP,'Data Validation Lists'!$B$1+2,FALSE)","v":"LK-ST-CT9-BHPI"},null,null,null,null,null,null,null,null,null,null,null,null,"Furniture",null,{"$f":"IF(B415=\"\",\"\",SUM(D415/1.2)*(1-$S$2)/(1-$S$3))","v":""}]
["1000mm Beech Cutlery Tray Excel Plus Internal",null,{"$f":"IF($E416=\"Not Available\",\"\",VLOOKUP(E416,'Prices Furniture'!A:F,5,FALSE)*(1-$S$3))","v":297},"",{"$f":"VLOOKUP(A416,Codes!$B:$AP,'Data Validation Lists'!$B$1+2,FALSE)","v":"LK-ST-CT10-BHPI"},null,null,null,null,null,null,null,null,null,null,null,null,"Furniture",null,{"$f":"IF(B416=\"\",\"\",SUM(D416/1.2)*(1-$S$2)/(1-$S$3))","v":""}]
["Storage, Bins & Accessories",null,null,null,null,null,null,null,null,null,null,null,null,null,null,null,null,"Furniture"]
[null,null,null,null,null,null,null,null,null,null,null,null,null,null,null,null,null,"Furniture"]
["500mm Soft Close Pull Out Basket",null,{"$f":"IF($E419=\"Not Available\",\"\",VLOOKUP(E419,'Prices Furniture'!A:F,5,FALSE)*(1-$S$3))","v":75},{"$f":"IF(B419=\"\",\"\",B419*C419)","v":""},{"$f":"VLOOKUP(A419,Codes!$B:$AP,'Data Validation Lists'!$B$1+2,FALSE)","v":"LK-ST-50PODB"},null,null,null,null,null,null,null,null,null,null,null,null,"Furniture",null,{"$f":"IF(B419=\"\",\"\",SUM(D419/1.2)*(1-$S$2)/(1-$S$3))","v":""}]
["600mm Soft Close Pull Out Basket",null,{"$f":"IF($E420=\"Not Available\",\"\",VLOOKUP(E420,'Prices Furniture'!A:F,5,FALSE)*(1-$S$3))","v":75},"",{"$f":"VLOOKUP(A420,Codes!$B:$AP,'Data Validation Lists'!$B$1+2,FALSE)","v":"LK-ST-60PODB"},null,null,null,null,null,null,null,null,null,null,null,null,"Furniture",null,""]
["300 Pull Out Bin 35 Ltr",null,{"$f":"IF($E421=\"Not Available\",\"\",VLOOKUP(E421,'Prices Furniture'!A:F,5,FALSE)*(1-$S$3))","v":365},"",{"$f":"VLOOKUP(A421,Codes!$B:$AP,'Data Validation Lists'!$B$1+2,FALSE)","v":"LK-ST-BIN30"},null,null,null,null,null,null,null,null,null,null,null,null,"Furniture",null,""]
["400 Pull Out Bin 48 Ltr",null,{"$f":"IF($E422=\"Not Available\",\"\",VLOOKUP(E422,'Prices Furniture'!A:F,5,FALSE)*(1-$S$3))","v":427},"",{"$f":"VLOOKUP(A422,Codes!$B:$AP,'Data Validation Lists'!$B$1+2,FALSE)","v":"LK-ST-BIN40"},null,null,null,null,null,null,null,null,null,null,null,null,"Furniture",null,""]
["450 Pull Out Bin 70 Ltr",null,{"$f":"IF($E423=\"Not Available\",\"\",VLOOKUP(E423,'Prices Furniture'!A:F,5,FALSE)*(1-$S$3))","v":432},{"$f":"IF(B423=\"\",\"\",B423*C423)","v":""},{"$f":"VLOOKUP(A423,Codes!$B:$AP,'Data Validation Lists'!$B$1+2,FALSE)","v":"LK-ST-BIN45"},null,null,null,null,null,null,null,null,null,null,null,null,"Furniture",null,{"$f":"IF(B423=\"\",\"\",SUM(D423/1.2)*(1-$S$2)/(1-$S$3))","v":""}]
["500 Pull Out Bin 70Ltr",null,{"$f":"IF($E424=\"Not Available\",\"\",VLOOKUP(E424,'Prices Furniture'!A:F,5,FALSE)*(1-$S$3))","v":438},"",{"$f":"VLOOKUP(A424,Codes!$B:$AP,'Data Validation Lists'!$B$1+2,FALSE)","v":"LK-ST-BIN50"},null,null,null,null,null,null,null,null,null,null,null,null,"Furniture",null,""]
["600 Pull Out Bin 86 Ltr (4 Bins)",null,{"$f":"IF($E425=\"Not Available\",\"\",VLOOKUP(E425,'Prices Furniture'!A:F,5,FALSE)*(1-$S$3))","v":522},{"$f":"IF(B425=\"\",\"\",B425*C425)","v":""},{"$f":"VLOOKUP(A425,Codes!$B:$AP,'Data Validation Lists'!$B$1+2,FALSE)","v":"LK-ST-BIN60-4"},null,null,null,null,null,null,null,null,null,null,null,null,"Furniture",null,{"$f":"IF(B425=\"\",\"\",SUM(D425/1.2)*(1-$S$2)/(1-$S$3))","v":""}]
["600 Pull Out Bin 80 Ltr (2 Bins)",null,{"$f":"IF($E426=\"Not Available\",\"\",VLOOKUP(E426,'Prices Furniture'!A:F,5,FALSE)*(1-$S$3))","v":473},"",{"$f":"VLOOKUP(A426,Codes!$B:$AP,'Data Validation Lists'!$B$1+2,FALSE)","v":"LK-ST-BIN60-2"},null,null,null,null,null,null,null,null,null,null,null,null,"Furniture",null,""]
["600mm Float Box Shelving",null,{"$f":"IF($E427=\"Not Available\",\"\",VLOOKUP(E427,'Prices Furniture'!A:F,5,FALSE)*(1-$S$3))","v":297},"",{"$f":"VLOOKUP(A427,Codes!$B:$AP,'Data Validation Lists'!$B$1+2,FALSE)","v":"LK-ST-FBXS6"},null,null,null,null,null,null,null,null,null,null,null,null,"Furniture",null,""]
["900mm Float Box Shelving",null,{"$f":"IF($E428=\"Not Available\",\"\",VLOOKUP(E428,'Prices Furniture'!A:F,5,FALSE)*(1-$S$3))","v":311},"",{"$f":"VLOOKUP(A428,Codes!$B:$AP,'Data Validation Lists'!$B$1+2,FALSE)","v":"LK-ST-FBXS9"},null,null,null,null,null,null,null,null,null,null,null,null,"Furniture",null,""]
["Box Shelving 4 way connector (4 Pk)",null,{"$f":"IF($E429=\"Not Available\",\"\",VLOOKUP(E429,'Prices Furniture'!A:F,5,FALSE)*(1-$S$3))","v":77},"",{"$f":"VLOOKUP(A429,Codes!$B:$AP,'Data Validation Lists'!$B$1+2,FALSE)","v":"LK-ST-F4WC"},null,null,null,null,null,null,null,null,null,null,null,null,"Furniture",null,""]
["Box Shelving 5 way connector (2 Pk)",null,{"$f":"IF($E430=\"Not Available\",\"\",VLOOKUP(E430,'Prices Furniture'!A:F,5,FALSE)*(1-$S$3))","v":55},"",{"$f":"VLOOKUP(A430,Codes!$B:$AP,'Data Validation Lists'!$B$1+2,FALSE)","v":"LK-ST-F5WC"},null,null,null,null,null,null,null,null,null,null,null,null,"Furniture",null,""]
["Industrial B Bar Support 720",null,{"$f":"IF($E431=\"Not Available\",\"\",VLOOKUP(E431,'Prices Furniture'!A:F,5,FALSE)*(1-$S$3))","v":249},"",{"$f":"VLOOKUP(A431,Codes!$B:$AP,'Data Validation Lists'!$B$1+2,FALSE)","v":"LK-FC-BBS720"},null,null,null,null,null,null,null,null,null,null,null,null,"Furniture",null,""]
["Industrial B Bar Support 870",null,{"$f":"IF($E432=\"Not Available\",\"\",VLOOKUP(E432,'Prices Furniture'!A:F,5,FALSE)*(1-$S$3))","v":249},"",{"$f":"VLOOKUP(A432,Codes!$B:$AP,'Data Validation Lists'!$B$1+2,FALSE)","v":"LK-FC-BBS870"},null,null,null,null,null,null,null,null,null,null,null,null,"Furniture",null,""]
["Glass Shelf 500 x 4mm",null,{"$f":"IF($E433=\"Not Available\",\"\",VLOOKUP(E433,'Prices Furniture'!A:F,5,FALSE)*(1-$S$3))","v":56},"",{"$f":"VLOOKUP(A433,Codes!$B:$AP,'Data Validation Lists'!$B$1+2,FALSE)","v":"LK-FC-GLSHF"},null,null,null,null,null,null,null,null,null,null,null,null,"Furniture",null,""]
["Glass Shelf 500 x 8mm",null,{"$f":"IF($E434=\"Not Available\",\"\",VLOOKUP(E434,'Prices Furniture'!A:F,5,FALSE)*(1-$S$3))","v":70},"",{"$f":"VLOOKUP(A434,Codes!$B:$AP,'Data Validation Lists'!$B$1+2,FALSE)","v":"LK-FC-GLSHLF5"},null,null,null,null,null,null,null,null,null,null,null,null,"Furniture",null,""]
["Glass Shelf 600 x 8mm",null,{"$f":"IF($E435=\"Not Available\",\"\",VLOOKUP(E435,'Prices Furniture'!A:F,5,FALSE)*(1-$S$3))","v":70},"",{"$f":"VLOOKUP(A435,Codes!$B:$AP,'Data Validation Lists'!$B$1+2,FALSE)","v":"LK-FC-GLSHLF6"},null,null,null,null,null,null,null,null,null,null,null,null,"Furniture",null,""]
["Glass Shelf for 1000 Larder",null,{"$f":"IF($E436=\"Not Available\",\"\",VLOOKUP(E436,'Prices Furniture'!A:F,5,FALSE)*(1-$S$3))","v":107},"",{"$f":"VLOOKUP(A436,Codes!$B:$AP,'Data Validation Lists'!$B$1+2,FALSE)","v":"LK-FC-GLSHLF10"},null,null,null,null,null,null,null,null,null,null,null,null,"Furniture",null,""]
["Telescopic Towel Rail",null,{"$f":"IF($E437=\"Not Available\",\"\",VLOOKUP(E437,'Prices Furniture'!A:F,5,FALSE)*(1-$S$3))","v":38},"",{"$f":"VLOOKUP(A437,Codes!$B:$AP,'Data Validation Lists'!$B$1+2,FALSE)","v":"LK-ST-TTR"},null,null,null,null,null,null,null,null,null,null,null,null,"Furniture",null,""]
["500 Base Unit Liner 544.14.501",null,{"$f":"IF($E438=\"Not Available\",\"\",VLOOKUP(E438,'Prices Furniture'!A:F,5,FALSE)*(1-$S$3))","v":30},"",{"$f":"VLOOKUP(A438,Codes!$B:$AP,'Data Validation Lists'!$B$1+2,FALSE)","v":"LK-FC-BUL5"},null,null,null,null,null,null,null,null,null,null,null,null,"Furniture",null,""]
["600 Base Unit Liner 544.14.502",null,{"$f":"IF($E439=\"Not Available\",\"\",VLOOKUP(E439,'Prices Furniture'!A:F,5,FALSE)*(1-$S$3))","v":46},"",{"$f":"VLOOKUP(A439,Codes!$B:$AP,'Data Validation Lists'!$B$1+2,FALSE)","v":"LK-FC-SBUL6"},null,null,null,null,null,null,null,null,null,null,null,null,"Furniture",null,""]
["800 Base Unit Liner 544.14.504",null,{"$f":"IF($E440=\"Not Available\",\"\",VLOOKUP(E440,'Prices Furniture'!A:F,5,FALSE)*(1-$S$3))","v":46},"",{"$f":"VLOOKUP(A440,Codes!$B:$AP,'Data Validation Lists'!$B$1+2,FALSE)","v":"LK-FC-SBUL8"},null,null,null,null,null,null,null,null,null,null,null,null,"Furniture",null,""]
["900 Base Unit Liner 544.14.505",null,{"$f":"IF($E441=\"Not Available\",\"\",VLOOKUP(E441,'Prices Furniture'!A:F,5,FALSE)*(1-$S$3))","v":46},"",{"$f":"VLOOKUP(A441,Codes!$B:$AP,'Data Validation Lists'!$B$1+2,FALSE)","v":"LK-FC-SBUL9"},null,null,null,null,null,null,null,null,null,null,null,null,"Furniture",null,""]
["1000 Base Unit Liner 544.14.506",null,{"$f":"IF($E442=\"Not Available\",\"\",VLOOKUP(E442,'Prices Furniture'!A:F,5,FALSE)*(1-$S$3))","v":46},"",{"$f":"VLOOKUP(A442,Codes!$B:$AP,'Data Validation Lists'!$B$1+2,FALSE)","v":"LK-FC-SBUL10"},null,null,null,null,null,null,null,null,null,null,null,null,"Furniture",null,""]
["SD 870 Breakfast Bar Leg",null,{"$f":"IF($E443=\"Not Available\",\"\",VLOOKUP(E443,'Prices Furniture'!A:F,5,FALSE)*(1-$S$3))","v":68},"",{"$f":"VLOOKUP(A443,Codes!$B:$AP,'Data Validation Lists'!$B$1+2,FALSE)","v":"LK-FC-CPBBL"},null,null,null,null,null,null,null,null,null,null,null,null,"Furniture",null,""]
["35mm Cover Caps (Pk of 20) - Oak",null,{"$f":"IF($E444=\"Not Available\",\"\",VLOOKUP(E444,'Prices Furniture'!A:F,5,FALSE)*(1-$S$3))","v":9},"",{"$f":"VLOOKUP(A444,Codes!$B:$AP,'Data Validation Lists'!$B$1+2,FALSE)","v":"LK-FC-NOCC35"},null,null,null,null,null,null,null,null,null,null,null,null,"Furniture",null,""]
["5mm Cover Caps (Pk of 50) - Oak",null,{"$f":"IF($E445=\"Not Available\",\"\",VLOOKUP(E445,'Prices Furniture'!A:F,5,FALSE)*(1-$S$3))","v":9},{"$f":"IF(B445=\"\",\"\",B445*C445)","v":""},{"$f":"VLOOKUP(A445,Codes!$B:$AP,'Data Validation Lists'!$B$1+2,FALSE)","v":"LK-FC-NOCC5"},null,null,null,null,null,null,null,null,null,null,null,null,"Furniture",null,{"$f":"IF(B445=\"\",\"\",SUM(D445/1.2)*(1-$S$2)/(1-$S$3))","v":""}]
["14mm Self Adhesive Stickers Pack 25 - Oak",null,{"$f":"IF($E446=\"Not Available\",\"\",VLOOKUP(E446,'Prices Furniture'!A:F,5,FALSE)*(1-$S$3))","v":9},{"$f":"IF(B446=\"\",\"\",B446*C446)","v":""},{"$f":"VLOOKUP(A446,Codes!$B:$AP,'Data Validation Lists'!$B$1+2,FALSE)","v":"LK-FC-NOST25"},null,null,null,null,null,null,null,null,null,null,null,null,"Furniture",null,{"$f":"IF(B446=\"\",\"\",SUM(D446/1.2)*(1-$S$2)/(1-$S$3))","v":""}]
["14mm Self Adhesive Stickers Pack 25 - Grey Linen",null,{"$f":"IF($E447=\"Not Available\",\"\",VLOOKUP(E447,'Prices Furniture'!A:F,5,FALSE)*(1-$S$3))","v":9},"",{"$f":"VLOOKUP(A447,Codes!$B:$AP,'Data Validation Lists'!$B$1+2,FALSE)","v":"LK-FC-GLST25"},null,null,null,null,null,null,null,null,null,null,null,null,"Furniture",null,""]
["Fitters Panel 2400x630 - Grey Linen",null,{"$f":"IF($E448=\"Not Available\",\"\",VLOOKUP(E448,'Prices Furniture'!A:F,5,FALSE)*(1-$S$3))","v":132},"",{"$f":"VLOOKUP(A448,Codes!$B:$AP,'Data Validation Lists'!$B$1+2,FALSE)","v":"LK-A-GLN-FP"},null,null,null,null,null,null,null,null,null,null,null,null,"Furniture",null,""]
["Fitters Panel 2400x630 - Oak",null,{"$f":"IF($E449=\"Not Available\",\"\",VLOOKUP(E449,'Prices Furniture'!A:F,5,FALSE)*(1-$S$3))","v":132},"",{"$f":"VLOOKUP(A449,Codes!$B:$AP,'Data Validation Lists'!$B$1+2,FALSE)","v":"LK-A-LISW-FP"},null,null,null,null,null,null,null,null,null,null,null,null,"Furniture",null,""]
["3m Plinth Seal - 713.25.098",null,{"$f":"IF($E450=\"Not Available\",\"\",VLOOKUP(E450,'Prices Furniture'!A:F,5,FALSE)*(1-$S$3))","v":15},"",{"$f":"VLOOKUP(A450,Codes!$B:$AP,'Data Validation Lists'!$B$1+2,FALSE)","v":"LK-FC-PLSL"},null,null,null,null,null,null,null,null,null,null,null,null,"Furniture",null,""]
["Small Jointing Plate 43mm",null,{"$f":"IF($E451=\"Not Available\",\"\",VLOOKUP(E451,'Prices Furniture'!A:F,5,FALSE)*(1-$S$3))","v":5},{"$f":"IF(B451=\"\",\"\",B451*C451)","v":""},{"$f":"VLOOKUP(A451,Codes!$B:$AP,'Data Validation Lists'!$B$1+2,FALSE)","v":"LK-FC-JP43"},"NEW",null,null,null,null,null,null,null,null,null,null,null,"Furniture",null,{"$f":"IF(B451=\"\",\"\",SUM(D451/1.2)*(1-$S$2)/(1-$S$3))","v":""}]
["Jointing Plate/Door Connector 105mm",null,{"$f":"IF($E452=\"Not Available\",\"\",VLOOKUP(E452,'Prices Furniture'!A:F,5,FALSE)*(1-$S$3))","v":5},"",{"$f":"VLOOKUP(A452,Codes!$B:$AP,'Data Validation Lists'!$B$1+2,FALSE)","v":"LK-FC-JP105"},"NEW",null,null,null,null,null,null,null,null,null,null,null,"Furniture",null,""]
["Blum 107 Soft Close Hinge",null,{"$f":"IF($E453=\"Not Available\",\"\",VLOOKUP(E453,'Prices Furniture'!A:F,5,FALSE)*(1-$S$3))","v":8},"",{"$f":"VLOOKUP(A453,Codes!$B:$AP,'Data Validation Lists'!$B$1+2,FALSE)","v":"LK-FC-BL110"},null,null,null,null,null,null,null,null,null,null,null,null,"Furniture",null,""]
["Blum 155 Soft Cose hinge",null,{"$f":"IF($E454=\"Not Available\",\"\",VLOOKUP(E454,'Prices Furniture'!A:F,5,FALSE)*(1-$S$3))","v":19},{"$f":"IF(B454=\"\",\"\",B454*C454)","v":""},{"$f":"VLOOKUP(A454,Codes!$B:$AP,'Data Validation Lists'!$B$1+2,FALSE)","v":"LK-FC-BL155"},"Zero protrusion",null,null,null,null,null,null,null,null,null,null,null,"Furniture",null,{"$f":"IF(B454=\"\",\"\",SUM(D454/1.2)*(1-$S$2)/(1-$S$3))","v":""}]
["Adjustable Cabinet Legs - Pack of 5",null,{"$f":"IF($E455=\"Not Available\",\"\",VLOOKUP(E455,'Prices Furniture'!A:F,5,FALSE)*(1-$S$3))","v":12},"",{"$f":"VLOOKUP(A455,Codes!$B:$AP,'Data Validation Lists'!$B$1+2,FALSE)","v":"LK-FC-XK109"},null,null,null,null,null,null,null,null,null,null,null,null,"Furniture",null,""]
["Plinth Connector 16mm (1m)",null,{"$f":"IF($E456=\"Not Available\",\"\",VLOOKUP(E456,'Prices Furniture'!A:F,5,FALSE)*(1-$S$3))","v":34},"",{"$f":"VLOOKUP(A456,Codes!$B:$AP,'Data Validation Lists'!$B$1+2,FALSE)","v":"LK-FC-PC16"},"One length does 5-6 plinth corners",null,null,null,null,null,null,null,null,null,null,null,"Furniture",null,""]
["Plinth Connector 18mm (1m)",null,{"$f":"IF($E457=\"Not Available\",\"\",VLOOKUP(E457,'Prices Furniture'!A:F,5,FALSE)*(1-$S$3))","v":34},"",{"$f":"VLOOKUP(A457,Codes!$B:$AP,'Data Validation Lists'!$B$1+2,FALSE)","v":"LK-FC-PC18"},"One length does 5-6 plinth corners",null,null,null,null,null,null,null,null,null,null,null,"Furniture",null,""]
["Plinth Connector 19mm (1m)",null,{"$f":"IF($E458=\"Not Available\",\"\",VLOOKUP(E458,'Prices Furniture'!A:F,5,FALSE)*(1-$S$3))","v":34},"",{"$f":"VLOOKUP(A458,Codes!$B:$AP,'Data Validation Lists'!$B$1+2,FALSE)","v":"LK-FC-PC19"},"One length does 5-6 plinth corners",null,null,null,null,null,null,null,null,null,null,null,"Furniture",null,""]
[]
["Other / Miscellaneous"]
["Other",null,{"$f":"IF(U461=\"\",\"\",U461/(1-$S$7)*1.2)","v":""},{"$f":"IF(B461=\"\",\"\",(B461*C461))","v":""},null,null,null,null,null,null,null,null,null,null,null,null,null,"Other Items",null,{"$f":"IF(B461=\"\",\"\",(U461*B461))","v":""},null,"Type Your Cost Price Here"]
["Other",null,"",{"$f":"IF(B462=\"\",\"\",(B462*C462))","v":""},null,null,null,null,null,null,null,null,null,null,null,null,null,"Other Items",null,"",null,"Type Your Cost Price Here"]
["Other",null,"","",null,null,null,null,null,null,null,null,null,null,null,null,null,"Other Items",null,"",null,"Type Your Cost Price Here"]
["Other",null,"","",null,null,null,null,null,null,null,null,null,null,null,null,null,"Other Items",null,"",null,"Type Your Cost Price Here"]
["Other",null,"","",null,null,null,null,null,null,null,null,null,null,null,null,null,"Other Items",null,"",null,"Type Your Cost Price Here"]
["Other",null,"","",null,null,null,null,null,null,null,null,null,null,null,null,null,"Other Items",null,"",null,"Type Your Cost Price Here"]
[]
["Home Delivery",{"$f":"IF('Data Validation Lists'!I16=1,1,\"\")","v":1},{"$f":"IF($E468=\"Not Available\",\"\",VLOOKUP(E468,'Prices Furniture'!A:F,5,FALSE))","v":90},{"$f":"IF(B468=\"\",\"\",B468*C468)","v":90},{"$f":"VLOOKUP(A468,Codes!$B:$AP,'Data Validation Lists'!$B$1+2,FALSE)","v":"HOME DEL CHARGE"},null,null,null,null,null,null,null,null,null,null,null,null,null,null,{"$f":"IF(B468=\"\",\"\",SUM(D468/1.2))","v":75}]

{"sheet":"Summary","index":1,"n_rows":46,"n_cols":2,"rows_kept":46,"cut":false,"hidden":false,"merged":[[39,0,39,1],[1,0,1,1]]}
[]
["YOUR LOGO HERE"]
[null,"Summary Quote"]
[]
[]
["Your Company Name",{"$f":"TODAY()","v":"2026-01-19"}]
["Your Address"]
["Your Address"]
["Your Address"]
[]
["Your Telephone"]
["Your Email"]
["Customer Name:"]
["Customer Address:"]
[]
[]
[]
["Tel. Home:"]
["Tel. Mobile:"]
["Email:"]
["Range","Sales Person"]
["LochAnna Kitchens","NAME"]
[{"$f":"VLOOKUP('Data Validation Lists'!B1,'Data Validation Lists'!A2:B280,2,FALSE)","v":"PG1  Euro Matt Dove Grey"}]
[]
["Description","Sub Total"]
["Furniture",{"$f":"SUMIF(Kitchen!R:R,Summary!A26,Kitchen!D:D)","v":0}]
["Lighting",{"$f":"SUMIF(Kitchen!R:R,Summary!A27,Kitchen!D:D)","v":0}]
["Other Items",{"$f":"SUMIF(Kitchen!R:R,Summary!A28,Kitchen!D:D)","v":0}]
["Worktops"]
["Delivery",{"$f":"Kitchen!D468","v":90}]
["Installation"]
[]
[]
[null,"Total (inc VAT)"]
[null,{"$f":"SUM(B26:B32)","v":90}]
[]
[]
[]
[]
["This quote is indicative and subject to change.  Upon acceptance of this quote a survey will be carried out and any changes required may result in a  change to the  final costs.  The price quoted includes VAT (unless otherwise stated).  VAT will be charged at the rate applying at the time of delivery.   "]
[]
[]
[]
[]
[]
["To accept this quotation, sign here and return: __________________________________________________________________"]

{"sheet":"Data Validation Lists","index":2,"n_rows":222,"n_cols":31,"rows_kept":222,"cut":false,"hidden":true,"merged":[]}
[null,1,null,null,null,null,null,"Rigid",1,null,null,null,null,null,null,null,"Woodgrain Painted MTM Panel",1,2,3,4,5,6,7,8,9,10,11,12,13]
[1,"PG1  Euro Matt Dove Grey",null,"Stocked","EMD",null,null,1,"Yes",null,null,null,null,null,null,null,null,150,300,400,450,500,550,600,700,800,900,1000,1100,1200]
[2,"PG1  Euro Matt Dust Grey",null,"Stocked","EMY",null,null,2,"No",null,null,null,null,null,null,1,100,14,23,29,32,35,38,41,47,53,59,65,71,77]
[3,"PG1  Euro Matt Mussel",null,"Stocked","EMM",null,null,null,null,null,null,null,null,null,null,2,200,21,33,40,44,48,52,56,64,72,80,88,96,104]
[4,"PG1  Euro Matt Sea Blue",null,"Stocked","EMS",null,null,"Butler's Pantry Drawer Upgrade",2,null,null,null,null,null,null,3,300,28,42,52,57,62,67,72,82,92,101,111,121,131]
[5,"PG1  Opaco Dove Grey",null,"Stocked","OPD",null,null,1,"Select your Butler's Pantry drawer upgrade",null,null,null,null,null,null,4,400,35,52,64,70,76,82,87,99,111,123,134,146,158]
[6,"PG1  Opaco Dust Grey",null,"Stocked","OPY",null,null,2,"Legrabox","1 x @LK-DB-LRC6 and 2 x @LK-DB-LRC6PD",380,null,null,null,null,5,500,42,62,76,83,89,96,103,117,130,144,158,171,185]
[7,"PG1  Opaco Fjord",null,"Stocked","OPF",null,null,3,"Oak Internal","2 x @LK-IDB-OAK6 and 2 x @LK-IDB-OAK6PD",813,null,null,null,null,6,600,49,72,87,95,103,111,119,134,150,165,181,196,212]
[8,"PG1  Opaco Mussel",null,"Stocked","OPM",null,null,null,null,null,null,null,null,null,null,7,800,62,92,111,121,130,140,150,169,189,208,227,247,266]
[9,"PG1  Opaco Reed Green",null,"4 Week Lead Time","OPR",null,null,"D Box Upgrade",1,null,null,null,null,null,null,8,900,69,101,123,133,144,155,165,187,208,229,250,272,293]
[10,"PG1  Opaco Sea Blue",null,"Stocked","OPS",null,null,1,"Excel",null,null,null,null,null,null,9,1000,76,111,134,146,158,169,181,204,227,250,"NA","NA","NA"]
[11,"PG2  Grained Cashmere",null,"Stocked","CSW",null,null,2,null,null,null,null,null,null,null,10,1100,83,121,146,159,171,184,196,222,247,272,"NA","NA","NA"]
[12,"PG2  Grained Dove Grey",null,"Stocked","DGW",null,null,3,null,null,null,null,null,null,null,11,1250,94,136,164,178,192,206,220,248,276,304,"NA","NA","NA"]
[13,"PG2  Grained Dust Grey",null,"Stocked","DYW",null,null,null,null,null,null,null,null,null,null,12,1500,111,160,193,210,226,242,259,291,324,"NA","NA","NA","NA"]
[14,"PG2  Grained Ivory",null,"Stocked","ISW",null,null,null,null,null,null,null,null,null,null,13,1600,118,170,205,222,240,257,274,309,344,"NA","NA","NA","NA"]
[15,"PG2  Grained Mussel",null,"Stocked","MSW",null,null,"Home Delivery",1,null,null,null,null,null,null,14,1700,125,180,217,235,253,272,290,326,363,"NA","NA","NA","NA"]
[16,"PG2  Grained Sea Blue",null,"Stocked","NVW",null,null,1,"Yes",null,null,null,null,null,null,15,2000,155,222,267,290,312,334,357,402,447,"NA","NA","NA","NA"]
[null,null,null,null,null,null,null,2,"No",null,null,null,null,null,null,16,2200,170,243,292,317,341,365,390,439,488,"NA","NA","NA","NA"]
[null,null,null,null,null,null,null,null,null,null,null,null,null,null,null,17,2300,177,254,305,330,356,381,406,457,508,"NA","NA","NA","NA"]
[null,null,null,null,null,null,null,null,null,null,null,null,null,null,null,18,2500,192,275,330,357,385,412,439,494,604,"NA","NA","NA","NA"]
[null,null,null,null,null,null,null,"Cab Colour",1]
[null,null,null,null,null,null,null,null,"Light Oak",null,null,null,null,null,null,null,"Strato Painted MTM Panel",1,2,3,4,5,6,7,8,9,10,11,12,13]
[null,null,null,null,null,null,null,null,"Grey Linen",null,null,null,null,null,null,null,null,150,300,400,450,500,550,600,700,800,900,1000,1100,1200]
[null,null,null,null,null,null,null,null,null,null,null,null,null,null,null,1,100,13,23,29,32,35,38,42,48,54,60,67,73,79]
[null,null,null,null,null,null,null,null,null,null,null,null,null,null,null,2,200,21,34,43,48,52,57,61,70,79,88,97,106,115]
[null,null,null,null,null,null,null,null,null,null,null,null,null,null,null,3,300,29,46,58,63,69,75,81,92,104,115,127,139,150]
[null,null,null,null,null,null,null,null,null,null,null,null,null,null,null,4,400,36,58,72,79,86,93,100,115,129,143,157,172,186]
[null,null,null,null,null,null,null,null,null,null,null,null,null,null,null,5,500,44,69,86,95,103,111,120,137,154,171,188,204,221]
[null,null,null,null,null,null,null,null,null,null,null,null,null,null,null,6,600,51,81,100,110,120,130,139,159,179,198,218,237,257]
[null,null,null,null,null,null,null,null,null,null,null,null,null,null,null,7,800,67,104,129,141,154,166,179,204,228,253,278,303,328]
[null,null,null,null,null,null,null,null,null,null,null,null,null,null,null,8,900,74,115,143,157,171,184,198,226,253,281,309,336,364]
[null,null,null,null,null,null,null,null,null,null,null,null,null,null,null,9,1000,82,127,157,172,188,203,218,248,278,309,"NA","NA","NA"]
[null,null,null,null,null,null,null,null,null,null,null,null,null,null,null,10,1100,89,139,172,188,204,221,237,270,303,336,"NA","NA","NA"]
[null,null,null,null,null,null,null,null,null,null,null,null,null,null,null,11,1250,97,150,186,204,221,239,257,293,328,364,"NA","NA","NA"]
[null,null,null,null,null,null,null,null,null,null,null,null,null,null,null,12,1500,120,185,229,250,272,294,316,359,403,"NA","NA","NA","NA"]
[null,null,null,null,null,null,null,null,null,null,null,null,null,null,null,13,1600,127,197,243,266,289,312,335,382,428,"NA","NA","NA","NA"]
[null,null,null,null,null,null,null,null,null,null,null,null,null,null,null,14,1700,135,208,257,281,306,330,355,404,453,"NA","NA","NA","NA"]
[null,null,null,null,null,null,null,null,null,null,null,null,null,null,null,15,2000,157,243,300,328,357,385,414,471,527,"NA","NA","NA","NA"]
[null,null,null,null,null,null,null,null,null,null,null,null,null,null,null,16,2200,173,266,328,359,391,422,453,515,577,"NA","NA","NA","NA"]
[null,null,null,null,null,null,null,null,null,null,null,null,null,null,null,17,2300,180,278,343,375,407,440,472,537,602,"NA","NA","NA","NA"]
[null,null,null,null,null,null,null,null,null,null,null,null,null,null,null,18,2500,195,301,371,406,441,476,512,582,652,"NA","NA","NA","NA"]
[]
[null,null,null,null,null,null,null,null,null,null,null,null,null,null,null,null,"Strato Stained MTM Panel",1,2,3,4,5,6,7,8,9,10,11,12,13]
[null,null,null,null,null,null,null,null,null,null,null,null,null,null,null,null,null,150,300,400,450,500,550,600,700,800,900,1000,1100,1200]
[null,null,null,null,null,null,null,null,null,null,null,null,null,null,null,1,100,20,35,44,49,54,59,64,73,83,92,102,112,121]
[null,null,null,null,null,null,null,null,null,null,null,null,null,null,null,2,200,32,53,66,73,80,87,94,107,121,135,149,162,176]
[null,null,null,null,null,null,null,null,null,null,null,null,null,null,null,3,300,44,70,88,97,106,115,124,142,160,177,195,213,231]
[null,null,null,null,null,null,null,null,null,null,null,null,null,null,null,4,400,55,88,110,121,132,143,154,176,198,220,242,264,286]
[null,null,null,null,null,null,null,null,null,null,null,null,null,null,null,5,500,67,106,132,145,158,171,184,210,236,262,288,314,340]
[null,null,null,null,null,null,null,null,null,null,null,null,null,null,null,6,600,79,124,154,169,184,199,214,244,275,305,335,365,395]
[null,null,null,null,null,null,null,"Solutions Open Units",null,null,null,null,null,null,null,7,800,102,160,198,217,236,255,275,313,351,390,428,466,505]
[null,null,null,null,null,null,null,null,null,null,null,null,null,null,null,8,900,114,177,220,241,262,283,305,347,390,432,474,517,559]
[null,null,null,null,null,null,null,1,"Select Range",{"$f":"VLOOKUP(Kitchen!#REF!,$I54:$J57,2,FALSE)","v":{"$error":"#REF!"}},{"$f":"VLOOKUP(Kitchen!#REF!,$I54:$J57,2,FALSE)","v":{"$error":"#REF!"}},{"$f":"VLOOKUP(Kitchen!#REF!,$I54:$J57,2,FALSE)","v":{"$error":"#REF!"}},null,null,null,9,1000,125,195,242,265,288,312,335,381,428,474,"NA","NA","NA"]
[null,null,null,null,null,null,null,2,"Natural Oak Open Unit","HNO",null,null,null,null,null,10,1100,137,213,264,289,314,340,365,416,466,517,"NA","NA","NA"]
[null,null,null,null,null,null,null,3,"Tobacco Oak Open Unit","HTO",null,null,null,null,null,11,1250,149,231,286,313,340,368,395,450,505,559,"NA","NA","NA"]
[null,null,null,null,null,null,null,4,"White Oak Open Unit","HWO",null,null,null,null,null,12,1500,184,284,351,385,418,452,485,552,620,"NA","NA","NA","NA"]
[null,null,null,null,null,null,null,null,null,null,null,null,null,null,null,13,1600,195,302,373,409,444,480,516,587,658,"NA","NA","NA","NA"]
[null,null,null,null,null,null,null,null,null,null,null,null,null,null,null,14,1700,207,320,395,433,470,508,546,621,696,"NA","NA","NA","NA"]
[null,null,null,null,null,null,null,1,2,3,4,5,null,null,null,15,2000,242,373,461,505,548,592,636,724,811,"NA","NA","NA","NA"]
[null,null,null,null,null,null,"Sizes",286,360,720,900,1960,null,null,null,16,2200,265,409,505,553,601,648,696,792,888,"NA","NA","NA","NA"]
[null,null,null,null,null,1,150,255,255,281,309,566,null,null,null,17,2300,277,427,527,577,627,676,726,826,926,"NA","NA","NA","NA"]
[null,null,null,null,null,2,300,255,255,281,309,566,null,null,null,18,2500,300,462,571,625,679,733,787,895,1003,"NA","NA","NA","NA"]
[null,null,null,null,null,3,400,255,255,281,309,566]
[null,null,null,null,null,4,500,255,255,281,309,566]
[null,null,null,null,null,5,600,255,255,281,309,618]
[null,null,null,null,null,6,700,281,281,309,330,"Not Available"]
[null,null,null,null,null,7,800,281,281,309,330,"Not Available"]
[null,null,null,null,null,8,900,281,281,309,330,"Not Available"]
[null,null,null,null,null,9,1000,281,281,309,330,"Not Available"]
[null,null,null,null,null,10,1200,309,309,"Not Available","Not Available","Not Available"]
[]
[]
[]
[null,null,null,null,null,null,null,"Open Unit 1",null,"Height",{"$f":"IFERROR(INDEX($H$59:$L$59,MATCH(I75,$H$60:$L$60,1)),1)","v":1}]
[null,null,null,null,null,null,null,"Chosen Height",{"$f":"Kitchen!#REF!","v":{"$error":"#REF!"}},"Width",{"$f":"IFERROR(INDEX($F$61:$F$70,MATCH(I76,$G$61:$G$70,1)),1)","v":1}]
[null,null,null,null,null,null,null,"Chosen Width",{"$f":"Kitchen!#REF!","v":{"$error":"#REF!"}},"Price",{"$f":"IFERROR(VLOOKUP(K75,$F$61:$L$70,MATCH(K74,$F$59:$L$59,0),0),\"\")","v":255}]
[]
[null,null,null,null,null,null,null,"Open Unit 2",null,"Height",{"$f":"IFERROR(INDEX($H$59:$L$59,MATCH(I79,$H$60:$L$60,1)),1)","v":1}]
[null,null,null,null,null,null,null,"Chosen Height",{"$f":"Kitchen!#REF!","v":{"$error":"#REF!"}},"Width",{"$f":"IFERROR(INDEX($F$61:$F$70,MATCH(I80,$G$61:$G$70,1)),1)","v":1}]
[null,null,null,null,null,null,null,"Chosen Width",{"$f":"Kitchen!#REF!","v":{"$error":"#REF!"}},"Price",{"$f":"IFERROR(VLOOKUP(K79,$F$61:$L$70,MATCH(K78,$F$59:$L$59,0),0),\"\")","v":255}]
[]
[null,null,null,null,null,null,null,"Open Unit 3",null,"Height",{"$f":"IFERROR(INDEX($H$59:$L$59,MATCH(I83,$H$60:$L$60,1)),1)","v":1}]
[null,null,null,null,null,null,null,"Chosen Height",{"$f":"Kitchen!#REF!","v":{"$error":"#REF!"}},"Width",{"$f":"IFERROR(INDEX($F$61:$F$70,MATCH(I84,$G$61:$G$70,1)),1)","v":1}]
[null,null,null,null,null,null,null,"Chosen Width",{"$f":"Kitchen!#REF!","v":{"$error":"#REF!"}},"Price",{"$f":"IFERROR(VLOOKUP(K83,$F$61:$L$70,MATCH(K82,$F$59:$L$59,0),0),\"\")","v":255}]
[]
[]
[]
[null,null,null,null,null,null,null,1,2,3,4]
[null,null,null,null,null,null,null,286,720,900,1960]
[null,null,null,null,null,1,150,255,281,309,330]
[null,null,null,null,null,2,300,255,281,309,566]
[]
[]
[null,null,null,null,null,null,null,"Wine Rack 1",null,"Height",{"$f":"IFERROR(INDEX($H$88:$K$88,MATCH(I95,$H$89:$K$89,1)),1)","v":1}]
[null,null,null,null,null,null,null,"Chosen Height",{"$f":"Kitchen!#REF!","v":{"$error":"#REF!"}},"Width",{"$f":"IFERROR(INDEX($F$90:$F$91,MATCH(I96,$G$90:$G$91,1)),1)","v":1}]
[null,null,null,null,null,null,null,"Chosen Width",{"$f":"Kitchen!#REF!","v":{"$error":"#REF!"}},"Price",{"$f":"IFERROR(VLOOKUP(K95,$F$90:$K$91,MATCH(K94,$F$88:$K$88,0),0),\"\")","v":255}]
[]
[null,null,null,null,null,null,null,"Wine Rack 2",null,"Height",{"$f":"IFERROR(INDEX($H$88:$K$88,MATCH(I99,$H$89:$K$89,1)),1)","v":1}]
[null,null,null,null,null,null,null,"Chosen Height",{"$f":"Kitchen!#REF!","v":{"$error":"#REF!"}},"Width",{"$f":"IFERROR(INDEX($F$90:$F$91,MATCH(I100,$G$90:$G$91,1)),1)","v":1}]
[null,null,null,null,null,null,null,"Chosen Width",{"$f":"Kitchen!#REF!","v":{"$error":"#REF!"}},"Price",{"$f":"IFERROR(VLOOKUP(K99,$F$90:$K$91,MATCH(K98,$F$88:$K$88,0),0),\"\")","v":255}]
[]
[null,null,null,null,null,null,null,"Wine Rack 3",null,"Height",{"$f":"IFERROR(INDEX($H$88:$K$88,MATCH(I103,$H$89:$K$89,1)),1)","v":1}]
[null,null,null,null,null,null,null,"Chosen Height",{"$f":"Kitchen!#REF!","v":{"$error":"#REF!"}},"Width",{"$f":"IFERROR(INDEX($F$90:$F$91,MATCH(I104,$G$90:$G$91,1)),1)","v":1}]
[null,null,null,null,null,null,null,"Chosen Width",{"$f":"Kitchen!#REF!","v":{"$error":"#REF!"}},"Price",{"$f":"IFERROR(VLOOKUP(K103,$F$90:$K$91,MATCH(K102,$F$88:$K$88,0),0),\"\")","v":255}]
[]
[]
[]
[null,null,null,null,null,null,null,"Solutions Wine Racks"]
[]
[null,null,null,null,null,null,null,1,"Select Range",{"$f":"VLOOKUP(Kitchen!#REF!,$I111:$J114,2,FALSE)","v":{"$error":"#REF!"}},{"$f":"VLOOKUP(Kitchen!#REF!,$I111:$J114,2,FALSE)","v":{"$error":"#REF!"}},{"$f":"VLOOKUP(Kitchen!#REF!,$I111:$J114,2,FALSE)","v":{"$error":"#REF!"}}]
[null,null,null,null,null,null,null,2,"Natural Oak Wine Rack","HNO"]
[null,null,null,null,null,null,null,3,"Tobacco Oak Wine Rack","HTO"]
[null,null,null,null,null,null,null,4,"White Oak Wine Rack","HWO"]
[]
[]
[null,null,null,null,null,null,null,"Eterna Open Units"]
[]
[null,null,null,null,null,null,null,1,"Select Range",{"$f":"VLOOKUP(Kitchen!#REF!,$I119:$J126,2,FALSE)","v":{"$error":"#REF!"}},{"$f":"VLOOKUP(Kitchen!#REF!,$I119:$J126,2,FALSE)","v":{"$error":"#REF!"}},{"$f":"VLOOKUP(Kitchen!#REF!,$I119:$J126,2,FALSE)","v":{"$error":"#REF!"}}]
[null,null,null,null,null,null,null,2,"Ossido Grigio Open Unit","EOG"]
[null,null,null,null,null,null,null,3,"Ossido Marrone Open Unit","EOM"]
[null,null,null,null,null,null,null,4,"Patagonia Marble Open Unit","EPM"]
[null,null,null,null,null,null,null,5,"Venato Marble Open Unit","EVM"]
[null,null,null,null,null,null,null,6,"Nero Marble Open Unit","ENM"]
[null,null,null,null,null,null,null,7,"Laguna Grey Aged Oak Open Unit","ELA"]
[null,null,null,null,null,null,null,8,"Laguna Dark Oak Open Unit","ELD"]
[null,null,null,null,null,null,null,9,"Chalet Light Walnut Open Unit","ELW"]
[]
[null,null,null,null,null,null,null,"Eterna Wine Racks"]
[null,null,null,null,null,null,null,1,"Select Range",{"$f":"VLOOKUP(Kitchen!#REF!,$I130:$J137,2,FALSE)","v":{"$error":"#REF!"}},{"$f":"VLOOKUP(Kitchen!#REF!,$I130:$J137,2,FALSE)","v":{"$error":"#REF!"}},{"$f":"VLOOKUP(Kitchen!#REF!,$I130:$J137,2,FALSE)","v":{"$error":"#REF!"}}]
[null,null,null,null,null,null,null,2,"Ossido Grigio Wine Rack","EOG"]
[null,null,null,null,null,null,null,3,"Ossido Marrone Wine Rack","EOM"]
[null,null,null,null,null,null,null,4,"Patagonia Marble Wine Rack","EPM"]
[null,null,null,null,null,null,null,5,"Venato Marble Wine Rack","EVM"]
[null,null,null,null,null,null,null,6,"Nero Marble Wine Rack","ENM"]
[null,null,null,null,null,null,null,7,"Laguna Grey Aged Oak Wine Rack","ELA"]
[null,null,null,null,null,null,null,8,"Laguna Dark Oak Wine Rack","ELD"]
[null,null,null,null,null,null,null,9,"Chalet Light Walnut Wine Rack","ELW"]
[]
[]
[]
[null,null,null,null,null,null,null,1,2,3,4,5]
[null,null,null,null,null,null,"Sizes",286,360,720,900,1960]
[null,null,null,null,null,1,150,228,228,254,280,648]
[null,null,null,null,null,2,300,228,228,254,280,648]
[null,null,null,null,null,3,400,252,252,268,292,662]
[null,null,null,null,null,4,500,254,254,287,312,707]
[null,null,null,null,null,5,600,274,274,305,338,771]
[null,null,null,null,null,6,700,330,330,369,401,"Not Available"]
[null,null,null,null,null,7,800,344,344,381,419,"Not Available"]
[null,null,null,null,null,8,900,356,356,394,440,"Not Available"]
[null,null,null,null,null,9,1000,369,369,407,444,"Not Available"]
[null,null,null,null,null,10,1200,394,394,"Not Available","Not Available","Not Available"]
[]
[]
[]
[null,null,null,null,null,null,null,"Open Unit 1",null,"Height",{"$f":"IFERROR(INDEX($H$141:$L$141,MATCH(I157,$H$142:$L$142,1)),1)","v":1}]
[null,null,null,null,null,null,null,"Chosen Height",{"$f":"Kitchen!#REF!","v":{"$error":"#REF!"}},"Width",{"$f":"IFERROR(INDEX($F$143:$F$152,MATCH(I158,$G$143:$G$152,1)),1)","v":1}]
[null,null,null,null,null,null,null,"Chosen Width",{"$f":"Kitchen!#REF!","v":{"$error":"#REF!"}},"Price",{"$f":"IFERROR(VLOOKUP(K157,$F$143:$L$152,MATCH(K156,$F$141:$L$141,0),0),\"\")","v":228}]
[]
[null,null,null,null,null,null,null,"Open Unit 2",null,"Height",{"$f":"IFERROR(INDEX($H$141:$L$141,MATCH($I161,$H$142:$L$142,1)),1)","v":1}]
[null,null,null,null,null,null,null,"Chosen Height",{"$f":"Kitchen!#REF!","v":{"$error":"#REF!"}},"Width",{"$f":"IFERROR(INDEX($F$143:$F$152,MATCH($I162,$G$143:$G$152,1)),1)","v":1}]
[null,null,null,null,null,null,null,"Chosen Width",{"$f":"Kitchen!#REF!","v":{"$error":"#REF!"}},"Price",{"$f":"IFERROR(VLOOKUP(K161,$F$143:$L$152,MATCH(K160,$F$141:$L$141,0),0),\"\")","v":228}]
[]
[null,null,null,null,null,null,null,"Open Unit 3",null,"Height",{"$f":"IFERROR(INDEX($H$141:$L$141,MATCH($I165,$H$142:$L$142,1)),1)","v":1}]
[null,null,null,null,null,null,null,"Chosen Height",{"$f":"Kitchen!#REF!","v":{"$error":"#REF!"}},"Width",{"$f":"IFERROR(INDEX($F$143:$F$152,MATCH($I166,$G$143:$G$152,1)),1)","v":1}]
[null,null,null,null,null,null,null,"Chosen Width",{"$f":"Kitchen!#REF!","v":{"$error":"#REF!"}},"Price",{"$f":"IFERROR(VLOOKUP(K165,$F$143:$L$152,MATCH(K164,$F$141:$L$141,0),0),\"\")","v":228}]
[]
[]
[]
[null,null,null,null,null,null,null,1,2,3,4]
[null,null,null,null,null,null,null,286,720,900,1960]
[null,null,null,null,null,1,150,254,344,381,762]
[null,null,null,null,null,2,300,330,496,585,1017]
[]
[]
[null,null,null,null,null,null,null,"Wine Rack 1",null,"Height",{"$f":"IFERROR(INDEX($H$170:$K$170,MATCH(I177,$H$171:$K$171,1)),1)","v":1}]
[null,null,null,null,null,null,null,"Chosen Height",{"$f":"Kitchen!#REF!","v":{"$error":"#REF!"}},"Width",{"$f":"IFERROR(INDEX($F$172:$F$173,MATCH(I178,$G$172:$G$173,1)),1)","v":1}]
[null,null,null,null,null,null,null,"Chosen Width",{"$f":"Kitchen!#REF!","v":{"$error":"#REF!"}},"Price",{"$f":"IFERROR(VLOOKUP(K177,$F$172:$K$173,MATCH(K176,$F$170:$K$170,0),0),\"\")","v":254}]
[]
[null,null,null,null,null,null,null,"Wine Rack 2",null,"Height",{"$f":"IFERROR(INDEX($H$170:$K$170,MATCH(I181,$H$171:$K$171,1)),1)","v":1}]
[null,null,null,null,null,null,null,"Chosen Height",{"$f":"Kitchen!#REF!","v":{"$error":"#REF!"}},"Width",{"$f":"IFERROR(INDEX($F$172:$F$173,MATCH(I182,$G$172:$G$173,1)),1)","v":1}]
[null,null,null,null,null,null,null,"Chosen Width",{"$f":"Kitchen!#REF!","v":{"$error":"#REF!"}},"Price",{"$f":"IFERROR(VLOOKUP(K181,$F$172:$K$173,MATCH(K180,$F$170:$K$170,0),0),\"\")","v":254}]
[]
[null,null,null,null,null,null,null,"Wine Rack 3",null,"Height",{"$f":"IFERROR(INDEX($H$170:$K$170,MATCH(I185,$H$171:$K$171,1)),1)","v":1}]
[null,null,null,null,null,null,null,"Chosen Height",{"$f":"Kitchen!#REF!","v":{"$error":"#REF!"}},"Width",{"$f":"IFERROR(INDEX($F$172:$F$173,MATCH(I186,$G$172:$G$173,1)),1)","v":1}]
[null,null,null,null,null,null,null,"Chosen Width",{"$f":"Kitchen!#REF!","v":{"$error":"#REF!"}},"Price",{"$f":"IFERROR(VLOOKUP(K185,$F$172:$K$173,MATCH(K184,$F$170:$K$170,0),0),\"\")","v":254}]
[]
[]
[]
[]
[]
[null,null,null,null,null,null,null,"Assembled Talls",1]
[null,null,null,null,null,null,null,1,"Yes"]
[null,null,null,null,null,null,null,2,"No"]
[]
[]
[null,null,null,null,null,null,null,"Timber MTM Panels"]
[]
[null,null,null,null,null,null,null,1,"Select Range",{"$f":"VLOOKUP($B$1,A2:E378,5,0)","v":"EMD"}]
[null,null,null,null,null,null,null,2,"Woodgrain Painted MTM Panel"]
[null,null,null,null,null,null,null,3,"Strato Painted MTM Panel",null,null,null,null,null,null,null,null,null,"W"]
[null,null,null,null,null,null,null,4,"Strato Stained MTM Panel",null,null,null,null,null,null,null,null,null,1,2,3,4,5,6,7,8,9,10,11,12,13]
[null,null,null,null,null,null,null,null,null,null,null,null,null,null,null,null,"H",null,150,300,400,450,500,550,600,700,800,900,1000,1100,1200]
[null,null,null,null,null,null,null,"Panel 1",{"$f":"Kitchen!#REF!","v":{"$error":"#REF!"}},"Height",{"$f":"IFERROR(INDEX($Q$204:$Q$221,MATCH(I205,$R$204:$R$221,1)),1)","v":1},null,null,null,null,null,1,100,{"$f":"IF($I$204=$Q$1,R3,IF($I$204=$Q$22,R24,IF($I$204=$Q$43,R45)))","v":{"$error":"#REF!"}},{"$error":"#REF!"},{"$error":"#REF!"},{"$error":"#REF!"},{"$error":"#REF!"},{"$error":"#REF!"},{"$error":"#REF!"},{"$error":"#REF!"},{"$error":"#REF!"},{"$error":"#REF!"},{"$error":"#REF!"},{"$error":"#REF!"},{"$error":"#REF!"}]
[null,null,null,null,null,null,null,"Chosen Height",{"$f":"Kitchen!#REF!","v":{"$error":"#REF!"}},"Width",{"$f":"IFERROR(INDEX($S$202:$AE$202,MATCH(I206,$S$203:$AE$203,1)),1)","v":1},null,null,null,null,null,2,200,{"$f":"IF($I$204=$Q$1,R4,IF($I$204=$Q$22,R25,IF($I$204=$Q$43,R46)))","v":{"$error":"#REF!"}},{"$error":"#REF!"},{"$error":"#REF!"},{"$error":"#REF!"},{"$error":"#REF!"},{"$error":"#REF!"},{"$error":"#REF!"},{"$error":"#REF!"},{"$error":"#REF!"},{"$error":"#REF!"},{"$error":"#REF!"},{"$error":"#REF!"},{"$error":"#REF!"}]
[null,null,null,null,null,null,null,"Chosen Width",{"$f":"Kitchen!#REF!","v":{"$error":"#REF!"}},"Price",{"$f":"IFERROR(VLOOKUP(K204,$Q$204:$AE$221,MATCH(K205,$Q$202:$AE$202,0),0),\"\")","v":""},null,null,null,null,null,3,300,{"$f":"IF($I$204=$Q$1,R5,IF($I$204=$Q$22,R26,IF($I$204=$Q$43,R47)))","v":{"$error":"#REF!"}},{"$error":"#REF!"},{"$error":"#REF!"},{"$error":"#REF!"},{"$error":"#REF!"},{"$error":"#REF!"},{"$error":"#REF!"},{"$error":"#REF!"},{"$error":"#REF!"},{"$error":"#REF!"},{"$error":"#REF!"},{"$error":"#REF!"},{"$error":"#REF!"}]
[null,null,null,null,null,null,null,null,null,null,null,null,null,null,null,null,4,400,{"$f":"IF($I$204=$Q$1,R6,IF($I$204=$Q$22,R27,IF($I$204=$Q$43,R48)))","v":{"$error":"#REF!"}},{"$error":"#REF!"},{"$error":"#REF!"},{"$error":"#REF!"},{"$error":"#REF!"},{"$error":"#REF!"},{"$error":"#REF!"},{"$error":"#REF!"},{"$error":"#REF!"},{"$error":"#REF!"},{"$error":"#REF!"},{"$error":"#REF!"},{"$error":"#REF!"}]
[null,null,null,null,null,null,null,"Panel 2",null,"Height",{"$f":"IFERROR(INDEX($Q$204:$Q$221,MATCH(I209,$R$204:$R$221,1)),1)","v":1},null,null,null,null,null,5,500,{"$f":"IF($I$204=$Q$1,R7,IF($I$204=$Q$22,R28,IF($I$204=$Q$43,R49)))","v":{"$error":"#REF!"}},{"$error":"#REF!"},{"$error":"#REF!"},{"$error":"#REF!"},{"$error":"#REF!"},{"$error":"#REF!"},{"$error":"#REF!"},{"$error":"#REF!"},{"$error":"#REF!"},{"$error":"#REF!"},{"$error":"#REF!"},{"$error":"#REF!"},{"$error":"#REF!"}]
[null,null,null,null,null,null,null,"Chosen Height",{"$f":"Kitchen!#REF!","v":{"$error":"#REF!"}},"Width",{"$f":"IFERROR(INDEX($S$202:$AE$202,MATCH(I210,$S$203:$AE$203,1)),1)","v":1},null,null,null,null,null,6,600,{"$f":"IF($I$204=$Q$1,R8,IF($I$204=$Q$22,R29,IF($I$204=$Q$43,R50)))","v":{"$error":"#REF!"}},{"$error":"#REF!"},{"$error":"#REF!"},{"$error":"#REF!"},{"$error":"#REF!"},{"$error":"#REF!"},{"$error":"#REF!"},{"$error":"#REF!"},{"$error":"#REF!"},{"$error":"#REF!"},{"$error":"#REF!"},{"$error":"#REF!"},{"$error":"#REF!"}]
[null,null,null,null,null,null,null,"Chosen Width",{"$f":"Kitchen!#REF!","v":{"$error":"#REF!"}},"Price",{"$f":"IFERROR(VLOOKUP(K208,$Q$204:$AE$221,MATCH(K209,$Q$202:$AE$202,0),0),\"\")","v":""},null,null,null,null,null,7,800,{"$f":"IF($I$204=$Q$1,R9,IF($I$204=$Q$22,R30,IF($I$204=$Q$43,R51)))","v":{"$error":"#REF!"}},{"$error":"#REF!"},{"$error":"#REF!"},{"$error":"#REF!"},{"$error":"#REF!"},{"$error":"#REF!"},{"$error":"#REF!"},{"$error":"#REF!"},{"$error":"#REF!"},{"$error":"#REF!"},{"$error":"#REF!"},{"$error":"#REF!"},{"$error":"#REF!"}]
[null,null,null,null,null,null,null,null,null,null,null,null,null,null,null,null,8,900,{"$f":"IF($I$204=$Q$1,R10,IF($I$204=$Q$22,R31,IF($I$204=$Q$43,R52)))","v":{"$error":"#REF!"}},{"$error":"#REF!"},{"$error":"#REF!"},{"$error":"#REF!"},{"$error":"#REF!"},{"$error":"#REF!"},{"$error":"#REF!"},{"$error":"#REF!"},{"$error":"#REF!"},{"$error":"#REF!"},{"$error":"#REF!"},{"$error":"#REF!"},{"$error":"#REF!"}]
[null,null,null,null,null,null,null,"Panel 3",null,"Height",{"$f":"IFERROR(INDEX($Q$204:$Q$221,MATCH(I213,$R$204:$R$221,1)),1)","v":1},null,null,null,null,null,9,1000,{"$f":"IF($I$204=$Q$1,R11,IF($I$204=$Q$22,R32,IF($I$204=$Q$43,R53)))","v":{"$error":"#REF!"}},{"$error":"#REF!"},{"$error":"#REF!"},{"$error":"#REF!"},{"$error":"#REF!"},{"$error":"#REF!"},{"$error":"#REF!"},{"$error":"#REF!"},{"$error":"#REF!"},{"$error":"#REF!"},{"$error":"#REF!"},{"$error":"#REF!"},{"$error":"#REF!"}]
[null,null,null,null,null,null,null,"Chosen Height",{"$f":"Kitchen!#REF!","v":{"$error":"#REF!"}},"Width",{"$f":"IFERROR(INDEX($S$202:$AE$202,MATCH(I214,$S$203:$AE$203,1)),1)","v":1},null,null,null,null,null,10,1100,{"$f":"IF($I$204=$Q$1,R12,IF($I$204=$Q$22,R33,IF($I$204=$Q$43,R54)))","v":{"$error":"#REF!"}},{"$error":"#REF!"},{"$error":"#REF!"},{"$error":"#REF!"},{"$error":"#REF!"},{"$error":"#REF!"},{"$error":"#REF!"},{"$error":"#REF!"},{"$error":"#REF!"},{"$error":"#REF!"},{"$error":"#REF!"},{"$error":"#REF!"},{"$error":"#REF!"}]
[null,null,null,null,null,null,null,"Chosen Width",{"$f":"Kitchen!#REF!","v":{"$error":"#REF!"}},"Price",{"$f":"IFERROR(VLOOKUP(K212,$Q$204:$AE$221,MATCH(K213,$Q$202:$AE$202,0),0),\"\")","v":""},null,null,null,null,null,11,1250,{"$f":"IF($I$204=$Q$1,R13,IF($I$204=$Q$22,R34,IF($I$204=$Q$43,R55)))","v":{"$error":"#REF!"}},{"$error":"#REF!"},{"$error":"#REF!"},{"$error":"#REF!"},{"$error":"#REF!"},{"$error":"#REF!"},{"$error":"#REF!"},{"$error":"#REF!"},{"$error":"#REF!"},{"$error":"#REF!"},{"$error":"#REF!"},{"$error":"#REF!"},{"$error":"#REF!"}]
[null,null,null,null,null,null,null,null,null,null,null,null,null,null,null,null,12,1500,{"$f":"IF($I$204=$Q$1,R14,IF($I$204=$Q$22,R35,IF($I$204=$Q$43,R56)))","v":{"$error":"#REF!"}},{"$error":"#REF!"},{"$error":"#REF!"},{"$error":"#REF!"},{"$error":"#REF!"},{"$error":"#REF!"},{"$error":"#REF!"},{"$error":"#REF!"},{"$error":"#REF!"},{"$error":"#REF!"},{"$error":"#REF!"},{"$error":"#REF!"},{"$error":"#REF!"}]
[null,null,null,null,null,null,null,"Panel 4",null,"Height",{"$f":"IFERROR(INDEX($Q$204:$Q$221,MATCH(I217,$R$204:$R$221,1)),1)","v":1},null,null,null,null,null,13,1600,{"$f":"IF($I$204=$Q$1,R15,IF($I$204=$Q$22,R36,IF($I$204=$Q$43,R57)))","v":{"$error":"#REF!"}},{"$error":"#REF!"},{"$error":"#REF!"},{"$error":"#REF!"},{"$error":"#REF!"},{"$error":"#REF!"},{"$error":"#REF!"},{"$error":"#REF!"},{"$error":"#REF!"},{"$error":"#REF!"},{"$error":"#REF!"},{"$error":"#REF!"},{"$error":"#REF!"}]
[null,null,null,null,null,null,null,"Chosen Height",{"$f":"Kitchen!#REF!","v":{"$error":"#REF!"}},"Width",{"$f":"IFERROR(INDEX($S$202:$AE$202,MATCH(I218,$S$203:$AE$203,1)),1)","v":1},null,null,null,null,null,14,1700,{"$f":"IF($I$204=$Q$1,R16,IF($I$204=$Q$22,R37,IF($I$204=$Q$43,R58)))","v":{"$error":"#REF!"}},{"$error":"#REF!"},{"$error":"#REF!"},{"$error":"#REF!"},{"$error":"#REF!"},{"$error":"#REF!"},{"$error":"#REF!"},{"$error":"#REF!"},{"$error":"#REF!"},{"$error":"#REF!"},{"$error":"#REF!"},{"$error":"#REF!"},{"$error":"#REF!"}]
[null,null,null,null,null,null,null,"Chosen Width",{"$f":"Kitchen!#REF!","v":{"$error":"#REF!"}},"Price",{"$f":"IFERROR(VLOOKUP(K216,$Q$204:$AE$221,MATCH(K217,$Q$202:$AE$202,0),0),\"\")","v":""},null,null,null,null,null,15,2000,{"$f":"IF($I$204=$Q$1,R17,IF($I$204=$Q$22,R38,IF($I$204=$Q$43,R59)))","v":{"$error":"#REF!"}},{"$error":"#REF!"},{"$error":"#REF!"},{"$error":"#REF!"},{"$error":"#REF!"},{"$error":"#REF!"},{"$error":"#REF!"},{"$error":"#REF!"},{"$error":"#REF!"},{"$error":"#REF!"},{"$error":"#REF!"},{"$error":"#REF!"},{"$error":"#REF!"}]
[null,null,null,null,null,null,null,null,null,null,null,null,null,null,null,null,16,2200,{"$f":"IF($I$204=$Q$1,R18,IF($I$204=$Q$22,R39,IF($I$204=$Q$43,R60)))","v":{"$error":"#REF!"}},{"$error":"#REF!"},{"$error":"#REF!"},{"$error":"#REF!"},{"$error":"#REF!"},{"$error":"#REF!"},{"$error":"#REF!"},{"$error":"#REF!"},{"$error":"#REF!"},{"$error":"#REF!"},{"$error":"#REF!"},{"$error":"#REF!"},{"$error":"#REF!"}]
[null,null,null,null,null,null,null,"Panel 5",null,"Height",{"$f":"IFERROR(INDEX($Q$204:$Q$221,MATCH(I221,$R$204:$R$221,1)),1)","v":1},null,null,null,null,null,17,2300,{"$f":"IF($I$204=$Q$1,R19,IF($I$204=$Q$22,R40,IF($I$204=$Q$43,R61)))","v":{"$error":"#REF!"}},{"$error":"#REF!"},{"$error":"#REF!"},{"$error":"#REF!"},{"$error":"#REF!"},{"$error":"#REF!"},{"$error":"#REF!"},{"$error":"#REF!"},{"$error":"#REF!"},{"$error":"#REF!"},{"$error":"#REF!"},{"$error":"#REF!"},{"$error":"#REF!"}]
[null,null,null,null,null,null,null,"Chosen Height",{"$f":"Kitchen!#REF!","v":{"$error":"#REF!"}},"Width",{"$f":"IFERROR(INDEX($S$202:$AE$202,MATCH(I222,$S$203:$AE$203,1)),1)","v":1},null,null,null,null,null,18,2500,{"$f":"IF($I$204=$Q$1,R20,IF($I$204=$Q$22,R41,IF($I$204=$Q$43,R62)))","v":{"$error":"#REF!"}},{"$error":"#REF!"},{"$error":"#REF!"},{"$error":"#REF!"},{"$error":"#REF!"},{"$error":"#REF!"},{"$error":"#REF!"},{"$error":"#REF!"},{"$error":"#REF!"},{"$error":"#REF!"},{"$error":"#REF!"},{"$error":"#REF!"},{"$error":"#REF!"}]
[null,null,null,null,null,null,null,"Chosen Width",{"$f":"Kitchen!#REF!","v":{"$error":"#REF!"}},"Price",{"$f":"IFERROR(VLOOKUP(K220,$Q$204:$AE$221,MATCH(K221,$Q$202:$AE$202,0),0),\"\")","v":""}]

{"sheet":"Codes","index":3,"n_rows":933,"n_cols":19,"rows_kept":933,"cut":false,"hidden":true,"merged":[]}
[null,"@LK-","LK-C-",1,2,3,4,5,6,7,8,9,10,11,12,13,14,15,16]
[null,"LK-A-","@LK-A-","Euro Matt Dove Grey","Euro Matt Dust Grey","Euro Matt Mussel","Euro Matt Sea Blue","Opaco Dove Grey","Opaco Dust Grey","Opaco Fjord","Opaco Mussel","Opaco Reed Green","Opaco Sea Blue","Grained Cashmere","Grained Dove Grey","Grained Dust Grey","Grained Ivory","Grained Mussel","Grained Sea Blue"]
[null,"Product Description","BOM / Prod ID","EMD-","EMY-","EMM-","EMS-","OPD-","OPY-","OPF-","OPM-","OPR-","OPS-","CSW-","DGW-","DYW-","ISW-","MSW-","NVW-"]
["BP15TY","150 HL Pull Out Base VS SUB","BP15TY","@LK-EMD-BP15TY","@LK-EMY-BP15TY","@LK-EMM-BP15TY","@LK-EMS-BP15TY","@LK-OPD-BP15TY","@LK-OPY-BP15TY","@LK-OPF-BP15TY","@LK-OPM-BP15TY","@LK-OPR-BP15TY","@LK-OPS-BP15TY","@LK-CSW-BP15TY","@LK-DGW-BP15TY","@LK-DYW-BP15TY","@LK-ISW-BP15TY","@LK-MSW-BP15TY","@LK-NVW-BP15TY"]
["BP3TY","300 HL Pull Out Base VS SUB","BP3TY","@LK-EMD-BP3TY","@LK-EMY-BP3TY","@LK-EMM-BP3TY","@LK-EMS-BP3TY","@LK-OPD-BP3TY","@LK-OPY-BP3TY","@LK-OPF-BP3TY","@LK-OPM-BP3TY","@LK-OPR-BP3TY","@LK-OPS-BP3TY","@LK-CSW-BP3TY","@LK-DGW-BP3TY","@LK-DYW-BP3TY","@LK-ISW-BP3TY","@LK-MSW-BP3TY","@LK-NVW-BP3TY"]
["BH15","150 HL Base Unit","BH15","@LK-EMD-BH15","@LK-EMY-BH15","@LK-EMM-BH15","@LK-EMS-BH15","@LK-OPD-BH15","@LK-OPY-BH15","@LK-OPF-BH15","@LK-OPM-BH15","@LK-OPR-BH15","@LK-OPS-BH15","@LK-CSW-BH15","@LK-DGW-BH15","@LK-DYW-BH15","@LK-ISW-BH15","@LK-MSW-BH15","@LK-NVW-BH15"]
["BH30","300 HL Base Unit","BH30","@LK-EMD-BH30","@LK-EMY-BH30","@LK-EMM-BH30","@LK-EMS-BH30","@LK-OPD-BH30","@LK-OPY-BH30","@LK-OPF-BH30","@LK-OPM-BH30","@LK-OPR-BH30","@LK-OPS-BH30","@LK-CSW-BH30","@LK-DGW-BH30","@LK-DYW-BH30","@LK-ISW-BH30","@LK-MSW-BH30","@LK-NVW-BH30"]
["BH3B","300 HL Base Unit & Bin","BH3B","@LK-EMD-BH3B","@LK-EMY-BH3B","@LK-EMM-BH3B","@LK-EMS-BH3B","@LK-OPD-BH3B","@LK-OPY-BH3B","@LK-OPF-BH3B","@LK-OPM-BH3B","@LK-OPR-BH3B","@LK-OPS-BH3B","@LK-CSW-BH3B","@LK-DGW-BH3B","@LK-DYW-BH3B","@LK-ISW-BH3B","@LK-MSW-BH3B","@LK-NVW-BH3B"]
["BH35","350 HL Base Unit","BH35","@LK-EMD-BH35","@LK-EMY-BH35","@LK-EMM-BH35","@LK-EMS-BH35","@LK-OPD-BH35","@LK-OPY-BH35","@LK-OPF-BH35","@LK-OPM-BH35","@LK-OPR-BH35","@LK-OPS-BH35","@LK-CSW-BH35","@LK-DGW-BH35","@LK-DYW-BH35","@LK-ISW-BH35","@LK-MSW-BH35","@LK-NVW-BH35"]
["BH40","400 HL Base Unit","BH40","@LK-EMD-BH40","@LK-EMY-BH40","@LK-EMM-BH40","@LK-EMS-BH40","@LK-OPD-BH40","@LK-OPY-BH40","@LK-OPF-BH40","@LK-OPM-BH40","@LK-OPR-BH40","@LK-OPS-BH40","@LK-CSW-BH40","@LK-DGW-BH40","@LK-DYW-BH40","@LK-ISW-BH40","@LK-MSW-BH40","@LK-NVW-BH40"]
["BH4B","400 HL Base Unit & Bin","BH4B","@LK-EMD-BH4B","@LK-EMY-BH4B","@LK-EMM-BH4B","@LK-EMS-BH4B","@LK-OPD-BH4B","@LK-OPY-BH4B","@LK-OPF-BH4B","@LK-OPM-BH4B","@LK-OPR-BH4B","@LK-OPS-BH4B","@LK-CSW-BH4B","@LK-DGW-BH4B","@LK-DYW-BH4B","@LK-ISW-BH4B","@LK-MSW-BH4B","@LK-NVW-BH4B"]
["BH45","450 HL Base Unit","BH45","@LK-EMD-BH45","@LK-EMY-BH45","@LK-EMM-BH45","@LK-EMS-BH45","@LK-OPD-BH45","@LK-OPY-BH45","@LK-OPF-BH45","@LK-OPM-BH45","@LK-OPR-BH45","@LK-OPS-BH45","@LK-CSW-BH45","@LK-DGW-BH45","@LK-DYW-BH45","@LK-ISW-BH45","@LK-MSW-BH45","@LK-NVW-BH45"]
["BH45B","450 HL Base Unit & Bin","BH45B","@LK-EMD-BH45B","@LK-EMY-BH45B","@LK-EMM-BH45B","@LK-EMS-BH45B","@LK-OPD-BH45B","@LK-OPY-BH45B","@LK-OPF-BH45B","@LK-OPM-BH45B","@LK-OPR-BH45B","@LK-OPS-BH45B","@LK-CSW-BH45B","@LK-DGW-BH45B","@LK-DYW-BH45B","@LK-ISW-BH45B","@LK-MSW-BH45B","@LK-NVW-BH45B"]
["BH50","500 HL Base Unit","BH50","@LK-EMD-BH50","@LK-EMY-BH50","@LK-EMM-BH50","@LK-EMS-BH50","@LK-OPD-BH50","@LK-OPY-BH50","@LK-OPF-BH50","@LK-OPM-BH50","@LK-OPR-BH50","@LK-OPS-BH50","@LK-CSW-BH50","@LK-DGW-BH50","@LK-DYW-BH50","@LK-ISW-BH50","@LK-MSW-BH50","@LK-NVW-BH50"]
["BH5B","500 HL Base Unit & Bin","BH5B","@LK-EMD-BH5B","@LK-EMY-BH5B","@LK-EMM-BH5B","@LK-EMS-BH5B","@LK-OPD-BH5B","@LK-OPY-BH5B","@LK-OPF-BH5B","@LK-OPM-BH5B","@LK-OPR-BH5B","@LK-OPS-BH5B","@LK-CSW-BH5B","@LK-DGW-BH5B","@LK-DYW-BH5B","@LK-ISW-BH5B","@LK-MSW-BH5B","@LK-NVW-BH5B"]
["BH50S","500 HL Sink Base Unit (Inc Liner)","BH50S","@LK-EMD-BH50S","@LK-EMY-BH50S","@LK-EMM-BH50S","@LK-EMS-BH50S","@LK-OPD-BH50S","@LK-OPY-BH50S","@LK-OPF-BH50S","@LK-OPM-BH50S","@LK-OPR-BH50S","@LK-OPS-BH50S","@LK-CSW-BH50S","@LK-DGW-BH50S","@LK-DYW-BH50S","@LK-ISW-BH50S","@LK-MSW-BH50S","@LK-NVW-BH50S"]
["BH60","600 HL Base Unit","BH60","@LK-EMD-BH60","@LK-EMY-BH60","@LK-EMM-BH60","@LK-EMS-BH60","@LK-OPD-BH60","@LK-OPY-BH60","@LK-OPF-BH60","@LK-OPM-BH60","@LK-OPR-BH60","@LK-OPS-BH60","@LK-CSW-BH60","@LK-DGW-BH60","@LK-DYW-BH60","@LK-ISW-BH60","@LK-MSW-BH60","@LK-NVW-BH60"]
["BH6B4","600 HL Base Unit & Bin (4 Bins)","BH6B4","@LK-EMD-BH6B4","@LK-EMY-BH6B4","@LK-EMM-BH6B4","@LK-EMS-BH6B4","@LK-OPD-BH6B4","@LK-OPY-BH6B4","@LK-OPF-BH6B4","@LK-OPM-BH6B4","@LK-OPR-BH6B4","@LK-OPS-BH6B4","@LK-CSW-BH6B4","@LK-DGW-BH6B4","@LK-DYW-BH6B4","@LK-ISW-BH6B4","@LK-MSW-BH6B4","@LK-NVW-BH6B4"]
["BH6B2","600 HL Base Unit & Bin (2 Bins)","BH6B2","@LK-EMD-BH6B2","@LK-EMY-BH6B2","@LK-EMM-BH6B2","@LK-EMS-BH6B2","@LK-OPD-BH6B2","@LK-OPY-BH6B2","@LK-OPF-BH6B2","@LK-OPM-BH6B2","@LK-OPR-BH6B2","@LK-OPS-BH6B2","@LK-CSW-BH6B2","@LK-DGW-BH6B2","@LK-DYW-BH6B2","@LK-ISW-BH6B2","@LK-MSW-BH6B2","@LK-NVW-BH6B2"]
["BH60S","600 HL Sink Base Unit (Inc Liner)","BH60S","@LK-EMD-BH60S","@LK-EMY-BH60S","@LK-EMM-BH60S","@LK-EMS-BH60S","@LK-OPD-BH60S","@LK-OPY-BH60S","@LK-OPF-BH60S","@LK-OPM-BH60S","@LK-OPR-BH60S","@LK-OPS-BH60S","@LK-CSW-BH60S","@LK-DGW-BH60S","@LK-DYW-BH60S","@LK-ISW-BH60S","@LK-MSW-BH60S","@LK-NVW-BH60S"]
["BH70","700 HL Base Unit","BH70","@LK-EMD-BH70","@LK-EMY-BH70","@LK-EMM-BH70","@LK-EMS-BH70","@LK-OPD-BH70","@LK-OPY-BH70","@LK-OPF-BH70","@LK-OPM-BH70","@LK-OPR-BH70","@LK-OPS-BH70","@LK-CSW-BH70","@LK-DGW-BH70","@LK-DYW-BH70","@LK-ISW-BH70","@LK-MSW-BH70","@LK-NVW-BH70"]
["BH80","800 HL Base Unit","BH80","@LK-EMD-BH80","@LK-EMY-BH80","@LK-EMM-BH80","@LK-EMS-BH80","@LK-OPD-BH80","@LK-OPY-BH80","@LK-OPF-BH80","@LK-OPM-BH80","@LK-OPR-BH80","@LK-OPS-BH80","@LK-CSW-BH80","@LK-DGW-BH80","@LK-DYW-BH80","@LK-ISW-BH80","@LK-MSW-BH80","@LK-NVW-BH80"]
["BH80S","800 HL Sink Base Unit (Inc Liner)","BH80S","@LK-EMD-BH80S","@LK-EMY-BH80S","@LK-EMM-BH80S","@LK-EMS-BH80S","@LK-OPD-BH80S","@LK-OPY-BH80S","@LK-OPF-BH80S","@LK-OPM-BH80S","@LK-OPR-BH80S","@LK-OPS-BH80S","@LK-CSW-BH80S","@LK-DGW-BH80S","@LK-DYW-BH80S","@LK-ISW-BH80S","@LK-MSW-BH80S","@LK-NVW-BH80S"]
["BH90","900 HL Base Unit","BH90","@LK-EMD-BH90","@LK-EMY-BH90","@LK-EMM-BH90","@LK-EMS-BH90","@LK-OPD-BH90","@LK-OPY-BH90","@LK-OPF-BH90","@LK-OPM-BH90","@LK-OPR-BH90","@LK-OPS-BH90","@LK-CSW-BH90","@LK-DGW-BH90","@LK-DYW-BH90","@LK-ISW-BH90","@LK-MSW-BH90","@LK-NVW-BH90"]
["BH90S","900 HL Sink Base Unit (Inc Liner)","BH90S","@LK-EMD-BH90S","@LK-EMY-BH90S","@LK-EMM-BH90S","@LK-EMS-BH90S","@LK-OPD-BH90S","@LK-OPY-BH90S","@LK-OPF-BH90S","@LK-OPM-BH90S","@LK-OPR-BH90S","@LK-OPS-BH90S","@LK-CSW-BH90S","@LK-DGW-BH90S","@LK-DYW-BH90S","@LK-ISW-BH90S","@LK-MSW-BH90S","@LK-NVW-BH90S"]
["BH100","1000 HL Base Unit","BH100","@LK-EMD-BH100","@LK-EMY-BH100","@LK-EMM-BH100","@LK-EMS-BH100","@LK-OPD-BH100","@LK-OPY-BH100","@LK-OPF-BH100","@LK-OPM-BH100","@LK-OPR-BH100","@LK-OPS-BH100","@LK-CSW-BH100","@LK-DGW-BH100","@LK-DYW-BH100","@LK-ISW-BH100","@LK-MSW-BH100","@LK-NVW-BH100"]
["BH10S","1000 HL Sink Base Unit (Inc Liner)","BH10S","@LK-EMD-BH10S","@LK-EMY-BH10S","@LK-EMM-BH10S","@LK-EMS-BH10S","@LK-OPD-BH10S","@LK-OPY-BH10S","@LK-OPF-BH10S","@LK-OPM-BH10S","@LK-OPR-BH10S","@LK-OPS-BH10S","@LK-CSW-BH10S","@LK-DGW-BH10S","@LK-DYW-BH10S","@LK-ISW-BH10S","@LK-MSW-BH10S","@LK-NVW-BH10S"]
["BC83","800 HL Cnr Base (300 Door)","BC83","@LK-EMD-BC83","@LK-EMY-BC83","@LK-EMM-BC83","@LK-EMS-BC83","@LK-OPD-BC83","@LK-OPY-BC83","@LK-OPF-BC83","@LK-OPM-BC83","@LK-OPR-BC83","@LK-OPS-BC83","@LK-CSW-BC83","@LK-DGW-BC83","@LK-DYW-BC83","@LK-ISW-BC83","@LK-MSW-BC83","@LK-NVW-BC83"]
["BC84","800 HL Cnr Base Unit (400 Door)","BC84","@LK-EMD-BC84","@LK-EMY-BC84","@LK-EMM-BC84","@LK-EMS-BC84","@LK-OPD-BC84","@LK-OPY-BC84","@LK-OPF-BC84","@LK-OPM-BC84","@LK-OPR-BC84","@LK-OPS-BC84","@LK-CSW-BC84","@LK-DGW-BC84","@LK-DYW-BC84","@LK-ISW-BC84","@LK-MSW-BC84","@LK-NVW-BC84"]
["BC845","800 HL Cnr Base (450 Door)","BC845","@LK-EMD-BC845","@LK-EMY-BC845","@LK-EMM-BC845","@LK-EMS-BC845","@LK-OPD-BC845","@LK-OPY-BC845","@LK-OPF-BC845","@LK-OPM-BC845","@LK-OPR-BC845","@LK-OPS-BC845","@LK-CSW-BC845","@LK-DGW-BC845","@LK-DYW-BC845","@LK-ISW-BC845","@LK-MSW-BC845","@LK-NVW-BC845"]
["BC945","900 HL Cnr Base (450 Door)","BC945","@LK-EMD-BC945","@LK-EMY-BC945","@LK-EMM-BC945","@LK-EMS-BC945","@LK-OPD-BC945","@LK-OPY-BC945","@LK-OPF-BC945","@LK-OPM-BC945","@LK-OPR-BC945","@LK-OPS-BC945","@LK-CSW-BC945","@LK-DGW-BC945","@LK-DYW-BC945","@LK-ISW-BC945","@LK-MSW-BC945","@LK-NVW-BC945"]
["BC145","1000 HL Cnr Base (450 Door)","BC145","@LK-EMD-BC145","@LK-EMY-BC145","@LK-EMM-BC145","@LK-EMS-BC145","@LK-OPD-BC145","@LK-OPY-BC145","@LK-OPF-BC145","@LK-OPM-BC145","@LK-OPR-BC145","@LK-OPS-BC145","@LK-CSW-BC145","@LK-DGW-BC145","@LK-DYW-BC145","@LK-ISW-BC145","@LK-MSW-BC145","@LK-NVW-BC145"]
["BC15","1000 HL Cnr Base (500 Door)","BC15","@LK-EMD-BC15","@LK-EMY-BC15","@LK-EMM-BC15","@LK-EMS-BC15","@LK-OPD-BC15","@LK-OPY-BC15","@LK-OPF-BC15","@LK-OPM-BC15","@LK-OPR-BC15","@LK-OPS-BC15","@LK-CSW-BC15","@LK-DGW-BC15","@LK-DYW-BC15","@LK-ISW-BC15","@LK-MSW-BC15","@LK-NVW-BC15"]
["BC16","1000 HL Cnr Base (600 Door)","BC16","@LK-EMD-BC16","@LK-EMY-BC16","@LK-EMM-BC16","@LK-EMS-BC16","@LK-OPD-BC16","@LK-OPY-BC16","@LK-OPF-BC16","@LK-OPM-BC16","@LK-OPR-BC16","@LK-OPS-BC16","@LK-CSW-BC16","@LK-DGW-BC16","@LK-DYW-BC16","@LK-ISW-BC16","@LK-MSW-BC16","@LK-NVW-BC16"]
["BCL15L","1000 Cnr Base CORNERSTONE MAXX LH - 500 door","BCL15L","@LK-EMD-BCL15L","@LK-EMY-BCL15L","@LK-EMM-BCL15L","@LK-EMS-BCL15L","@LK-OPD-BCL15L","@LK-OPY-BCL15L","@LK-OPF-BCL15L","@LK-OPM-BCL15L","@LK-OPR-BCL15L","@LK-OPS-BCL15L","@LK-CSW-BCL15L","@LK-DGW-BCL15L","@LK-DYW-BCL15L","@LK-ISW-BCL15L","@LK-MSW-BCL15L","@LK-NVW-BCL15L"]
["BCL15R","1000 Cnr Base CORNERSTONE MAXX RH - 500 door","BCL15R","@LK-EMD-BCL15R","@LK-EMY-BCL15R","@LK-EMM-BCL15R","@LK-EMS-BCL15R","@LK-OPD-BCL15R","@LK-OPY-BCL15R","@LK-OPF-BCL15R","@LK-OPM-BCL15R","@LK-OPR-BCL15R","@LK-OPS-BCL15R","@LK-CSW-BCL15R","@LK-DGW-BCL15R","@LK-DYW-BCL15R","@LK-ISW-BCL15R","@LK-MSW-BCL15R","@LK-NVW-BCL15R"]
["BCL16L","1000 Cnr Base CORNERSTONE MAXX LH - 600 door","BCL16L","@LK-EMD-BCL16L","@LK-EMY-BCL16L","@LK-EMM-BCL16L","@LK-EMS-BCL16L","@LK-OPD-BCL16L","@LK-OPY-BCL16L","@LK-OPF-BCL16L","@LK-OPM-BCL16L","@LK-OPR-BCL16L","@LK-OPS-BCL16L","@LK-CSW-BCL16L","@LK-DGW-BCL16L","@LK-DYW-BCL16L","@LK-ISW-BCL16L","@LK-MSW-BCL16L","@LK-NVW-BCL16L"]
["BCL16R","1000 Cnr Base CORNERSTONE MAXX RH - 600 door","BCL16R","@LK-EMD-BCL16R","@LK-EMY-BCL16R","@LK-EMM-BCL16R","@LK-EMS-BCL16R","@LK-OPD-BCL16R","@LK-OPY-BCL16R","@LK-OPF-BCL16R","@LK-OPM-BCL16R","@LK-OPR-BCL16R","@LK-OPS-BCL16R","@LK-CSW-BCL16R","@LK-DGW-BCL16R","@LK-DYW-BCL16R","@LK-ISW-BCL16R","@LK-MSW-BCL16R","@LK-NVW-BCL16R"]
["BCO945","900 Corner Base VS COR FLEX - 450 door","BCO945","@LK-EMD-BCO945","@LK-EMY-BCO945","@LK-EMM-BCO945","@LK-EMS-BCO945","@LK-OPD-BCO945","@LK-OPY-BCO945","@LK-OPF-BCO945","@LK-OPM-BCO945","@LK-OPR-BCO945","@LK-OPS-BCO945","@LK-CSW-BCO945","@LK-DGW-BCO945","@LK-DYW-BCO945","@LK-ISW-BCO945","@LK-MSW-BCO945","@LK-NVW-BCO945"]
["BCO145","1000 Corner Base VS COR FLEX - 450 door","BCO145","@LK-EMD-BCO145","@LK-EMY-BCO145","@LK-EMM-BCO145","@LK-EMS-BCO145","@LK-OPD-BCO145","@LK-OPY-BCO145","@LK-OPF-BCO145","@LK-OPM-BCO145","@LK-OPR-BCO145","@LK-OPS-BCO145","@LK-CSW-BCO145","@LK-DGW-BCO145","@LK-DYW-BCO145","@LK-ISW-BCO145","@LK-MSW-BCO145","@LK-NVW-BCO145"]
["BCO15","1000 Corner Base VS COR FLEX - 500 door","BCO15","@LK-EMD-BCO15","@LK-EMY-BCO15","@LK-EMM-BCO15","@LK-EMS-BCO15","@LK-OPD-BCO15","@LK-OPY-BCO15","@LK-OPF-BCO15","@LK-OPM-BCO15","@LK-OPR-BCO15","@LK-OPS-BCO15","@LK-CSW-BCO15","@LK-DGW-BCO15","@LK-DYW-BCO15","@LK-ISW-BCO15","@LK-MSW-BCO15","@LK-NVW-BCO15"]
["BCO16","1000 Corner Base VS COR FLEX - 600 door","BCO16","@LK-EMD-BCO16","@LK-EMY-BCO16","@LK-EMM-BCO16","@LK-EMS-BCO16","@LK-OPD-BCO16","@LK-OPY-BCO16","@LK-OPF-BCO16","@LK-OPM-BCO16","@LK-OPR-BCO16","@LK-OPS-BCO16","@LK-CSW-BCO16","@LK-DGW-BCO16","@LK-DYW-BCO16","@LK-ISW-BCO16","@LK-MSW-BCO16","@LK-NVW-BCO16"]
["BCL9","950 HL Cnr L Base","BCL9","@LK-EMD-BCL9","@LK-EMY-BCL9","@LK-EMM-BCL9","@LK-EMS-BCL9","@LK-OPD-BCL9","@LK-OPY-BCL9","@LK-OPF-BCL9","@LK-OPM-BCL9","@LK-OPR-BCL9","@LK-OPS-BCL9","@LK-CSW-BCL9","@LK-DGW-BCL9","@LK-DYW-BCL9","@LK-ISW-BCL9","@LK-MSW-BCL9","@LK-NVW-BCL9"]
["BHCV","Curved Base Unit","BHCV","Not Available","Not Available","Not Available","Not Available","Not Available","Not Available","Not Available","Not Available","Not Available","Not Available","@LK-CSW-BHCV","@LK-DGW-BHCV","@LK-DYW-BHCV","@LK-ISW-BHCV","@LK-MSW-BHCV","@LK-NVW-BHCV"]
["BSU6495","600 Belfast Sink Unit (495mm High)","BSU6495","@LK-EMD-BSU6495","@LK-EMY-BSU6495","@LK-EMM-BSU6495","@LK-EMS-BSU6495","@LK-OPD-BSU6495","@LK-OPY-BSU6495","@LK-OPF-BSU6495","@LK-OPM-BSU6495","@LK-OPR-BSU6495","@LK-OPS-BSU6495","@LK-CSW-BSU6495","@LK-DGW-BSU6495","@LK-DYW-BSU6495","@LK-ISW-BSU6495","@LK-MSW-BSU6495","@LK-NVW-BSU6495"]
["BSU6450","600 Belfast Sink Unit (450mm High)","BSU6450","@LK-EMD-BSU6450","@LK-EMY-BSU6450","@LK-EMM-BSU6450","@LK-EMS-BSU6450","@LK-OPD-BSU6450","@LK-OPY-BSU6450","@LK-OPF-BSU6450","@LK-OPM-BSU6450","@LK-OPR-BSU6450","@LK-OPS-BSU6450","@LK-CSW-BSU6450","@LK-DGW-BSU6450","@LK-DYW-BSU6450","@LK-ISW-BSU6450","@LK-MSW-BSU6450","@LK-NVW-BSU6450"]
["BSU8495","800 Belfast Sink Unit (495mm High)","BSU8495","Not Available","Not Available","Not Available","Not Available","Not Available","Not Available","Not Available","Not Available","Not Available","Not Available","Not Available","Not Available","Not Available","Not Available","Not Available","Not Available"]
["BDL3","300 DL Base Unit","BDL3","Not Available","Not Available","Not Available","Not Available","Not Available","Not Available","Not Available","Not Available","Not Available","Not Available","@LK-CSW-BDL3","@LK-DGW-BDL3","@LK-DYW-BDL3","@LK-ISW-BDL3","@LK-MSW-BDL3","@LK-NVW-BDL3"]
["BDL4","400 DL Base Unit","BDL4","Not Available","Not Available","Not Available","Not Available","Not Available","Not Available","Not Available","Not Available","Not Available","Not Available","@LK-CSW-BDL4","@LK-DGW-BDL4","@LK-DYW-BDL4","@LK-ISW-BDL4","@LK-MSW-BDL4","@LK-NVW-BDL4"]
["BDL5","500 DL Base Unit","BDL5","Not Available","Not Available","Not Available","Not Available","Not Available","Not Available","Not Available","Not Available","Not Available","Not Available","@LK-CSW-BDL5","@LK-DGW-BDL5","@LK-DYW-BDL5","@LK-ISW-BDL5","@LK-MSW-BDL5","@LK-NVW-BDL5"]
["BDL6","600 DL Base Unit","BDL6","Not Available","Not Available","Not Available","Not Available","Not Available","Not Available","Not Available","Not Available","Not Available","Not Available","@LK-CSW-BDL6","@LK-DGW-BDL6","@LK-DYW-BDL6","@LK-ISW-BDL6","@LK-MSW-BDL6","@LK-NVW-BDL6"]
["BDL8","800 DL Base Unit","BDL8","Not Available","Not Available","Not Available","Not Available","Not Available","Not Available","Not Available","Not Available","Not Available","Not Available","@LK-CSW-BDL8","@LK-DGW-BDL8","@LK-DYW-BDL8","@LK-ISW-BDL8","@LK-MSW-BDL8","@LK-NVW-BDL8"]
["BDL10","1000 DL Base Unit","BDL10","Not Available","Not Available","Not Available","Not Available","Not Available","Not Available","Not Available","Not Available","Not Available","Not Available","@LK-CSW-BDL10","@LK-DGW-BDL10","@LK-DYW-BDL10","@LK-ISW-BDL10","@LK-MSW-BDL10","@LK-NVW-BDL10"]
["BDL81DW","800 DL Base Unit 1 Drawer 2 Doors","BDL81DW","Not Available","Not Available","Not Available","Not Available","Not Available","Not Available","Not Available","Not Available","Not Available","Not Available","@LK-CSW-BDL81DW","@LK-DGW-BDL81DW","@LK-DYW-BDL81DW","@LK-ISW-BDL81DW","@LK-MSW-BDL81DW","@LK-NVW-BDL81DW"]
["BDL91DW","900 DL Base Unit 1 Drawer 2 Doors","BDL91DW","Not Available","Not Available","Not Available","Not Available","Not Available","Not Available","Not Available","Not Available","Not Available","Not Available","@LK-CSW-BDL91DW","@LK-DGW-BDL91DW","@LK-DYW-BDL91DW","@LK-ISW-BDL91DW","@LK-MSW-BDL91DW","@LK-NVW-BDL91DW"]
["BDL101DW","1000 DL Base Unit 1 Drawer 2 Doors","BDL101DW","Not Available","Not Available","Not Available","Not Available","Not Available","Not Available","Not Available","Not Available","Not Available","Not Available","@LK-CSW-BDL101DW","@LK-DGW-BDL101DW","@LK-DYW-BDL101DW","@LK-ISW-BDL101DW","@LK-MSW-BDL101DW","@LK-NVW-BDL101DW"]
["BDLC83","800 DL Cnr Base (300 Door)","BDLC83","Not Available","Not Available","Not Available","Not Available","Not Available","Not Available","Not Available","Not Available","Not Available","Not Available","@LK-CSW-BDLC83","@LK-DGW-BDLC83","@LK-DYW-BDLC83","@LK-ISW-BDLC83","@LK-MSW-BDLC83","@LK-NVW-BDLC83"]
["BDLC84","800 DL Cnr Base (400 Door)","BDLC84","Not Available","Not Available","Not Available","Not Available","Not Available","Not Available","Not Available","Not Available","Not Available","Not Available","@LK-CSW-BDLC84","@LK-DGW-BDLC84","@LK-DYW-BDLC84","@LK-ISW-BDLC84","@LK-MSW-BDLC84","@LK-NVW-BDLC84"]
["BDLC85","800 DL Cnr Base (500 Door)","BDLC85","Not Available","Not Available","Not Available","Not Available","Not Available","Not Available","Not Available","Not Available","Not Available","Not Available","@LK-CSW-BDLC85","@LK-DGW-BDLC85","@LK-DYW-BDLC85","@LK-ISW-BDLC85","@LK-MSW-BDLC85","@LK-NVW-BDLC85"]
["BDLC15","1000 DL Cnr Base (500 Door)","BDLC15","Not Available","Not Available","Not Available","Not Available","Not Available","Not Available","Not Available","Not Available","Not Available","Not Available","@LK-CSW-BDLC15","@LK-DGW-BDLC15","@LK-DYW-BDLC15","@LK-ISW-BDLC15","@LK-MSW-BDLC15","@LK-NVW-BDLC15"]
["BDLC16","1000 DL Cnr Base (600 Door)","BDLC16","Not Available","Not Available","Not Available","Not Available","Not Available","Not Available","Not Available","Not Available","Not Available","Not Available","@LK-CSW-BDLC16","@LK-DGW-BDLC16","@LK-DYW-BDLC16","@LK-ISW-BDLC16","@LK-MSW-BDLC16","@LK-NVW-BDLC16"]
["BD54","500 4 Drw Base Unit","BD54","@LK-EMD-BD54","@LK-EMY-BD54","@LK-EMM-BD54","@LK-EMS-BD54","@LK-OPD-BD54","@LK-OPY-BD54","@LK-OPF-BD54","@LK-OPM-BD54","@LK-OPR-BD54","@LK-OPS-BD54","@LK-CSW-BD54","@LK-DGW-BD54","@LK-DYW-BD54","@LK-ISW-BD54","@LK-MSW-BD54","@LK-NVW-BD54"]
["BD53","500 3 Drw Base Unit","BD53","@LK-EMD-BD53","@LK-EMY-BD53","@LK-EMM-BD53","@LK-EMS-BD53","@LK-OPD-BD53","@LK-OPY-BD53","@LK-OPF-BD53","@LK-OPM-BD53","@LK-OPR-BD53","@LK-OPS-BD53","@LK-CSW-BD53","@LK-DGW-BD53","@LK-DYW-BD53","@LK-ISW-BD53","@LK-MSW-BD53","@LK-NVW-BD53"]
["BD63","600 3 Drw Base Unit","BD63","@LK-EMD-BD63","@LK-EMY-BD63","@LK-EMM-BD63","@LK-EMS-BD63","@LK-OPD-BD63","@LK-OPY-BD63","@LK-OPF-BD63","@LK-OPM-BD63","@LK-OPR-BD63","@LK-OPS-BD63","@LK-CSW-BD63","@LK-DGW-BD63","@LK-DYW-BD63","@LK-ISW-BD63","@LK-MSW-BD63","@LK-NVW-BD63"]
["BD83","800 3 Drw Base Unit","BD83","@LK-EMD-BD83","@LK-EMY-BD83","@LK-EMM-BD83","@LK-EMS-BD83","@LK-OPD-BD83","@LK-OPY-BD83","@LK-OPF-BD83","@LK-OPM-BD83","@LK-OPR-BD83","@LK-OPS-BD83","@LK-CSW-BD83","@LK-DGW-BD83","@LK-DYW-BD83","@LK-ISW-BD83","@LK-MSW-BD83","@LK-NVW-BD83"]
["BD93","900 3 Drw Base Unit","BD93","@LK-EMD-BD93","@LK-EMY-BD93","@LK-EMM-BD93","@LK-EMS-BD93","@LK-OPD-BD93","@LK-OPY-BD93","@LK-OPF-BD93","@LK-OPM-BD93","@LK-OPR-BD93","@LK-OPS-BD93","@LK-CSW-BD93","@LK-DGW-BD93","@LK-DYW-BD93","@LK-ISW-BD93","@LK-MSW-BD93","@LK-NVW-BD93"]
["BD13","1000 3 Drw Base Unit","BD13","@LK-EMD-BD13","@LK-EMY-BD13","@LK-EMM-BD13","@LK-EMS-BD13","@LK-OPD-BD13","@LK-OPY-BD13","@LK-OPF-BD13","@LK-OPM-BD13","@LK-OPR-BD13","@LK-OPS-BD13","@LK-CSW-BD13","@LK-DGW-BD13","@LK-DYW-BD13","@LK-ISW-BD13","@LK-MSW-BD13","@LK-NVW-BD13"]
["BD62","600 2 Pan Drw Unit","BD62","@LK-EMD-BD62","@LK-EMY-BD62","@LK-EMM-BD62","@LK-EMS-BD62","@LK-OPD-BD62","@LK-OPY-BD62","@LK-OPF-BD62","@LK-OPM-BD62","@LK-OPR-BD62","@LK-OPS-BD62","@LK-CSW-BD62","@LK-DGW-BD62","@LK-DYW-BD62","@LK-ISW-BD62","@LK-MSW-BD62","@LK-NVW-BD62"]
["BD82","800 2 Pan Drw Unit","BD82","Not Available","Not Available","Not Available","Not Available","Not Available","Not Available","Not Available","Not Available","Not Available","Not Available","Not Available","Not Available","Not Available","Not Available","Not Available","Not Available"]
["BD92","900 2 Pan Drw Unit","BD92","@LK-EMD-BD92","@LK-EMY-BD92","@LK-EMM-BD92","@LK-EMS-BD92","@LK-OPD-BD92","@LK-OPY-BD92","@LK-OPF-BD92","@LK-OPM-BD92","@LK-OPR-BD92","@LK-OPS-BD92","@LK-CSW-BD92","@LK-DGW-BD92","@LK-DYW-BD92","@LK-ISW-BD92","@LK-MSW-BD92","@LK-NVW-BD92"]
["BD12","1000 2 Pan Drw Unit","BD12","Not Available","Not Available","Not Available","Not Available","Not Available","Not Available","Not Available","Not Available","Not Available","Not Available","Not Available","Not Available","Not Available","Not Available","Not Available","Not Available"]
["BD62I","600 2 Pan Drw Unit + 1 Internal","BD62I","@LK-EMD-BD62I","@LK-EMY-BD62I","@LK-EMM-BD62I","@LK-EMS-BD62I","@LK-OPD-BD62I","@LK-OPY-BD62I","@LK-OPF-BD62I","@LK-OPM-BD62I","@LK-OPR-BD62I","@LK-OPS-BD62I","@LK-CSW-BD62I","@LK-DGW-BD62I","@LK-DYW-BD62I","@LK-ISW-BD62I","@LK-MSW-BD62I","@LK-NVW-BD62I"]
["BD82I","800 2 Pan Drw Unit + 1 Internal","BD82I","Not Available","Not Available","Not Available","Not Available","Not Available","Not Available","Not Available","Not Available","Not Available","Not Available","Not Available","Not Available","Not Available","Not Available","Not Available","Not Available"]
["BD92I","900 2 Pan Drw Unit + 1 Internal","BD92I","@LK-EMD-BD92I","@LK-EMY-BD92I","@LK-EMM-BD92I","@LK-EMS-BD92I","@LK-OPD-BD92I","@LK-OPY-BD92I","@LK-OPF-BD92I","@LK-OPM-BD92I","@LK-OPR-BD92I","@LK-OPS-BD92I","@LK-CSW-BD92I","@LK-DGW-BD92I","@LK-DYW-BD92I","@LK-ISW-BD92I","@LK-MSW-BD92I","@LK-NVW-BD92I"]
["BD12I","1000 2 Pan Drw Unit + 1 Internal","BD12I","Not Available","Not Available","Not Available","Not Available","Not Available","Not Available","Not Available","Not Available","Not Available","Not Available","Not Available","Not Available","Not Available","Not Available","Not Available","Not Available"]
["BD635L","600 Low Single Drawer unit 360 high","BD635L","@LK-EMD-BD635L","@LK-EMY-BD635L","@LK-EMM-BD635L","@LK-EMS-BD635L","@LK-OPD-BD635L","@LK-OPY-BD635L","@LK-OPF-BD635L","@LK-OPM-BD635L","@LK-OPR-BD635L","@LK-OPS-BD635L","@LK-CSW-BD635L","@LK-DGW-BD635L","@LK-DYW-BD635L","@LK-ISW-BD635L","@LK-MSW-BD635L","@LK-NVW-BD635L"]
["W30","300 Wall Unit (720mm High)","W30","@LK-EMD-W30","@LK-EMY-W30","@LK-EMM-W30","@LK-EMS-W30","@LK-OPD-W30","@LK-OPY-W30","@LK-OPF-W30","@LK-OPM-W30","@LK-OPR-W30","@LK-OPS-W30","@LK-CSW-W30","@LK-DGW-W30","@LK-DYW-W30","@LK-ISW-W30","@LK-MSW-W30","@LK-NVW-W30"]
["W35","350 Wall Unit (720mm High)","W35","@LK-EMD-W35","@LK-EMY-W35","@LK-EMM-W35","@LK-EMS-W35","@LK-OPD-W35","@LK-OPY-W35","@LK-OPF-W35","@LK-OPM-W35","@LK-OPR-W35","@LK-OPS-W35","@LK-CSW-W35","@LK-DGW-W35","@LK-DYW-W35","@LK-ISW-W35","@LK-MSW-W35","@LK-NVW-W35"]
["W40","400 Wall Unit (720mm High)","W40","@LK-EMD-W40","@LK-EMY-W40","@LK-EMM-W40","@LK-EMS-W40","@LK-OPD-W40","@LK-OPY-W40","@LK-OPF-W40","@LK-OPM-W40","@LK-OPR-W40","@LK-OPS-W40","@LK-CSW-W40","@LK-DGW-W40","@LK-DYW-W40","@LK-ISW-W40","@LK-MSW-W40","@LK-NVW-W40"]
["W45","450 Wall Unit (720mm High)","W45","@LK-EMD-W45","@LK-EMY-W45","@LK-EMM-W45","@LK-EMS-W45","@LK-OPD-W45","@LK-OPY-W45","@LK-OPF-W45","@LK-OPM-W45","@LK-OPR-W45","@LK-OPS-W45","@LK-CSW-W45","@LK-DGW-W45","@LK-DYW-W45","@LK-ISW-W45","@LK-MSW-W45","@LK-NVW-W45"]
["W50","500 Wall Unit (720mm High)","W50","@LK-EMD-W50","@LK-EMY-W50","@LK-EMM-W50","@LK-EMS-W50","@LK-OPD-W50","@LK-OPY-W50","@LK-OPF-W50","@LK-OPM-W50","@LK-OPR-W50","@LK-OPS-W50","@LK-CSW-W50","@LK-DGW-W50","@LK-DYW-W50","@LK-ISW-W50","@LK-MSW-W50","@LK-NVW-W50"]
["W60","600 Wall Unit (720mm High)","W60","@LK-EMD-W60","@LK-EMY-W60","@LK-EMM-W60","@LK-EMS-W60","@LK-OPD-W60","@LK-OPY-W60","@LK-OPF-W60","@LK-OPM-W60","@LK-OPR-W60","@LK-OPS-W60","@LK-CSW-W60","@LK-DGW-W60","@LK-DYW-W60","@LK-ISW-W60","@LK-MSW-W60","@LK-NVW-W60"]
["W70","700 Wall Unit (720mm High)","W70","@LK-EMD-W70","@LK-EMY-W70","@LK-EMM-W70","@LK-EMS-W70","@LK-OPD-W70","@LK-OPY-W70","@LK-OPF-W70","@LK-OPM-W70","@LK-OPR-W70","@LK-OPS-W70","@LK-CSW-W70","@LK-DGW-W70","@LK-DYW-W70","@LK-ISW-W70","@LK-MSW-W70","@LK-NVW-W70"]
["W80","800 Wall Unit (720mm High)","W80","@LK-EMD-W80","@LK-EMY-W80","@LK-EMM-W80","@LK-EMS-W80","@LK-OPD-W80","@LK-OPY-W80","@LK-OPF-W80","@LK-OPM-W80","@LK-OPR-W80","@LK-OPS-W80","@LK-CSW-W80","@LK-DGW-W80","@LK-DYW-W80","@LK-ISW-W80","@LK-MSW-W80","@LK-NVW-W80"]
["W90","900 Wall Unit (720mm High)","W90","@LK-EMD-W90","@LK-EMY-W90","@LK-EMM-W90","@LK-EMS-W90","@LK-OPD-W90","@LK-OPY-W90","@LK-OPF-W90","@LK-OPM-W90","@LK-OPR-W90","@LK-OPS-W90","@LK-CSW-W90","@LK-DGW-W90","@LK-DYW-W90","@LK-ISW-W90","@LK-MSW-W90","@LK-NVW-W90"]
["W100","1000 Wall Unit (720mm High)","W100","@LK-EMD-W100","@LK-EMY-W100","@LK-EMM-W100","@LK-EMS-W100","@LK-OPD-W100","@LK-OPY-W100","@LK-OPF-W100","@LK-OPM-W100","@LK-OPR-W100","@LK-OPS-W100","@LK-CSW-W100","@LK-DGW-W100","@LK-DYW-W100","@LK-ISW-W100","@LK-MSW-W100","@LK-NVW-W100"]
["WC6","600 Cnr Wall Unit (720mm High)","WC6","@LK-EMD-WC6","@LK-EMY-WC6","@LK-EMM-WC6","@LK-EMS-WC6","@LK-OPD-WC6","@LK-OPY-WC6","@LK-OPF-WC6","@LK-OPM-WC6","@LK-OPR-WC6","@LK-OPS-WC6","@LK-CSW-WC6","@LK-DGW-WC6","@LK-DYW-WC6","@LK-ISW-WC6","@LK-MSW-WC6","@LK-NVW-WC6"]
["WC9","900 Cnr Wall Unit (720mm High)","WC9","@LK-EMD-WC9","@LK-EMY-WC9","@LK-EMM-WC9","@LK-EMS-WC9","@LK-OPD-WC9","@LK-OPY-WC9","@LK-OPF-WC9","@LK-OPM-WC9","@LK-OPR-WC9","@LK-OPS-WC9","@LK-CSW-WC9","@LK-DGW-WC9","@LK-DYW-WC9","@LK-ISW-WC9","@LK-MSW-WC9","@LK-NVW-WC9"]
["WCL65","650 L Cnr Wall Unit (720mm High)","WCL65","@LK-EMD-WCL65","@LK-EMY-WCL65","@LK-EMM-WCL65","@LK-EMS-WCL65","@LK-OPD-WCL65","@LK-OPY-WCL65","@LK-OPF-WCL65","@LK-OPM-WCL65","@LK-OPR-WCL65","@LK-OPS-WCL65","@LK-CSW-WCL65","@LK-DGW-WCL65","@LK-DYW-WCL65","@LK-ISW-WCL65","@LK-MSW-WCL65","@LK-NVW-WCL65"]
["WM60","600 Wall Microwave Unit","WM60","@LK-EMD-WM60","@LK-EMY-WM60","@LK-EMM-WM60","@LK-EMS-WM60","@LK-OPD-WM60","@LK-OPY-WM60","@LK-OPF-WM60","@LK-OPM-WM60","@LK-OPR-WM60","@LK-OPS-WM60","@LK-CSW-WM60","@LK-DGW-WM60","@LK-DYW-WM60","@LK-ISW-WM60","@LK-MSW-WM60","@LK-NVW-WM60"]
["WBHU","600 Boiler Housing","WBHU","@LK-EMD-WBHU","@LK-EMY-WBHU","@LK-EMM-WBHU","@LK-EMS-WBHU","@LK-OPD-WBHU","@LK-OPY-WBHU","@LK-OPF-WBHU","@LK-OPM-WBHU","@LK-OPR-WBHU","@LK-OPS-WBHU","@LK-CSW-WBHU","@LK-DGW-WBHU","@LK-DYW-WBHU","@LK-ISW-WBHU","@LK-MSW-WBHU","@LK-NVW-WBHU"]
["WBI60","600 Bifold Unit","WBI60","@LK-EMD-WBI60","@LK-EMY-WBI60","@LK-EMM-WBI60","@LK-EMS-WBI60","@LK-OPD-WBI60","@LK-OPY-WBI60","@LK-OPF-WBI60","@LK-OPM-WBI60","@LK-OPR-WBI60","@LK-OPS-WBI60","@LK-CSW-WBI60","@LK-DGW-WBI60","@LK-DYW-WBI60","@LK-ISW-WBI60","@LK-MSW-WBI60","@LK-NVW-WBI60"]
["WBI80","800 Bifold Unit","WBI80","Not Available","Not Available","Not Available","Not Available","Not Available","Not Available","Not Available","Not Available","Not Available","Not Available","Not Available","Not Available","Not Available","Not Available","Not Available","Not Available"]
["WBI90","900 Bifold Unit","WBI90","@LK-EMD-WBI90","@LK-EMY-WBI90","@LK-EMM-WBI90","@LK-EMS-WBI90","@LK-OPD-WBI90","@LK-OPY-WBI90","@LK-OPF-WBI90","@LK-OPM-WBI90","@LK-OPR-WBI90","@LK-OPS-WBI90","@LK-CSW-WBI90","@LK-DGW-WBI90","@LK-DYW-WBI90","@LK-ISW-WBI90","@LK-MSW-WBI90","@LK-NVW-WBI90"]
["WBI10","1000 Bifold Unit","WBI10","Not Available","Not Available","Not Available","Not Available","Not Available","Not Available","Not Available","Not Available","Not Available","Not Available","Not Available","Not Available","Not Available","Not Available","Not Available","Not Available"]
["WG5","500 Glass Wall Unit","WG5","Not Available","Not Available","Not Available","Not Available","Not Available","Not Available","Not Available","Not Available","Not Available","Not Available","@LK-CSW-WG5","@LK-DGW-WG5","@LK-DYW-WG5","@LK-ISW-WG5","@LK-MSW-WG5","@LK-NVW-WG5"]
["WDR50","500 Dresser Unit","WDR50","Not Available","Not Available","Not Available","Not Available","Not Available","Not Available","Not Available","Not Available","Not Available","Not Available","@LK-CSW-WDR50","@LK-DGW-WDR50","@LK-DYW-WDR50","@LK-ISW-WDR50","@LK-MSW-WDR50","@LK-NVW-WDR50"]
["WCV","Curved Wall Unit","WCV","Not Available","Not Available","Not Available","Not Available","Not Available","Not Available","Not Available","Not Available","Not Available","Not Available","@LK-CSW-WCV","@LK-DGW-WCV","@LK-DYW-WCV","@LK-ISW-WCV","@LK-MSW-WCV","@LK-NVW-WCV"]
["WGS5","Smoked Glass Wall Unit - 500mm","WGS5","@LK-EMD-WGS5","@LK-EMY-WGS5","@LK-EMM-WGS5","@LK-EMS-WGS5","@LK-OPD-WGS5","@LK-OPY-WGS5","@LK-OPF-WGS5","@LK-OPM-WGS5","@LK-OPR-WGS5","@LK-OPS-WGS5","Not Available","Not Available","Not Available","Not Available","Not Available","Not Available"]
["WGS6","Smoked Glass Wall Unit - 600mm","WGS6","@LK-EMD-WGS6","@LK-EMY-WGS6","@LK-EMM-WGS6","@LK-EMS-WGS6","@LK-OPD-WGS6","@LK-OPY-WGS6","@LK-OPF-WGS6","@LK-OPM-WGS6","@LK-OPR-WGS6","@LK-OPS-WGS6","Not Available","Not Available","Not Available","Not Available","Not Available","Not Available"]
["WGR5","Reeded Glass Wall Unit - 500mm","WGR5","@LK-EMD-WGR5","@LK-EMY-WGR5","@LK-EMM-WGR5","@LK-EMS-WGR5","@LK-OPD-WGR5","@LK-OPY-WGR5","@LK-OPF-WGR5","@LK-OPM-WGR5","@LK-OPR-WGR5","@LK-OPS-WGR5","Not Available","Not Available","Not Available","Not Available","Not Available","Not Available"]
["WGR6","Reeded Glass Wall Unit - 600mm","WGR6","@LK-EMD-WGR6","@LK-EMY-WGR6","@LK-EMM-WGR6","@LK-EMS-WGR6","@LK-OPD-WGR6","@LK-OPY-WGR6","@LK-OPF-WGR6","@LK-OPM-WGR6","@LK-OPR-WGR6","@LK-OPS-WGR6","Not Available","Not Available","Not Available","Not Available","Not Available","Not Available"]
["WB62","600 285 Bridging Unit","WB62","@LK-EMD-WB62","@LK-EMY-WB62","@LK-EMM-WB62","@LK-EMS-WB62","@LK-OPD-WB62","@LK-OPY-WB62","@LK-OPF-WB62","@LK-OPM-WB62","@LK-OPR-WB62","@LK-OPS-WB62","@LK-CSW-WB62","@LK-DGW-WB62","@LK-DYW-WB62","@LK-ISW-WB62","@LK-MSW-WB62","@LK-NVW-WB62"]
["WB82","800 285 Bridging Unit","WB82","@LK-EMD-WB82","@LK-EMY-WB82","@LK-EMM-WB82","@LK-EMS-WB82","@LK-OPD-WB82","@LK-OPY-WB82","@LK-OPF-WB82","@LK-OPM-WB82","@LK-OPR-WB82","@LK-OPS-WB82","@LK-CSW-WB82","@LK-DGW-WB82","@LK-DYW-WB82","@LK-ISW-WB82","@LK-MSW-WB82","@LK-NVW-WB82"]
["WB92","900 285 Bridging Unit","WB92","@LK-EMD-WB92","@LK-EMY-WB92","@LK-EMM-WB92","@LK-EMS-WB92","@LK-OPD-WB92","@LK-OPY-WB92","@LK-OPF-WB92","@LK-OPM-WB92","@LK-OPR-WB92","@LK-OPS-WB92","@LK-CSW-WB92","@LK-DGW-WB92","@LK-DYW-WB92","@LK-ISW-WB92","@LK-MSW-WB92","@LK-NVW-WB92"]
["WB12","1000 285 Bridging Unit","WB12","@LK-EMD-WB12","@LK-EMY-WB12","@LK-EMM-WB12","@LK-EMS-WB12","@LK-OPD-WB12","@LK-OPY-WB12","@LK-OPF-WB12","@LK-OPM-WB12","@LK-OPR-WB12","@LK-OPS-WB12","@LK-CSW-WB12","@LK-DGW-WB12","@LK-DYW-WB12","@LK-ISW-WB12","@LK-MSW-WB12","@LK-NVW-WB12"]
["WB63","600 355mm Bridging Unit","WB63","@LK-EMD-WB63","@LK-EMY-WB63","@LK-EMM-WB63","@LK-EMS-WB63","@LK-OPD-WB63","@LK-OPY-WB63","@LK-OPF-WB63","@LK-OPM-WB63","@LK-OPR-WB63","@LK-OPS-WB63","@LK-CSW-WB63","@LK-DGW-WB63","@LK-DYW-WB63","@LK-ISW-WB63","@LK-MSW-WB63","@LK-NVW-WB63"]
["WB83","800 355mm Bridging Unit","WB83","Not Available","Not Available","Not Available","Not Available","Not Available","Not Available","Not Available","Not Available","Not Available","Not Available","@LK-CSW-WB83","@LK-DGW-WB83","@LK-DYW-WB83","@LK-ISW-WB83","@LK-MSW-WB83","@LK-NVW-WB83"]
["WB93","900 355mm Bridging Unit","WB93","@LK-EMD-WB93","@LK-EMY-WB93","@LK-EMM-WB93","@LK-EMS-WB93","@LK-OPD-WB93","@LK-OPY-WB93","@LK-OPF-WB93","@LK-OPM-WB93","@LK-OPR-WB93","@LK-OPS-WB93","@LK-CSW-WB93","@LK-DGW-WB93","@LK-DYW-WB93","@LK-ISW-WB93","@LK-MSW-WB93","@LK-NVW-WB93"]
["WB13","1000 355mm Bridging Unit","WB13","Not Available","Not Available","Not Available","Not Available","Not Available","Not Available","Not Available","Not Available","Not Available","Not Available","@LK-CSW-WB13","@LK-DGW-WB13","@LK-DYW-WB13","@LK-ISW-WB13","@LK-MSW-WB13","@LK-NVW-WB13"]
["AH-F55","600 50/50 FF Housing Unit","AH-F55","@LK-EMD-AH-F55","@LK-EMY-AH-F55","@LK-EMM-AH-F55","@LK-EMS-AH-F55","@LK-OPD-AH-F55","@LK-OPY-AH-F55","@LK-OPF-AH-F55","@LK-OPM-AH-F55","@LK-OPR-AH-F55","@LK-OPS-AH-F55","@LK-CSW-AH-F55","@LK-DGW-AH-F55","@LK-DYW-AH-F55","@LK-ISW-AH-F55","@LK-MSW-AH-F55","@LK-NVW-AH-F55"]
["AH-F73","600 70/30 FF Housing Unit","AH-F73","@LK-EMD-AH-F73","@LK-EMY-AH-F73","@LK-EMM-AH-F73","@LK-EMS-AH-F73","@LK-OPD-AH-F73","@LK-OPY-AH-F73","@LK-OPF-AH-F73","@LK-OPM-AH-F73","@LK-OPR-AH-F73","@LK-OPS-AH-F73","@LK-CSW-AH-F73","@LK-DGW-AH-F73","@LK-DYW-AH-F73","@LK-ISW-AH-F73","@LK-MSW-AH-F73","@LK-NVW-AH-F73"]
["AH-DO","600 Dble Oven Housing","AH-DO","@LK-EMD-AH-DO","@LK-EMY-AH-DO","@LK-EMM-AH-DO","@LK-EMS-AH-DO","@LK-OPD-AH-DO","@LK-OPY-AH-DO","@LK-OPF-AH-DO","@LK-OPM-AH-DO","@LK-OPR-AH-DO","@LK-OPS-AH-DO","@LK-CSW-AH-DO","@LK-DGW-AH-DO","@LK-DYW-AH-DO","@LK-ISW-AH-DO","@LK-MSW-AH-DO","@LK-NVW-AH-DO"]
["AH-DO2D","600 Dble Oven & 2 Drws","AH-DO2D","@LK-EMD-AH-DO2D","@LK-EMY-AH-DO2D","@LK-EMM-AH-DO2D","@LK-EMS-AH-DO2D","@LK-OPD-AH-DO2D","@LK-OPY-AH-DO2D","@LK-OPF-AH-DO2D","@LK-OPM-AH-DO2D","@LK-OPR-AH-DO2D","@LK-OPS-AH-DO2D","@LK-CSW-AH-DO2D","@LK-DGW-AH-DO2D","@LK-DYW-AH-DO2D","@LK-ISW-AH-DO2D","@LK-MSW-AH-DO2D","@LK-NVW-AH-DO2D"]
["AH-DMW","600 Double Oven & MW unit","AH-DMW","@LK-EMD-AH-DMW","@LK-EMY-AH-DMW","@LK-EMM-AH-DMW","@LK-EMS-AH-DMW","@LK-OPD-AH-DMW","@LK-OPY-AH-DMW","@LK-OPF-AH-DMW","@LK-OPM-AH-DMW","@LK-OPR-AH-DMW","@LK-OPS-AH-DMW","@LK-CSW-AH-DMW","@LK-DGW-AH-DMW","@LK-DYW-AH-DMW","@LK-ISW-AH-DMW","@LK-MSW-AH-DMW","@LK-NVW-AH-DMW"]
["AH-SO","600 Single Oven Housing","AH-SO","@LK-EMD-AH-SO","@LK-EMY-AH-SO","@LK-EMM-AH-SO","@LK-EMS-AH-SO","@LK-OPD-AH-SO","@LK-OPY-AH-SO","@LK-OPF-AH-SO","@LK-OPM-AH-SO","@LK-OPR-AH-SO","@LK-OPS-AH-SO","@LK-CSW-AH-SO","@LK-DGW-AH-SO","@LK-DYW-AH-SO","@LK-ISW-AH-SO","@LK-MSW-AH-SO","@LK-NVW-AH-SO"]
["AH-SO1D","600 Single Oven + 1 Drw Unit","AH-SO1D","@LK-EMD-AH-SO1D","@LK-EMY-AH-SO1D","@LK-EMM-AH-SO1D","@LK-EMS-AH-SO1D","@LK-OPD-AH-SO1D","@LK-OPY-AH-SO1D","@LK-OPF-AH-SO1D","@LK-OPM-AH-SO1D","@LK-OPR-AH-SO1D","@LK-OPS-AH-SO1D","@LK-CSW-AH-SO1D","@LK-DGW-AH-SO1D","@LK-DYW-AH-SO1D","@LK-ISW-AH-SO1D","@LK-MSW-AH-SO1D","@LK-NVW-AH-SO1D"]
["AH-SO2D","600 Single Oven + 2 Drws Unit","AH-SO2D","@LK-EMD-AH-SO2D","@LK-EMY-AH-SO2D","@LK-EMM-AH-SO2D","@LK-EMS-AH-SO2D","@LK-OPD-AH-SO2D","@LK-OPY-AH-SO2D","@LK-OPF-AH-SO2D","@LK-OPM-AH-SO2D","@LK-OPR-AH-SO2D","@LK-OPS-AH-SO2D","@LK-CSW-AH-SO2D","@LK-DGW-AH-SO2D","@LK-DYW-AH-SO2D","@LK-ISW-AH-SO2D","@LK-MSW-AH-SO2D","@LK-NVW-AH-SO2D"]
["AH-SO3D","600 Single Oven + 3 Drws Unit","AH-SO3D","@LK-EMD-AH-SO3D","@LK-EMY-AH-SO3D","@LK-EMM-AH-SO3D","@LK-EMS-AH-SO3D","@LK-OPD-AH-SO3D","@LK-OPY-AH-SO3D","@LK-OPF-AH-SO3D","@LK-OPM-AH-SO3D","@LK-OPR-AH-SO3D","@LK-OPS-AH-SO3D","@LK-CSW-AH-SO3D","@LK-DGW-AH-SO3D","@LK-DYW-AH-SO3D","@LK-ISW-AH-SO3D","@LK-MSW-AH-SO3D","@LK-NVW-AH-SO3D"]
["AH-SMW","600 Sgle Oven & MW 2 Door unit","AH-SMW","@LK-EMD-AH-SMW","@LK-EMY-AH-SMW","@LK-EMM-AH-SMW","@LK-EMS-AH-SMW","@LK-OPD-AH-SMW","@LK-OPY-AH-SMW","@LK-OPF-AH-SMW","@LK-OPM-AH-SMW","@LK-OPR-AH-SMW","@LK-OPS-AH-SMW","@LK-CSW-AH-SMW","@LK-DGW-AH-SMW","@LK-DYW-AH-SMW","@LK-ISW-AH-SMW","@LK-MSW-AH-SMW","@LK-NVW-AH-SMW"]
["AH-SM2D","600 Single Oven & MW 2 Drw unit","AH-SM2D","@LK-EMD-AH-SM2D","@LK-EMY-AH-SM2D","@LK-EMM-AH-SM2D","@LK-EMS-AH-SM2D","@LK-OPD-AH-SM2D","@LK-OPY-AH-SM2D","@LK-OPF-AH-SM2D","@LK-OPM-AH-SM2D","@LK-OPR-AH-SM2D","@LK-OPS-AH-SM2D","@LK-CSW-AH-SM2D","@LK-DGW-AH-SM2D","@LK-DYW-AH-SM2D","@LK-ISW-AH-SM2D","@LK-MSW-AH-SM2D","@LK-NVW-AH-SM2D"]
["AH-CO","600 Compact / Microwave Housing","AH-CO","@LK-EMD-AH-CO","@LK-EMY-AH-CO","@LK-EMM-AH-CO","@LK-EMS-AH-CO","@LK-OPD-AH-CO","@LK-OPY-AH-CO","@LK-OPF-AH-CO","@LK-OPM-AH-CO","@LK-OPR-AH-CO","@LK-OPS-AH-CO","@LK-CSW-AH-CO","@LK-DGW-AH-CO","@LK-DYW-AH-CO","@LK-ISW-AH-CO","@LK-MSW-AH-CO","@LK-NVW-AH-CO"]
["MAH-SO","600 Single Oven Midi Housing","MAH-SO","Not Available","Not Available","Not Available","Not Available","Not Available","Not Available","Not Available","Not Available","Not Available","Not Available","Not Available","Not Available","Not Available","Not Available","Not Available","Not Available"]
["MAH-DO","600 Dble Oven Midi Housing","MAH-DO","Not Available","Not Available","Not Available","Not Available","Not Available","Not Available","Not Available","Not Available","Not Available","Not Available","Not Available","Not Available","Not Available","Not Available","Not Available","Not Available"]
["MAH-FR","600 Fridge Midi Housing","MAH-FR","Not Available","Not Available","Not Available","Not Available","Not Available","Not Available","Not Available","Not Available","Not Available","Not Available","Not Available","Not Available","Not Available","Not Available","Not Available","Not Available"]
["BOH6","600 BU Oven Housing","BOH6","@LK-EMD-BOH6","@LK-EMY-BOH6","@LK-EMM-BOH6","@LK-EMS-BOH6","@LK-OPD-BOH6","@LK-OPY-BOH6","@LK-OPF-BOH6","@LK-OPM-BOH6","@LK-OPR-BOH6","@LK-OPS-BOH6","@LK-CSW-BOH6","@LK-DGW-BOH6","@LK-DYW-BOH6","@LK-ISW-BOH6","@LK-MSW-BOH6","@LK-NVW-BOH6"]
["BOHD6","600 BU Oven Housing with drawer -18mm","BOHD6","@LK-EMD-BOHD6","@LK-EMY-BOHD6","@LK-EMM-BOHD6","@LK-EMS-BOHD6","@LK-OPD-BOHD6","@LK-OPY-BOHD6","@LK-OPF-BOHD6","@LK-OPM-BOHD6","@LK-OPR-BOHD6","@LK-OPS-BOHD6","@LK-CSW-BOHD6","@LK-DGW-BOHD6","@LK-DYW-BOHD6","@LK-ISW-BOHD6","@LK-MSW-BOHD6","@LK-NVW-BOHD6"]
["L3","300 Larder Unit","L3","@LK-EMD-L3","@LK-EMY-L3","@LK-EMM-L3","@LK-EMS-L3","@LK-OPD-L3","@LK-OPY-L3","@LK-OPF-L3","@LK-OPM-L3","@LK-OPR-L3","@LK-OPS-L3","@LK-CSW-L3","@LK-DGW-L3","@LK-DYW-L3","@LK-ISW-L3","@LK-MSW-L3","@LK-NVW-L3"]
["L3SD","300 Larder - Full Height Door","L3SD","Not Available","Not Available","Not Available","Not Available","Not Available","Not Available","Not Available","Not Available","Not Available","Not Available","Not Available","Not Available","Not Available","Not Available","Not Available","Not Available"]
["L3SDL","300 Larder - Full Height Door LH","L3SDL","Not Available","Not Available","Not Available","Not Available","Not Available","Not Available","Not Available","Not Available","Not Available","Not Available","Not Available","Not Available","Not Available","Not Available","Not Available","Not Available"]
["L3SDR","300 Larder - Full Height Door RH","L3SDR","Not Available","Not Available","Not Available","Not Available","Not Available","Not Available","Not Available","Not Available","Not Available","Not Available","Not Available","Not Available","Not Available","Not Available","Not Available","Not Available"]
["L4","400 Larder Unit","L4","Not Available","Not Available","Not Available","Not Available","Not Available","Not Available","Not Available","Not Available","Not Available","Not Available","@LK-CSW-L4","@LK-DGW-L4","@LK-DYW-L4","@LK-ISW-L4","@LK-MSW-L4","@LK-NVW-L4"]
["L4SD","400 Larder - Full Height Door","L4SD","Not Available","Not Available","Not Available","Not Available","Not Available","Not Available","Not Available","Not Available","Not Available","Not Available","Not Available","Not Available","Not Available","Not Available","Not Available","Not Available"]
["L4SDL","400 Larder - Full Height Door LH","L4SDL","Not Available","Not Available","Not Available","Not Available","Not Available","Not Available","Not Available","Not Available","Not Available","Not Available","Not Available","Not Available","Not Available","Not Available","Not Available","Not Available"]
["L4SDR","400 Larder - Full Height Door RH","L4SDR","Not Available","Not Available","Not Available","Not Available","Not Available","Not Available","Not Available","Not Available","Not Available","Not Available","Not Available","Not Available","Not Available","Not Available","Not Available","Not Available"]
["L5","500 Larder Unit","L5","@LK-EMD-L5","@LK-EMY-L5","@LK-EMM-L5","@LK-EMS-L5","@LK-OPD-L5","@LK-OPY-L5","@LK-OPF-L5","@LK-OPM-L5","@LK-OPR-L5","@LK-OPS-L5","@LK-CSW-L5","@LK-DGW-L5","@LK-DYW-L5","@LK-ISW-L5","@LK-MSW-L5","@LK-NVW-L5"]
["L5SD","500 Larder - Full Height Door","L5SD","Not Available","Not Available","Not Available","Not Available","Not Available","Not Available","Not Available","Not Available","Not Available","Not Available","Not Available","Not Available","Not Available","Not Available","Not Available","Not Available"]
["L5SDL","500 Larder - Full Height Door LH","L5SDL","Not Available","Not Available","Not Available","Not Available","Not Available","Not Available","Not Available","Not Available","Not Available","Not Available","Not Available","Not Available","Not Available","Not Available","Not Available","Not Available"]
["L5SDR","500 Larder - Full Height Door RH","L5SDR","Not Available","Not Available","Not Available","Not Available","Not Available","Not Available","Not Available","Not Available","Not Available","Not Available","Not Available","Not Available","Not Available","Not Available","Not Available","Not Available"]
["L6","600 Larder Unit","L6","@LK-EMD-L6","@LK-EMY-L6","@LK-EMM-L6","@LK-EMS-L6","@LK-OPD-L6","@LK-OPY-L6","@LK-OPF-L6","@LK-OPM-L6","@LK-OPR-L6","@LK-OPS-L6","@LK-CSW-L6","@LK-DGW-L6","@LK-DYW-L6","@LK-ISW-L6","@LK-MSW-L6","@LK-NVW-L6"]
["L6SD","600 Larder - Full Height Door","L6SD","Not Available","Not Available","Not Available","Not Available","Not Available","Not Available","Not Available","Not Available","Not Available","Not Available","Not Available","Not Available","Not Available","Not Available","Not Available","Not Available"]
["L6SDL","600 Larder - Full Height Door LH","L6SDL","Not Available","Not Available","Not Available","Not Available","Not Available","Not Available","Not Available","Not Available","Not Available","Not Available","Not Available","Not Available","Not Available","Not Available","Not Available","Not Available"]
["L6SDR","600 Larder - Full Height Door RH","L6SDR","Not Available","Not Available","Not Available","Not Available","Not Available","Not Available","Not Available","Not Available","Not Available","Not Available","Not Available","Not Available","Not Available","Not Available","Not Available","Not Available"]
["LP3","300 Larder & TAL LARDER Pull Out","LP3","@LK-EMD-LP3","@LK-EMY-LP3","@LK-EMM-LP3","@LK-EMS-LP3","@LK-OPD-LP3","@LK-OPY-LP3","@LK-OPF-LP3","@LK-OPM-LP3","@LK-OPR-LP3","@LK-OPS-LP3","@LK-CSW-LP3","@LK-DGW-LP3","@LK-DYW-LP3","@LK-ISW-LP3","@LK-MSW-LP3","@LK-NVW-LP3"]
["LP3SD","300 Larder & TAL LARDER Pull Out FH Door","LP3SD","Not Available","Not Available","Not Available","Not Available","Not Available","Not Available","Not Available","Not Available","Not Available","Not Available","Not Available","Not Available","Not Available","Not Available","Not Available","Not Available"]
["LPOD3","300 Oak Drawer Larder Pull Out","LPOD3","Not Available","Not Available","Not Available","Not Available","Not Available","Not Available","Not Available","Not Available","Not Available","Not Available","Not Available","Not Available","Not Available","Not Available","Not Available","Not Available"]
["LPOD3SD","300 Oak Drawer Larder Pull Out Full Height Door","LPOD3SD","Not Available","Not Available","Not Available","Not Available","Not Available","Not Available","Not Available","Not Available","Not Available","Not Available","Not Available","Not Available","Not Available","Not Available","Not Available","Not Available"]
["LPOD4","400 Oak Drawer Larder Pull Out","LPOD4","Not Available","Not Available","Not Available","Not Available","Not Available","Not Available","Not Available","Not Available","Not Available","Not Available","Not Available","Not Available","Not Available","Not Available","Not Available","Not Available"]
["LPOD4SD","400 Oak Drawer Larder Pull Out Full Height Door","LPOD4SD","Not Available","Not Available","Not Available","Not Available","Not Available","Not Available","Not Available","Not Available","Not Available","Not Available","Not Available","Not Available","Not Available","Not Available","Not Available","Not Available"]
["LPOD5","500 Oak Drawer Larder Pull Out","LPOD5","Not Available","Not Available","Not Available","Not Available","Not Available","Not Available","Not Available","Not Available","Not Available","Not Available","Not Available","Not Available","Not Available","Not Available","Not Available","Not Available"]
["LPOD5SD","500 Oak Drawer Larder Pull Out Full Height Door","LPOD5SD","Not Available","Not Available","Not Available","Not Available","Not Available","Not Available","Not Available","Not Available","Not Available","Not Available","Not Available","Not Available","Not Available","Not Available","Not Available","Not Available"]
["LPOD6","600 Oak Drawer Larder Pull Out","LPOD6","Not Available","Not Available","Not Available","Not Available","Not Available","Not Available","Not Available","Not Available","Not Available","Not Available","Not Available","Not Available","Not Available","Not Available","Not Available","Not Available"]
["LPOD6SD","600 Oak Drawer Larder Pull Out Full Height Door","LPOD6SD","Not Available","Not Available","Not Available","Not Available","Not Available","Not Available","Not Available","Not Available","Not Available","Not Available","Not Available","Not Available","Not Available","Not Available","Not Available","Not Available"]
["LT3","300 Larder Tower","LT3","@LK-EMD-LT3","@LK-EMY-LT3","@LK-EMM-LT3","@LK-EMS-LT3","@LK-OPD-LT3","@LK-OPY-LT3","@LK-OPF-LT3","@LK-OPM-LT3","@LK-OPR-LT3","@LK-OPS-LT3","@LK-CSW-LT3","@LK-DGW-LT3","@LK-DYW-LT3","@LK-ISW-LT3","@LK-MSW-LT3","@LK-NVW-LT3"]
["LT3SD","300 Larder Tower Full Height Door","LT3SD","Not Available","Not Available","Not Available","Not Available","Not Available","Not Available","Not Available","Not Available","Not Available","Not Available","Not Available","Not Available","Not Available","Not Available","Not Available","Not Available"]
["LT3SDL","300 Larder Tower Full Height Door LH","LT3SDL","Not Available","Not Available","Not Available","Not Available","Not Available","Not Available","Not Available","Not Available","Not Available","Not Available","Not Available","Not Available","Not Available","Not Available","Not Available","Not Available"]
["LT3SDR","300 Larder Tower Full Height Door RH","LT3SDR","Not Available","Not Available","Not Available","Not Available","Not Available","Not Available","Not Available","Not Available","Not Available","Not Available","Not Available","Not Available","Not Available","Not Available","Not Available","Not Available"]
["LT5","500 Larder Tower","LT5","@LK-EMD-LT5","@LK-EMY-LT5","@LK-EMM-LT5","@LK-EMS-LT5","@LK-OPD-LT5","@LK-OPY-LT5","@LK-OPF-LT5","@LK-OPM-LT5","@LK-OPR-LT5","@LK-OPS-LT5","@LK-CSW-LT5","@LK-DGW-LT5","@LK-DYW-LT5","@LK-ISW-LT5","@LK-MSW-LT5","@LK-NVW-LT5"]
["LT5SD","500 Larder Tower Full Height Door","LT5SD","Not Available","Not Available","Not Available","Not Available","Not Available","Not Available","Not Available","Not Available","Not Available","Not Available","Not Available","Not Available","Not Available","Not Available","Not Available","Not Available"]
["LT5SDL","500 Larder Tower Full Height Door LH","LT5SDL","Not Available","Not Available","Not Available","Not Available","Not Available","Not Available","Not Available","Not Available","Not Available","Not Available","Not Available","Not Available","Not Available","Not Available","Not Available","Not Available"]
["LT5SDR","500 Larder Tower Full Height Door RH","LT5SDR","Not Available","Not Available","Not Available","Not Available","Not Available","Not Available","Not Available","Not Available","Not Available","Not Available","Not Available","Not Available","Not Available","Not Available","Not Available","Not Available"]
["LT6","600 Larder Tower","LT6","@LK-EMD-LT6","@LK-EMY-LT6","@LK-EMM-LT6","@LK-EMS-LT6","@LK-OPD-LT6","@LK-OPY-LT6","@LK-OPF-LT6","@LK-OPM-LT6","@LK-OPR-LT6","@LK-OPS-LT6","@LK-CSW-LT6","@LK-DGW-LT6","@LK-DYW-LT6","@LK-ISW-LT6","@LK-MSW-LT6","@LK-NVW-LT6"]
["LT6SD","600 Larder Tower Full Height Door","LT6SD","Not Available","Not Available","Not Available","Not Available","Not Available","Not Available","Not Available","Not Available","Not Available","Not Available","Not Available","Not Available","Not Available","Not Available","Not Available","Not Available"]
["LT6SDL","600 Larder Tower Full Height Door LH","LT6SDL","Not Available","Not Available","Not Available","Not Available","Not Available","Not Available","Not Available","Not Available","Not Available","Not Available","Not Available","Not Available","Not Available","Not Available","Not Available","Not Available"]
["LT6SDR","600 Larder Tower Full Height Door RH","LT6SDR","Not Available","Not Available","Not Available","Not Available","Not Available","Not Available","Not Available","Not Available","Not Available","Not Available","Not Available","Not Available","Not Available","Not Available","Not Available","Not Available"]
["LP6T","600 Larder & TAL GATE PRO Pull Out","LP6T","@LK-EMD-LP6T","@LK-EMY-LP6T","@LK-EMM-LP6T","@LK-EMS-LP6T","@LK-OPD-LP6T","@LK-OPY-LP6T","@LK-OPF-LP6T","@LK-OPM-LP6T","@LK-OPR-LP6T","@LK-OPS-LP6T","@LK-CSW-LP6T","@LK-DGW-LP6T","@LK-DYW-LP6T","@LK-ISW-LP6T","@LK-MSW-LP6T","@LK-NVW-LP6T"]
["LP6TSDL","600 Larder & TAL GATE PRO P/Out FH Door LH","LP6TSDL","Not Available","Not Available","Not Available","Not Available","Not Available","Not Available","Not Available","Not Available","Not Available","Not Available","Not Available","Not Available","Not Available","Not Available","Not Available","Not Available"]
["LP6TSDR","600 Larder & TAL GATE PRO P/Out FH Door RH","LP6TSDR","Not Available","Not Available","Not Available","Not Available","Not Available","Not Available","Not Available","Not Available","Not Available","Not Available","Not Available","Not Available","Not Available","Not Available","Not Available","Not Available"]
["LP6TSD","600 Larder & TAL GATE PRO P/Out FH Door","LP6TSD","Not Available","Not Available","Not Available","Not Available","Not Available","Not Available","Not Available","Not Available","Not Available","Not Available","Not Available","Not Available","Not Available","Not Available","Not Available","Not Available"]
["LP5TS","500 Larder & TAL GATE Pull Out","LP5TS","@LK-EMD-LP5TS","@LK-EMY-LP5TS","@LK-EMM-LP5TS","@LK-EMS-LP5TS","@LK-OPD-LP5TS","@LK-OPY-LP5TS","@LK-OPF-LP5TS","@LK-OPM-LP5TS","@LK-OPR-LP5TS","@LK-OPS-LP5TS","@LK-CSW-LP5TS","@LK-DGW-LP5TS","@LK-DYW-LP5TS","@LK-ISW-LP5TS","@LK-MSW-LP5TS","@LK-NVW-LP5TS"]
["LP5TSSD","500 Larder & TAL GATE P/Out FH Door","LP5TSSD","Not Available","Not Available","Not Available","Not Available","Not Available","Not Available","Not Available","Not Available","Not Available","Not Available","Not Available","Not Available","Not Available","Not Available","Not Available","Not Available"]
["LP5TSSDL","500 Larder & TAL GATE P/Out FH Door LH","LP5TSSDL","Not Available","Not Available","Not Available","Not Available","Not Available","Not Available","Not Available","Not Available","Not Available","Not Available","Not Available","Not Available","Not Available","Not Available","Not Available","Not Available"]
["LP5TSSDR","500 Larder & TAL GATE P/Out FH Door RH","LP5TSSDR","Not Available","Not Available","Not Available","Not Available","Not Available","Not Available","Not Available","Not Available","Not Available","Not Available","Not Available","Not Available","Not Available","Not Available","Not Available","Not Available"]
["LP6TS","600 Larder & TAL GATE Pull Out","LP6TS","@LK-EMD-LP6TS","@LK-EMY-LP6TS","@LK-EMM-LP6TS","@LK-EMS-LP6TS","@LK-OPD-LP6TS","@LK-OPY-LP6TS","@LK-OPF-LP6TS","@LK-OPM-LP6TS","@LK-OPR-LP6TS","@LK-OPS-LP6TS","@LK-CSW-LP6TS","@LK-DGW-LP6TS","@LK-DYW-LP6TS","@LK-ISW-LP6TS","@LK-MSW-LP6TS","@LK-NVW-LP6TS"]
["LP6TSSD","600 Larder & TAL GATE P/Out FH Door","LP6TSSD","Not Available","Not Available","Not Available","Not Available","Not Available","Not Available","Not Available","Not Available","Not Available","Not Available","Not Available","Not Available","Not Available","Not Available","Not Available","Not Available"]
["LP6TSSDL","600 Larder & TAL GATE P/Out FH Door LH","LP6TSSDL","Not Available","Not Available","Not Available","Not Available","Not Available","Not Available","Not Available","Not Available","Not Available","Not Available","Not Available","Not Available","Not Available","Not Available","Not Available","Not Available"]
["LP6TSSDR","600 Larder & TAL GATE P/Out FH Door RH","LP6TSSDR","Not Available","Not Available","Not Available","Not Available","Not Available","Not Available","Not Available","Not Available","Not Available","Not Available","Not Available","Not Available","Not Available","Not Available","Not Available","Not Available"]
["TLP3","300 Tall Larder & TAL LARDER Pull Out","TLP3","Not Available","Not Available","Not Available","Not Available","Not Available","Not Available","Not Available","Not Available","Not Available","Not Available","@LK-CSW-TLP3","@LK-DGW-TLP3","@LK-DYW-TLP3","@LK-ISW-TLP3","@LK-MSW-TLP3","@LK-NVW-TLP3"]
["TLPOD3","300 Tall Oak Drawer Larder Pull Out","TLPOD3","Not Available","Not Available","Not Available","Not Available","Not Available","Not Available","Not Available","Not Available","Not Available","Not Available","Not Available","Not Available","Not Available","Not Available","Not Available","Not Available"]
["TLPOD4","400 Tall Oak Drawer Larder Pull Out","TLPOD4","Not Available","Not Available","Not Available","Not Available","Not Available","Not Available","Not Available","Not Available","Not Available","Not Available","Not Available","Not Available","Not Available","Not Available","Not Available","Not Available"]
["TLPOD5","500 Tall Oak Drawer Larder Pull Out","TLPOD5","Not Available","Not Available","Not Available","Not Available","Not Available","Not Available","Not Available","Not Available","Not Available","Not Available","Not Available","Not Available","Not Available","Not Available","Not Available","Not Available"]
["TLPOD6","600 Tall Oak Drawer Larder Pull Out","TLPOD6","Not Available","Not Available","Not Available","Not Available","Not Available","Not Available","Not Available","Not Available","Not Available","Not Available","Not Available","Not Available","Not Available","Not Available","Not Available","Not Available"]
["TLT3","300 Tall Larder Tower","TLT3","Not Available","Not Available","Not Available","Not Available","Not Available","Not Available","Not Available","Not Available","Not Available","Not Available","@LK-CSW-TLT3","@LK-DGW-TLT3","@LK-DYW-TLT3","@LK-ISW-TLT3","@LK-MSW-TLT3","@LK-NVW-TLT3"]
["TLT5","500 Tall Larder Tower","TLT5","Not Available","Not Available","Not Available","Not Available","Not Available","Not Available","Not Available","Not Available","Not Available","Not Available","@LK-CSW-TLT5","@LK-DGW-TLT5","@LK-DYW-TLT5","@LK-ISW-TLT5","@LK-MSW-TLT5","@LK-NVW-TLT5"]
["TLT6","600 Tall Larder Tower","TLT6","Not Available","Not Available","Not Available","Not Available","Not Available","Not Available","Not Available","Not Available","Not Available","Not Available","@LK-CSW-TLT6","@LK-DGW-TLT6","@LK-DYW-TLT6","@LK-ISW-TLT6","@LK-MSW-TLT6","@LK-NVW-TLT6"]
["TLP6T","600 Tall Larder & TAL GATE PRO Pull Out","TLP6T","Not Available","Not Available","Not Available","Not Available","Not Available","Not Available","Not Available","Not Available","Not Available","Not Available","@LK-CSW-TLP6T","@LK-DGW-TLP6T","@LK-DYW-TLP6T","@LK-ISW-TLP6T","@LK-MSW-TLP6T","@LK-NVW-TLP6T"]
["TLP5TS","500 Tall Larder & TAL GATE Pull Out","TLP5TS","Not Available","Not Available","Not Available","Not Available","Not Available","Not Available","Not Available","Not Available","Not Available","Not Available","@LK-CSW-TLP5TS","@LK-DGW-TLP5TS","@LK-DYW-TLP5TS","@LK-ISW-TLP5TS","@LK-MSW-TLP5TS","@LK-NVW-TLP5TS"]
["TLP6TS","600 Tall Larder & TAL GATE Pull Out","TLP6TS","Not Available","Not Available","Not Available","Not Available","Not Available","Not Available","Not Available","Not Available","Not Available","Not Available","@LK-CSW-TLP6TS","@LK-DGW-TLP6TS","@LK-DYW-TLP6TS","@LK-ISW-TLP6TS","@LK-MSW-TLP6TS","@LK-NVW-TLP6TS"]
["TLT3L","300 Tall Larder Tower LH","TLT3L","Not Available","Not Available","Not Available","Not Available","Not Available","Not Available","Not Available","Not Available","Not Available","Not Available","Not Available","Not Available","Not Available","Not Available","Not Available","Not Available"]
["TLT5L","500 Tall Larder Tower LH","TLT5L","Not Available","Not Available","Not Available","Not Available","Not Available","Not Available","Not Available","Not Available","Not Available","Not Available","Not Available","Not Available","Not Available","Not Available","Not Available","Not Available"]
["TLT6L","600 Tall Larder Tower LH","TLT6L","Not Available","Not Available","Not Available","Not Available","Not Available","Not Available","Not Available","Not Available","Not Available","Not Available","Not Available","Not Available","Not Available","Not Available","Not Available","Not Available"]
["TLP6TL","600 Tall Larder & TAL GATE PRO Pull Out LHH","TLP6TL","Not Available","Not Available","Not Available","Not Available","Not Available","Not Available","Not Available","Not Available","Not Available","Not Available","Not Available","Not Available","Not Available","Not Available","Not Available","Not Available"]
["TLP5TSL","500 Tall Larder & TAL GATE Pull Out LHH","TLP5TSL","Not Available","Not Available","Not Available","Not Available","Not Available","Not Available","Not Available","Not Available","Not Available","Not Available","Not Available","Not Available","Not Available","Not Available","Not Available","Not Available"]
["TLP6TSL","600 Tall Larder & TAL GATE Pull Out LHH","TLP6TSL","Not Available","Not Available","Not Available","Not Available","Not Available","Not Available","Not Available","Not Available","Not Available","Not Available","Not Available","Not Available","Not Available","Not Available","Not Available","Not Available"]
["TLT3R","300 Tall Larder Tower RH","TLT3R","Not Available","Not Available","Not Available","Not Available","Not Available","Not Available","Not Available","Not Available","Not Available","Not Available","Not Available","Not Available","Not Available","Not Available","Not Available","Not Available"]
["TLT5R","500 Tall Larder Tower RH","TLT5R","Not Available","Not Available","Not Available","Not Available","Not Available","Not Available","Not Available","Not Available","Not Available","Not Available","Not Available","Not Available","Not Available","Not Available","Not Available","Not Available"]
["TLT6R","600 Tall Larder Tower RH","TLT6R","Not Available","Not Available","Not Available","Not Available","Not Available","Not Available","Not Available","Not Available","Not Available","Not Available","Not Available","Not Available","Not Available","Not Available","Not Available","Not Available"]
["TLP6TR","600 Tall Larder & TAL GATE PRO Pull Out RHH","TLP6TR","Not Available","Not Available","Not Available","Not Available","Not Available","Not Available","Not Available","Not Available","Not Available","Not Available","Not Available","Not Available","Not Available","Not Available","Not Available","Not Available"]
["TLP5TSR","500 Tall Larder & TAL GATE Pull Out RHH","TLP5TSR","Not Available","Not Available","Not Available","Not Available","Not Available","Not Available","Not Available","Not Available","Not Available","Not Available","Not Available","Not Available","Not Available","Not Available","Not Available","Not Available"]
["TLP6TSR","600 Tall Larder & TAL GATE Pull Out RHH","TLP6TSR","Not Available","Not Available","Not Available","Not Available","Not Available","Not Available","Not Available","Not Available","Not Available","Not Available","Not Available","Not Available","Not Available","Not Available","Not Available","Not Available"]
["LAC","Angled Corner Larder","LAC","@LK-EMD-LAC","@LK-EMY-LAC","@LK-EMM-LAC","@LK-EMS-LAC","@LK-OPD-LAC","@LK-OPY-LAC","@LK-OPF-LAC","@LK-OPM-LAC","@LK-OPR-LAC","@LK-OPS-LAC","@LK-CSW-LAC","@LK-DGW-LAC","@LK-DYW-LAC","@LK-ISW-LAC","@LK-MSW-LAC","@LK-NVW-LAC"]
["TLAC","Tall Angled Corner Larder","TLAC","Not Available","Not Available","Not Available","Not Available","Not Available","Not Available","Not Available","Not Available","Not Available","Not Available","@LK-CSW-TLAC","@LK-DGW-TLAC","@LK-DYW-TLAC","@LK-ISW-TLAC","@LK-MSW-TLAC","@LK-NVW-TLAC"]
["TLACL","Tall Angled Corner Larder LH","TLACL","Not Available","Not Available","Not Available","Not Available","Not Available","Not Available","Not Available","Not Available","Not Available","Not Available","Not Available","Not Available","Not Available","Not Available","Not Available","Not Available"]
["TLACR","Tall Angled Corner Larder RH","TLACR","Not Available","Not Available","Not Available","Not Available","Not Available","Not Available","Not Available","Not Available","Not Available","Not Available","Not Available","Not Available","Not Available","Not Available","Not Available","Not Available"]
["LACSD","Angled Corner Larder Full Height Door","LACSD","Not Available","Not Available","Not Available","Not Available","Not Available","Not Available","Not Available","Not Available","Not Available","Not Available","Not Available","Not Available","Not Available","Not Available","Not Available","Not Available"]
["LACSDL","Angled Corner Larder Full Height Door LH","LACSDL","Not Available","Not Available","Not Available","Not Available","Not Available","Not Available","Not Available","Not Available","Not Available","Not Available","Not Available","Not Available","Not Available","Not Available","Not Available","Not Available"]
["LACSDR","Angled Corner Larder Full Height Door RH","LACSDR","Not Available","Not Available","Not Available","Not Available","Not Available","Not Available","Not Available","Not Available","Not Available","Not Available","Not Available","Not Available","Not Available","Not Available","Not Available","Not Available"]
["LBP10","1000mm Butler's Pantry Unit","LBP10","Not Available","Not Available","Not Available","Not Available","Not Available","Not Available","Not Available","Not Available","Not Available","Not Available","@LK-CSW-LBP10","@LK-DGW-LBP10","@LK-DYW-LBP10","@LK-ISW-LBP10","@LK-MSW-LBP10","@LK-NVW-LBP10"]
["LBP10SD","1000mm Butler's Pantry Unit Full Height Doors","LBP10SD","Not Available","Not Available","Not Available","Not Available","Not Available","Not Available","Not Available","Not Available","Not Available","Not Available","Not Available","Not Available","Not Available","Not Available","Not Available","Not Available"]
["TLBP10","1000mm Tall Butler's Pantry Unit","TLBP10","Not Available","Not Available","Not Available","Not Available","Not Available","Not Available","Not Available","Not Available","Not Available","Not Available","@LK-CSW-TLBP10","@LK-DGW-TLBP10","@LK-DYW-TLBP10","@LK-ISW-TLBP10","@LK-MSW-TLBP10","@LK-NVW-TLBP10"]
["LPN14DSD","1000mm Larder 2 Full Height Doors","LPN14DSD","Not Available","Not Available","Not Available","Not Available","Not Available","Not Available","Not Available","Not Available","Not Available","Not Available","Not Available","Not Available","Not Available","Not Available","Not Available","Not Available"]
["LPN14D","1000mm Larder 4 Doors","LPN14D","@LK-EMD-LPN14D","@LK-EMY-LPN14D","@LK-EMM-LPN14D","@LK-EMS-LPN14D","@LK-OPD-LPN14D","@LK-OPY-LPN14D","@LK-OPF-LPN14D","@LK-OPM-LPN14D","@LK-OPR-LPN14D","@LK-OPS-LPN14D","@LK-CSW-LPN14D","@LK-DGW-LPN14D","@LK-DYW-LPN14D","@LK-ISW-LPN14D","@LK-MSW-LPN14D","@LK-NVW-LPN14D"]
["LPN14D1DW","1000mm Larder 4 Doors 1 Drawer","LPN14D1DW","Not Available","Not Available","Not Available","Not Available","Not Available","Not Available","Not Available","Not Available","Not Available","Not Available","@LK-CSW-LPN14D1DW","@LK-DGW-LPN14D1DW","@LK-DYW-LPN14D1DW","@LK-ISW-LPN14D1DW","@LK-MSW-LPN14D1DW","@LK-NVW-LPN14D1DW"]
["LPN12D3DW","1000mm Larder 2 Doors 3 Drawers","LPN12D3DW","@LK-EMD-LPN12D3DW","@LK-EMY-LPN12D3DW","@LK-EMM-LPN12D3DW","@LK-EMS-LPN12D3DW","@LK-OPD-LPN12D3DW","@LK-OPY-LPN12D3DW","@LK-OPF-LPN12D3DW","@LK-OPM-LPN12D3DW","@LK-OPR-LPN12D3DW","@LK-OPS-LPN12D3DW","@LK-CSW-LPN12D3DW","@LK-DGW-LPN12D3DW","@LK-DYW-LPN12D3DW","@LK-ISW-LPN12D3DW","@LK-MSW-LPN12D3DW","@LK-NVW-LPN12D3DW"]
["LPN12D2DW","1000mm Larder 2 Doors 2 Drawers","LPN12D2DW","@LK-EMD-LPN12D2DW","@LK-EMY-LPN12D2DW","@LK-EMM-LPN12D2DW","@LK-EMS-LPN12D2DW","@LK-OPD-LPN12D2DW","@LK-OPY-LPN12D2DW","@LK-OPF-LPN12D2DW","@LK-OPM-LPN12D2DW","@LK-OPR-LPN12D2DW","@LK-OPS-LPN12D2DW","@LK-CSW-LPN12D2DW","@LK-DGW-LPN12D2DW","@LK-DYW-LPN12D2DW","@LK-ISW-LPN12D2DW","@LK-MSW-LPN12D2DW","@LK-NVW-LPN12D2DW"]
["LBC15","1000mm Blind Corner larder 500 door","LBC15","@LK-EMD-LBC15","@LK-EMY-LBC15","@LK-EMM-LBC15","@LK-EMS-LBC15","@LK-OPD-LBC15","@LK-OPY-LBC15","@LK-OPF-LBC15","@LK-OPM-LBC15","@LK-OPR-LBC15","@LK-OPS-LBC15","@LK-CSW-LBC15","@LK-DGW-LBC15","@LK-DYW-LBC15","@LK-ISW-LBC15","@LK-MSW-LBC15","@LK-NVW-LBC15"]
["LBC16","1000mm Blind Corner larder 600 door","LBC16","@LK-EMD-LBC16","@LK-EMY-LBC16","@LK-EMM-LBC16","@LK-EMS-LBC16","@LK-OPD-LBC16","@LK-OPY-LBC16","@LK-OPF-LBC16","@LK-OPM-LBC16","@LK-OPR-LBC16","@LK-OPS-LBC16","@LK-CSW-LBC16","@LK-DGW-LBC16","@LK-DYW-LBC16","@LK-ISW-LBC16","@LK-MSW-LBC16","@LK-NVW-LBC16"]
["LBCLM15L","1000 Corner Larder VS CORNERSTONE MAXX LH 500 Door","LBCLM15L","@LK-EMD-LBCLM15L","@LK-EMY-LBCLM15L","@LK-EMM-LBCLM15L","@LK-EMS-LBCLM15L","@LK-OPD-LBCLM15L","@LK-OPY-LBCLM15L","@LK-OPF-LBCLM15L","@LK-OPM-LBCLM15L","@LK-OPR-LBCLM15L","@LK-OPS-LBCLM15L","@LK-CSW-LBCLM15L","@LK-DGW-LBCLM15L","@LK-DYW-LBCLM15L","@LK-ISW-LBCLM15L","@LK-MSW-LBCLM15L","@LK-NVW-LBCLM15L"]
["LBCLM15R","1000 Corner Larder VS CORNERSTONE MAXX RH 500 Door","LBCLM15R","@LK-EMD-LBCLM15R","@LK-EMY-LBCLM15R","@LK-EMM-LBCLM15R","@LK-EMS-LBCLM15R","@LK-OPD-LBCLM15R","@LK-OPY-LBCLM15R","@LK-OPF-LBCLM15R","@LK-OPM-LBCLM15R","@LK-OPR-LBCLM15R","@LK-OPS-LBCLM15R","@LK-CSW-LBCLM15R","@LK-DGW-LBCLM15R","@LK-DYW-LBCLM15R","@LK-ISW-LBCLM15R","@LK-MSW-LBCLM15R","@LK-NVW-LBCLM15R"]
["LBCLM16L","1000 Corner Larder VS CORNERSTONE MAXX LH 600 Door","LBCLM16L","@LK-EMD-LBCLM16L","@LK-EMY-LBCLM16L","@LK-EMM-LBCLM16L","@LK-EMS-LBCLM16L","@LK-OPD-LBCLM16L","@LK-OPY-LBCLM16L","@LK-OPF-LBCLM16L","@LK-OPM-LBCLM16L","@LK-OPR-LBCLM16L","@LK-OPS-LBCLM16L","@LK-CSW-LBCLM16L","@LK-DGW-LBCLM16L","@LK-DYW-LBCLM16L","@LK-ISW-LBCLM16L","@LK-MSW-LBCLM16L","@LK-NVW-LBCLM16L"]
["LBCLM16R","1000 Corner Larder VS CORNERSTONE MAXX RH 600 Door","LBCLM16R","@LK-EMD-LBCLM16R","@LK-EMY-LBCLM16R","@LK-EMM-LBCLM16R","@LK-EMS-LBCLM16R","@LK-OPD-LBCLM16R","@LK-OPY-LBCLM16R","@LK-OPF-LBCLM16R","@LK-OPM-LBCLM16R","@LK-OPR-LBCLM16R","@LK-OPS-LBCLM16R","@LK-CSW-LBCLM16R","@LK-DGW-LBCLM16R","@LK-DYW-LBCLM16R","@LK-ISW-LBCLM16R","@LK-MSW-LBCLM16R","@LK-NVW-LBCLM16R"]
["LBC15SD","1000mm Blind Corner larder 500 Full Height Door","LBC15SD","Not Available","Not Available","Not Available","Not Available","Not Available","Not Available","Not Available","Not Available","Not Available","Not Available","Not Available","Not Available","Not Available","Not Available","Not Available","Not Available"]
["LBC15SDL","1000mm Blind Corner larder 500 Full Height Door LH","LBC15SDL","Not Available","Not Available","Not Available","Not Available","Not Available","Not Available","Not Available","Not Available","Not Available","Not Available","Not Available","Not Available","Not Available","Not Available","Not Available","Not Available"]
["LBC15SDR","1000mm Blind Corner larder 500 Full Height Door RH","LBC15SDR","Not Available","Not Available","Not Available","Not Available","Not Available","Not Available","Not Available","Not Available","Not Available","Not Available","Not Available","Not Available","Not Available","Not Available","Not Available","Not Available"]
["LBC16SD","1000mm Blind Corner larder 600 Full Height Door","LBC16SD","Not Available","Not Available","Not Available","Not Available","Not Available","Not Available","Not Available","Not Available","Not Available","Not Available","Not Available","Not Available","Not Available","Not Available","Not Available","Not Available"]
["LBC16SDL","1000mm Blind Corner larder 600 Full Height Door LH","LBC16SDL","Not Available","Not Available","Not Available","Not Available","Not Available","Not Available","Not Available","Not Available","Not Available","Not Available","Not Available","Not Available","Not Available","Not Available","Not Available","Not Available"]
["LBC16SDR","1000mm Blind Corner larder 600 Full Height Door RH","LBC16SDR","Not Available","Not Available","Not Available","Not Available","Not Available","Not Available","Not Available","Not Available","Not Available","Not Available","Not Available","Not Available","Not Available","Not Available","Not Available","Not Available"]
["LBCLM15LSD","1000 Corner Larder VS CORNERSTONE MAXX LH 500 FH Door","LBCLM15LSD","Not Available","Not Available","Not Available","Not Available","Not Available","Not Available","Not Available","Not Available","Not Available","Not Available","Not Available","Not Available","Not Available","Not Available","Not Available","Not Available"]
["LBCLM15RSD","1000 Corner Larder VS CORNERSTONE MAXX RH 500 FH Door","LBCLM15RSD","Not Available","Not Available","Not Available","Not Available","Not Available","Not Available","Not Available","Not Available","Not Available","Not Available","Not Available","Not Available","Not Available","Not Available","Not Available","Not Available"]
["LBCLM16LSD","1000 Corner Larder VS CORNERSTONE MAXX LH 600 FH Door","LBCLM16LSD","Not Available","Not Available","Not Available","Not Available","Not Available","Not Available","Not Available","Not Available","Not Available","Not Available","Not Available","Not Available","Not Available","Not Available","Not Available","Not Available"]
["LBCLM16RSD","1000 Corner Larder VS CORNERSTONE MAXX RH 600 FH Door","LBCLM16RSD","Not Available","Not Available","Not Available","Not Available","Not Available","Not Available","Not Available","Not Available","Not Available","Not Available","Not Available","Not Available","Not Available","Not Available","Not Available","Not Available"]
["TLPN14D","1000mm Tall Larder 4 Doors","TLPN14D","Not Available","Not Available","Not Available","Not Available","Not Available","Not Available","Not Available","Not Available","Not Available","Not Available","@LK-CSW-TLPN14D","@LK-DGW-TLPN14D","@LK-DYW-TLPN14D","@LK-ISW-TLPN14D","@LK-MSW-TLPN14D","@LK-NVW-TLPN14D"]
["TLBC15","1000 Tall Blind Corner larder 500 door","TLBC15","Not Available","Not Available","Not Available","Not Available","Not Available","Not Available","Not Available","Not Available","Not Available","Not Available","@LK-CSW-TLBC15","@LK-DGW-TLBC15","@LK-DYW-TLBC15","@LK-ISW-TLBC15","@LK-MSW-TLBC15","@LK-NVW-TLBC15"]
["TLBC16","1000 Tall Blind Corner larder 600 door","TLBC16","Not Available","Not Available","Not Available","Not Available","Not Available","Not Available","Not Available","Not Available","Not Available","Not Available","@LK-CSW-TLBC16","@LK-DGW-TLBC16","@LK-DYW-TLBC16","@LK-ISW-TLBC16","@LK-MSW-TLBC16","@LK-NVW-TLBC16"]
["TLBC15L","1000 Tall Blind Corner larder 500 door LH","TLBC15L","Not Available","Not Available","Not Available","Not Available","Not Available","Not Available","Not Available","Not Available","Not Available","Not Available","Not Available","Not Available","Not Available","Not Available","Not Available","Not Available"]
["TLBC16L","1000 Tall Blind Corner larder 600 door LH","TLBC16L","Not Available","Not Available","Not Available","Not Available","Not Available","Not Available","Not Available","Not Available","Not Available","Not Available","Not Available","Not Available","Not Available","Not Available","Not Available","Not Available"]
["TLBC15R","1000 Tall Blind Corner larder 500 door RH","TLBC15R","Not Available","Not Available","Not Available","Not Available","Not Available","Not Available","Not Available","Not Available","Not Available","Not Available","Not Available","Not Available","Not Available","Not Available","Not Available","Not Available"]
["TLBC16R","1000 Tall Blind Corner larder 600 door RH","TLBC16R","Not Available","Not Available","Not Available","Not Available","Not Available","Not Available","Not Available","Not Available","Not Available","Not Available","Not Available","Not Available","Not Available","Not Available","Not Available","Not Available"]
["TLBCLM15L","1000 Tall Corner Larder CORNERSTONE MAXX LH 500 Door","TLBCLM15L","Not Available","Not Available","Not Available","Not Available","Not Available","Not Available","Not Available","Not Available","Not Available","Not Available","@LK-CSW-TLBCLM15L","@LK-DGW-TLBCLM15L","@LK-DYW-TLBCLM15L","@LK-ISW-TLBCLM15L","@LK-MSW-TLBCLM15L","@LK-NVW-TLBCLM15L"]
["TLBCLM15R","1000 Tall Corner Larder CORNERSTONE MAXX RH 500 Door","TLBCLM15R","Not Available","Not Available","Not Available","Not Available","Not Available","Not Available","Not Available","Not Available","Not Available","Not Available","@LK-CSW-TLBCLM15R","@LK-DGW-TLBCLM15R","@LK-DYW-TLBCLM15R","@LK-ISW-TLBCLM15R","@LK-MSW-TLBCLM15R","@LK-NVW-TLBCLM15R"]
["TLBCLM16L","1000 Tall Corner Larder CORNERSTONE MAXX LH 600 Door","TLBCLM16L","Not Available","Not Available","Not Available","Not Available","Not Available","Not Available","Not Available","Not Available","Not Available","Not Available","@LK-CSW-TLBCLM16L","@LK-DGW-TLBCLM16L","@LK-DYW-TLBCLM16L","@LK-ISW-TLBCLM16L","@LK-MSW-TLBCLM16L","@LK-NVW-TLBCLM16L"]
["TLBCLM16R","1000 Tall Corner Larder CORNERSTONE MAXX RH 600 Door","TLBCLM16R","Not Available","Not Available","Not Available","Not Available","Not Available","Not Available","Not Available","Not Available","Not Available","Not Available","@LK-CSW-TLBCLM16R","@LK-DGW-TLBCLM16R","@LK-DYW-TLBCLM16R","@LK-ISW-TLBCLM16R","@LK-MSW-TLBCLM16R","@LK-NVW-TLBCLM16R"]
["LDP14D","1000 Glass Drinks Pantry 4 Doors","LDP14D","Not Available","Not Available","Not Available","Not Available","Not Available","Not Available","Not Available","Not Available","Not Available","Not Available","Not Available","Not Available","Not Available","Not Available","Not Available","Not Available"]
["LDP14D1DW","1000 Glass Drinks Pantry 4 Door 1 Drawer","LDP14D1DW","Not Available","Not Available","Not Available","Not Available","Not Available","Not Available","Not Available","Not Available","Not Available","Not Available","Not Available","Not Available","Not Available","Not Available","Not Available","Not Available"]
["LDP12D3DW","1000 Glass Drinks Pantry 2 Doors 3 Drawers","LDP12D3DW","Not Available","Not Available","Not Available","Not Available","Not Available","Not Available","Not Available","Not Available","Not Available","Not Available","Not Available","Not Available","Not Available","Not Available","Not Available","Not Available"]
["LDP12D2DW","1000 Glass Drinks Pantry 2 Doors 2 Drawers","LDP12D2DW","Not Available","Not Available","Not Available","Not Available","Not Available","Not Available","Not Available","Not Available","Not Available","Not Available","Not Available","Not Available","Not Available","Not Available","Not Available","Not Available"]
["LL6EA","600 Easy Access Larder","LL6EA","@LK-EMD-LL6EA","@LK-EMY-LL6EA","@LK-EMM-LL6EA","@LK-EMS-LL6EA","@LK-OPD-LL6EA","@LK-OPY-LL6EA","@LK-OPF-LL6EA","@LK-OPM-LL6EA","@LK-OPR-LL6EA","@LK-OPS-LL6EA","@LK-CSW-LL6EA","@LK-DGW-LL6EA","@LK-DYW-LL6EA","@LK-ISW-LL6EA","@LK-MSW-LL6EA","@LK-NVW-LL6EA"]
["LL6CU","600 Cleaning & Utility Larder","LL6CU","@LK-EMD-LL6CU","@LK-EMY-LL6CU","@LK-EMM-LL6CU","@LK-EMS-LL6CU","@LK-OPD-LL6CU","@LK-OPY-LL6CU","@LK-OPF-LL6CU","@LK-OPM-LL6CU","@LK-OPR-LL6CU","@LK-OPS-LL6CU","@LK-CSW-LL6CU","@LK-DGW-LL6CU","@LK-DYW-LL6CU","@LK-ISW-LL6CU","@LK-MSW-LL6CU","@LK-NVW-LL6CU"]
["LL10CU","1000 Cleaning & Utility Larder","LL10CU","@LK-EMD-LL10CU","@LK-EMY-LL10CU","@LK-EMM-LL10CU","@LK-EMS-LL10CU","@LK-OPD-LL10CU","@LK-OPY-LL10CU","@LK-OPF-LL10CU","@LK-OPM-LL10CU","@LK-OPR-LL10CU","@LK-OPS-LL10CU","@LK-CSW-LL10CU","@LK-DGW-LL10CU","@LK-DYW-LL10CU","@LK-ISW-LL10CU","@LK-MSW-LL10CU","@LK-NVW-LL10CU"]
["LL10CUS","1000 Cleaning & Utility Ex Shelves Larder","LL10CUS","@LK-EMD-LL10CUS","@LK-EMY-LL10CUS","@LK-EMM-LL10CUS","@LK-EMS-LL10CUS","@LK-OPD-LL10CUS","@LK-OPY-LL10CUS","@LK-OPF-LL10CUS","@LK-OPM-LL10CUS","@LK-OPR-LL10CUS","@LK-OPS-LL10CUS","@LK-CSW-LL10CUS","@LK-DGW-LL10CUS","@LK-DYW-LL10CUS","@LK-ISW-LL10CUS","@LK-MSW-LL10CUS","@LK-NVW-LL10CUS"]
["LL10CB","1000 Combi Larder","LL10CB","@LK-EMD-LL10CB","@LK-EMY-LL10CB","@LK-EMM-LL10CB","@LK-EMS-LL10CB","@LK-OPD-LL10CB","@LK-OPY-LL10CB","@LK-OPF-LL10CB","@LK-OPM-LL10CB","@LK-OPR-LL10CB","@LK-OPS-LL10CB","@LK-CSW-LL10CB","@LK-DGW-LL10CB","@LK-DYW-LL10CB","@LK-ISW-LL10CB","@LK-MSW-LL10CB","@LK-NVW-LL10CB"]
["TLL6EA","600 Tall Easy Access Larder","TLL6EA","Not Available","Not Available","Not Available","Not Available","Not Available","Not Available","Not Available","Not Available","Not Available","Not Available","@LK-CSW-TLL6EA","@LK-DGW-TLL6EA","@LK-DYW-TLL6EA","@LK-ISW-TLL6EA","@LK-MSW-TLL6EA","@LK-NVW-TLL6EA"]
["TLL6CU","600 Tall Cleaning & Utility Larder","TLL6CU","Not Available","Not Available","Not Available","Not Available","Not Available","Not Available","Not Available","Not Available","Not Available","Not Available","@LK-CSW-TLL6CU","@LK-DGW-TLL6CU","@LK-DYW-TLL6CU","@LK-ISW-TLL6CU","@LK-MSW-TLL6CU","@LK-NVW-TLL6CU"]
["TLL6EAL","600 Tall Easy Access Larder LH","TLL6EAL","Not Available","Not Available","Not Available","Not Available","Not Available","Not Available","Not Available","Not Available","Not Available","Not Available","Not Available","Not Available","Not Available","Not Available","Not Available","Not Available"]
["TLL6CUL","600 Tall Cleaning & Utility Larder LH","TLL6CUL","Not Available","Not Available","Not Available","Not Available","Not Available","Not Available","Not Available","Not Available","Not Available","Not Available","Not Available","Not Available","Not Available","Not Available","Not Available","Not Available"]
["TLL6EAR","600 Tall Easy Access Larder RH","TLL6EAR","Not Available","Not Available","Not Available","Not Available","Not Available","Not Available","Not Available","Not Available","Not Available","Not Available","Not Available","Not Available","Not Available","Not Available","Not Available","Not Available"]
["TLL6CUR","600 Tall Cleaning & Utility Larder RH","TLL6CUR","Not Available","Not Available","Not Available","Not Available","Not Available","Not Available","Not Available","Not Available","Not Available","Not Available","Not Available","Not Available","Not Available","Not Available","Not Available","Not Available"]
["TLL10CU","1000 Tall Cleaning & Utility Larder","TLL10CU","Not Available","Not Available","Not Available","Not Available","Not Available","Not Available","Not Available","Not Available","Not Available","Not Available","@LK-CSW-TLL10CU","@LK-DGW-TLL10CU","@LK-DYW-TLL10CU","@LK-ISW-TLL10CU","@LK-MSW-TLL10CU","@LK-NVW-TLL10CU"]
["TLL10CUS","1000 Tall Cleaning & Utility Ex Shelves Larder","TLL10CUS","Not Available","Not Available","Not Available","Not Available","Not Available","Not Available","Not Available","Not Available","Not Available","Not Available","@LK-CSW-TLL10CUS","@LK-DGW-TLL10CUS","@LK-DYW-TLL10CUS","@LK-ISW-TLL10CUS","@LK-MSW-TLL10CUS","@LK-NVW-TLL10CUS"]
["TLL10CB","1000 Tall Combi Larder","TLL10CB","Not Available","Not Available","Not Available","Not Available","Not Available","Not Available","Not Available","Not Available","Not Available","Not Available","@LK-CSW-TLL10CB","@LK-DGW-TLL10CB","@LK-DYW-TLL10CB","@LK-ISW-TLL10CB","@LK-MSW-TLL10CB","@LK-NVW-TLL10CB"]
["LL6EASD","600 Easy Access Larder Full Height Door","LL6EASD","Not Available","Not Available","Not Available","Not Available","Not Available","Not Available","Not Available","Not Available","Not Available","Not Available","Not Available","Not Available","Not Available","Not Available","Not Available","Not Available"]
["LL6EASDL","600 Easy Access Larder Full Height Door LH","LL6EASDL","Not Available","Not Available","Not Available","Not Available","Not Available","Not Available","Not Available","Not Available","Not Available","Not Available","Not Available","Not Available","Not Available","Not Available","Not Available","Not Available"]
["LL6EASDR","600 Easy Access Larder Full Height Door RH","LL6EASDR","Not Available","Not Available","Not Available","Not Available","Not Available","Not Available","Not Available","Not Available","Not Available","Not Available","Not Available","Not Available","Not Available","Not Available","Not Available","Not Available"]
["LL6CUSD","600 Cleaning & Utility Larder Full Height Door","LL6CUSD","Not Available","Not Available","Not Available","Not Available","Not Available","Not Available","Not Available","Not Available","Not Available","Not Available","Not Available","Not Available","Not Available","Not Available","Not Available","Not Available"]
["LL6CUSDL","600 Cleaning & Utility Larder Full Height Door LH","LL6CUSDL","Not Available","Not Available","Not Available","Not Available","Not Available","Not Available","Not Available","Not Available","Not Available","Not Available","Not Available","Not Available","Not Available","Not Available","Not Available","Not Available"]
["LL6CUSDR","600 Cleaning & Utility Larder Full Height Door RH","LL6CUSDR","Not Available","Not Available","Not Available","Not Available","Not Available","Not Available","Not Available","Not Available","Not Available","Not Available","Not Available","Not Available","Not Available","Not Available","Not Available","Not Available"]
["LL10CUSD","1000 Cleaning & Utility Larder Full Height Doors","LL10CUSD","Not Available","Not Available","Not Available","Not Available","Not Available","Not Available","Not Available","Not Available","Not Available","Not Available","Not Available","Not Available","Not Available","Not Available","Not Available","Not Available"]
["LL10CUSSD","1000 Cleaning & Utility Ex Shelves Larder Full Height Doors","LL10CUSSD","Not Available","Not Available","Not Available","Not Available","Not Available","Not Available","Not Available","Not Available","Not Available","Not Available","Not Available","Not Available","Not Available","Not Available","Not Available","Not Available"]
["LL10CBSD","1000 Combi Larder Full Height Doors","LL10CBSD","Not Available","Not Available","Not Available","Not Available","Not Available","Not Available","Not Available","Not Available","Not Available","Not Available","Not Available","Not Available","Not Available","Not Available","Not Available","Not Available"]
["AD60ICH","600 Integrated Extractor Door","AD60ICH","@LK-EMD-AD60ICH","@LK-EMY-AD60ICH","@LK-EMM-AD60ICH","@LK-EMS-AD60ICH","@LK-OPD-AD60ICH","@LK-OPY-AD60ICH","@LK-OPF-AD60ICH","@LK-OPM-AD60ICH","@LK-OPR-AD60ICH","@LK-OPS-AD60ICH","@LK-CSW-AD60ICH","@LK-DGW-AD60ICH","@LK-DYW-AD60ICH","@LK-ISW-AD60ICH","@LK-MSW-AD60ICH","@LK-NVW-AD60ICH"]
["AD60FD","600 Fridge/Dishwasher Fascia","AD60FD","@LK-EMD-AD60FD","@LK-EMY-AD60FD","@LK-EMM-AD60FD","@LK-EMS-AD60FD","@LK-OPD-AD60FD","@LK-OPY-AD60FD","@LK-OPF-AD60FD","@LK-OPM-AD60FD","@LK-OPR-AD60FD","@LK-OPS-AD60FD","@LK-CSW-AD60FD","@LK-DGW-AD60FD","@LK-DYW-AD60FD","@LK-ISW-AD60FD","@LK-MSW-AD60FD","@LK-NVW-AD60FD"]
["AD45I","450 Integrated Dishwasher Fascia","AD45I","@LK-EMD-AD45I","@LK-EMY-AD45I","@LK-EMM-AD45I","@LK-EMS-AD45I","@LK-OPD-AD45I","@LK-OPY-AD45I","@LK-OPF-AD45I","@LK-OPM-AD45I","@LK-OPR-AD45I","@LK-OPS-AD45I","@LK-CSW-AD45I","@LK-DGW-AD45I","@LK-DYW-AD45I","@LK-ISW-AD45I","@LK-MSW-AD45I","@LK-NVW-AD45I"]
["AD60S","600 Semi Int Dishwasher Fascia","AD60S","@LK-EMD-AD60S","@LK-EMY-AD60S","@LK-EMM-AD60S","@LK-EMS-AD60S","@LK-OPD-AD60S","@LK-OPY-AD60S","@LK-OPF-AD60S","@LK-OPM-AD60S","@LK-OPR-AD60S","@LK-OPS-AD60S","@LK-CSW-AD60S","@LK-DGW-AD60S","@LK-DYW-AD60S","@LK-ISW-AD60S","@LK-MSW-AD60S","@LK-NVW-AD60S"]
["BLD9","900 Boiler Door","BLD9","@LK-EMD-BLD9","@LK-EMY-BLD9","@LK-EMM-BLD9","@LK-EMS-BLD9","@LK-OPD-BLD9","@LK-OPY-BLD9","@LK-OPF-BLD9","@LK-OPM-BLD9","@LK-OPR-BLD9","@LK-OPS-BLD9","@LK-CSW-BLD9","@LK-DGW-BLD9","@LK-DYW-BLD9","@LK-ISW-BLD9","@LK-MSW-BLD9","@LK-NVW-BLD9"]
["TW30L","300 Tall Wall Unit LH (900mm High)","TW30L","Not Available","Not Available","Not Available","Not Available","Not Available","Not Available","Not Available","Not Available","Not Available","Not Available","Not Available","Not Available","Not Available","Not Available","Not Available","Not Available"]
["TW30R","300 Tall Wall Unit RH (900mm High)","TW30R","Not Available","Not Available","Not Available","Not Available","Not Available","Not Available","Not Available","Not Available","Not Available","Not Available","Not Available","Not Available","Not Available","Not Available","Not Available","Not Available"]
["TW40L","400 Tall Wall Unit LH (900mm High)","TW40L","Not Available","Not Available","Not Available","Not Available","Not Available","Not Available","Not Available","Not Available","Not Available","Not Available","Not Available","Not Available","Not Available","Not Available","Not Available","Not Available"]
["TW40R","400 Tall Wall Unit RH (900mm High)","TW40R","Not Available","Not Available","Not Available","Not Available","Not Available","Not Available","Not Available","Not Available","Not Available","Not Available","Not Available","Not Available","Not Available","Not Available","Not Available","Not Available"]
["TW45L","450 Tall Wall Unit LH (900mm High)","TW45L","Not Available","Not Available","Not Available","Not Available","Not Available","Not Available","Not Available","Not Available","Not Available","Not Available","Not Available","Not Available","Not Available","Not Available","Not Available","Not Available"]
["TW45R","450 Tall Wall Unit RH (900mm High)","TW45R","Not Available","Not Available","Not Available","Not Available","Not Available","Not Available","Not Available","Not Available","Not Available","Not Available","Not Available","Not Available","Not Available","Not Available","Not Available","Not Available"]
["TW50L","500 Tall Wall Unit LH (900mm High)","TW50L","Not Available","Not Available","Not Available","Not Available","Not Available","Not Available","Not Available","Not Available","Not Available","Not Available","Not Available","Not Available","Not Available","Not Available","Not Available","Not Available"]
["TW50R","500 Tall Wall Unit RH (900mm High)","TW50R","Not Available","Not Available","Not Available","Not Available","Not Available","Not Available","Not Available","Not Available","Not Available","Not Available","Not Available","Not Available","Not Available","Not Available","Not Available","Not Available"]
["TW60L","600 Tall Wall Unit LH (900mm High)","TW60L","Not Available","Not Available","Not Available","Not Available","Not Available","Not Available","Not Available","Not Available","Not Available","Not Available","Not Available","Not Available","Not Available","Not Available","Not Available","Not Available"]
["TW60R","600 Tall Wall Unit RH (900mm High)","TW60R","Not Available","Not Available","Not Available","Not Available","Not Available","Not Available","Not Available","Not Available","Not Available","Not Available","Not Available","Not Available","Not Available","Not Available","Not Available","Not Available"]
["TW30","300 Tall Wall Unit (900mm High)","TW30","Not Available","Not Available","Not Available","Not Available","Not Available","Not Available","Not Available","Not Available","Not Available","Not Available","@LK-CSW-TW30","@LK-DGW-TW30","@LK-DYW-TW30","@LK-ISW-TW30","@LK-MSW-TW30","@LK-NVW-TW30"]
["TW40","400 Tall Wall Unit (900mm High)","TW40","Not Available","Not Available","Not Available","Not Available","Not Available","Not Available","Not Available","Not Available","Not Available","Not Available","@LK-CSW-TW40","@LK-DGW-TW40","@LK-DYW-TW40","@LK-ISW-TW40","@LK-MSW-TW40","@LK-NVW-TW40"]
["TW45","450 Tall Wall Unit (900mm High)","TW45","Not Available","Not Available","Not Available","Not Available","Not Available","Not Available","Not Available","Not Available","Not Available","Not Available","@LK-CSW-TW45","@LK-DGW-TW45","@LK-DYW-TW45","@LK-ISW-TW45","@LK-MSW-TW45","@LK-NVW-TW45"]
["TW50","500 Tall Wall Unit (900mm High)","TW50","Not Available","Not Available","Not Available","Not Available","Not Available","Not Available","Not Available","Not Available","Not Available","Not Available","@LK-CSW-TW50","@LK-DGW-TW50","@LK-DYW-TW50","@LK-ISW-TW50","@LK-MSW-TW50","@LK-NVW-TW50"]
["TW60","600 Tall Wall Unit (900mm High)","TW60","Not Available","Not Available","Not Available","Not Available","Not Available","Not Available","Not Available","Not Available","Not Available","Not Available","@LK-CSW-TW60","@LK-DGW-TW60","@LK-DYW-TW60","@LK-ISW-TW60","@LK-MSW-TW60","@LK-NVW-TW60"]
["TW80","800 Tall Wall Unit (900mm High)","TW80","Not Available","Not Available","Not Available","Not Available","Not Available","Not Available","Not Available","Not Available","Not Available","Not Available","@LK-CSW-TW80","@LK-DGW-TW80","@LK-DYW-TW80","@LK-ISW-TW80","@LK-MSW-TW80","@LK-NVW-TW80"]
["TW90","900 Tall Wall Unit (900mm High)","TW90","Not Available","Not Available","Not Available","Not Available","Not Available","Not Available","Not Available","Not Available","Not Available","Not Available","@LK-CSW-TW90","@LK-DGW-TW90","@LK-DYW-TW90","@LK-ISW-TW90","@LK-MSW-TW90","@LK-NVW-TW90"]
["TW100","1000 Tall Wall Unit (900mm High)","TW100","Not Available","Not Available","Not Available","Not Available","Not Available","Not Available","Not Available","Not Available","Not Available","Not Available","@LK-CSW-TW100","@LK-DGW-TW100","@LK-DYW-TW100","@LK-ISW-TW100","@LK-MSW-TW100","@LK-NVW-TW100"]
["TWC6","600 Tall Cnr Wall Unit (900mm High)","TWC6","Not Available","Not Available","Not Available","Not Available","Not Available","Not Available","Not Available","Not Available","Not Available","Not Available","@LK-CSW-TWC6","@LK-DGW-TWC6","@LK-DYW-TWC6","@LK-ISW-TWC6","@LK-MSW-TWC6","@LK-NVW-TWC6"]
["TWC9","900 Tall Cnr Wall Unit (900mm High)","TWC9","Not Available","Not Available","Not Available","Not Available","Not Available","Not Available","Not Available","Not Available","Not Available","Not Available","@LK-CSW-TWC9","@LK-DGW-TWC9","@LK-DYW-TWC9","@LK-ISW-TWC9","@LK-MSW-TWC9","@LK-NVW-TWC9"]
["TWC6L","600 Tall Cnr Wall Unit LH (900mm High)","TWC6L","Not Available","Not Available","Not Available","Not Available","Not Available","Not Available","Not Available","Not Available","Not Available","Not Available","Not Available","Not Available","Not Available","Not Available","Not Available","Not Available"]
["TWC6R","600 Tall Cnr Wall Unit RH (900mm High)","TWC6R","Not Available","Not Available","Not Available","Not Available","Not Available","Not Available","Not Available","Not Available","Not Available","Not Available","Not Available","Not Available","Not Available","Not Available","Not Available","Not Available"]
["TWC9L","900 Tall Cnr Wall Unit LH (900mm High)","TWC9L","Not Available","Not Available","Not Available","Not Available","Not Available","Not Available","Not Available","Not Available","Not Available","Not Available","Not Available","Not Available","Not Available","Not Available","Not Available","Not Available"]
["TWC9R","900 Tall Cnr Wall Unit RH (900mm High)","TWC9R","Not Available","Not Available","Not Available","Not Available","Not Available","Not Available","Not Available","Not Available","Not Available","Not Available","Not Available","Not Available","Not Available","Not Available","Not Available","Not Available"]
["TAH-F55","600 Tall 50/50 FF Hsing Unit","TAH-F55","Not Available","Not Available","Not Available","Not Available","Not Available","Not Available","Not Available","Not Available","Not Available","Not Available","@LK-CSW-TAH-F55","@LK-DGW-TAH-F55","@LK-DYW-TAH-F55","@LK-ISW-TAH-F55","@LK-MSW-TAH-F55","@LK-NVW-TAH-F55"]
["TAH-F73","600 Tall 70/30 FF Hsing unit","TAH-F73","Not Available","Not Available","Not Available","Not Available","Not Available","Not Available","Not Available","Not Available","Not Available","Not Available","@LK-CSW-TAH-F73","@LK-DGW-TAH-F73","@LK-DYW-TAH-F73","@LK-ISW-TAH-F73","@LK-MSW-TAH-F73","@LK-NVW-TAH-F73"]
["TAH-F73L","600 Tall 70/30 FF Hsing unit LH","TAH-F73L","Not Available","Not Available","Not Available","Not Available","Not Available","Not Available","Not Available","Not Available","Not Available","Not Available","Not Available","Not Available","Not Available","Not Available","Not Available","Not Available"]
["TAH-F73R","600 Tall 70/30 FF Hsing unit RH","TAH-F73R","Not Available","Not Available","Not Available","Not Available","Not Available","Not Available","Not Available","Not Available","Not Available","Not Available","Not Available","Not Available","Not Available","Not Available","Not Available","Not Available"]
["TAH-DO","600 Tall Dble Oven Housing","TAH-DO","Not Available","Not Available","Not Available","Not Available","Not Available","Not Available","Not Available","Not Available","Not Available","Not Available","@LK-CSW-TAH-DO","@LK-DGW-TAH-DO","@LK-DYW-TAH-DO","@LK-ISW-TAH-DO","@LK-MSW-TAH-DO","@LK-NVW-TAH-DO"]
["TAH-DO2D","600 Tall Dble Oven & 2 Drws","TAH-DO2D","Not Available","Not Available","Not Available","Not Available","Not Available","Not Available","Not Available","Not Available","Not Available","Not Available","@LK-CSW-TAH-DO2D","@LK-DGW-TAH-DO2D","@LK-DYW-TAH-DO2D","@LK-ISW-TAH-DO2D","@LK-MSW-TAH-DO2D","@LK-NVW-TAH-DO2D"]
["TAH-SO","600 Tall Sgle Oven Housing","TAH-SO","Not Available","Not Available","Not Available","Not Available","Not Available","Not Available","Not Available","Not Available","Not Available","Not Available","@LK-CSW-TAH-SO","@LK-DGW-TAH-SO","@LK-DYW-TAH-SO","@LK-ISW-TAH-SO","@LK-MSW-TAH-SO","@LK-NVW-TAH-SO"]
["TAH-SO2D","600 Tall Sgle Oven 2 Drw Unit","TAH-SO2D","Not Available","Not Available","Not Available","Not Available","Not Available","Not Available","Not Available","Not Available","Not Available","Not Available","@LK-CSW-TAH-SO2D","@LK-DGW-TAH-SO2D","@LK-DYW-TAH-SO2D","@LK-ISW-TAH-SO2D","@LK-MSW-TAH-SO2D","@LK-NVW-TAH-SO2D"]
["TAH-SMW","600 Tall Sgle Oven & MW Unit","TAH-SMW","Not Available","Not Available","Not Available","Not Available","Not Available","Not Available","Not Available","Not Available","Not Available","Not Available","@LK-CSW-TAH-SMW","@LK-DGW-TAH-SMW","@LK-DYW-TAH-SMW","@LK-ISW-TAH-SMW","@LK-MSW-TAH-SMW","@LK-NVW-TAH-SMW"]
["TAH-CO","600 Tall Compact/Micro Unit","TAH-CO","Not Available","Not Available","Not Available","Not Available","Not Available","Not Available","Not Available","Not Available","Not Available","Not Available","@LK-CSW-TAH-CO","@LK-DGW-TAH-CO","@LK-DYW-TAH-CO","@LK-ISW-TAH-CO","@LK-MSW-TAH-CO","@LK-NVW-TAH-CO"]
["TAH-COL","600 Tall Compact/Micro Unit LH","TAH-COL","Not Available","Not Available","Not Available","Not Available","Not Available","Not Available","Not Available","Not Available","Not Available","Not Available","Not Available","Not Available","Not Available","Not Available","Not Available","Not Available"]
["TAH-COR","600 Tall Compact/Micro Unit RH","TAH-COR","Not Available","Not Available","Not Available","Not Available","Not Available","Not Available","Not Available","Not Available","Not Available","Not Available","Not Available","Not Available","Not Available","Not Available","Not Available","Not Available"]
["TL3","300 Tall Larder Unit","TL3","Not Available","Not Available","Not Available","Not Available","Not Available","Not Available","Not Available","Not Available","Not Available","Not Available","@LK-CSW-TL3","@LK-DGW-TL3","@LK-DYW-TL3","@LK-ISW-TL3","@LK-MSW-TL3","@LK-NVW-TL3"]
["TL4","400 Tall Larder Unit","TL4","Not Available","Not Available","Not Available","Not Available","Not Available","Not Available","Not Available","Not Available","Not Available","Not Available","@LK-CSW-TL4","@LK-DGW-TL4","@LK-DYW-TL4","@LK-ISW-TL4","@LK-MSW-TL4","@LK-NVW-TL4"]
["TL5","500 Tall Larder Unit","TL5","Not Available","Not Available","Not Available","Not Available","Not Available","Not Available","Not Available","Not Available","Not Available","Not Available","@LK-CSW-TL5","@LK-DGW-TL5","@LK-DYW-TL5","@LK-ISW-TL5","@LK-MSW-TL5","@LK-NVW-TL5"]
["TL6","600 Tall Larder Unit","TL6","Not Available","Not Available","Not Available","Not Available","Not Available","Not Available","Not Available","Not Available","Not Available","Not Available","@LK-CSW-TL6","@LK-DGW-TL6","@LK-DYW-TL6","@LK-ISW-TL6","@LK-MSW-TL6","@LK-NVW-TL6"]
["TL3L","300 Tall Larder Unit LH","TL3L","Not Available","Not Available","Not Available","Not Available","Not Available","Not Available","Not Available","Not Available","Not Available","Not Available","Not Available","Not Available","Not Available","Not Available","Not Available","Not Available"]
["TL4L","400 Tall Larder Unit LH","TL4L","Not Available","Not Available","Not Available","Not Available","Not Available","Not Available","Not Available","Not Available","Not Available","Not Available","Not Available","Not Available","Not Available","Not Available","Not Available","Not Available"]
["TL5L","500 Tall Larder Unit LH","TL5L","Not Available","Not Available","Not Available","Not Available","Not Available","Not Available","Not Available","Not Available","Not Available","Not Available","Not Available","Not Available","Not Available","Not Available","Not Available","Not Available"]
["TL6L","600 Tall Larder Unit LH","TL6L","Not Available","Not Available","Not Available","Not Available","Not Available","Not Available","Not Available","Not Available","Not Available","Not Available","Not Available","Not Available","Not Available","Not Available","Not Available","Not Available"]
["TL3R","300 Tall Larder Unit RH","TL3R","Not Available","Not Available","Not Available","Not Available","Not Available","Not Available","Not Available","Not Available","Not Available","Not Available","Not Available","Not Available","Not Available","Not Available","Not Available","Not Available"]
["TL4R","400 Tall Larder Unit RH","TL4R","Not Available","Not Available","Not Available","Not Available","Not Available","Not Available","Not Available","Not Available","Not Available","Not Available","Not Available","Not Available","Not Available","Not Available","Not Available","Not Available"]
["TL5R","500 Tall Larder Unit RH","TL5R","Not Available","Not Available","Not Available","Not Available","Not Available","Not Available","Not Available","Not Available","Not Available","Not Available","Not Available","Not Available","Not Available","Not Available","Not Available","Not Available"]
["TL6R","600 Tall Larder Unit RH","TL6R","Not Available","Not Available","Not Available","Not Available","Not Available","Not Available","Not Available","Not Available","Not Available","Not Available","Not Available","Not Available","Not Available","Not Available","Not Available","Not Available"]
["MANTLE","Working Mantle Kit 1800","MANTLE","Not Available","Not Available","Not Available","Not Available","Not Available","Not Available","Not Available","Not Available","Not Available","Not Available","@LK-CSW-MANTLE","@LK-DGW-MANTLE","@LK-DYW-MANTLE","@LK-ISW-MANTLE","@LK-MSW-MANTLE","@LK-NVW-MANTLE"]
["WM16","Working Mantle Kit 1600","WM16","Not Available","Not Available","Not Available","Not Available","Not Available","Not Available","Not Available","Not Available","Not Available","Not Available","Not Available","Not Available","Not Available","Not Available","Not Available","Not Available"]
["MTSK","Mantle Shelf Kit 2500 x 196 x 202mm","MTSK","Not Available","Not Available","Not Available","Not Available","Not Available","Not Available","Not Available","Not Available","Not Available","Not Available","Not Available","Not Available","Not Available","Not Available","Not Available","Not Available"]
["MTS17","Mantle Shelf  1752 x 170 x 130mm","MTS17","Not Available","Not Available","Not Available","Not Available","Not Available","Not Available","Not Available","Not Available","Not Available","Not Available","Not Available","Not Available","Not Available","Not Available","Not Available","Not Available"]
["CH-SO","600 Corner Single Oven Housing","CH-SO","@LK-EMD-CH-SO","@LK-EMY-CH-SO","@LK-EMM-CH-SO","@LK-EMS-CH-SO","@LK-OPD-CH-SO","@LK-OPY-CH-SO","@LK-OPF-CH-SO","@LK-OPM-CH-SO","@LK-OPR-CH-SO","@LK-OPS-CH-SO","@LK-CSW-CH-SO","@LK-DGW-CH-SO","@LK-DYW-CH-SO","@LK-ISW-CH-SO","@LK-MSW-CH-SO","@LK-NVW-CH-SO"]
["CH-MW","600 Corner Compact App/Micro Housing","CH-MW","@LK-EMD-CH-MW","@LK-EMY-CH-MW","@LK-EMM-CH-MW","@LK-EMS-CH-MW","@LK-OPD-CH-MW","@LK-OPY-CH-MW","@LK-OPF-CH-MW","@LK-OPM-CH-MW","@LK-OPR-CH-MW","@LK-OPS-CH-MW","@LK-CSW-CH-MW","@LK-DGW-CH-MW","@LK-DYW-CH-MW","@LK-ISW-CH-MW","@LK-MSW-CH-MW","@LK-NVW-CH-MW"]
["CH-ST","600 Corner Storage Unit","CH-ST","@LK-EMD-CH-ST","@LK-EMY-CH-ST","@LK-EMM-CH-ST","@LK-EMS-CH-ST","@LK-OPD-CH-ST","@LK-OPY-CH-ST","@LK-OPF-CH-ST","@LK-OPM-CH-ST","@LK-OPR-CH-ST","@LK-OPS-CH-ST","@LK-CSW-CH-ST","@LK-DGW-CH-ST","@LK-DYW-CH-ST","@LK-ISW-CH-ST","@LK-MSW-CH-ST","@LK-NVW-CH-ST"]
["TCH-SO","600 Tall Corner Single Oven Housing","TCH-SO","@LK-EMD-TCH-SO","@LK-EMY-TCH-SO","@LK-EMM-TCH-SO","@LK-EMS-TCH-SO","@LK-OPD-TCH-SO","@LK-OPY-TCH-SO","@LK-OPF-TCH-SO","@LK-OPM-TCH-SO","@LK-OPR-TCH-SO","@LK-OPS-TCH-SO","@LK-CSW-TCH-SO","@LK-DGW-TCH-SO","@LK-DYW-TCH-SO","@LK-ISW-TCH-SO","@LK-MSW-TCH-SO","@LK-NVW-TCH-SO"]
["TCH-MW","600 Tall Corner Compact/Micro Housing","TCH-MW","@LK-EMD-TCH-MW","@LK-EMY-TCH-MW","@LK-EMM-TCH-MW","@LK-EMS-TCH-MW","@LK-OPD-TCH-MW","@LK-OPY-TCH-MW","@LK-OPF-TCH-MW","@LK-OPM-TCH-MW","@LK-OPR-TCH-MW","@LK-OPS-TCH-MW","@LK-CSW-TCH-MW","@LK-DGW-TCH-MW","@LK-DYW-TCH-MW","@LK-ISW-TCH-MW","@LK-MSW-TCH-MW","@LK-NVW-TCH-MW"]
["TCH-ST","600 Tall Corner Storage Unit","TCH-ST","@LK-EMD-TCH-ST","@LK-EMY-TCH-ST","@LK-EMM-TCH-ST","@LK-EMS-TCH-ST","@LK-OPD-TCH-ST","@LK-OPY-TCH-ST","@LK-OPF-TCH-ST","@LK-OPM-TCH-ST","@LK-OPR-TCH-ST","@LK-OPS-TCH-ST","@LK-CSW-TCH-ST","@LK-DGW-TCH-ST","@LK-DYW-TCH-ST","@LK-ISW-TCH-ST","@LK-MSW-TCH-ST","@LK-NVW-TCH-ST"]
["AH-SOT","600 Twin Single Oven Housing","AH-SOT","@LK-EMD-AH-SOT","@LK-EMY-AH-SOT","@LK-EMM-AH-SOT","@LK-EMS-AH-SOT","@LK-OPD-AH-SOT","@LK-OPY-AH-SOT","@LK-OPF-AH-SOT","@LK-OPM-AH-SOT","@LK-OPR-AH-SOT","@LK-OPS-AH-SOT","@LK-CSW-AH-SOT","@LK-DGW-AH-SOT","@LK-DYW-AH-SOT","@LK-ISW-AH-SOT","@LK-MSW-AH-SOT","@LK-NVW-AH-SOT"]
["TAH-SOT","600 Tall Twin Single Oven Housing","TAH-SOT","Not Available","Not Available","Not Available","Not Available","Not Available","Not Available","Not Available","Not Available","Not Available","Not Available","@LK-CSW-TAH-SOT","@LK-DGW-TAH-SOT","@LK-DYW-TAH-SOT","@LK-ISW-TAH-SOT","@LK-MSW-TAH-SOT","@LK-NVW-TAH-SOT"]
["LP4","400 Larder & TAL LARDER Pull Out","LP4","Not Available","Not Available","Not Available","Not Available","Not Available","Not Available","Not Available","Not Available","Not Available","Not Available","@LK-CSW-LP4","@LK-DGW-LP4","@LK-DYW-LP4","@LK-ISW-LP4","@LK-MSW-LP4","@LK-NVW-LP4"]
["LP4SD","400 Larder & TAL LARDER Pull Out FH Door","LP4SD","Not Available","Not Available","Not Available","Not Available","Not Available","Not Available","Not Available","Not Available","Not Available","Not Available","Not Available","Not Available","Not Available","Not Available","Not Available","Not Available"]
["TLP4","400 Tall Larder & TAL LARDER Pull Out","TLP4","Not Available","Not Available","Not Available","Not Available","Not Available","Not Available","Not Available","Not Available","Not Available","Not Available","@LK-CSW-TLP4","@LK-DGW-TLP4","@LK-DYW-TLP4","@LK-ISW-TLP4","@LK-MSW-TLP4","@LK-NVW-TLP4"]
["LP5T","500 Larder & TAL GATE PRO Pull Out","LP5T","@LK-EMD-LP5T","@LK-EMY-LP5T","@LK-EMM-LP5T","@LK-EMS-LP5T","@LK-OPD-LP5T","@LK-OPY-LP5T","@LK-OPF-LP5T","@LK-OPM-LP5T","@LK-OPR-LP5T","@LK-OPS-LP5T","@LK-CSW-LP5T","@LK-DGW-LP5T","@LK-DYW-LP5T","@LK-ISW-LP5T","@LK-MSW-LP5T","@LK-NVW-LP5T"]
["LP5TSD","500 Larder & TAL GATE PRO P/Out FH Door","LP5TSD","Not Available","Not Available","Not Available","Not Available","Not Available","Not Available","Not Available","Not Available","Not Available","Not Available","Not Available","Not Available","Not Available","Not Available","Not Available","Not Available"]
["LP5TSDL","500 Larder & TAL GATE PRO P/Out FH Door LH","LP5TSDL","Not Available","Not Available","Not Available","Not Available","Not Available","Not Available","Not Available","Not Available","Not Available","Not Available","Not Available","Not Available","Not Available","Not Available","Not Available","Not Available"]
["LP5TSDR","500 Larder & TAL GATE PRO P/Out FH Door RH","LP5TSDR","Not Available","Not Available","Not Available","Not Available","Not Available","Not Available","Not Available","Not Available","Not Available","Not Available","Not Available","Not Available","Not Available","Not Available","Not Available","Not Available"]
["TLP5T","500 Tall Larder & TAL GATE PRO Pull Out","TLP5T","Not Available","Not Available","Not Available","Not Available","Not Available","Not Available","Not Available","Not Available","Not Available","Not Available","@LK-CSW-TLP5T","@LK-DGW-TLP5T","@LK-DYW-TLP5T","@LK-ISW-TLP5T","@LK-MSW-TLP5T","@LK-NVW-TLP5T"]
["TLP5TL","500 Tall Larder & TAL GATE PRO Pull Out LHH","TLP5TL","Not Available","Not Available","Not Available","Not Available","Not Available","Not Available","Not Available","Not Available","Not Available","Not Available","Not Available","Not Available","Not Available","Not Available","Not Available","Not Available"]
["TLP5TR","500 Tall Larder & TAL GATE PRO Pull Out RHH","TLP5TR","Not Available","Not Available","Not Available","Not Available","Not Available","Not Available","Not Available","Not Available","Not Available","Not Available","Not Available","Not Available","Not Available","Not Available","Not Available","Not Available"]
["LL8LS","800mm Laundry Stacker Larder","LL8LS","@LK-EMD-LL8LS","@LK-EMY-LL8LS","@LK-EMM-LL8LS","@LK-EMS-LL8LS","@LK-OPD-LL8LS","@LK-OPY-LL8LS","@LK-OPF-LL8LS","@LK-OPM-LL8LS","@LK-OPR-LL8LS","@LK-OPS-LL8LS","@LK-CSW-LL8LS","@LK-DGW-LL8LS","@LK-DYW-LL8LS","@LK-ISW-LL8LS","@LK-MSW-LL8LS","@LK-NVW-LL8LS"]
["LL8LSSD","800mm Laundry Stacker Larder Full Height Doors","LL8LSSD","Not Available","Not Available","Not Available","Not Available","Not Available","Not Available","Not Available","Not Available","Not Available","Not Available","Not Available","Not Available","Not Available","Not Available","Not Available","Not Available"]
["TLL8LS","800mm Tall Laundry Stacker Larder","TLL8LS","Not Available","Not Available","Not Available","Not Available","Not Available","Not Available","Not Available","Not Available","Not Available","Not Available","@LK-CSW-TLL8LS","@LK-DGW-TLL8LS","@LK-DYW-TLL8LS","@LK-ISW-TLL8LS","@LK-MSW-TLL8LS","@LK-NVW-TLL8LS"]
["W357","300 Wall Unit (575mm High)","W357","Not Available","Not Available","Not Available","Not Available","Not Available","Not Available","Not Available","Not Available","Not Available","Not Available","@LK-CSW-W357","@LK-DGW-W357","@LK-DYW-W357","@LK-ISW-W357","@LK-MSW-W357","@LK-NVW-W357"]
["W457","400 Wall Unit (575mm High)","W457","Not Available","Not Available","Not Available","Not Available","Not Available","Not Available","Not Available","Not Available","Not Available","Not Available","@LK-CSW-W457","@LK-DGW-W457","@LK-DYW-W457","@LK-ISW-W457","@LK-MSW-W457","@LK-NVW-W457"]
["W4557","450 Wall Unit (575mm High)","W4557","Not Available","Not Available","Not Available","Not Available","Not Available","Not Available","Not Available","Not Available","Not Available","Not Available","@LK-CSW-W4557","@LK-DGW-W4557","@LK-DYW-W4557","@LK-ISW-W4557","@LK-MSW-W4557","@LK-NVW-W4557"]
["W557","500 Wall Unit (575mm High)","W557","Not Available","Not Available","Not Available","Not Available","Not Available","Not Available","Not Available","Not Available","Not Available","Not Available","@LK-CSW-W557","@LK-DGW-W557","@LK-DYW-W557","@LK-ISW-W557","@LK-MSW-W557","@LK-NVW-W557"]
["W657","600 Wall Unit (575mm High)","W657","Not Available","Not Available","Not Available","Not Available","Not Available","Not Available","Not Available","Not Available","Not Available","Not Available","@LK-CSW-W657","@LK-DGW-W657","@LK-DYW-W657","@LK-ISW-W657","@LK-MSW-W657","@LK-NVW-W657"]
["W857","800 Wall Unit (575mm High)","W857","Not Available","Not Available","Not Available","Not Available","Not Available","Not Available","Not Available","Not Available","Not Available","Not Available","@LK-CSW-W857","@LK-DGW-W857","@LK-DYW-W857","@LK-ISW-W857","@LK-MSW-W857","@LK-NVW-W857"]
["W957","900 Wall Unit (575mm High)","W957","Not Available","Not Available","Not Available","Not Available","Not Available","Not Available","Not Available","Not Available","Not Available","Not Available","@LK-CSW-W957","@LK-DGW-W957","@LK-DYW-W957","@LK-ISW-W957","@LK-MSW-W957","@LK-NVW-W957"]
["W157","1000 Wall Unit (575mm High)","W157","Not Available","Not Available","Not Available","Not Available","Not Available","Not Available","Not Available","Not Available","Not Available","Not Available","@LK-CSW-W157","@LK-DGW-W157","@LK-DYW-W157","@LK-ISW-W157","@LK-MSW-W157","@LK-NVW-W157"]
["WC657","600 Corner Wall Unit (575mm High)","WC657","Not Available","Not Available","Not Available","Not Available","Not Available","Not Available","Not Available","Not Available","Not Available","Not Available","@LK-CSW-WC657","@LK-DGW-WC657","@LK-DYW-WC657","@LK-ISW-WC657","@LK-MSW-WC657","@LK-NVW-WC657"]
["WC957","900 Corner Wall Unit (575mm High)","WC957","Not Available","Not Available","Not Available","Not Available","Not Available","Not Available","Not Available","Not Available","Not Available","Not Available","@LK-CSW-WC957","@LK-DGW-WC957","@LK-DYW-WC957","@LK-ISW-WC957","@LK-MSW-WC957","@LK-NVW-WC957"]
["BHD3","300 HL Pan Drawer Unit with 2 Internal Drawers","BHD3","@LK-EMD-BHD3","@LK-EMY-BHD3","@LK-EMM-BHD3","@LK-EMS-BHD3","@LK-OPD-BHD3","@LK-OPY-BHD3","@LK-OPF-BHD3","@LK-OPM-BHD3","@LK-OPR-BHD3","@LK-OPS-BHD3","@LK-CSW-BHD3","@LK-DGW-BHD3","@LK-DYW-BHD3","@LK-ISW-BHD3","@LK-MSW-BHD3","@LK-NVW-BHD3"]
["BHD4","400 HL Pan Drawer Unit with 2 Internal Drawers","BHD4","@LK-EMD-BHD4","@LK-EMY-BHD4","@LK-EMM-BHD4","@LK-EMS-BHD4","@LK-OPD-BHD4","@LK-OPY-BHD4","@LK-OPF-BHD4","@LK-OPM-BHD4","@LK-OPR-BHD4","@LK-OPS-BHD4","@LK-CSW-BHD4","@LK-DGW-BHD4","@LK-DYW-BHD4","@LK-ISW-BHD4","@LK-MSW-BHD4","@LK-NVW-BHD4"]
["BHD5","500 HL Pan Drawer Unit with 2 Internal Drawers","BHD5","@LK-EMD-BHD5","@LK-EMY-BHD5","@LK-EMM-BHD5","@LK-EMS-BHD5","@LK-OPD-BHD5","@LK-OPY-BHD5","@LK-OPF-BHD5","@LK-OPM-BHD5","@LK-OPR-BHD5","@LK-OPS-BHD5","@LK-CSW-BHD5","@LK-DGW-BHD5","@LK-DYW-BHD5","@LK-ISW-BHD5","@LK-MSW-BHD5","@LK-NVW-BHD5"]
["BHD6","600 HL Pan Drawer Unit with 2 Internal Drawers","BHD6","@LK-EMD-BHD6","@LK-EMY-BHD6","@LK-EMM-BHD6","@LK-EMS-BHD6","@LK-OPD-BHD6","@LK-OPY-BHD6","@LK-OPF-BHD6","@LK-OPM-BHD6","@LK-OPR-BHD6","@LK-OPS-BHD6","@LK-CSW-BHD6","@LK-DGW-BHD6","@LK-DYW-BHD6","@LK-ISW-BHD6","@LK-MSW-BHD6","@LK-NVW-BHD6"]
["WDB100","1000 2 Door Breakfast Dresser 40mm Wtop","WDB100","Not Available","Not Available","Not Available","Not Available","Not Available","Not Available","Not Available","Not Available","Not Available","Not Available","Not Available","Not Available","Not Available","Not Available","Not Available","Not Available"]
["WDB1001","1000 2 Door Breakfast Dresser 30mm Wtop","WDB1001","Not Available","Not Available","Not Available","Not Available","Not Available","Not Available","Not Available","Not Available","Not Available","Not Available","Not Available","Not Available","Not Available","Not Available","Not Available","Not Available"]
["WDB1002","1000 2 Door Breakfast Dresser 25mm Wtop","WDB1002","Not Available","Not Available","Not Available","Not Available","Not Available","Not Available","Not Available","Not Available","Not Available","Not Available","Not Available","Not Available","Not Available","Not Available","Not Available","Not Available"]
["WDB1003","1000 2 Door Breakfast Dresser 20mm Wtop","WDB1003","Not Available","Not Available","Not Available","Not Available","Not Available","Not Available","Not Available","Not Available","Not Available","Not Available","Not Available","Not Available","Not Available","Not Available","Not Available","Not Available"]
["CBTR","200mm Chopping Boards & Trays Unit","CBTR","Not Available","Not Available","Not Available","Not Available","Not Available","Not Available","Not Available","Not Available","Not Available","Not Available","Not Available","Not Available","Not Available","Not Available","Not Available","Not Available"]
[]
[null,"ASSEMBLED",null,"RIGID BUILD","RIGID BUILD","RIGID BUILD","RIGID BUILD","RIGID BUILD","RIGID BUILD","RIGID BUILD","RIGID BUILD","RIGID BUILD","RIGID BUILD","RIGID BUILD","RIGID BUILD","RIGID BUILD","RIGID BUILD","RIGID BUILD","RIGID BUILD"]
[null,"CABINET ASSEMBLY",null,"RIGID BUILD","RIGID BUILD","RIGID BUILD","RIGID BUILD","RIGID BUILD","RIGID BUILD","RIGID BUILD","RIGID BUILD","RIGID BUILD","RIGID BUILD","RIGID BUILD","RIGID BUILD","RIGID BUILD","RIGID BUILD","RIGID BUILD","RIGID BUILD"]
[null,"TALL HOUSING ASSEMBLY",null,"TALL RIGID BUILD","TALL RIGID BUILD","TALL RIGID BUILD","TALL RIGID BUILD","TALL RIGID BUILD","TALL RIGID BUILD","TALL RIGID BUILD","TALL RIGID BUILD","TALL RIGID BUILD","TALL RIGID BUILD","TALL RIGID BUILD","TALL RIGID BUILD","TALL RIGID BUILD","TALL RIGID BUILD","TALL RIGID BUILD","TALL RIGID BUILD"]
[null,"Oak Dovetail Standard Drawer Box",null,"Oak Std Upgrade","Oak Std Upgrade","Oak Std Upgrade","Oak Std Upgrade","Oak Std Upgrade","Oak Std Upgrade","Oak Std Upgrade","Oak Std Upgrade","Oak Std Upgrade","Oak Std Upgrade","Oak Std Upgrade","Oak Std Upgrade","Oak Std Upgrade","Oak Std Upgrade","Oak Std Upgrade","Oak Std Upgrade"]
[null,"Oak Dovetail Pan Drawer Box",null,"Oak Pan Upgrade","Oak Pan Upgrade","Oak Pan Upgrade","Oak Pan Upgrade","Oak Pan Upgrade","Oak Pan Upgrade","Oak Pan Upgrade","Oak Pan Upgrade","Oak Pan Upgrade","Oak Pan Upgrade","Oak Pan Upgrade","Oak Pan Upgrade","Oak Pan Upgrade","Oak Pan Upgrade","Oak Pan Upgrade","Oak Pan Upgrade"]
[null,"Oak Dovetail Low Drawer Box",null,"Oak Low Drw Upgrade","Oak Low Drw Upgrade","Oak Low Drw Upgrade","Oak Low Drw Upgrade","Oak Low Drw Upgrade","Oak Low Drw Upgrade","Oak Low Drw Upgrade","Oak Low Drw Upgrade","Oak Low Drw Upgrade","Oak Low Drw Upgrade","Oak Low Drw Upgrade","Oak Low Drw Upgrade","Oak Low Drw Upgrade","Oak Low Drw Upgrade","Oak Low Drw Upgrade","Oak Low Drw Upgrade"]
[null,"Legrabox Standard Drawer Box",null,"Legrabox Std Upgrade","Legrabox Std Upgrade","Legrabox Std Upgrade","Legrabox Std Upgrade","Legrabox Std Upgrade","Legrabox Std Upgrade","Legrabox Std Upgrade","Legrabox Std Upgrade","Legrabox Std Upgrade","Legrabox Std Upgrade","Legrabox Std Upgrade","Legrabox Std Upgrade","Legrabox Std Upgrade","Legrabox Std Upgrade","Legrabox Std Upgrade","Legrabox Std Upgrade"]
[null,"Legrabox Pan Drawer Box",null,"Legrabox Pan Upgrade","Legrabox Pan Upgrade","Legrabox Pan Upgrade","Legrabox Pan Upgrade","Legrabox Pan Upgrade","Legrabox Pan Upgrade","Legrabox Pan Upgrade","Legrabox Pan Upgrade","Legrabox Pan Upgrade","Legrabox Pan Upgrade","Legrabox Pan Upgrade","Legrabox Pan Upgrade","Legrabox Pan Upgrade","Legrabox Pan Upgrade","Legrabox Pan Upgrade","Legrabox Pan Upgrade"]
[null,"Legrabox Low Drawer Box",null,"Legrabox Low Drw Upgrade","Legrabox Low Drw Upgrade","Legrabox Low Drw Upgrade","Legrabox Low Drw Upgrade","Legrabox Low Drw Upgrade","Legrabox Low Drw Upgrade","Legrabox Low Drw Upgrade","Legrabox Low Drw Upgrade","Legrabox Low Drw Upgrade","Legrabox Low Drw Upgrade","Legrabox Low Drw Upgrade","Legrabox Low Drw Upgrade","Legrabox Low Drw Upgrade","Legrabox Low Drw Upgrade","Legrabox Low Drw Upgrade","Legrabox Low Drw Upgrade"]
[]
[]
[null,"Lifestyle Cube for Combi 447d Anthracite Linen",null,"LK-A-ALN-LSCUBE4","LK-A-ALN-LSCUBE4","LK-A-ALN-LSCUBE4","LK-A-ALN-LSCUBE4","LK-A-ALN-LSCUBE4","LK-A-ALN-LSCUBE4","LK-A-ALN-LSCUBE4","LK-A-ALN-LSCUBE4","LK-A-ALN-LSCUBE4","LK-A-ALN-LSCUBE4","LK-A-ALN-LSCUBE4","LK-A-ALN-LSCUBE4","LK-A-ALN-LSCUBE4","LK-A-ALN-LSCUBE4","LK-A-ALN-LSCUBE4","LK-A-ALN-LSCUBE4"]
[null,"Lifestyle Cube for Combi 447d Grey Linen",null,"LK-A-GLN-LSCUBE4","LK-A-GLN-LSCUBE4","LK-A-GLN-LSCUBE4","LK-A-GLN-LSCUBE4","LK-A-GLN-LSCUBE4","LK-A-GLN-LSCUBE4","LK-A-GLN-LSCUBE4","LK-A-GLN-LSCUBE4","LK-A-GLN-LSCUBE4","LK-A-GLN-LSCUBE4","LK-A-GLN-LSCUBE4","LK-A-GLN-LSCUBE4","LK-A-GLN-LSCUBE4","LK-A-GLN-LSCUBE4","LK-A-GLN-LSCUBE4","LK-A-GLN-LSCUBE4"]
[null,"Lifestyle Cube for Combi 447d Oak",null,"LK-A-LISW-LSCUBE4","LK-A-LISW-LSCUBE4","LK-A-LISW-LSCUBE4","LK-A-LISW-LSCUBE4","LK-A-LISW-LSCUBE4","LK-A-LISW-LSCUBE4","LK-A-LISW-LSCUBE4","LK-A-LISW-LSCUBE4","LK-A-LISW-LSCUBE4","LK-A-LISW-LSCUBE4","LK-A-LISW-LSCUBE4","LK-A-LISW-LSCUBE4","LK-A-LISW-LSCUBE4","LK-A-LISW-LSCUBE4","LK-A-LISW-LSCUBE4","LK-A-LISW-LSCUBE4"]
[null,"Lifestyle Cube for Combi 447d Stone Grey",null,"LK-A-STG-LSCUBE4","LK-A-STG-LSCUBE4","LK-A-STG-LSCUBE4","LK-A-STG-LSCUBE4","LK-A-STG-LSCUBE4","LK-A-STG-LSCUBE4","LK-A-STG-LSCUBE4","LK-A-STG-LSCUBE4","LK-A-STG-LSCUBE4","LK-A-STG-LSCUBE4","LK-A-STG-LSCUBE4","LK-A-STG-LSCUBE4","LK-A-STG-LSCUBE4","LK-A-STG-LSCUBE4","LK-A-STG-LSCUBE4","LK-A-STG-LSCUBE4"]
[null,"Lifestyle Cube for Combi 447d Matt White",null,"LK-A-WHT-LSCUBE4","LK-A-WHT-LSCUBE4","LK-A-WHT-LSCUBE4","LK-A-WHT-LSCUBE4","LK-A-WHT-LSCUBE4","LK-A-WHT-LSCUBE4","LK-A-WHT-LSCUBE4","LK-A-WHT-LSCUBE4","LK-A-WHT-LSCUBE4","LK-A-WHT-LSCUBE4","LK-A-WHT-LSCUBE4","LK-A-WHT-LSCUBE4","LK-A-WHT-LSCUBE4","LK-A-WHT-LSCUBE4","LK-A-WHT-LSCUBE4","LK-A-WHT-LSCUBE4"]
[null,"Lifestyle Cube for Combi 447d Walnut",null,"LK-A-WAL-LSCUBE4","LK-A-WAL-LSCUBE4","LK-A-WAL-LSCUBE4","LK-A-WAL-LSCUBE4","LK-A-WAL-LSCUBE4","LK-A-WAL-LSCUBE4","LK-A-WAL-LSCUBE4","LK-A-WAL-LSCUBE4","LK-A-WAL-LSCUBE4","LK-A-WAL-LSCUBE4","LK-A-WAL-LSCUBE4","LK-A-WAL-LSCUBE4","LK-A-WAL-LSCUBE4","LK-A-WAL-LSCUBE4","LK-A-WAL-LSCUBE4","LK-A-WAL-LSCUBE4"]
[null,"Lifestyle Cube for Combi 547d Anthracite Linen",null,"LK-A-ALN-LSCUBE5","LK-A-ALN-LSCUBE5","LK-A-ALN-LSCUBE5","LK-A-ALN-LSCUBE5","LK-A-ALN-LSCUBE5","LK-A-ALN-LSCUBE5","LK-A-ALN-LSCUBE5","LK-A-ALN-LSCUBE5","LK-A-ALN-LSCUBE5","LK-A-ALN-LSCUBE5","LK-A-ALN-LSCUBE5","LK-A-ALN-LSCUBE5","LK-A-ALN-LSCUBE5","LK-A-ALN-LSCUBE5","LK-A-ALN-LSCUBE5","LK-A-ALN-LSCUBE5"]
[null,"Lifestyle Cube for Combi 547d Grey Linen",null,"LK-A-GLN-LSCUBE5","LK-A-GLN-LSCUBE5","LK-A-GLN-LSCUBE5","LK-A-GLN-LSCUBE5","LK-A-GLN-LSCUBE5","LK-A-GLN-LSCUBE5","LK-A-GLN-LSCUBE5","LK-A-GLN-LSCUBE5","LK-A-GLN-LSCUBE5","LK-A-GLN-LSCUBE5","LK-A-GLN-LSCUBE5","LK-A-GLN-LSCUBE5","LK-A-GLN-LSCUBE5","LK-A-GLN-LSCUBE5","LK-A-GLN-LSCUBE5","LK-A-GLN-LSCUBE5"]
[null,"Lifestyle Cube for Combi 547d Oak",null,"LK-A-LISW-LSCUBE5","LK-A-LISW-LSCUBE5","LK-A-LISW-LSCUBE5","LK-A-LISW-LSCUBE5","LK-A-LISW-LSCUBE5","LK-A-LISW-LSCUBE5","LK-A-LISW-LSCUBE5","LK-A-LISW-LSCUBE5","LK-A-LISW-LSCUBE5","LK-A-LISW-LSCUBE5","LK-A-LISW-LSCUBE5","LK-A-LISW-LSCUBE5","LK-A-LISW-LSCUBE5","LK-A-LISW-LSCUBE5","LK-A-LISW-LSCUBE5","LK-A-LISW-LSCUBE5"]
[null,"Lifestyle Cube for Combi 547d Stone Grey",null,"LK-A-STG-LSCUBE5","LK-A-STG-LSCUBE5","LK-A-STG-LSCUBE5","LK-A-STG-LSCUBE5","LK-A-STG-LSCUBE5","LK-A-STG-LSCUBE5","LK-A-STG-LSCUBE5","LK-A-STG-LSCUBE5","LK-A-STG-LSCUBE5","LK-A-STG-LSCUBE5","LK-A-STG-LSCUBE5","LK-A-STG-LSCUBE5","LK-A-STG-LSCUBE5","LK-A-STG-LSCUBE5","LK-A-STG-LSCUBE5","LK-A-STG-LSCUBE5"]
[null,"Lifestyle Cube for Combi 547d Matt White",null,"LK-A-WHT-LSCUBE5","LK-A-WHT-LSCUBE5","LK-A-WHT-LSCUBE5","LK-A-WHT-LSCUBE5","LK-A-WHT-LSCUBE5","LK-A-WHT-LSCUBE5","LK-A-WHT-LSCUBE5","LK-A-WHT-LSCUBE5","LK-A-WHT-LSCUBE5","LK-A-WHT-LSCUBE5","LK-A-WHT-LSCUBE5","LK-A-WHT-LSCUBE5","LK-A-WHT-LSCUBE5","LK-A-WHT-LSCUBE5","LK-A-WHT-LSCUBE5","LK-A-WHT-LSCUBE5"]
[null,"Lifestyle Cube for Combi 547d Walnut",null,"LK-A-WAL-LSCUBE5","LK-A-WAL-LSCUBE5","LK-A-WAL-LSCUBE5","LK-A-WAL-LSCUBE5","LK-A-WAL-LSCUBE5","LK-A-WAL-LSCUBE5","LK-A-WAL-LSCUBE5","LK-A-WAL-LSCUBE5","LK-A-WAL-LSCUBE5","LK-A-WAL-LSCUBE5","LK-A-WAL-LSCUBE5","LK-A-WAL-LSCUBE5","LK-A-WAL-LSCUBE5","LK-A-WAL-LSCUBE5","LK-A-WAL-LSCUBE5","LK-A-WAL-LSCUBE5"]
[]
[]
[null,"720 Wall Rep end Panel","WREP72","LK-A-EMD-WREP72","LK-A-EMY-WREP72","LK-A-EMM-WREP72","LK-A-EMS-WREP72","LK-A-OPD-WREP72","LK-A-OPY-WREP72","LK-A-OPF-WREP72","LK-A-OPM-WREP72","LK-A-OPR-WREP72","LK-A-OPS-WREP72","LK-A-CSW-WREP72","LK-A-DGW-WREP72","LK-A-DYW-WREP72","LK-A-ISW-WREP72","LK-A-MSW-WREP72","LK-A-NVW-WREP72"]
[null,"720 x 360 Plant on Wall End Panel","PWEP72","LK-A-EMD-PWEP72","LK-A-EMY-PWEP72","LK-A-EMM-PWEP72","LK-A-EMS-PWEP72","LK-A-OPD-PWEP72","LK-A-OPY-PWEP72","LK-A-OPF-PWEP72","LK-A-OPM-PWEP72","LK-A-OPR-PWEP72","LK-A-OPS-PWEP72","LK-A-CSW-PWEP72","LK-A-DGW-PWEP72","LK-A-DYW-PWEP72","LK-A-ISW-PWEP72","LK-A-MSW-PWEP72","LK-A-NVW-PWEP72"]
[null,"Plant on Wall end Panel 355x797","PWEP8","Not Available","Not Available","Not Available","Not Available","Not Available","Not Available","Not Available","Not Available","Not Available","Not Available","Not Available","Not Available","Not Available","Not Available","Not Available","Not Available"]
[null,"Plant on Wall end Panel 960x360 P","PWEP9","Not Available","Not Available","Not Available","Not Available","Not Available","Not Available","Not Available","Not Available","Not Available","Not Available","Not Available","Not Available","Not Available","Not Available","Not Available","Not Available"]
[null,"Plant on Wall End Panel 960x360","PWEP96","Not Available","Not Available","Not Available","Not Available","Not Available","Not Available","Not Available","Not Available","Not Available","Not Available","Not Available","Not Available","Not Available","Not Available","Not Available","Not Available"]
[null,"Plant on Wall end Panel 960x360 T&G","PWEP9-TG","Not Available","Not Available","Not Available","Not Available","Not Available","Not Available","Not Available","Not Available","Not Available","Not Available","Not Available","Not Available","Not Available","Not Available","Not Available","Not Available"]
[null,"Plant on Wall end Panel 965x360 T&G","PWEP96-TG","Not Available","Not Available","Not Available","Not Available","Not Available","Not Available","Not Available","Not Available","Not Available","Not Available","Not Available","Not Available","Not Available","Not Available","Not Available","Not Available"]
[null,"Plant on Wall end Panel 960x360 Beaded","PWEP9-BD","Not Available","Not Available","Not Available","Not Available","Not Available","Not Available","Not Available","Not Available","Not Available","Not Available","Not Available","Not Available","Not Available","Not Available","Not Available","Not Available"]
[null,"Plant on Wall End Panel 2000 x 360","PWEP20","LK-A-EMD-PWEP20","LK-A-EMY-PWEP20","LK-A-EMM-PWEP20","LK-A-EMS-PWEP20","LK-A-OPD-PWEP20","LK-A-OPY-PWEP20","LK-A-OPF-PWEP20","LK-A-OPM-PWEP20","LK-A-OPR-PWEP20","LK-A-OPS-PWEP20","LK-A-CSW-PWEP20","LK-A-DGW-PWEP20","LK-A-DYW-PWEP20","LK-A-ISW-PWEP20","LK-A-MSW-PWEP20","LK-A-NVW-PWEP20"]
[null,"Plant on Wall End Panel 2000 x 360 T&G","PWEP20-TG","Not Available","Not Available","Not Available","Not Available","Not Available","Not Available","Not Available","Not Available","Not Available","Not Available","Not Available","Not Available","Not Available","Not Available","Not Available","Not Available"]
[null,"End Support / Plant on Base Panel","ESP","LK-A-EMD-ESP","LK-A-EMY-ESP","LK-A-EMM-ESP","LK-A-EMS-ESP","LK-A-OPD-ESP","LK-A-OPY-ESP","LK-A-OPF-ESP","LK-A-OPM-ESP","LK-A-OPR-ESP","LK-A-OPS-ESP","LK-A-CSW-ESP","LK-A-DGW-ESP","LK-A-DYW-ESP","LK-A-ISW-ESP","LK-A-MSW-ESP","LK-A-NVW-ESP"]
[null,"End Support / Plant on Base Panel T&G","ESP-TG","Not Available","Not Available","Not Available","Not Available","Not Available","Not Available","Not Available","Not Available","Not Available","Not Available","Not Available","Not Available","Not Available","Not Available","Not Available","Not Available"]
[null,"End Support / Plant on Base Panel - Beaded","ESP-BD","Not Available","Not Available","Not Available","Not Available","Not Available","Not Available","Not Available","Not Available","Not Available","Not Available","Not Available","Not Available","Not Available","Not Available","Not Available","Not Available"]
[null,"Large Universal Panel 2.4 x 900mm","LUP","LK-A-EMD-LUP","LK-A-EMY-LUP","LK-A-EMM-LUP","LK-A-EMS-LUP","LK-A-OPD-LUP","LK-A-OPY-LUP","LK-A-OPF-LUP","LK-A-OPM-LUP","LK-A-OPR-LUP","LK-A-OPS-LUP","LK-A-CSW-LUP","LK-A-DGW-LUP","LK-A-DYW-LUP","LK-A-ISW-LUP","LK-A-MSW-LUP","LK-A-NVW-LUP"]
[null,"Large Universal Panel 2.4 x 900mm T&G","LUP-TG","Not Available","Not Available","Not Available","Not Available","Not Available","Not Available","Not Available","Not Available","Not Available","Not Available","Not Available","Not Available","Not Available","Not Available","Not Available","Not Available"]
[null,"Large Universal Panel 2.4 x 900mm Beaded","LUP-BD","Not Available","Not Available","Not Available","Not Available","Not Available","Not Available","Not Available","Not Available","Not Available","Not Available","Not Available","Not Available","Not Available","Not Available","Not Available","Not Available"]
[null,"Plant on Tall End Panel 2400x630","PTEP","LK-A-EMD-PTEP","LK-A-EMY-PTEP","LK-A-EMM-PTEP","LK-A-EMS-PTEP","LK-A-OPD-PTEP","LK-A-OPY-PTEP","LK-A-OPF-PTEP","LK-A-OPM-PTEP","LK-A-OPR-PTEP","LK-A-OPS-PTEP","LK-A-CSW-PTEP","LK-A-DGW-PTEP","LK-A-DYW-PTEP","LK-A-ISW-PTEP","LK-A-MSW-PTEP","LK-A-NVW-PTEP"]
[null,"Plant on Tall End Panel 2430 x 650","PTEP2","Not Available","Not Available","Not Available","Not Available","Not Available","Not Available","Not Available","Not Available","Not Available","Not Available","Not Available","Not Available","Not Available","Not Available","Not Available","Not Available"]
[null,"Plant on Tall End Panel 2450 x 650 T&G","PTEP-TG","Not Available","Not Available","Not Available","Not Available","Not Available","Not Available","Not Available","Not Available","Not Available","Not Available","Not Available","Not Available","Not Available","Not Available","Not Available","Not Available"]
[null,"Plant on Tall End Panel 2430 x 650 T&G","PTEP2-TG","Not Available","Not Available","Not Available","Not Available","Not Available","Not Available","Not Available","Not Available","Not Available","Not Available","Not Available","Not Available","Not Available","Not Available","Not Available","Not Available"]
[null,"Plant on Tall End Panel 2450x650 Beaded","PTEP-BD","Not Available","Not Available","Not Available","Not Available","Not Available","Not Available","Not Available","Not Available","Not Available","Not Available","Not Available","Not Available","Not Available","Not Available","Not Available","Not Available"]
[null,"Breakfast bar Back Panel 1200x900mm","BBP","Not Available","Not Available","Not Available","Not Available","Not Available","Not Available","Not Available","Not Available","Not Available","Not Available","Not Available","Not Available","Not Available","Not Available","Not Available","Not Available"]
[null,"Breakfast bar Back Panel 1200x900mm T&G","BBP-TG","Not Available","Not Available","Not Available","Not Available","Not Available","Not Available","Not Available","Not Available","Not Available","Not Available","Not Available","Not Available","Not Available","Not Available","Not Available","Not Available"]
[null,"Breakfast bar back panel 1200x900mm Beaded","BBP-BD","Not Available","Not Available","Not Available","Not Available","Not Available","Not Available","Not Available","Not Available","Not Available","Not Available","Not Available","Not Available","Not Available","Not Available","Not Available","Not Available"]
[null,"Framed End Panel 720x900mm","FREP9","Not Available","Not Available","Not Available","Not Available","Not Available","Not Available","Not Available","Not Available","Not Available","Not Available","Not Available","Not Available","Not Available","Not Available","Not Available","Not Available"]
[null,"Framed End Panel 720x1200mm","FREP12","Not Available","Not Available","Not Available","Not Available","Not Available","Not Available","Not Available","Not Available","Not Available","Not Available","Not Available","Not Available","Not Available","Not Available","Not Available","Not Available"]
[null,"500 x 720 Open Wall Unit","57OU","Not Available","Not Available","Not Available","Not Available","Not Available","Not Available","Not Available","Not Available","Not Available","Not Available","LK-C-LAO-57OU","LK-C-LAO-57OU","LK-C-LAO-57OU","LK-C-LAO-57OU","LK-C-LAO-57OU","LK-C-LAO-57OU"]
[null,"150 x 720 Wine Rack","WR72","Not Available","Not Available","Not Available","Not Available","Not Available","Not Available","Not Available","Not Available","Not Available","Not Available","LK-A-LAO-WR72","LK-A-LAO-WR72","LK-A-LAO-WR72","LK-A-LAO-WR72","LK-A-LAO-WR72","LK-A-LAO-WR72"]
[null,"Plate Rack Kit 335 x 1200 x 178","PRK","Not Available","Not Available","Not Available","Not Available","Not Available","Not Available","Not Available","Not Available","Not Available","Not Available","Not Available","Not Available","Not Available","Not Available","Not Available","Not Available"]
[null,"Wine Rack Rail","WRK","Not Available","Not Available","Not Available","Not Available","Not Available","Not Available","Not Available","Not Available","Not Available","Not Available","Not Available","Not Available","Not Available","Not Available","Not Available","Not Available"]
[null,"Wine Rack Rail 1200 x 18 x 60mm","WRR","Not Available","Not Available","Not Available","Not Available","Not Available","Not Available","Not Available","Not Available","Not Available","Not Available","Not Available","Not Available","Not Available","Not Available","Not Available","Not Available"]
[null,"Modular Pilaster 900 x 75 x 75","MP900","Not Available","Not Available","Not Available","Not Available","Not Available","Not Available","Not Available","Not Available","Not Available","Not Available","Not Available","Not Available","Not Available","Not Available","Not Available","Not Available"]
[null,"Modular Pilaster 2400 X75 x 75","MP2400","Not Available","Not Available","Not Available","Not Available","Not Available","Not Available","Not Available","Not Available","Not Available","Not Available","Not Available","Not Available","Not Available","Not Available","Not Available","Not Available"]
[null,"Modular Pilaster Bead 910 x 20 x 20","MPBD","Not Available","Not Available","Not Available","Not Available","Not Available","Not Available","Not Available","Not Available","Not Available","Not Available","Not Available","Not Available","Not Available","Not Available","Not Available","Not Available"]
[null,"Base / Wall Pilaster","BPIL","Not Available","Not Available","Not Available","Not Available","Not Available","Not Available","Not Available","Not Available","Not Available","Not Available","LK-A-CSW-BPIL","LK-A-DGW-BPIL","LK-A-DYW-BPIL","LK-A-ISW-BPIL","LK-A-MSW-BPIL","LK-A-NVW-BPIL"]
[null,"Corner Conversion Kit Panel","CKP","Not Available","Not Available","Not Available","Not Available","Not Available","Not Available","Not Available","Not Available","Not Available","Not Available","Not Available","Not Available","Not Available","Not Available","Not Available","Not Available"]
[null,"Flyover Shelf 2400 x 325 x 25mm","FLSH","Not Available","Not Available","Not Available","Not Available","Not Available","Not Available","Not Available","Not Available","Not Available","Not Available","Not Available","Not Available","Not Available","Not Available","Not Available","Not Available"]
[null,"Edge Moulding 3050 x 47.5 x 27mm","EDGM","Not Available","Not Available","Not Available","Not Available","Not Available","Not Available","Not Available","Not Available","Not Available","Not Available","Not Available","Not Available","Not Available","Not Available","Not Available","Not Available"]
[null,"Shelf Bracket (1 no.)","SHB","Not Available","Not Available","Not Available","Not Available","Not Available","Not Available","Not Available","Not Available","Not Available","Not Available","Not Available","Not Available","Not Available","Not Available","Not Available","Not Available"]
[null,"Feature Plinth 2500 x 150 x 9mm","FTPL","Not Available","Not Available","Not Available","Not Available","Not Available","Not Available","Not Available","Not Available","Not Available","Not Available","Not Available","Not Available","Not Available","Not Available","Not Available","Not Available"]
[null,"Plinth","PL","LK-A-EMD-PL","LK-A-EMY-PL","LK-A-EMM-PL","LK-A-EMS-PL","LK-A-OPD-PL","LK-A-OPY-PL","LK-A-OPF-PL","LK-A-OPM-PL","LK-A-OPR-PL","LK-A-OPS-PL","LK-A-CSW-PL","LK-A-DGW-PL","LK-A-DYW-PL","LK-A-ISW-PL","LK-A-MSW-PL","LK-A-NVW-PL"]
[null,"Curved Plinth","CVPL","Not Available","Not Available","Not Available","Not Available","Not Available","Not Available","Not Available","Not Available","Not Available","Not Available","LK-A-CSW-CVPL","LK-A-DGW-CVPL","LK-A-DYW-CVPL","LK-A-ISW-CVPL","LK-A-MSW-CVPL","LK-A-NVW-CVPL"]
[null,"Stepped Skirting Plinth","SKPL","Not Available","Not Available","Not Available","Not Available","Not Available","Not Available","Not Available","Not Available","Not Available","Not Available","Not Available","Not Available","Not Available","Not Available","Not Available","Not Available"]
[null,"Curved Stepped Skirting Plinth","CVSTPL","Not Available","Not Available","Not Available","Not Available","Not Available","Not Available","Not Available","Not Available","Not Available","Not Available","Not Available","Not Available","Not Available","Not Available","Not Available","Not Available"]
[null,"Under Plinth 3000 x 60mm","UDPL","Not Available","Not Available","Not Available","Not Available","Not Available","Not Available","Not Available","Not Available","Not Available","Not Available","Not Available","Not Available","Not Available","Not Available","Not Available","Not Available"]
[null,"Curved Under Plinth","CVUDPL","Not Available","Not Available","Not Available","Not Available","Not Available","Not Available","Not Available","Not Available","Not Available","Not Available","Not Available","Not Available","Not Available","Not Available","Not Available","Not Available"]
[null,"Sculptured Cornice","SCCRN","LK-A-EMD-SCCRN","LK-A-EMY-SCCRN","LK-A-EMM-SCCRN","LK-A-EMS-SCCRN","LK-A-OPD-SCCRN","LK-A-OPY-SCCRN","LK-A-OPF-SCCRN","LK-A-OPM-SCCRN","LK-A-OPR-SCCRN","LK-A-OPS-SCCRN","LK-A-CSW-SCCRN","LK-A-DGW-SCCRN","LK-A-DYW-SCCRN","LK-A-ISW-SCCRN","LK-A-MSW-SCCRN","LK-A-NVW-SCCRN"]
[null,"Curved Sculptured Cornice","CVSCRN","Not Available","Not Available","Not Available","Not Available","Not Available","Not Available","Not Available","Not Available","Not Available","Not Available","Not Available","Not Available","Not Available","Not Available","Not Available","Not Available"]
[null,"Curved Sculpt Cornice","CSC","Not Available","Not Available","Not Available","Not Available","Not Available","Not Available","Not Available","Not Available","Not Available","Not Available","LK-A-CSW-CSC","LK-A-DGW-CSC","LK-A-DYW-CSC","LK-A-ISW-CSC","LK-A-MSW-CSC","LK-A-NVW-CSC"]
[null,"Sculptured Pelmet","SCPEL","Not Available","Not Available","Not Available","Not Available","Not Available","Not Available","Not Available","Not Available","Not Available","Not Available","Not Available","Not Available","Not Available","Not Available","Not Available","Not Available"]
[null,"Modern Sq Bul Pelmet / Cornice","BLPEL","LK-A-EMD-BLPEL","LK-A-EMY-BLPEL","LK-A-EMM-BLPEL","LK-A-EMS-BLPEL","LK-A-OPD-BLPEL","LK-A-OPY-BLPEL","LK-A-OPF-BLPEL","LK-A-OPM-BLPEL","LK-A-OPR-BLPEL","LK-A-OPS-BLPEL","LK-A-CSW-BLPEL","LK-A-DGW-BLPEL","LK-A-DYW-BLPEL","LK-A-ISW-BLPEL","LK-A-MSW-BLPEL","LK-A-NVW-BLPEL"]
[null,"Square Cornice/Pelmet","SQPEL","Not Available","Not Available","Not Available","Not Available","Not Available","Not Available","Not Available","Not Available","Not Available","Not Available","Not Available","Not Available","Not Available","Not Available","Not Available","Not Available"]
[null,"Cornice / Pelmet","CORPEL","Not Available","Not Available","Not Available","Not Available","Not Available","Not Available","Not Available","Not Available","Not Available","Not Available","Not Available","Not Available","Not Available","Not Available","Not Available","Not Available"]
[null,"Curved Sculptured Pelmet","CVSPEL","Not Available","Not Available","Not Available","Not Available","Not Available","Not Available","Not Available","Not Available","Not Available","Not Available","Not Available","Not Available","Not Available","Not Available","Not Available","Not Available"]
[null,"Curved modern Sq Bul Pelmet/Cornice","CVBUL","Not Available","Not Available","Not Available","Not Available","Not Available","Not Available","Not Available","Not Available","Not Available","Not Available","LK-A-CSW-CVBUL","LK-A-DGW-CVBUL","LK-A-DYW-CVBUL","LK-A-ISW-CVBUL","LK-A-MSW-CVBUL","LK-A-NVW-CVBUL"]
[null,"Curved Cornice / Pelmet","CVPEL","Not Available","Not Available","Not Available","Not Available","Not Available","Not Available","Not Available","Not Available","Not Available","Not Available","Not Available","Not Available","Not Available","Not Available","Not Available","Not Available"]
[null,"Angled Cornice","ACRN","Not Available","Not Available","Not Available","Not Available","Not Available","Not Available","Not Available","Not Available","Not Available","Not Available","Not Available","Not Available","Not Available","Not Available","Not Available","Not Available"]
[null,"Curved Angled Cornice","CVACRN","Not Available","Not Available","Not Available","Not Available","Not Available","Not Available","Not Available","Not Available","Not Available","Not Available","Not Available","Not Available","Not Available","Not Available","Not Available","Not Available"]
[null,"Tangent Cornice 3050 x 72 x 44","TANCOR","Not Available","Not Available","Not Available","Not Available","Not Available","Not Available","Not Available","Not Available","Not Available","Not Available","Not Available","Not Available","Not Available","Not Available","Not Available","Not Available"]
[null,"Tangent Pelmet 3050 x 18 x 57","TANPEL","Not Available","Not Available","Not Available","Not Available","Not Available","Not Available","Not Available","Not Available","Not Available","Not Available","Not Available","Not Available","Not Available","Not Available","Not Available","Not Available"]
[null,"External Corner Post","EXCP","Not Available","Not Available","Not Available","Not Available","Not Available","Not Available","Not Available","Not Available","Not Available","Not Available","Not Available","Not Available","Not Available","Not Available","Not Available","Not Available"]
[null,"Base Internal Corner Post","LBF","Not Available","Not Available","Not Available","Not Available","Not Available","Not Available","Not Available","Not Available","Not Available","Not Available","Not Available","Not Available","Not Available","Not Available","Not Available","Not Available"]
[null,"Wall Internal Corner Post","LWF","Not Available","Not Available","Not Available","Not Available","Not Available","Not Available","Not Available","Not Available","Not Available","Not Available","Not Available","Not Available","Not Available","Not Available","Not Available","Not Available"]
[null,"Curved End Post","CVP","LK-A-EMD-CVP","LK-A-EMY-CVP","LK-A-EMM-CVP","LK-A-EMS-CVP","LK-A-OPD-CVP","LK-A-OPY-CVP","LK-A-OPF-CVP","LK-A-OPM-CVP","LK-A-OPR-CVP","LK-A-OPS-CVP","LK-A-CSW-CVP","LK-A-DGW-CVP","LK-A-DYW-CVP","LK-A-ISW-CVP","LK-A-MSW-CVP","LK-A-NVW-CVP"]
[null,"Feature End Post 3000x100x50","FEP","Not Available","Not Available","Not Available","Not Available","Not Available","Not Available","Not Available","Not Available","Not Available","Not Available","Not Available","Not Available","Not Available","Not Available","Not Available","Not Available"]
[null,"Curved End Post Cornice Cap - Modern","CPBM","LK-A-EMD-CPBM","LK-A-EMY-CPBM","LK-A-EMM-CPBM","LK-A-EMS-CPBM","LK-A-OPD-CPBM","LK-A-OPY-CPBM","LK-A-OPF-CPBM","LK-A-OPM-CPBM","LK-A-OPR-CPBM","LK-A-OPS-CPBM","LK-A-CSW-CPBM","LK-A-DGW-CPBM","LK-A-DYW-CPBM","LK-A-ISW-CPBM","LK-A-MSW-CPBM","LK-A-NVW-CPBM"]
[null,"Curved End Post Cornice Cap - Traditional","CPBT","Not Available","Not Available","Not Available","Not Available","Not Available","Not Available","Not Available","Not Available","Not Available","Not Available","Not Available","Not Available","Not Available","Not Available","Not Available","Not Available"]
[null,"Curved End Post Cornice Cap - Sculptured","CPBC","LK-A-EMD-CPBC","LK-A-EMY-CPBC","LK-A-EMM-CPBC","LK-A-EMS-CPBC","LK-A-OPD-CPBC","LK-A-OPY-CPBC","LK-A-OPF-CPBC","LK-A-OPM-CPBC","LK-A-OPR-CPBC","LK-A-OPS-CPBC","LK-A-CSW-CPBC","LK-A-DGW-CPBC","LK-A-DYW-CPBC","LK-A-ISW-CPBC","LK-A-MSW-CPBC","LK-A-NVW-CPBC"]
[null,"Curved End Post Cornice Cap - Angled","ACPBT","Not Available","Not Available","Not Available","Not Available","Not Available","Not Available","Not Available","Not Available","Not Available","Not Available","Not Available","Not Available","Not Available","Not Available","Not Available","Not Available"]
[null,"Curved End Post Cornice Cap - Tangent","CPTA","Not Available","Not Available","Not Available","Not Available","Not Available","Not Available","Not Available","Not Available","Not Available","Not Available","Not Available","Not Available","Not Available","Not Available","Not Available","Not Available"]
[null,"Curved End Post Skirting Plinth Base Cap","CVEBC","Not Available","Not Available","Not Available","Not Available","Not Available","Not Available","Not Available","Not Available","Not Available","Not Available","Not Available","Not Available","Not Available","Not Available","Not Available","Not Available"]
[null,"Touch Up Paint","TUP","Not Available","Not Available","Not Available","Not Available","Not Available","Not Available","Not Available","Not Available","Not Available","Not Available","Not Available","Not Available","Not Available","Not Available","Not Available","Not Available"]
[null,"Touch Up Paint Kit","TUPK","Not Available","Not Available","Not Available","Not Available","Not Available","Not Available","Not Available","Not Available","Not Available","Not Available","Not Available","Not Available","Not Available","Not Available","Not Available","Not Available"]
[null,"Touch Up Care Kit","CK","Not Available","Not Available","Not Available","Not Available","Not Available","Not Available","Not Available","Not Available","Not Available","Not Available","Not Available","Not Available","Not Available","Not Available","Not Available","Not Available"]
[null,"Touch Up Paint 1L Tin","1L","Not Available","Not Available","Not Available","Not Available","Not Available","Not Available","Not Available","Not Available","Not Available","Not Available","Not Available","Not Available","Not Available","Not Available","Not Available","Not Available"]
[null,"22mm Edging - 10m","ET","LK-A-EMD-ET","Not Available","LK-A-EMM-ET","LK-A-EMS-ET","LK-A-OPD-ET","LK-A-OPY-ET","LK-A-OPF-ET","LK-A-OPM-ET","LK-A-OPR-ET","LK-A-OPS-ET","LK-A-CSW-ET","LK-A-DGW-ET","LK-A-DYW-ET","LK-A-ISW-ET","LK-A-MSW-ET","LK-A-NVW-ET"]
[]
[]
["LK-HD-003","H003 Satin Nickel D Handle",null,"LK-HD-003","LK-HD-003","LK-HD-003","LK-HD-003","LK-HD-003","LK-HD-003","LK-HD-003","LK-HD-003","LK-HD-003","LK-HD-003","LK-HD-003","LK-HD-003","LK-HD-003","LK-HD-003","LK-HD-003","LK-HD-003"]
["LK-HD-018","H018 Chrome Sparkle Handle",null,"LK-HD-018","LK-HD-018","LK-HD-018","LK-HD-018","LK-HD-018","LK-HD-018","LK-HD-018","LK-HD-018","LK-HD-018","LK-HD-018","LK-HD-018","LK-HD-018","LK-HD-018","LK-HD-018","LK-HD-018","LK-HD-018"]
["LK-HD-022","H022 Satin Nickel D Handle",null,"LK-HD-022","LK-HD-022","LK-HD-022","LK-HD-022","LK-HD-022","LK-HD-022","LK-HD-022","LK-HD-022","LK-HD-022","LK-HD-022","LK-HD-022","LK-HD-022","LK-HD-022","LK-HD-022","LK-HD-022","LK-HD-022"]
["LK-HD-1002","H1002 Long Chrome Cup Handle",null,"LK-HD-1002","LK-HD-1002","LK-HD-1002","LK-HD-1002","LK-HD-1002","LK-HD-1002","LK-HD-1002","LK-HD-1002","LK-HD-1002","LK-HD-1002","LK-HD-1002","LK-HD-1002","LK-HD-1002","LK-HD-1002","LK-HD-1002","LK-HD-1002"]
["LK-HD-1003","H1003 Long Chrome Front Fix Puro Handle",null,"LK-HD-1003","LK-HD-1003","LK-HD-1003","LK-HD-1003","LK-HD-1003","LK-HD-1003","LK-HD-1003","LK-HD-1003","LK-HD-1003","LK-HD-1003","LK-HD-1003","LK-HD-1003","LK-HD-1003","LK-HD-1003","LK-HD-1003","LK-HD-1003"]
["LK-HD-1004","H1004 Long Satin Front Fix Puro Handle",null,"LK-HD-1004","LK-HD-1004","LK-HD-1004","LK-HD-1004","LK-HD-1004","LK-HD-1004","LK-HD-1004","LK-HD-1004","LK-HD-1004","LK-HD-1004","LK-HD-1004","LK-HD-1004","LK-HD-1004","LK-HD-1004","LK-HD-1004","LK-HD-1004"]
["LK-HD-1005","H1005 Chrome Back Fix Puro Handle",null,"LK-HD-1005","LK-HD-1005","LK-HD-1005","LK-HD-1005","LK-HD-1005","LK-HD-1005","LK-HD-1005","LK-HD-1005","LK-HD-1005","LK-HD-1005","LK-HD-1005","LK-HD-1005","LK-HD-1005","LK-HD-1005","LK-HD-1005","LK-HD-1005"]
["LK-HD-1006","H1006 Satin Back Fix Puro Handle",null,"LK-HD-1006","LK-HD-1006","LK-HD-1006","LK-HD-1006","LK-HD-1006","LK-HD-1006","LK-HD-1006","LK-HD-1006","LK-HD-1006","LK-HD-1006","LK-HD-1006","LK-HD-1006","LK-HD-1006","LK-HD-1006","LK-HD-1006","LK-HD-1006"]
["LK-HD-1007","H1007 Long Chrome Back Fix Puro Handle",null,"LK-HD-1007","LK-HD-1007","LK-HD-1007","LK-HD-1007","LK-HD-1007","LK-HD-1007","LK-HD-1007","LK-HD-1007","LK-HD-1007","LK-HD-1007","LK-HD-1007","LK-HD-1007","LK-HD-1007","LK-HD-1007","LK-HD-1007","LK-HD-1007"]
["LK-HD-1008","H1008 Long Satin Back Fix Puro Handle",null,"LK-HD-1008","LK-HD-1008","LK-HD-1008","LK-HD-1008","LK-HD-1008","LK-HD-1008","LK-HD-1008","LK-HD-1008","LK-HD-1008","LK-HD-1008","LK-HD-1008","LK-HD-1008","LK-HD-1008","LK-HD-1008","LK-HD-1008","LK-HD-1008"]
["LK-HD-1009","H1009 Pewter Round Knob Handle",null,"LK-HD-1009","LK-HD-1009","LK-HD-1009","LK-HD-1009","LK-HD-1009","LK-HD-1009","LK-HD-1009","LK-HD-1009","LK-HD-1009","LK-HD-1009","LK-HD-1009","LK-HD-1009","LK-HD-1009","LK-HD-1009","LK-HD-1009","LK-HD-1009"]
["LK-HD-1010","H1010 Long Pewter Cup Handle",null,"LK-HD-1010","LK-HD-1010","LK-HD-1010","LK-HD-1010","LK-HD-1010","LK-HD-1010","LK-HD-1010","LK-HD-1010","LK-HD-1010","LK-HD-1010","LK-HD-1010","LK-HD-1010","LK-HD-1010","LK-HD-1010","LK-HD-1010","LK-HD-1010"]
["LK-HD-1011","H1011 Brushed Nickel Curved End Handle",null,"LK-HD-1011","LK-HD-1011","LK-HD-1011","LK-HD-1011","LK-HD-1011","LK-HD-1011","LK-HD-1011","LK-HD-1011","LK-HD-1011","LK-HD-1011","LK-HD-1011","LK-HD-1011","LK-HD-1011","LK-HD-1011","LK-HD-1011","LK-HD-1011"]
["LK-HD-1013","H1013 Chrome Curved End Handle",null,"LK-HD-1013","LK-HD-1013","LK-HD-1013","LK-HD-1013","LK-HD-1013","LK-HD-1013","LK-HD-1013","LK-HD-1013","LK-HD-1013","LK-HD-1013","LK-HD-1013","LK-HD-1013","LK-HD-1013","LK-HD-1013","LK-HD-1013","LK-HD-1013"]
["LK-HD-1015","H1015 Copper Curved End Handle",null,"LK-HD-1015","LK-HD-1015","LK-HD-1015","LK-HD-1015","LK-HD-1015","LK-HD-1015","LK-HD-1015","LK-HD-1015","LK-HD-1015","LK-HD-1015","LK-HD-1015","LK-HD-1015","LK-HD-1015","LK-HD-1015","LK-HD-1015","LK-HD-1015"]
["LK-HD-1017","H1017 Brushed Copper L Shape Handle",null,"LK-HD-1017","LK-HD-1017","LK-HD-1017","LK-HD-1017","LK-HD-1017","LK-HD-1017","LK-HD-1017","LK-HD-1017","LK-HD-1017","LK-HD-1017","LK-HD-1017","LK-HD-1017","LK-HD-1017","LK-HD-1017","LK-HD-1017","LK-HD-1017"]
["LK-HD-1018","H1018 Stainless Steel D Handle",null,"LK-HD-1018","LK-HD-1018","LK-HD-1018","LK-HD-1018","LK-HD-1018","LK-HD-1018","LK-HD-1018","LK-HD-1018","LK-HD-1018","LK-HD-1018","LK-HD-1018","LK-HD-1018","LK-HD-1018","LK-HD-1018","LK-HD-1018","LK-HD-1018"]
["LK-HD-1019","H1019 Black Chrome D Handle",null,"LK-HD-1019","LK-HD-1019","LK-HD-1019","LK-HD-1019","LK-HD-1019","LK-HD-1019","LK-HD-1019","LK-HD-1019","LK-HD-1019","LK-HD-1019","LK-HD-1019","LK-HD-1019","LK-HD-1019","LK-HD-1019","LK-HD-1019","LK-HD-1019"]
["LK-HD-1020","H1020 Chrome Cup Handle",null,"LK-HD-1020","LK-HD-1020","LK-HD-1020","LK-HD-1020","LK-HD-1020","LK-HD-1020","LK-HD-1020","LK-HD-1020","LK-HD-1020","LK-HD-1020","LK-HD-1020","LK-HD-1020","LK-HD-1020","LK-HD-1020","LK-HD-1020","LK-HD-1020"]
["LK-HD-1022","H1022 Chrome Cup Handle",null,"LK-HD-1022","LK-HD-1022","LK-HD-1022","LK-HD-1022","LK-HD-1022","LK-HD-1022","LK-HD-1022","LK-HD-1022","LK-HD-1022","LK-HD-1022","LK-HD-1022","LK-HD-1022","LK-HD-1022","LK-HD-1022","LK-HD-1022","LK-HD-1022"]
["LK-HD-1023","H1023 Copper Cup Handle",null,"LK-HD-1023","LK-HD-1023","LK-HD-1023","LK-HD-1023","LK-HD-1023","LK-HD-1023","LK-HD-1023","LK-HD-1023","LK-HD-1023","LK-HD-1023","LK-HD-1023","LK-HD-1023","LK-HD-1023","LK-HD-1023","LK-HD-1023","LK-HD-1023"]
["LK-HD-1024","H1024 Black Satin Cup Handle",null,"LK-HD-1024","LK-HD-1024","LK-HD-1024","LK-HD-1024","LK-HD-1024","LK-HD-1024","LK-HD-1024","LK-HD-1024","LK-HD-1024","LK-HD-1024","LK-HD-1024","LK-HD-1024","LK-HD-1024","LK-HD-1024","LK-HD-1024","LK-HD-1024"]
["LK-HD-1025","H1025 Chrome Round Knob Handle",null,"LK-HD-1025","LK-HD-1025","LK-HD-1025","LK-HD-1025","LK-HD-1025","LK-HD-1025","LK-HD-1025","LK-HD-1025","LK-HD-1025","LK-HD-1025","LK-HD-1025","LK-HD-1025","LK-HD-1025","LK-HD-1025","LK-HD-1025","LK-HD-1025"]
["LK-HD-1026","H1026 Black Satin Round Knob Handle",null,"LK-HD-1026","LK-HD-1026","LK-HD-1026","LK-HD-1026","LK-HD-1026","LK-HD-1026","LK-HD-1026","LK-HD-1026","LK-HD-1026","LK-HD-1026","LK-HD-1026","LK-HD-1026","LK-HD-1026","LK-HD-1026","LK-HD-1026","LK-HD-1026"]
["LK-HD-1027","H1027 Chrome Square Knob Handle",null,"LK-HD-1027","LK-HD-1027","LK-HD-1027","LK-HD-1027","LK-HD-1027","LK-HD-1027","LK-HD-1027","LK-HD-1027","LK-HD-1027","LK-HD-1027","LK-HD-1027","LK-HD-1027","LK-HD-1027","LK-HD-1027","LK-HD-1027","LK-HD-1027"]
["LK-HD-1028","H1028 Black Satin Square Knob Handle",null,"LK-HD-1028","LK-HD-1028","LK-HD-1028","LK-HD-1028","LK-HD-1028","LK-HD-1028","LK-HD-1028","LK-HD-1028","LK-HD-1028","LK-HD-1028","LK-HD-1028","LK-HD-1028","LK-HD-1028","LK-HD-1028","LK-HD-1028","LK-HD-1028"]
["LK-HD-1029","H1029 Copper Oval Knob Handle",null,"LK-HD-1029","LK-HD-1029","LK-HD-1029","LK-HD-1029","LK-HD-1029","LK-HD-1029","LK-HD-1029","LK-HD-1029","LK-HD-1029","LK-HD-1029","LK-HD-1029","LK-HD-1029","LK-HD-1029","LK-HD-1029","LK-HD-1029","LK-HD-1029"]
["LK-HD-1030","H1030 Antique Bronze Cup Handle",null,"LK-HD-1030","LK-HD-1030","LK-HD-1030","LK-HD-1030","LK-HD-1030","LK-HD-1030","LK-HD-1030","LK-HD-1030","LK-HD-1030","LK-HD-1030","LK-HD-1030","LK-HD-1030","LK-HD-1030","LK-HD-1030","LK-HD-1030","LK-HD-1030"]
["LK-HD-1031","H1031 Antique Bronze Knob Handle",null,"LK-HD-1031","LK-HD-1031","LK-HD-1031","LK-HD-1031","LK-HD-1031","LK-HD-1031","LK-HD-1031","LK-HD-1031","LK-HD-1031","LK-HD-1031","LK-HD-1031","LK-HD-1031","LK-HD-1031","LK-HD-1031","LK-HD-1031","LK-HD-1031"]
["LK-HD-146","H146 Satin Nickel D Handle",null,"LK-HD-146","LK-HD-146","LK-HD-146","LK-HD-146","LK-HD-146","LK-HD-146","LK-HD-146","LK-HD-146","LK-HD-146","LK-HD-146","LK-HD-146","LK-HD-146","LK-HD-146","LK-HD-146","LK-HD-146","LK-HD-146"]
["LK-HD-149","H149 Chrome Knob Handle",null,"LK-HD-149","LK-HD-149","LK-HD-149","LK-HD-149","LK-HD-149","LK-HD-149","LK-HD-149","LK-HD-149","LK-HD-149","LK-HD-149","LK-HD-149","LK-HD-149","LK-HD-149","LK-HD-149","LK-HD-149","LK-HD-149"]
["LK-HD-150","H150 Chrome Cup Handle",null,"LK-HD-150","LK-HD-150","LK-HD-150","LK-HD-150","LK-HD-150","LK-HD-150","LK-HD-150","LK-HD-150","LK-HD-150","LK-HD-150","LK-HD-150","LK-HD-150","LK-HD-150","LK-HD-150","LK-HD-150","LK-HD-150"]
["LK-HD-222","H222 Stainless Steel Bar Handle",null,"LK-HD-222","LK-HD-222","LK-HD-222","LK-HD-222","LK-HD-222","LK-HD-222","LK-HD-222","LK-HD-222","LK-HD-222","LK-HD-222","LK-HD-222","LK-HD-222","LK-HD-222","LK-HD-222","LK-HD-222","LK-HD-222"]
["LK-HD-264","H264 Steel Arch End Handle",null,"LK-HD-264","LK-HD-264","LK-HD-264","LK-HD-264","LK-HD-264","LK-HD-264","LK-HD-264","LK-HD-264","LK-HD-264","LK-HD-264","LK-HD-264","LK-HD-264","LK-HD-264","LK-HD-264","LK-HD-264","LK-HD-264"]
["LK-HD-318","H318 Stainless Steel Bar Handle",null,"LK-HD-318","LK-HD-318","LK-HD-318","LK-HD-318","LK-HD-318","LK-HD-318","LK-HD-318","LK-HD-318","LK-HD-318","LK-HD-318","LK-HD-318","LK-HD-318","LK-HD-318","LK-HD-318","LK-HD-318","LK-HD-318"]
["LK-HD-363","H363 Pewter Effect D Handle",null,"LK-HD-363","LK-HD-363","LK-HD-363","LK-HD-363","LK-HD-363","LK-HD-363","LK-HD-363","LK-HD-363","LK-HD-363","LK-HD-363","LK-HD-363","LK-HD-363","LK-HD-363","LK-HD-363","LK-HD-363","LK-HD-363"]
["LK-HD-504","H504 Antique Bronze Handle",null,"LK-HD-504","LK-HD-504","LK-HD-504","LK-HD-504","LK-HD-504","LK-HD-504","LK-HD-504","LK-HD-504","LK-HD-504","LK-HD-504","LK-HD-504","LK-HD-504","LK-HD-504","LK-HD-504","LK-HD-504","LK-HD-504"]
["LK-HD-820","H820 Steel Collar Handle",null,"LK-HD-820","LK-HD-820","LK-HD-820","LK-HD-820","LK-HD-820","LK-HD-820","LK-HD-820","LK-HD-820","LK-HD-820","LK-HD-820","LK-HD-820","LK-HD-820","LK-HD-820","LK-HD-820","LK-HD-820","LK-HD-820"]
["LK-HD-916","H916 Stainless Steel Bar Handle",null,"LK-HD-916","LK-HD-916","LK-HD-916","LK-HD-916","LK-HD-916","LK-HD-916","LK-HD-916","LK-HD-916","LK-HD-916","LK-HD-916","LK-HD-916","LK-HD-916","LK-HD-916","LK-HD-916","LK-HD-916","LK-HD-916"]
["LK-HD-917","H917 Stainless Steel D Handle",null,"LK-HD-917","LK-HD-917","LK-HD-917","LK-HD-917","LK-HD-917","LK-HD-917","LK-HD-917","LK-HD-917","LK-HD-917","LK-HD-917","LK-HD-917","LK-HD-917","LK-HD-917","LK-HD-917","LK-HD-917","LK-HD-917"]
["LK-HD-918","H918 Satin Nickel D Handle",null,"LK-HD-918","LK-HD-918","LK-HD-918","LK-HD-918","LK-HD-918","LK-HD-918","LK-HD-918","LK-HD-918","LK-HD-918","LK-HD-918","LK-HD-918","LK-HD-918","LK-HD-918","LK-HD-918","LK-HD-918","LK-HD-918"]
["LK-HD-919","H919 Brushed Nickel D Handle",null,"LK-HD-919","LK-HD-919","LK-HD-919","LK-HD-919","LK-HD-919","LK-HD-919","LK-HD-919","LK-HD-919","LK-HD-919","LK-HD-919","LK-HD-919","LK-HD-919","LK-HD-919","LK-HD-919","LK-HD-919","LK-HD-919"]
["LK-HD-931","H931 Satin Nickel D Handle",null,"LK-HD-931","LK-HD-931","LK-HD-931","LK-HD-931","LK-HD-931","LK-HD-931","LK-HD-931","LK-HD-931","LK-HD-931","LK-HD-931","LK-HD-931","LK-HD-931","LK-HD-931","LK-HD-931","LK-HD-931","LK-HD-931"]
["LK-HD-932","H932 Satin Nickel Strap Handle",null,"LK-HD-932","LK-HD-932","LK-HD-932","LK-HD-932","LK-HD-932","LK-HD-932","LK-HD-932","LK-HD-932","LK-HD-932","LK-HD-932","LK-HD-932","LK-HD-932","LK-HD-932","LK-HD-932","LK-HD-932","LK-HD-932"]
["LK-HD-933","H933 Satin Nickel D Handle",null,"LK-HD-933","LK-HD-933","LK-HD-933","LK-HD-933","LK-HD-933","LK-HD-933","LK-HD-933","LK-HD-933","LK-HD-933","LK-HD-933","LK-HD-933","LK-HD-933","LK-HD-933","LK-HD-933","LK-HD-933","LK-HD-933"]
["LK-HD-941","H941 Chrome D Handle",null,"LK-HD-941","LK-HD-941","LK-HD-941","LK-HD-941","LK-HD-941","LK-HD-941","LK-HD-941","LK-HD-941","LK-HD-941","LK-HD-941","LK-HD-941","LK-HD-941","LK-HD-941","LK-HD-941","LK-HD-941","LK-HD-941"]
["LK-HD-942","H942 Antique Effect D Handle",null,"LK-HD-942","LK-HD-942","LK-HD-942","LK-HD-942","LK-HD-942","LK-HD-942","LK-HD-942","LK-HD-942","LK-HD-942","LK-HD-942","LK-HD-942","LK-HD-942","LK-HD-942","LK-HD-942","LK-HD-942","LK-HD-942"]
["LK-HD-943","H943 Antique Effect Cup Handle",null,"LK-HD-943","LK-HD-943","LK-HD-943","LK-HD-943","LK-HD-943","LK-HD-943","LK-HD-943","LK-HD-943","LK-HD-943","LK-HD-943","LK-HD-943","LK-HD-943","LK-HD-943","LK-HD-943","LK-HD-943","LK-HD-943"]
["LK-HD-947","H947 Chrome D Handle",null,"LK-HD-947","LK-HD-947","LK-HD-947","LK-HD-947","LK-HD-947","LK-HD-947","LK-HD-947","LK-HD-947","LK-HD-947","LK-HD-947","LK-HD-947","LK-HD-947","LK-HD-947","LK-HD-947","LK-HD-947","LK-HD-947"]
["LK-HD-962","H962 Copper Angular Handle",null,"LK-HD-962","LK-HD-962","LK-HD-962","LK-HD-962","LK-HD-962","LK-HD-962","LK-HD-962","LK-HD-962","LK-HD-962","LK-HD-962","LK-HD-962","LK-HD-962","LK-HD-962","LK-HD-962","LK-HD-962","LK-HD-962"]
["LK-HD-1032","H1032 Satin Brass 16mm Curved End Handle",null,"LK-HD-1032","LK-HD-1032","LK-HD-1032","LK-HD-1032","LK-HD-1032","LK-HD-1032","LK-HD-1032","LK-HD-1032","LK-HD-1032","LK-HD-1032","LK-HD-1032","LK-HD-1032","LK-HD-1032","LK-HD-1032","LK-HD-1032","LK-HD-1032"]
["LK-HD-1033","H1033 Satin Brass 9mm Slim D Handle",null,"LK-HD-1033","LK-HD-1033","LK-HD-1033","LK-HD-1033","LK-HD-1033","LK-HD-1033","LK-HD-1033","LK-HD-1033","LK-HD-1033","LK-HD-1033","LK-HD-1033","LK-HD-1033","LK-HD-1033","LK-HD-1033","LK-HD-1033","LK-HD-1033"]
["LK-HD-1034","H1034 Ash Grey 25mm Flat Front Fixing Handle",null,"LK-HD-1034","LK-HD-1034","LK-HD-1034","LK-HD-1034","LK-HD-1034","LK-HD-1034","LK-HD-1034","LK-HD-1034","LK-HD-1034","LK-HD-1034","LK-HD-1034","LK-HD-1034","LK-HD-1034","LK-HD-1034","LK-HD-1034","LK-HD-1034"]
["LK-HD-1035","H1035 Dark Brown 25mm Flat Front Fixing Handle",null,"LK-HD-1035","LK-HD-1035","LK-HD-1035","LK-HD-1035","LK-HD-1035","LK-HD-1035","LK-HD-1035","LK-HD-1035","LK-HD-1035","LK-HD-1035","LK-HD-1035","LK-HD-1035","LK-HD-1035","LK-HD-1035","LK-HD-1035","LK-HD-1035"]
["LK-HD-1036","H1036 Ash Grey 25mm Curved Front Fixing Handle",null,"LK-HD-1036","LK-HD-1036","LK-HD-1036","LK-HD-1036","LK-HD-1036","LK-HD-1036","LK-HD-1036","LK-HD-1036","LK-HD-1036","LK-HD-1036","LK-HD-1036","LK-HD-1036","LK-HD-1036","LK-HD-1036","LK-HD-1036","LK-HD-1036"]
["LK-HD-1037","H1037 Dark Brown 25mm Curved Front Fixing Handle",null,"LK-HD-1037","LK-HD-1037","LK-HD-1037","LK-HD-1037","LK-HD-1037","LK-HD-1037","LK-HD-1037","LK-HD-1037","LK-HD-1037","LK-HD-1037","LK-HD-1037","LK-HD-1037","LK-HD-1037","LK-HD-1037","LK-HD-1037","LK-HD-1037"]
["LK-HD-1038","H1038 Chocolate 26mm Flared D Handle",null,"LK-HD-1038","LK-HD-1038","LK-HD-1038","LK-HD-1038","LK-HD-1038","LK-HD-1038","LK-HD-1038","LK-HD-1038","LK-HD-1038","LK-HD-1038","LK-HD-1038","LK-HD-1038","LK-HD-1038","LK-HD-1038","LK-HD-1038","LK-HD-1038"]
["LK-HD-1039","H1039 Graphite 26mm Flared D Handle",null,"LK-HD-1039","LK-HD-1039","LK-HD-1039","LK-HD-1039","LK-HD-1039","LK-HD-1039","LK-HD-1039","LK-HD-1039","LK-HD-1039","LK-HD-1039","LK-HD-1039","LK-HD-1039","LK-HD-1039","LK-HD-1039","LK-HD-1039","LK-HD-1039"]
["LK-HD-1040","H1040 Copper 26mm Flared D Handle",null,"LK-HD-1040","LK-HD-1040","LK-HD-1040","LK-HD-1040","LK-HD-1040","LK-HD-1040","LK-HD-1040","LK-HD-1040","LK-HD-1040","LK-HD-1040","LK-HD-1040","LK-HD-1040","LK-HD-1040","LK-HD-1040","LK-HD-1040","LK-HD-1040"]
["LK-HD-1041","H1041 Graphite 15mm Curved Strap Handle",null,"LK-HD-1041","LK-HD-1041","LK-HD-1041","LK-HD-1041","LK-HD-1041","LK-HD-1041","LK-HD-1041","LK-HD-1041","LK-HD-1041","LK-HD-1041","LK-HD-1041","LK-HD-1041","LK-HD-1041","LK-HD-1041","LK-HD-1041","LK-HD-1041"]
["LK-HD-1042","H1042 Chocolate 15mm Curved Strap Handle",null,"LK-HD-1042","LK-HD-1042","LK-HD-1042","LK-HD-1042","LK-HD-1042","LK-HD-1042","LK-HD-1042","LK-HD-1042","LK-HD-1042","LK-HD-1042","LK-HD-1042","LK-HD-1042","LK-HD-1042","LK-HD-1042","LK-HD-1042","LK-HD-1042"]
["LK-HD-1043","H1043 Satin Brass Round Knob",null,"LK-HD-1043","LK-HD-1043","LK-HD-1043","LK-HD-1043","LK-HD-1043","LK-HD-1043","LK-HD-1043","LK-HD-1043","LK-HD-1043","LK-HD-1043","LK-HD-1043","LK-HD-1043","LK-HD-1043","LK-HD-1043","LK-HD-1043","LK-HD-1043"]
["LK-HD-1044","H1044 Satin Brass Cup Handle",null,"LK-HD-1044","LK-HD-1044","LK-HD-1044","LK-HD-1044","LK-HD-1044","LK-HD-1044","LK-HD-1044","LK-HD-1044","LK-HD-1044","LK-HD-1044","LK-HD-1044","LK-HD-1044","LK-HD-1044","LK-HD-1044","LK-HD-1044","LK-HD-1044"]
["LK-HD-1045","H1045 Brushed Copper Cup Handle",null,"LK-HD-1045","LK-HD-1045","LK-HD-1045","LK-HD-1045","LK-HD-1045","LK-HD-1045","LK-HD-1045","LK-HD-1045","LK-HD-1045","LK-HD-1045","LK-HD-1045","LK-HD-1045","LK-HD-1045","LK-HD-1045","LK-HD-1045","LK-HD-1045"]
["LK-HD-1046","H1046 Brushed Copper Knob",null,"LK-HD-1046","LK-HD-1046","LK-HD-1046","LK-HD-1046","LK-HD-1046","LK-HD-1046","LK-HD-1046","LK-HD-1046","LK-HD-1046","LK-HD-1046","LK-HD-1046","LK-HD-1046","LK-HD-1046","LK-HD-1046","LK-HD-1046","LK-HD-1046"]
["LK-HD-1047","H1047 Brushed Satin Cup",null,"LK-HD-1047","LK-HD-1047","LK-HD-1047","LK-HD-1047","LK-HD-1047","LK-HD-1047","LK-HD-1047","LK-HD-1047","LK-HD-1047","LK-HD-1047","LK-HD-1047","LK-HD-1047","LK-HD-1047","LK-HD-1047","LK-HD-1047","LK-HD-1047"]
["LK-HD-1048","H1048 Brushed Satin Knob",null,"LK-HD-1048","LK-HD-1048","LK-HD-1048","LK-HD-1048","LK-HD-1048","LK-HD-1048","LK-HD-1048","LK-HD-1048","LK-HD-1048","LK-HD-1048","LK-HD-1048","LK-HD-1048","LK-HD-1048","LK-HD-1048","LK-HD-1048","LK-HD-1048"]
["LK-HD-1049","H1049 Black Nickel Cup",null,"LK-HD-1049","LK-HD-1049","LK-HD-1049","LK-HD-1049","LK-HD-1049","LK-HD-1049","LK-HD-1049","LK-HD-1049","LK-HD-1049","LK-HD-1049","LK-HD-1049","LK-HD-1049","LK-HD-1049","LK-HD-1049","LK-HD-1049","LK-HD-1049"]
["LK-HD-1050","H1050 Black Nickel Knob",null,"LK-HD-1050","LK-HD-1050","LK-HD-1050","LK-HD-1050","LK-HD-1050","LK-HD-1050","LK-HD-1050","LK-HD-1050","LK-HD-1050","LK-HD-1050","LK-HD-1050","LK-HD-1050","LK-HD-1050","LK-HD-1050","LK-HD-1050","LK-HD-1050"]
["LK-HD-1051","H1051 American Coppe Cup",null,"LK-HD-1051","LK-HD-1051","LK-HD-1051","LK-HD-1051","LK-HD-1051","LK-HD-1051","LK-HD-1051","LK-HD-1051","LK-HD-1051","LK-HD-1051","LK-HD-1051","LK-HD-1051","LK-HD-1051","LK-HD-1051","LK-HD-1051","LK-HD-1051"]
["LK-HD-1052","H1052 American Coppe Knob",null,"LK-HD-1052","LK-HD-1052","LK-HD-1052","LK-HD-1052","LK-HD-1052","LK-HD-1052","LK-HD-1052","LK-HD-1052","LK-HD-1052","LK-HD-1052","LK-HD-1052","LK-HD-1052","LK-HD-1052","LK-HD-1052","LK-HD-1052","LK-HD-1052"]
["LK-HD-1053","H1053 American Coppe Cup",null,"LK-HD-1053","LK-HD-1053","LK-HD-1053","LK-HD-1053","LK-HD-1053","LK-HD-1053","LK-HD-1053","LK-HD-1053","LK-HD-1053","LK-HD-1053","LK-HD-1053","LK-HD-1053","LK-HD-1053","LK-HD-1053","LK-HD-1053","LK-HD-1053"]
["LK-HD-1054","H1054 American Coppe Knob",null,"LK-HD-1054","LK-HD-1054","LK-HD-1054","LK-HD-1054","LK-HD-1054","LK-HD-1054","LK-HD-1054","LK-HD-1054","LK-HD-1054","LK-HD-1054","LK-HD-1054","LK-HD-1054","LK-HD-1054","LK-HD-1054","LK-HD-1054","LK-HD-1054"]
["LK-HD-1055","H1055 Black Nickel Cup",null,"LK-HD-1055","LK-HD-1055","LK-HD-1055","LK-HD-1055","LK-HD-1055","LK-HD-1055","LK-HD-1055","LK-HD-1055","LK-HD-1055","LK-HD-1055","LK-HD-1055","LK-HD-1055","LK-HD-1055","LK-HD-1055","LK-HD-1055","LK-HD-1055"]
["LK-HD-1056","H1056 Black Nickel Knob",null,"LK-HD-1056","LK-HD-1056","LK-HD-1056","LK-HD-1056","LK-HD-1056","LK-HD-1056","LK-HD-1056","LK-HD-1056","LK-HD-1056","LK-HD-1056","LK-HD-1056","LK-HD-1056","LK-HD-1056","LK-HD-1056","LK-HD-1056","LK-HD-1056"]
["LK-HD-1057","H1057 Brushed Satin Cup",null,"LK-HD-1057","LK-HD-1057","LK-HD-1057","LK-HD-1057","LK-HD-1057","LK-HD-1057","LK-HD-1057","LK-HD-1057","LK-HD-1057","LK-HD-1057","LK-HD-1057","LK-HD-1057","LK-HD-1057","LK-HD-1057","LK-HD-1057","LK-HD-1057"]
["LK-HD-1058","H1058 Brushed Satin Knob",null,"LK-HD-1058","LK-HD-1058","LK-HD-1058","LK-HD-1058","LK-HD-1058","LK-HD-1058","LK-HD-1058","LK-HD-1058","LK-HD-1058","LK-HD-1058","LK-HD-1058","LK-HD-1058","LK-HD-1058","LK-HD-1058","LK-HD-1058","LK-HD-1058"]
["LK-HD-1059","H1059 Brushed Satin Pull",null,"LK-HD-1059","LK-HD-1059","LK-HD-1059","LK-HD-1059","LK-HD-1059","LK-HD-1059","LK-HD-1059","LK-HD-1059","LK-HD-1059","LK-HD-1059","LK-HD-1059","LK-HD-1059","LK-HD-1059","LK-HD-1059","LK-HD-1059","LK-HD-1059"]
["LK-HD-1060","H1060 Brushed Satin Knob",null,"LK-HD-1060","LK-HD-1060","LK-HD-1060","LK-HD-1060","LK-HD-1060","LK-HD-1060","LK-HD-1060","LK-HD-1060","LK-HD-1060","LK-HD-1060","LK-HD-1060","LK-HD-1060","LK-HD-1060","LK-HD-1060","LK-HD-1060","LK-HD-1060"]
["LK-HD-1061","H1061 Chrome Pull",null,"LK-HD-1061","LK-HD-1061","LK-HD-1061","LK-HD-1061","LK-HD-1061","LK-HD-1061","LK-HD-1061","LK-HD-1061","LK-HD-1061","LK-HD-1061","LK-HD-1061","LK-HD-1061","LK-HD-1061","LK-HD-1061","LK-HD-1061","LK-HD-1061"]
["LK-HD-1062","H1062 Chrome Knob",null,"LK-HD-1062","LK-HD-1062","LK-HD-1062","LK-HD-1062","LK-HD-1062","LK-HD-1062","LK-HD-1062","LK-HD-1062","LK-HD-1062","LK-HD-1062","LK-HD-1062","LK-HD-1062","LK-HD-1062","LK-HD-1062","LK-HD-1062","LK-HD-1062"]
["LK-HD-1063","H1063 Iron Lacquer Pull",null,"LK-HD-1063","LK-HD-1063","LK-HD-1063","LK-HD-1063","LK-HD-1063","LK-HD-1063","LK-HD-1063","LK-HD-1063","LK-HD-1063","LK-HD-1063","LK-HD-1063","LK-HD-1063","LK-HD-1063","LK-HD-1063","LK-HD-1063","LK-HD-1063"]
["LK-HD-1064","H1064 Iron Lacquer Knob",null,"LK-HD-1064","LK-HD-1064","LK-HD-1064","LK-HD-1064","LK-HD-1064","LK-HD-1064","LK-HD-1064","LK-HD-1064","LK-HD-1064","LK-HD-1064","LK-HD-1064","LK-HD-1064","LK-HD-1064","LK-HD-1064","LK-HD-1064","LK-HD-1064"]
["LK-HD-1065","H1065 St Steel Bar Handle",null,"LK-HD-1065","LK-HD-1065","LK-HD-1065","LK-HD-1065","LK-HD-1065","LK-HD-1065","LK-HD-1065","LK-HD-1065","LK-HD-1065","LK-HD-1065","LK-HD-1065","LK-HD-1065","LK-HD-1065","LK-HD-1065","LK-HD-1065","LK-HD-1065"]
["LK-HD-1066","H1066 St Steel / Rose Gold Bar Handle",null,"LK-HD-1066","LK-HD-1066","LK-HD-1066","LK-HD-1066","LK-HD-1066","LK-HD-1066","LK-HD-1066","LK-HD-1066","LK-HD-1066","LK-HD-1066","LK-HD-1066","LK-HD-1066","LK-HD-1066","LK-HD-1066","LK-HD-1066","LK-HD-1066"]
["LK-HD-1067","H1067 Black Bar Handle",null,"LK-HD-1067","LK-HD-1067","LK-HD-1067","LK-HD-1067","LK-HD-1067","LK-HD-1067","LK-HD-1067","LK-HD-1067","LK-HD-1067","LK-HD-1067","LK-HD-1067","LK-HD-1067","LK-HD-1067","LK-HD-1067","LK-HD-1067","LK-HD-1067"]
["LK-HD-1070","H1070 Matt Black Short Rear Fix Handle",null,"LK-HD-1070","LK-HD-1070","LK-HD-1070","LK-HD-1070","LK-HD-1070","LK-HD-1070","LK-HD-1070","LK-HD-1070","LK-HD-1070","LK-HD-1070","LK-HD-1070","LK-HD-1070","LK-HD-1070","LK-HD-1070","LK-HD-1070","LK-HD-1070"]
["LK-HD-1071","H1071 Matt Black Long Rear Fix Handle",null,"LK-HD-1071","LK-HD-1071","LK-HD-1071","LK-HD-1071","LK-HD-1071","LK-HD-1071","LK-HD-1071","LK-HD-1071","LK-HD-1071","LK-HD-1071","LK-HD-1071","LK-HD-1071","LK-HD-1071","LK-HD-1071","LK-HD-1071","LK-HD-1071"]
["LK-HD-1072","H1072 Brushed Gold Short Rear Fix Handle",null,"LK-HD-1072","LK-HD-1072","LK-HD-1072","LK-HD-1072","LK-HD-1072","LK-HD-1072","LK-HD-1072","LK-HD-1072","LK-HD-1072","LK-HD-1072","LK-HD-1072","LK-HD-1072","LK-HD-1072","LK-HD-1072","LK-HD-1072","LK-HD-1072"]
["LK-HD-1073","H1073 Brushed Gold Long Rear Fix Handle",null,"LK-HD-1073","LK-HD-1073","LK-HD-1073","LK-HD-1073","LK-HD-1073","LK-HD-1073","LK-HD-1073","LK-HD-1073","LK-HD-1073","LK-HD-1073","LK-HD-1073","LK-HD-1073","LK-HD-1073","LK-HD-1073","LK-HD-1073","LK-HD-1073"]
["LK-HD-1074","H1074 Matt Black Ocean IX Recycled Plastic D Handle",null,"LK-HD-1074","LK-HD-1074","LK-HD-1074","LK-HD-1074","LK-HD-1074","LK-HD-1074","LK-HD-1074","LK-HD-1074","LK-HD-1074","LK-HD-1074","LK-HD-1074","LK-HD-1074","LK-HD-1074","LK-HD-1074","LK-HD-1074","LK-HD-1074"]
["LK-HD-1075","H1075 Matt Black Ocean IX Recycled Plastic Knob",null,"LK-HD-1075","LK-HD-1075","LK-HD-1075","LK-HD-1075","LK-HD-1075","LK-HD-1075","LK-HD-1075","LK-HD-1075","LK-HD-1075","LK-HD-1075","LK-HD-1075","LK-HD-1075","LK-HD-1075","LK-HD-1075","LK-HD-1075","LK-HD-1075"]
["LK-HD-1076","H1076 Matt Black Knurled Knob",null,"LK-HD-1076","LK-HD-1076","LK-HD-1076","LK-HD-1076","LK-HD-1076","LK-HD-1076","LK-HD-1076","LK-HD-1076","LK-HD-1076","LK-HD-1076","LK-HD-1076","LK-HD-1076","LK-HD-1076","LK-HD-1076","LK-HD-1076","LK-HD-1076"]
["LK-HD-1077","H1077 Matt Black Knurled D Handle",null,"LK-HD-1077","LK-HD-1077","LK-HD-1077","LK-HD-1077","LK-HD-1077","LK-HD-1077","LK-HD-1077","LK-HD-1077","LK-HD-1077","LK-HD-1077","LK-HD-1077","LK-HD-1077","LK-HD-1077","LK-HD-1077","LK-HD-1077","LK-HD-1077"]
["LK-HD-1078","H1078 Brushed Nickel Knurled Knob",null,"LK-HD-1078","LK-HD-1078","LK-HD-1078","LK-HD-1078","LK-HD-1078","LK-HD-1078","LK-HD-1078","LK-HD-1078","LK-HD-1078","LK-HD-1078","LK-HD-1078","LK-HD-1078","LK-HD-1078","LK-HD-1078","LK-HD-1078","LK-HD-1078"]
["LK-HD-1079","H1079 Brushed Nickel Knurled D Handle",null,"LK-HD-1079","LK-HD-1079","LK-HD-1079","LK-HD-1079","LK-HD-1079","LK-HD-1079","LK-HD-1079","LK-HD-1079","LK-HD-1079","LK-HD-1079","LK-HD-1079","LK-HD-1079","LK-HD-1079","LK-HD-1079","LK-HD-1079","LK-HD-1079"]
["LK-HD-1080","H1080 Matt Black Cup Handle",null,"LK-HD-1080","LK-HD-1080","LK-HD-1080","LK-HD-1080","LK-HD-1080","LK-HD-1080","LK-HD-1080","LK-HD-1080","LK-HD-1080","LK-HD-1080","LK-HD-1080","LK-HD-1080","LK-HD-1080","LK-HD-1080","LK-HD-1080","LK-HD-1080"]
["LK-HD-1081","H1081 Matt Black Knob",null,"LK-HD-1081","LK-HD-1081","LK-HD-1081","LK-HD-1081","LK-HD-1081","LK-HD-1081","LK-HD-1081","LK-HD-1081","LK-HD-1081","LK-HD-1081","LK-HD-1081","LK-HD-1081","LK-HD-1081","LK-HD-1081","LK-HD-1081","LK-HD-1081"]
["LK-HD-1082","H1082 Dark Brushed Brass Ribbed Bar Handle",null,"LK-HD-1082","LK-HD-1082","LK-HD-1082","LK-HD-1082","LK-HD-1082","LK-HD-1082","LK-HD-1082","LK-HD-1082","LK-HD-1082","LK-HD-1082","LK-HD-1082","LK-HD-1082","LK-HD-1082","LK-HD-1082","LK-HD-1082","LK-HD-1082"]
["LK-HD-1083","H1083 Dark Brushed Brass Ribbed Cup Handle",null,"LK-HD-1083","LK-HD-1083","LK-HD-1083","LK-HD-1083","LK-HD-1083","LK-HD-1083","LK-HD-1083","LK-HD-1083","LK-HD-1083","LK-HD-1083","LK-HD-1083","LK-HD-1083","LK-HD-1083","LK-HD-1083","LK-HD-1083","LK-HD-1083"]
["LK-HD-1084","H1084 Dark Brushed Brass Ribbed Knob",null,"LK-HD-1084","LK-HD-1084","LK-HD-1084","LK-HD-1084","LK-HD-1084","LK-HD-1084","LK-HD-1084","LK-HD-1084","LK-HD-1084","LK-HD-1084","LK-HD-1084","LK-HD-1084","LK-HD-1084","LK-HD-1084","LK-HD-1084","LK-HD-1084"]
["LK-HD-1085","H1085 Dark Brushed Brass Ribbed Eclipse Handle",null,"LK-HD-1085","LK-HD-1085","LK-HD-1085","LK-HD-1085","LK-HD-1085","LK-HD-1085","LK-HD-1085","LK-HD-1085","LK-HD-1085","LK-HD-1085","LK-HD-1085","LK-HD-1085","LK-HD-1085","LK-HD-1085","LK-HD-1085","LK-HD-1085"]
["LK-HD-1086","H1086 Dark Brushed Brass Smooth Eclipse Handle",null,"LK-HD-1086","LK-HD-1086","LK-HD-1086","LK-HD-1086","LK-HD-1086","LK-HD-1086","LK-HD-1086","LK-HD-1086","LK-HD-1086","LK-HD-1086","LK-HD-1086","LK-HD-1086","LK-HD-1086","LK-HD-1086","LK-HD-1086","LK-HD-1086"]
["LK-HD-1087","H1087 Brushed Satin Brass Ribbed Bar Handle",null,"LK-HD-1087","LK-HD-1087","LK-HD-1087","LK-HD-1087","LK-HD-1087","LK-HD-1087","LK-HD-1087","LK-HD-1087","LK-HD-1087","LK-HD-1087","LK-HD-1087","LK-HD-1087","LK-HD-1087","LK-HD-1087","LK-HD-1087","LK-HD-1087"]
["LK-HD-1088","H1088 Brushed Satin Brass Ribbed Cup Handle",null,"LK-HD-1088","LK-HD-1088","LK-HD-1088","LK-HD-1088","LK-HD-1088","LK-HD-1088","LK-HD-1088","LK-HD-1088","LK-HD-1088","LK-HD-1088","LK-HD-1088","LK-HD-1088","LK-HD-1088","LK-HD-1088","LK-HD-1088","LK-HD-1088"]
["LK-HD-1089","H1089 Brushed Satin Brass Ribbed Knob",null,"LK-HD-1089","LK-HD-1089","LK-HD-1089","LK-HD-1089","LK-HD-1089","LK-HD-1089","LK-HD-1089","LK-HD-1089","LK-HD-1089","LK-HD-1089","LK-HD-1089","LK-HD-1089","LK-HD-1089","LK-HD-1089","LK-HD-1089","LK-HD-1089"]
["LK-HD-1090","H1090 Brushed Satin Brass Ribbed Eclipse Handle",null,"LK-HD-1090","LK-HD-1090","LK-HD-1090","LK-HD-1090","LK-HD-1090","LK-HD-1090","LK-HD-1090","LK-HD-1090","LK-HD-1090","LK-HD-1090","LK-HD-1090","LK-HD-1090","LK-HD-1090","LK-HD-1090","LK-HD-1090","LK-HD-1090"]
["LK-HD-1091","H1091 Brushed Satin Brass Smooth Eclipse Handle",null,"LK-HD-1091","LK-HD-1091","LK-HD-1091","LK-HD-1091","LK-HD-1091","LK-HD-1091","LK-HD-1091","LK-HD-1091","LK-HD-1091","LK-HD-1091","LK-HD-1091","LK-HD-1091","LK-HD-1091","LK-HD-1091","LK-HD-1091","LK-HD-1091"]
["LK-HD-1092","H1092 Matt Black Ribbed Bar Handle",null,"LK-HD-1092","LK-HD-1092","LK-HD-1092","LK-HD-1092","LK-HD-1092","LK-HD-1092","LK-HD-1092","LK-HD-1092","LK-HD-1092","LK-HD-1092","LK-HD-1092","LK-HD-1092","LK-HD-1092","LK-HD-1092","LK-HD-1092","LK-HD-1092"]
["LK-HD-1093","H1093 Matt Black Ribbed Cup Handle",null,"LK-HD-1093","LK-HD-1093","LK-HD-1093","LK-HD-1093","LK-HD-1093","LK-HD-1093","LK-HD-1093","LK-HD-1093","LK-HD-1093","LK-HD-1093","LK-HD-1093","LK-HD-1093","LK-HD-1093","LK-HD-1093","LK-HD-1093","LK-HD-1093"]
["LK-HD-1094","H1094 Matt Black Ribbed Knob",null,"LK-HD-1094","LK-HD-1094","LK-HD-1094","LK-HD-1094","LK-HD-1094","LK-HD-1094","LK-HD-1094","LK-HD-1094","LK-HD-1094","LK-HD-1094","LK-HD-1094","LK-HD-1094","LK-HD-1094","LK-HD-1094","LK-HD-1094","LK-HD-1094"]
["LK-HD-1095","H1095 Polished Nickel T-Bar Knob",null,"LK-HD-1095","LK-HD-1095","LK-HD-1095","LK-HD-1095","LK-HD-1095","LK-HD-1095","LK-HD-1095","LK-HD-1095","LK-HD-1095","LK-HD-1095","LK-HD-1095","LK-HD-1095","LK-HD-1095","LK-HD-1095","LK-HD-1095","LK-HD-1095"]
["LK-HD-1096","H1096 Polished Nickel Bar Handle",null,"LK-HD-1096","LK-HD-1096","LK-HD-1096","LK-HD-1096","LK-HD-1096","LK-HD-1096","LK-HD-1096","LK-HD-1096","LK-HD-1096","LK-HD-1096","LK-HD-1096","LK-HD-1096","LK-HD-1096","LK-HD-1096","LK-HD-1096","LK-HD-1096"]
["LK-HD-1097","H1097 Matt Black T-Bar Knob",null,"LK-HD-1097","LK-HD-1097","LK-HD-1097","LK-HD-1097","LK-HD-1097","LK-HD-1097","LK-HD-1097","LK-HD-1097","LK-HD-1097","LK-HD-1097","LK-HD-1097","LK-HD-1097","LK-HD-1097","LK-HD-1097","LK-HD-1097","LK-HD-1097"]
["LK-HD-1098","H1098 Matt Black Bar Handle",null,"LK-HD-1098","LK-HD-1098","LK-HD-1098","LK-HD-1098","LK-HD-1098","LK-HD-1098","LK-HD-1098","LK-HD-1098","LK-HD-1098","LK-HD-1098","LK-HD-1098","LK-HD-1098","LK-HD-1098","LK-HD-1098","LK-HD-1098","LK-HD-1098"]
["LK-HD-1099","H1099 Dark Brushed Brass T-Bar Knob",null,"LK-HD-1099","LK-HD-1099","LK-HD-1099","LK-HD-1099","LK-HD-1099","LK-HD-1099","LK-HD-1099","LK-HD-1099","LK-HD-1099","LK-HD-1099","LK-HD-1099","LK-HD-1099","LK-HD-1099","LK-HD-1099","LK-HD-1099","LK-HD-1099"]
["LK-HD-1100","H1100 Dark Brushed Brass Bar Handle",null,"LK-HD-1100","LK-HD-1100","LK-HD-1100","LK-HD-1100","LK-HD-1100","LK-HD-1100","LK-HD-1100","LK-HD-1100","LK-HD-1100","LK-HD-1100","LK-HD-1100","LK-HD-1100","LK-HD-1100","LK-HD-1100","LK-HD-1100","LK-HD-1100"]
["@LK-HD-1082B","H1082B Dark Brushed Brass Ribbed Bar Handle & Back Plate",null,"@LK-HD-1082B","@LK-HD-1082B","@LK-HD-1082B","@LK-HD-1082B","@LK-HD-1082B","@LK-HD-1082B","@LK-HD-1082B","@LK-HD-1082B","@LK-HD-1082B","@LK-HD-1082B","@LK-HD-1082B","@LK-HD-1082B","@LK-HD-1082B","@LK-HD-1082B","@LK-HD-1082B","@LK-HD-1082B"]
["@LK-HD-1084B","H1084B Dark Brushed Brass Ribbed Knob & Back Plate",null,"@LK-HD-1084B","@LK-HD-1084B","@LK-HD-1084B","@LK-HD-1084B","@LK-HD-1084B","@LK-HD-1084B","@LK-HD-1084B","@LK-HD-1084B","@LK-HD-1084B","@LK-HD-1084B","@LK-HD-1084B","@LK-HD-1084B","@LK-HD-1084B","@LK-HD-1084B","@LK-HD-1084B","@LK-HD-1084B"]
["@LK-HD-1087B","H1087B Brushed Satin Brass Ribbed Bar Handle & Back Plate",null,"@LK-HD-1087B","@LK-HD-1087B","@LK-HD-1087B","@LK-HD-1087B","@LK-HD-1087B","@LK-HD-1087B","@LK-HD-1087B","@LK-HD-1087B","@LK-HD-1087B","@LK-HD-1087B","@LK-HD-1087B","@LK-HD-1087B","@LK-HD-1087B","@LK-HD-1087B","@LK-HD-1087B","@LK-HD-1087B"]
["@LK-HD-1089B","H1089B Brushed Satin Brass Ribbed Knob & Back Plate",null,"@LK-HD-1089B","@LK-HD-1089B","@LK-HD-1089B","@LK-HD-1089B","@LK-HD-1089B","@LK-HD-1089B","@LK-HD-1089B","@LK-HD-1089B","@LK-HD-1089B","@LK-HD-1089B","@LK-HD-1089B","@LK-HD-1089B","@LK-HD-1089B","@LK-HD-1089B","@LK-HD-1089B","@LK-HD-1089B"]
["@LK-HD-1092B","H1092B Matt Black Ribbed Bar Handle & Back Plate",null,"@LK-HD-1092B","@LK-HD-1092B","@LK-HD-1092B","@LK-HD-1092B","@LK-HD-1092B","@LK-HD-1092B","@LK-HD-1092B","@LK-HD-1092B","@LK-HD-1092B","@LK-HD-1092B","@LK-HD-1092B","@LK-HD-1092B","@LK-HD-1092B","@LK-HD-1092B","@LK-HD-1092B","@LK-HD-1092B"]
["@LK-HD-1094B","H1094B Matt Black Ribbed Knob & Back Plate",null,"@LK-HD-1094B","@LK-HD-1094B","@LK-HD-1094B","@LK-HD-1094B","@LK-HD-1094B","@LK-HD-1094B","@LK-HD-1094B","@LK-HD-1094B","@LK-HD-1094B","@LK-HD-1094B","@LK-HD-1094B","@LK-HD-1094B","@LK-HD-1094B","@LK-HD-1094B","@LK-HD-1094B","@LK-HD-1094B"]
["LK-HD-H1101","H1101 American Bronze Round Knob Handle",null,"LK-HD-H1101","LK-HD-H1101","LK-HD-H1101","LK-HD-H1101","LK-HD-H1101","LK-HD-H1101","LK-HD-H1101","LK-HD-H1101","LK-HD-H1101","LK-HD-H1101","LK-HD-H1101","LK-HD-H1101","LK-HD-H1101","LK-HD-H1101","LK-HD-H1101","LK-HD-H1101"]
["LK-HD-H1102","H1102 American Bronze D Handle (with back plate)",null,"LK-HD-H1102","LK-HD-H1102","LK-HD-H1102","LK-HD-H1102","LK-HD-H1102","LK-HD-H1102","LK-HD-H1102","LK-HD-H1102","LK-HD-H1102","LK-HD-H1102","LK-HD-H1102","LK-HD-H1102","LK-HD-H1102","LK-HD-H1102","LK-HD-H1102","LK-HD-H1102"]
["LK-HD-H1103","H1103 Brushed Satin Brass Round Knob Handle",null,"LK-HD-H1103","LK-HD-H1103","LK-HD-H1103","LK-HD-H1103","LK-HD-H1103","LK-HD-H1103","LK-HD-H1103","LK-HD-H1103","LK-HD-H1103","LK-HD-H1103","LK-HD-H1103","LK-HD-H1103","LK-HD-H1103","LK-HD-H1103","LK-HD-H1103","LK-HD-H1103"]
["LK-HD-H1104","H1104 Brushed Satin Brass D Handle (with back plate)",null,"LK-HD-H1104","LK-HD-H1104","LK-HD-H1104","LK-HD-H1104","LK-HD-H1104","LK-HD-H1104","LK-HD-H1104","LK-HD-H1104","LK-HD-H1104","LK-HD-H1104","LK-HD-H1104","LK-HD-H1104","LK-HD-H1104","LK-HD-H1104","LK-HD-H1104","LK-HD-H1104"]
["LK-HD-H1105","H1105 American Bronze Bronze Square Knob Handle",null,"LK-HD-H1105","LK-HD-H1105","LK-HD-H1105","LK-HD-H1105","LK-HD-H1105","LK-HD-H1105","LK-HD-H1105","LK-HD-H1105","LK-HD-H1105","LK-HD-H1105","LK-HD-H1105","LK-HD-H1105","LK-HD-H1105","LK-HD-H1105","LK-HD-H1105","LK-HD-H1105"]
["LK-HD-H1106","H1106 American Bronze Curved D Handle",null,"LK-HD-H1106","LK-HD-H1106","LK-HD-H1106","LK-HD-H1106","LK-HD-H1106","LK-HD-H1106","LK-HD-H1106","LK-HD-H1106","LK-HD-H1106","LK-HD-H1106","LK-HD-H1106","LK-HD-H1106","LK-HD-H1106","LK-HD-H1106","LK-HD-H1106","LK-HD-H1106"]
["LK-HD-H1107","H1107 Satin Nickel Bronze Square Knob Handle",null,"LK-HD-H1107","LK-HD-H1107","LK-HD-H1107","LK-HD-H1107","LK-HD-H1107","LK-HD-H1107","LK-HD-H1107","LK-HD-H1107","LK-HD-H1107","LK-HD-H1107","LK-HD-H1107","LK-HD-H1107","LK-HD-H1107","LK-HD-H1107","LK-HD-H1107","LK-HD-H1107"]
["LK-HD-H1108","H1108 Satin Nickel Curved D Handle",null,"LK-HD-H1108","LK-HD-H1108","LK-HD-H1108","LK-HD-H1108","LK-HD-H1108","LK-HD-H1108","LK-HD-H1108","LK-HD-H1108","LK-HD-H1108","LK-HD-H1108","LK-HD-H1108","LK-HD-H1108","LK-HD-H1108","LK-HD-H1108","LK-HD-H1108","LK-HD-H1108"]
[]
[]
["LK-ST-BIN30","300 Pull Out Bin 35 Ltr","LK-ST-BIN30","LK-ST-BIN30","LK-ST-BIN30","LK-ST-BIN30","LK-ST-BIN30","LK-ST-BIN30","LK-ST-BIN30","LK-ST-BIN30","LK-ST-BIN30","LK-ST-BIN30","LK-ST-BIN30","LK-ST-BIN30","LK-ST-BIN30","LK-ST-BIN30","LK-ST-BIN30","LK-ST-BIN30","LK-ST-BIN30"]
["LK-ST-BIN40","400 Pull Out Bin 48 Ltr","LK-ST-BIN40","LK-ST-BIN40","LK-ST-BIN40","LK-ST-BIN40","LK-ST-BIN40","LK-ST-BIN40","LK-ST-BIN40","LK-ST-BIN40","LK-ST-BIN40","LK-ST-BIN40","LK-ST-BIN40","LK-ST-BIN40","LK-ST-BIN40","LK-ST-BIN40","LK-ST-BIN40","LK-ST-BIN40","LK-ST-BIN40"]
["LK-ST-BIN45","450 Pull Out Bin 70 Ltr","LK-ST-BIN45","LK-ST-BIN45","LK-ST-BIN45","LK-ST-BIN45","LK-ST-BIN45","LK-ST-BIN45","LK-ST-BIN45","LK-ST-BIN45","LK-ST-BIN45","LK-ST-BIN45","LK-ST-BIN45","LK-ST-BIN45","LK-ST-BIN45","LK-ST-BIN45","LK-ST-BIN45","LK-ST-BIN45","LK-ST-BIN45"]
["LK-ST-BIN50","500 Pull Out Bin 70Ltr","LK-ST-BIN50","LK-ST-BIN50","LK-ST-BIN50","LK-ST-BIN50","LK-ST-BIN50","LK-ST-BIN50","LK-ST-BIN50","LK-ST-BIN50","LK-ST-BIN50","LK-ST-BIN50","LK-ST-BIN50","LK-ST-BIN50","LK-ST-BIN50","LK-ST-BIN50","LK-ST-BIN50","LK-ST-BIN50","LK-ST-BIN50"]
["LK-ST-BIN60-4","600 Pull Out Bin 86 Ltr (4 Bins)","LK-ST-BIN60-4","LK-ST-BIN60-4","LK-ST-BIN60-4","LK-ST-BIN60-4","LK-ST-BIN60-4","LK-ST-BIN60-4","LK-ST-BIN60-4","LK-ST-BIN60-4","LK-ST-BIN60-4","LK-ST-BIN60-4","LK-ST-BIN60-4","LK-ST-BIN60-4","LK-ST-BIN60-4","LK-ST-BIN60-4","LK-ST-BIN60-4","LK-ST-BIN60-4","LK-ST-BIN60-4"]
["LK-ST-BIN60-2","600 Pull Out Bin 80 Ltr (2 Bins)","LK-ST-BIN60-2","LK-ST-BIN60-2","LK-ST-BIN60-2","LK-ST-BIN60-2","LK-ST-BIN60-2","LK-ST-BIN60-2","LK-ST-BIN60-2","LK-ST-BIN60-2","LK-ST-BIN60-2","LK-ST-BIN60-2","LK-ST-BIN60-2","LK-ST-BIN60-2","LK-ST-BIN60-2","LK-ST-BIN60-2","LK-ST-BIN60-2","LK-ST-BIN60-2","LK-ST-BIN60-2"]
["@LK-DB-OAK3","300mm Dovetail Drawer Box","@LK-DB-OAK3","@LK-DB-OAK3","@LK-DB-OAK3","@LK-DB-OAK3","@LK-DB-OAK3","@LK-DB-OAK3","@LK-DB-OAK3","@LK-DB-OAK3","@LK-DB-OAK3","@LK-DB-OAK3","@LK-DB-OAK3","@LK-DB-OAK3","@LK-DB-OAK3","@LK-DB-OAK3","@LK-DB-OAK3","@LK-DB-OAK3","@LK-DB-OAK3"]
["@LK-DB-OAK4","400mm Dovetail Drawer Box","@LK-DB-OAK4","@LK-DB-OAK4","@LK-DB-OAK4","@LK-DB-OAK4","@LK-DB-OAK4","@LK-DB-OAK4","@LK-DB-OAK4","@LK-DB-OAK4","@LK-DB-OAK4","@LK-DB-OAK4","@LK-DB-OAK4","@LK-DB-OAK4","@LK-DB-OAK4","@LK-DB-OAK4","@LK-DB-OAK4","@LK-DB-OAK4","@LK-DB-OAK4"]
["@LK-DB-OAK45","450mm Dovetail Drawer Box","@LK-DB-OAK45","@LK-DB-OAK45","@LK-DB-OAK45","@LK-DB-OAK45","@LK-DB-OAK45","@LK-DB-OAK45","@LK-DB-OAK45","@LK-DB-OAK45","@LK-DB-OAK45","@LK-DB-OAK45","@LK-DB-OAK45","@LK-DB-OAK45","@LK-DB-OAK45","@LK-DB-OAK45","@LK-DB-OAK45","@LK-DB-OAK45","@LK-DB-OAK45"]
["@LK-DB-OAK5","500mm Dovetail Drawer Box","@LK-DB-OAK5","@LK-DB-OAK5","@LK-DB-OAK5","@LK-DB-OAK5","@LK-DB-OAK5","@LK-DB-OAK5","@LK-DB-OAK5","@LK-DB-OAK5","@LK-DB-OAK5","@LK-DB-OAK5","@LK-DB-OAK5","@LK-DB-OAK5","@LK-DB-OAK5","@LK-DB-OAK5","@LK-DB-OAK5","@LK-DB-OAK5","@LK-DB-OAK5"]
["@LK-DB-OAK5PD","500mm Dovetail Pan Drawer Box","@LK-DB-OAK5PD","@LK-DB-OAK5PD","@LK-DB-OAK5PD","@LK-DB-OAK5PD","@LK-DB-OAK5PD","@LK-DB-OAK5PD","@LK-DB-OAK5PD","@LK-DB-OAK5PD","@LK-DB-OAK5PD","@LK-DB-OAK5PD","@LK-DB-OAK5PD","@LK-DB-OAK5PD","@LK-DB-OAK5PD","@LK-DB-OAK5PD","@LK-DB-OAK5PD","@LK-DB-OAK5PD","@LK-DB-OAK5PD"]
["@LK-DB-OAK5D","500mm Dovetail Dresser Drawer Box","@LK-DB-OAK5D","@LK-DB-OAK5D","@LK-DB-OAK5D","@LK-DB-OAK5D","@LK-DB-OAK5D","@LK-DB-OAK5D","@LK-DB-OAK5D","@LK-DB-OAK5D","@LK-DB-OAK5D","@LK-DB-OAK5D","@LK-DB-OAK5D","@LK-DB-OAK5D","@LK-DB-OAK5D","@LK-DB-OAK5D","@LK-DB-OAK5D","@LK-DB-OAK5D","@LK-DB-OAK5D"]
["@LK-DB-OAK6","600mm Dovetail Drawer Box","@LK-DB-OAK6","@LK-DB-OAK6","@LK-DB-OAK6","@LK-DB-OAK6","@LK-DB-OAK6","@LK-DB-OAK6","@LK-DB-OAK6","@LK-DB-OAK6","@LK-DB-OAK6","@LK-DB-OAK6","@LK-DB-OAK6","@LK-DB-OAK6","@LK-DB-OAK6","@LK-DB-OAK6","@LK-DB-OAK6","@LK-DB-OAK6","@LK-DB-OAK6"]
["@LK-DB-OAK6PD","600mm Dovetail Pan Drawer Box","@LK-DB-OAK6PD","@LK-DB-OAK6PD","@LK-DB-OAK6PD","@LK-DB-OAK6PD","@LK-DB-OAK6PD","@LK-DB-OAK6PD","@LK-DB-OAK6PD","@LK-DB-OAK6PD","@LK-DB-OAK6PD","@LK-DB-OAK6PD","@LK-DB-OAK6PD","@LK-DB-OAK6PD","@LK-DB-OAK6PD","@LK-DB-OAK6PD","@LK-DB-OAK6PD","@LK-DB-OAK6PD","@LK-DB-OAK6PD"]
["@LK-DB-OAK8","800mm Dovetail Drawer Box","@LK-DB-OAK8","@LK-DB-OAK8","@LK-DB-OAK8","@LK-DB-OAK8","@LK-DB-OAK8","@LK-DB-OAK8","@LK-DB-OAK8","@LK-DB-OAK8","@LK-DB-OAK8","@LK-DB-OAK8","@LK-DB-OAK8","@LK-DB-OAK8","@LK-DB-OAK8","@LK-DB-OAK8","@LK-DB-OAK8","@LK-DB-OAK8","@LK-DB-OAK8"]
["@LK-DB-OAK8PD","800mm Dovetail Pan Drawer Box","@LK-DB-OAK8PD","@LK-DB-OAK8PD","@LK-DB-OAK8PD","@LK-DB-OAK8PD","@LK-DB-OAK8PD","@LK-DB-OAK8PD","@LK-DB-OAK8PD","@LK-DB-OAK8PD","@LK-DB-OAK8PD","@LK-DB-OAK8PD","@LK-DB-OAK8PD","@LK-DB-OAK8PD","@LK-DB-OAK8PD","@LK-DB-OAK8PD","@LK-DB-OAK8PD","@LK-DB-OAK8PD","@LK-DB-OAK8PD"]
["@LK-DB-OAK9","900mm Dovetail Drawer Box","@LK-DB-OAK9","@LK-DB-OAK9","@LK-DB-OAK9","@LK-DB-OAK9","@LK-DB-OAK9","@LK-DB-OAK9","@LK-DB-OAK9","@LK-DB-OAK9","@LK-DB-OAK9","@LK-DB-OAK9","@LK-DB-OAK9","@LK-DB-OAK9","@LK-DB-OAK9","@LK-DB-OAK9","@LK-DB-OAK9","@LK-DB-OAK9","@LK-DB-OAK9"]
["@LK-DB-OAK9PD","900mm Dovetail Pan Drawer Box","@LK-DB-OAK9PD","@LK-DB-OAK9PD","@LK-DB-OAK9PD","@LK-DB-OAK9PD","@LK-DB-OAK9PD","@LK-DB-OAK9PD","@LK-DB-OAK9PD","@LK-DB-OAK9PD","@LK-DB-OAK9PD","@LK-DB-OAK9PD","@LK-DB-OAK9PD","@LK-DB-OAK9PD","@LK-DB-OAK9PD","@LK-DB-OAK9PD","@LK-DB-OAK9PD","@LK-DB-OAK9PD","@LK-DB-OAK9PD"]
["@LK-DB-OAK10","1000mm Dovetail Drawer Box","@LK-DB-OAK10","@LK-DB-OAK10","@LK-DB-OAK10","@LK-DB-OAK10","@LK-DB-OAK10","@LK-DB-OAK10","@LK-DB-OAK10","@LK-DB-OAK10","@LK-DB-OAK10","@LK-DB-OAK10","@LK-DB-OAK10","@LK-DB-OAK10","@LK-DB-OAK10","@LK-DB-OAK10","@LK-DB-OAK10","@LK-DB-OAK10","@LK-DB-OAK10"]
["@LK-DB-OAK10PD","1000mm Dovetail Pan Drawer Box","@LK-DB-OAK10PD","@LK-DB-OAK10PD","@LK-DB-OAK10PD","@LK-DB-OAK10PD","@LK-DB-OAK10PD","@LK-DB-OAK10PD","@LK-DB-OAK10PD","@LK-DB-OAK10PD","@LK-DB-OAK10PD","@LK-DB-OAK10PD","@LK-DB-OAK10PD","@LK-DB-OAK10PD","@LK-DB-OAK10PD","@LK-DB-OAK10PD","@LK-DB-OAK10PD","@LK-DB-OAK10PD","@LK-DB-OAK10PD"]
["@LK-ST-IDBEX3","300 Internal Drawer Box - Excel","@LK-ST-IDBEX3","@LK-ST-IDBEX3","@LK-ST-IDBEX3","@LK-ST-IDBEX3","@LK-ST-IDBEX3","@LK-ST-IDBEX3","@LK-ST-IDBEX3","@LK-ST-IDBEX3","@LK-ST-IDBEX3","@LK-ST-IDBEX3","@LK-ST-IDBEX3","@LK-ST-IDBEX3","@LK-ST-IDBEX3","@LK-ST-IDBEX3","@LK-ST-IDBEX3","@LK-ST-IDBEX3","@LK-ST-IDBEX3"]
["@LK-ST-IDBEX4","400 Internal Drawer Box - Excel","@LK-ST-IDBEX4","@LK-ST-IDBEX4","@LK-ST-IDBEX4","@LK-ST-IDBEX4","@LK-ST-IDBEX4","@LK-ST-IDBEX4","@LK-ST-IDBEX4","@LK-ST-IDBEX4","@LK-ST-IDBEX4","@LK-ST-IDBEX4","@LK-ST-IDBEX4","@LK-ST-IDBEX4","@LK-ST-IDBEX4","@LK-ST-IDBEX4","@LK-ST-IDBEX4","@LK-ST-IDBEX4","@LK-ST-IDBEX4"]
["@LK-ST-IDBEX5","500 Internal Drawer Box - Excel","@LK-ST-IDBEX5","@LK-ST-IDBEX5","@LK-ST-IDBEX5","@LK-ST-IDBEX5","@LK-ST-IDBEX5","@LK-ST-IDBEX5","@LK-ST-IDBEX5","@LK-ST-IDBEX5","@LK-ST-IDBEX5","@LK-ST-IDBEX5","@LK-ST-IDBEX5","@LK-ST-IDBEX5","@LK-ST-IDBEX5","@LK-ST-IDBEX5","@LK-ST-IDBEX5","@LK-ST-IDBEX5","@LK-ST-IDBEX5"]
["@LK-ST-IDBEX6","600 Internal Drawer Box - Excel","@LK-ST-IDBEX6","@LK-ST-IDBEX6","@LK-ST-IDBEX6","@LK-ST-IDBEX6","@LK-ST-IDBEX6","@LK-ST-IDBEX6","@LK-ST-IDBEX6","@LK-ST-IDBEX6","@LK-ST-IDBEX6","@LK-ST-IDBEX6","@LK-ST-IDBEX6","@LK-ST-IDBEX6","@LK-ST-IDBEX6","@LK-ST-IDBEX6","@LK-ST-IDBEX6","@LK-ST-IDBEX6","@LK-ST-IDBEX6"]
["@LK-ST-IDBEX8","800 Internal Drawer Box - Excel","@LK-ST-IDBEX8","@LK-ST-IDBEX8","@LK-ST-IDBEX8","@LK-ST-IDBEX8","@LK-ST-IDBEX8","@LK-ST-IDBEX8","@LK-ST-IDBEX8","@LK-ST-IDBEX8","@LK-ST-IDBEX8","@LK-ST-IDBEX8","@LK-ST-IDBEX8","@LK-ST-IDBEX8","@LK-ST-IDBEX8","@LK-ST-IDBEX8","@LK-ST-IDBEX8","@LK-ST-IDBEX8","@LK-ST-IDBEX8"]
["@LK-ST-IDBEX9","900 Internal Drawer Box - Excel","@LK-ST-IDBEX9","@LK-ST-IDBEX9","@LK-ST-IDBEX9","@LK-ST-IDBEX9","@LK-ST-IDBEX9","@LK-ST-IDBEX9","@LK-ST-IDBEX9","@LK-ST-IDBEX9","@LK-ST-IDBEX9","@LK-ST-IDBEX9","@LK-ST-IDBEX9","@LK-ST-IDBEX9","@LK-ST-IDBEX9","@LK-ST-IDBEX9","@LK-ST-IDBEX9","@LK-ST-IDBEX9","@LK-ST-IDBEX9"]
["@LK-ST-IDBEX10","1000 Internal Drawer Box - Excel","@LK-ST-IDBEX10","@LK-ST-IDBEX10","@LK-ST-IDBEX10","@LK-ST-IDBEX10","@LK-ST-IDBEX10","@LK-ST-IDBEX10","@LK-ST-IDBEX10","@LK-ST-IDBEX10","@LK-ST-IDBEX10","@LK-ST-IDBEX10","@LK-ST-IDBEX10","@LK-ST-IDBEX10","@LK-ST-IDBEX10","@LK-ST-IDBEX10","@LK-ST-IDBEX10","@LK-ST-IDBEX10","@LK-ST-IDBEX10"]
["@LK-ST-IDBEX3PD","300 Internal Larder Drawer - Excel","@LK-ST-IDBEX3PD","@LK-ST-IDBEX3PD","@LK-ST-IDBEX3PD","@LK-ST-IDBEX3PD","@LK-ST-IDBEX3PD","@LK-ST-IDBEX3PD","@LK-ST-IDBEX3PD","@LK-ST-IDBEX3PD","@LK-ST-IDBEX3PD","@LK-ST-IDBEX3PD","@LK-ST-IDBEX3PD","@LK-ST-IDBEX3PD","@LK-ST-IDBEX3PD","@LK-ST-IDBEX3PD","@LK-ST-IDBEX3PD","@LK-ST-IDBEX3PD","@LK-ST-IDBEX3PD"]
["@LK-ST-IDBEX5PD","500 Internal Larder Drawer - Excel","@LK-ST-IDBEX5PD","@LK-ST-IDBEX5PD","@LK-ST-IDBEX5PD","@LK-ST-IDBEX5PD","@LK-ST-IDBEX5PD","@LK-ST-IDBEX5PD","@LK-ST-IDBEX5PD","@LK-ST-IDBEX5PD","@LK-ST-IDBEX5PD","@LK-ST-IDBEX5PD","@LK-ST-IDBEX5PD","@LK-ST-IDBEX5PD","@LK-ST-IDBEX5PD","@LK-ST-IDBEX5PD","@LK-ST-IDBEX5PD","@LK-ST-IDBEX5PD","@LK-ST-IDBEX5PD"]
["@LK-ST-IDBEX6PD","600 Internal Larder Drawer - Excel","@LK-ST-IDBEX6PD","@LK-ST-IDBEX6PD","@LK-ST-IDBEX6PD","@LK-ST-IDBEX6PD","@LK-ST-IDBEX6PD","@LK-ST-IDBEX6PD","@LK-ST-IDBEX6PD","@LK-ST-IDBEX6PD","@LK-ST-IDBEX6PD","@LK-ST-IDBEX6PD","@LK-ST-IDBEX6PD","@LK-ST-IDBEX6PD","@LK-ST-IDBEX6PD","@LK-ST-IDBEX6PD","@LK-ST-IDBEX6PD","@LK-ST-IDBEX6PD","@LK-ST-IDBEX6PD"]
["LK-DB-EXPG3","Excel Plus 300 Glass drawer Box","LK-DB-EXPG3","LK-DB-EXPG3","LK-DB-EXPG3","LK-DB-EXPG3","LK-DB-EXPG3","LK-DB-EXPG3","LK-DB-EXPG3","LK-DB-EXPG3","LK-DB-EXPG3","LK-DB-EXPG3","LK-DB-EXPG3","LK-DB-EXPG3","LK-DB-EXPG3","LK-DB-EXPG3","LK-DB-EXPG3","LK-DB-EXPG3","LK-DB-EXPG3"]
["LK-DB-EXPG4","Excel Plus 400 Glass drawer Box","LK-DB-EXPG4","LK-DB-EXPG4","LK-DB-EXPG4","LK-DB-EXPG4","LK-DB-EXPG4","LK-DB-EXPG4","LK-DB-EXPG4","LK-DB-EXPG4","LK-DB-EXPG4","LK-DB-EXPG4","LK-DB-EXPG4","LK-DB-EXPG4","LK-DB-EXPG4","LK-DB-EXPG4","LK-DB-EXPG4","LK-DB-EXPG4","LK-DB-EXPG4"]
["LK-DB-EXPG5","Excel Plus 500 Glass drawer Box","LK-DB-EXPG5","LK-DB-EXPG5","LK-DB-EXPG5","LK-DB-EXPG5","LK-DB-EXPG5","LK-DB-EXPG5","LK-DB-EXPG5","LK-DB-EXPG5","LK-DB-EXPG5","LK-DB-EXPG5","LK-DB-EXPG5","LK-DB-EXPG5","LK-DB-EXPG5","LK-DB-EXPG5","LK-DB-EXPG5","LK-DB-EXPG5","LK-DB-EXPG5"]
["LK-DB-EXPG6","Excel Plus 600 Glass drawer Box","LK-DB-EXPG6","LK-DB-EXPG6","LK-DB-EXPG6","LK-DB-EXPG6","LK-DB-EXPG6","LK-DB-EXPG6","LK-DB-EXPG6","LK-DB-EXPG6","LK-DB-EXPG6","LK-DB-EXPG6","LK-DB-EXPG6","LK-DB-EXPG6","LK-DB-EXPG6","LK-DB-EXPG6","LK-DB-EXPG6","LK-DB-EXPG6","LK-DB-EXPG6"]
["LK-DB-EXPG8","Excel Plus 800 Glass drawer Box","LK-DB-EXPG8","LK-DB-EXPG8","LK-DB-EXPG8","LK-DB-EXPG8","LK-DB-EXPG8","LK-DB-EXPG8","LK-DB-EXPG8","LK-DB-EXPG8","LK-DB-EXPG8","LK-DB-EXPG8","LK-DB-EXPG8","LK-DB-EXPG8","LK-DB-EXPG8","LK-DB-EXPG8","LK-DB-EXPG8","LK-DB-EXPG8","LK-DB-EXPG8"]
["LK-DB-EXPG9","Excel Plus 900 Glass drawer Box","LK-DB-EXPG9","LK-DB-EXPG9","LK-DB-EXPG9","LK-DB-EXPG9","LK-DB-EXPG9","LK-DB-EXPG9","LK-DB-EXPG9","LK-DB-EXPG9","LK-DB-EXPG9","LK-DB-EXPG9","LK-DB-EXPG9","LK-DB-EXPG9","LK-DB-EXPG9","LK-DB-EXPG9","LK-DB-EXPG9","LK-DB-EXPG9","LK-DB-EXPG9"]
["LK-DB-EXPG10","Excel Plus 1000 Glass drawer Box","LK-DB-EXPG10","LK-DB-EXPG10","LK-DB-EXPG10","LK-DB-EXPG10","LK-DB-EXPG10","LK-DB-EXPG10","LK-DB-EXPG10","LK-DB-EXPG10","LK-DB-EXPG10","LK-DB-EXPG10","LK-DB-EXPG10","LK-DB-EXPG10","LK-DB-EXPG10","LK-DB-EXPG10","LK-DB-EXPG10","LK-DB-EXPG10","LK-DB-EXPG10"]
["LK-DB-EXPG3PD","Excel Plus 300 Glass pan drawer Box","LK-DB-EXPG3PD","LK-DB-EXPG3PD","LK-DB-EXPG3PD","LK-DB-EXPG3PD","LK-DB-EXPG3PD","LK-DB-EXPG3PD","LK-DB-EXPG3PD","LK-DB-EXPG3PD","LK-DB-EXPG3PD","LK-DB-EXPG3PD","LK-DB-EXPG3PD","LK-DB-EXPG3PD","LK-DB-EXPG3PD","LK-DB-EXPG3PD","LK-DB-EXPG3PD","LK-DB-EXPG3PD","LK-DB-EXPG3PD"]
["LK-DB-EXPG4PD","Excel Plus 400 Glass pan drawer Box","LK-DB-EXPG4PD","LK-DB-EXPG4PD","LK-DB-EXPG4PD","LK-DB-EXPG4PD","LK-DB-EXPG4PD","LK-DB-EXPG4PD","LK-DB-EXPG4PD","LK-DB-EXPG4PD","LK-DB-EXPG4PD","LK-DB-EXPG4PD","LK-DB-EXPG4PD","LK-DB-EXPG4PD","LK-DB-EXPG4PD","LK-DB-EXPG4PD","LK-DB-EXPG4PD","LK-DB-EXPG4PD","LK-DB-EXPG4PD"]
["LK-DB-EXPG5PD","Excel Plus 500 Glass pan drawer Box","LK-DB-EXPG5PD","LK-DB-EXPG5PD","LK-DB-EXPG5PD","LK-DB-EXPG5PD","LK-DB-EXPG5PD","LK-DB-EXPG5PD","LK-DB-EXPG5PD","LK-DB-EXPG5PD","LK-DB-EXPG5PD","LK-DB-EXPG5PD","LK-DB-EXPG5PD","LK-DB-EXPG5PD","LK-DB-EXPG5PD","LK-DB-EXPG5PD","LK-DB-EXPG5PD","LK-DB-EXPG5PD","LK-DB-EXPG5PD"]
["LK-DB-EXPG6PD","Excel Plus 600 Glass pan drawer Box","LK-DB-EXPG6PD","LK-DB-EXPG6PD","LK-DB-EXPG6PD","LK-DB-EXPG6PD","LK-DB-EXPG6PD","LK-DB-EXPG6PD","LK-DB-EXPG6PD","LK-DB-EXPG6PD","LK-DB-EXPG6PD","LK-DB-EXPG6PD","LK-DB-EXPG6PD","LK-DB-EXPG6PD","LK-DB-EXPG6PD","LK-DB-EXPG6PD","LK-DB-EXPG6PD","LK-DB-EXPG6PD","LK-DB-EXPG6PD"]
["LK-DB-EXPG8PD","Excel Plus 800 Glass pan drawer Box","LK-DB-EXPG8PD","LK-DB-EXPG8PD","LK-DB-EXPG8PD","LK-DB-EXPG8PD","LK-DB-EXPG8PD","LK-DB-EXPG8PD","LK-DB-EXPG8PD","LK-DB-EXPG8PD","LK-DB-EXPG8PD","LK-DB-EXPG8PD","LK-DB-EXPG8PD","LK-DB-EXPG8PD","LK-DB-EXPG8PD","LK-DB-EXPG8PD","LK-DB-EXPG8PD","LK-DB-EXPG8PD","LK-DB-EXPG8PD"]
["LK-DB-EXPG9PD","Excel Plus 900 Glass pan drawer Box","LK-DB-EXPG9PD","LK-DB-EXPG9PD","LK-DB-EXPG9PD","LK-DB-EXPG9PD","LK-DB-EXPG9PD","LK-DB-EXPG9PD","LK-DB-EXPG9PD","LK-DB-EXPG9PD","LK-DB-EXPG9PD","LK-DB-EXPG9PD","LK-DB-EXPG9PD","LK-DB-EXPG9PD","LK-DB-EXPG9PD","LK-DB-EXPG9PD","LK-DB-EXPG9PD","LK-DB-EXPG9PD","LK-DB-EXPG9PD"]
["LK-DB-EXPG10PD","Excel Plus 1000 Glass pan drawer Box","LK-DB-EXPG10PD","LK-DB-EXPG10PD","LK-DB-EXPG10PD","LK-DB-EXPG10PD","LK-DB-EXPG10PD","LK-DB-EXPG10PD","LK-DB-EXPG10PD","LK-DB-EXPG10PD","LK-DB-EXPG10PD","LK-DB-EXPG10PD","LK-DB-EXPG10PD","LK-DB-EXPG10PD","LK-DB-EXPG10PD","LK-DB-EXPG10PD","LK-DB-EXPG10PD","LK-DB-EXPG10PD","LK-DB-EXPG10PD"]
["@LK-IDB-OAK6","600mm Int Dovetail Drawer Box","@LK-IDB-OAK6","@LK-IDB-OAK6","@LK-IDB-OAK6","@LK-IDB-OAK6","@LK-IDB-OAK6","@LK-IDB-OAK6","@LK-IDB-OAK6","@LK-IDB-OAK6","@LK-IDB-OAK6","@LK-IDB-OAK6","@LK-IDB-OAK6","@LK-IDB-OAK6","@LK-IDB-OAK6","@LK-IDB-OAK6","@LK-IDB-OAK6","@LK-IDB-OAK6","@LK-IDB-OAK6"]
["@LK-IDB-OAK6PD","600mm Int Dovetail Pan Drawer Box","@LK-IDB-OAK6PD","@LK-IDB-OAK6PD","@LK-IDB-OAK6PD","@LK-IDB-OAK6PD","@LK-IDB-OAK6PD","@LK-IDB-OAK6PD","@LK-IDB-OAK6PD","@LK-IDB-OAK6PD","@LK-IDB-OAK6PD","@LK-IDB-OAK6PD","@LK-IDB-OAK6PD","@LK-IDB-OAK6PD","@LK-IDB-OAK6PD","@LK-IDB-OAK6PD","@LK-IDB-OAK6PD","@LK-IDB-OAK6PD","@LK-IDB-OAK6PD"]
["@LK-IDB-OAK8","800mm Int Dovetail Drawer Box","@LK-IDB-OAK8","@LK-IDB-OAK8","@LK-IDB-OAK8","@LK-IDB-OAK8","@LK-IDB-OAK8","@LK-IDB-OAK8","@LK-IDB-OAK8","@LK-IDB-OAK8","@LK-IDB-OAK8","@LK-IDB-OAK8","@LK-IDB-OAK8","@LK-IDB-OAK8","@LK-IDB-OAK8","@LK-IDB-OAK8","@LK-IDB-OAK8","@LK-IDB-OAK8","@LK-IDB-OAK8"]
["@LK-IDB-OAK8PD","800mm Int Dovetail Pan Drawer Box","@LK-IDB-OAK8PD","@LK-IDB-OAK8PD","@LK-IDB-OAK8PD","@LK-IDB-OAK8PD","@LK-IDB-OAK8PD","@LK-IDB-OAK8PD","@LK-IDB-OAK8PD","@LK-IDB-OAK8PD","@LK-IDB-OAK8PD","@LK-IDB-OAK8PD","@LK-IDB-OAK8PD","@LK-IDB-OAK8PD","@LK-IDB-OAK8PD","@LK-IDB-OAK8PD","@LK-IDB-OAK8PD","@LK-IDB-OAK8PD","@LK-IDB-OAK8PD"]
["@LK-IDB-OAK9","900mm Int Dovetail Drawer Box","@LK-IDB-OAK9","@LK-IDB-OAK9","@LK-IDB-OAK9","@LK-IDB-OAK9","@LK-IDB-OAK9","@LK-IDB-OAK9","@LK-IDB-OAK9","@LK-IDB-OAK9","@LK-IDB-OAK9","@LK-IDB-OAK9","@LK-IDB-OAK9","@LK-IDB-OAK9","@LK-IDB-OAK9","@LK-IDB-OAK9","@LK-IDB-OAK9","@LK-IDB-OAK9","@LK-IDB-OAK9"]
["@LK-IDB-OAK9PD","900mm Int Dovetail Pan Drawer Box","@LK-IDB-OAK9PD","@LK-IDB-OAK9PD","@LK-IDB-OAK9PD","@LK-IDB-OAK9PD","@LK-IDB-OAK9PD","@LK-IDB-OAK9PD","@LK-IDB-OAK9PD","@LK-IDB-OAK9PD","@LK-IDB-OAK9PD","@LK-IDB-OAK9PD","@LK-IDB-OAK9PD","@LK-IDB-OAK9PD","@LK-IDB-OAK9PD","@LK-IDB-OAK9PD","@LK-IDB-OAK9PD","@LK-IDB-OAK9PD","@LK-IDB-OAK9PD"]
["@LK-IDB-OAK10","1000mm Int Dovetail Drawer Box","@LK-IDB-OAK10","@LK-IDB-OAK10","@LK-IDB-OAK10","@LK-IDB-OAK10","@LK-IDB-OAK10","@LK-IDB-OAK10","@LK-IDB-OAK10","@LK-IDB-OAK10","@LK-IDB-OAK10","@LK-IDB-OAK10","@LK-IDB-OAK10","@LK-IDB-OAK10","@LK-IDB-OAK10","@LK-IDB-OAK10","@LK-IDB-OAK10","@LK-IDB-OAK10","@LK-IDB-OAK10"]
["@LK-IDB-OAK10PD","1000mm Int Dovetail Pan Drawer Box","@LK-IDB-OAK10PD","@LK-IDB-OAK10PD","@LK-IDB-OAK10PD","@LK-IDB-OAK10PD","@LK-IDB-OAK10PD","@LK-IDB-OAK10PD","@LK-IDB-OAK10PD","@LK-IDB-OAK10PD","@LK-IDB-OAK10PD","@LK-IDB-OAK10PD","@LK-IDB-OAK10PD","@LK-IDB-OAK10PD","@LK-IDB-OAK10PD","@LK-IDB-OAK10PD","@LK-IDB-OAK10PD","@LK-IDB-OAK10PD","@LK-IDB-OAK10PD"]
["@LK-DB-LRCG3","Legrabox Internal Glass Front 300 Drawer Box","@LK-DB-LRCG3","@LK-DB-LRCG3","@LK-DB-LRCG3","@LK-DB-LRCG3","@LK-DB-LRCG3","@LK-DB-LRCG3","@LK-DB-LRCG3","@LK-DB-LRCG3","@LK-DB-LRCG3","@LK-DB-LRCG3","@LK-DB-LRCG3","@LK-DB-LRCG3","@LK-DB-LRCG3","@LK-DB-LRCG3","@LK-DB-LRCG3","@LK-DB-LRCG3","@LK-DB-LRCG3"]
["@LK-DB-LRCG4","Legrabox Internal Glass Front 400 Drawer Box","@LK-DB-LRCG4","@LK-DB-LRCG4","@LK-DB-LRCG4","@LK-DB-LRCG4","@LK-DB-LRCG4","@LK-DB-LRCG4","@LK-DB-LRCG4","@LK-DB-LRCG4","@LK-DB-LRCG4","@LK-DB-LRCG4","@LK-DB-LRCG4","@LK-DB-LRCG4","@LK-DB-LRCG4","@LK-DB-LRCG4","@LK-DB-LRCG4","@LK-DB-LRCG4","@LK-DB-LRCG4"]
["@LK-DB-LRCG5","Legrabox Internal Glass Front 500 Drawer Box","@LK-DB-LRCG5","@LK-DB-LRCG5","@LK-DB-LRCG5","@LK-DB-LRCG5","@LK-DB-LRCG5","@LK-DB-LRCG5","@LK-DB-LRCG5","@LK-DB-LRCG5","@LK-DB-LRCG5","@LK-DB-LRCG5","@LK-DB-LRCG5","@LK-DB-LRCG5","@LK-DB-LRCG5","@LK-DB-LRCG5","@LK-DB-LRCG5","@LK-DB-LRCG5","@LK-DB-LRCG5"]
["@LK-DB-LRCG6","Legrabox Internal Glass Front 600 Drawer Box","@LK-DB-LRCG6","@LK-DB-LRCG6","@LK-DB-LRCG6","@LK-DB-LRCG6","@LK-DB-LRCG6","@LK-DB-LRCG6","@LK-DB-LRCG6","@LK-DB-LRCG6","@LK-DB-LRCG6","@LK-DB-LRCG6","@LK-DB-LRCG6","@LK-DB-LRCG6","@LK-DB-LRCG6","@LK-DB-LRCG6","@LK-DB-LRCG6","@LK-DB-LRCG6","@LK-DB-LRCG6"]
["@LK-DB-LRCG8","Legrabox Internal Glass Front 800 Drawer Box","@LK-DB-LRCG8","@LK-DB-LRCG8","@LK-DB-LRCG8","@LK-DB-LRCG8","@LK-DB-LRCG8","@LK-DB-LRCG8","@LK-DB-LRCG8","@LK-DB-LRCG8","@LK-DB-LRCG8","@LK-DB-LRCG8","@LK-DB-LRCG8","@LK-DB-LRCG8","@LK-DB-LRCG8","@LK-DB-LRCG8","@LK-DB-LRCG8","@LK-DB-LRCG8","@LK-DB-LRCG8"]
["@LK-DB-LRCG9","Legrabox Internal Glass Front 900 Drawer Box","@LK-DB-LRCG9","@LK-DB-LRCG9","@LK-DB-LRCG9","@LK-DB-LRCG9","@LK-DB-LRCG9","@LK-DB-LRCG9","@LK-DB-LRCG9","@LK-DB-LRCG9","@LK-DB-LRCG9","@LK-DB-LRCG9","@LK-DB-LRCG9","@LK-DB-LRCG9","@LK-DB-LRCG9","@LK-DB-LRCG9","@LK-DB-LRCG9","@LK-DB-LRCG9","@LK-DB-LRCG9"]
["@LK-DB-LRCG10","Legrabox Internal Glass Front 1000 Drawer Box","@LK-DB-LRCG10","@LK-DB-LRCG10","@LK-DB-LRCG10","@LK-DB-LRCG10","@LK-DB-LRCG10","@LK-DB-LRCG10","@LK-DB-LRCG10","@LK-DB-LRCG10","@LK-DB-LRCG10","@LK-DB-LRCG10","@LK-DB-LRCG10","@LK-DB-LRCG10","@LK-DB-LRCG10","@LK-DB-LRCG10","@LK-DB-LRCG10","@LK-DB-LRCG10","@LK-DB-LRCG10"]
["@LK-DB-LRCG3PD","Legrabox Internal Glass Front 300 Pan Drawer Box","@LK-DB-LRCG3PD","@LK-DB-LRCG3PD","@LK-DB-LRCG3PD","@LK-DB-LRCG3PD","@LK-DB-LRCG3PD","@LK-DB-LRCG3PD","@LK-DB-LRCG3PD","@LK-DB-LRCG3PD","@LK-DB-LRCG3PD","@LK-DB-LRCG3PD","@LK-DB-LRCG3PD","@LK-DB-LRCG3PD","@LK-DB-LRCG3PD","@LK-DB-LRCG3PD","@LK-DB-LRCG3PD","@LK-DB-LRCG3PD","@LK-DB-LRCG3PD"]
["@LK-DB-LRCG4PD","Legrabox Internal Glass Front 400 Pan Drawer Box","@LK-DB-LRCG4PD","@LK-DB-LRCG4PD","@LK-DB-LRCG4PD","@LK-DB-LRCG4PD","@LK-DB-LRCG4PD","@LK-DB-LRCG4PD","@LK-DB-LRCG4PD","@LK-DB-LRCG4PD","@LK-DB-LRCG4PD","@LK-DB-LRCG4PD","@LK-DB-LRCG4PD","@LK-DB-LRCG4PD","@LK-DB-LRCG4PD","@LK-DB-LRCG4PD","@LK-DB-LRCG4PD","@LK-DB-LRCG4PD","@LK-DB-LRCG4PD"]
["@LK-DB-LRCG5PD","Legrabox Internal Glass Front 500 Pan Drawer Box","@LK-DB-LRCG5PD","@LK-DB-LRCG5PD","@LK-DB-LRCG5PD","@LK-DB-LRCG5PD","@LK-DB-LRCG5PD","@LK-DB-LRCG5PD","@LK-DB-LRCG5PD","@LK-DB-LRCG5PD","@LK-DB-LRCG5PD","@LK-DB-LRCG5PD","@LK-DB-LRCG5PD","@LK-DB-LRCG5PD","@LK-DB-LRCG5PD","@LK-DB-LRCG5PD","@LK-DB-LRCG5PD","@LK-DB-LRCG5PD","@LK-DB-LRCG5PD"]
["@LK-DB-LRCG6PD","Legrabox Internal Glass Front 600 Pan Drawer Box","@LK-DB-LRCG6PD","@LK-DB-LRCG6PD","@LK-DB-LRCG6PD","@LK-DB-LRCG6PD","@LK-DB-LRCG6PD","@LK-DB-LRCG6PD","@LK-DB-LRCG6PD","@LK-DB-LRCG6PD","@LK-DB-LRCG6PD","@LK-DB-LRCG6PD","@LK-DB-LRCG6PD","@LK-DB-LRCG6PD","@LK-DB-LRCG6PD","@LK-DB-LRCG6PD","@LK-DB-LRCG6PD","@LK-DB-LRCG6PD","@LK-DB-LRCG6PD"]
["@LK-DB-LRCG8PD","Legrabox Internal Glass Front 800 Pan Drawer Box","@LK-DB-LRCG8PD","@LK-DB-LRCG8PD","@LK-DB-LRCG8PD","@LK-DB-LRCG8PD","@LK-DB-LRCG8PD","@LK-DB-LRCG8PD","@LK-DB-LRCG8PD","@LK-DB-LRCG8PD","@LK-DB-LRCG8PD","@LK-DB-LRCG8PD","@LK-DB-LRCG8PD","@LK-DB-LRCG8PD","@LK-DB-LRCG8PD","@LK-DB-LRCG8PD","@LK-DB-LRCG8PD","@LK-DB-LRCG8PD","@LK-DB-LRCG8PD"]
["@LK-DB-LRCG9PD","Legrabox Internal Glass Front 900 Pan Drawer Box","@LK-DB-LRCG9PD","@LK-DB-LRCG9PD","@LK-DB-LRCG9PD","@LK-DB-LRCG9PD","@LK-DB-LRCG9PD","@LK-DB-LRCG9PD","@LK-DB-LRCG9PD","@LK-DB-LRCG9PD","@LK-DB-LRCG9PD","@LK-DB-LRCG9PD","@LK-DB-LRCG9PD","@LK-DB-LRCG9PD","@LK-DB-LRCG9PD","@LK-DB-LRCG9PD","@LK-DB-LRCG9PD","@LK-DB-LRCG9PD","@LK-DB-LRCG9PD"]
["@LK-DB-LRCG10PD","Legrabox Internal Glass Front 1000 Pan Drawer Box","@LK-DB-LRCG10PD","@LK-DB-LRCG10PD","@LK-DB-LRCG10PD","@LK-DB-LRCG10PD","@LK-DB-LRCG10PD","@LK-DB-LRCG10PD","@LK-DB-LRCG10PD","@LK-DB-LRCG10PD","@LK-DB-LRCG10PD","@LK-DB-LRCG10PD","@LK-DB-LRCG10PD","@LK-DB-LRCG10PD","@LK-DB-LRCG10PD","@LK-DB-LRCG10PD","@LK-DB-LRCG10PD","@LK-DB-LRCG10PD","@LK-DB-LRCG10PD"]
["@LK-IDB-LRC3","Legrabox Internal 300 Drawer Box","@LK-IDB-LRC3","@LK-IDB-LRC3","@LK-IDB-LRC3","@LK-IDB-LRC3","@LK-IDB-LRC3","@LK-IDB-LRC3","@LK-IDB-LRC3","@LK-IDB-LRC3","@LK-IDB-LRC3","@LK-IDB-LRC3","@LK-IDB-LRC3","@LK-IDB-LRC3","@LK-IDB-LRC3","@LK-IDB-LRC3","@LK-IDB-LRC3","@LK-IDB-LRC3","@LK-IDB-LRC3"]
["@LK-IDB-LRC4","Legrabox Internal 400 Drawer Box","@LK-IDB-LRC4","@LK-IDB-LRC4","@LK-IDB-LRC4","@LK-IDB-LRC4","@LK-IDB-LRC4","@LK-IDB-LRC4","@LK-IDB-LRC4","@LK-IDB-LRC4","@LK-IDB-LRC4","@LK-IDB-LRC4","@LK-IDB-LRC4","@LK-IDB-LRC4","@LK-IDB-LRC4","@LK-IDB-LRC4","@LK-IDB-LRC4","@LK-IDB-LRC4","@LK-IDB-LRC4"]
["@LK-IDB-LRC5","Legrabox Internal 500 Drawer Box","@LK-IDB-LRC5","@LK-IDB-LRC5","@LK-IDB-LRC5","@LK-IDB-LRC5","@LK-IDB-LRC5","@LK-IDB-LRC5","@LK-IDB-LRC5","@LK-IDB-LRC5","@LK-IDB-LRC5","@LK-IDB-LRC5","@LK-IDB-LRC5","@LK-IDB-LRC5","@LK-IDB-LRC5","@LK-IDB-LRC5","@LK-IDB-LRC5","@LK-IDB-LRC5","@LK-IDB-LRC5"]
["@LK-IDB-LRC6","Legrabox Internal 600 Drawer Box","@LK-IDB-LRC6","@LK-IDB-LRC6","@LK-IDB-LRC6","@LK-IDB-LRC6","@LK-IDB-LRC6","@LK-IDB-LRC6","@LK-IDB-LRC6","@LK-IDB-LRC6","@LK-IDB-LRC6","@LK-IDB-LRC6","@LK-IDB-LRC6","@LK-IDB-LRC6","@LK-IDB-LRC6","@LK-IDB-LRC6","@LK-IDB-LRC6","@LK-IDB-LRC6","@LK-IDB-LRC6"]
["@LK-IDB-LRC8","Legrabox Internal 800 Drawer Box","@LK-IDB-LRC8","@LK-IDB-LRC8","@LK-IDB-LRC8","@LK-IDB-LRC8","@LK-IDB-LRC8","@LK-IDB-LRC8","@LK-IDB-LRC8","@LK-IDB-LRC8","@LK-IDB-LRC8","@LK-IDB-LRC8","@LK-IDB-LRC8","@LK-IDB-LRC8","@LK-IDB-LRC8","@LK-IDB-LRC8","@LK-IDB-LRC8","@LK-IDB-LRC8","@LK-IDB-LRC8"]
["@LK-IDB-LRC9","Legrabox Internal 900 Drawer Box","@LK-IDB-LRC9","@LK-IDB-LRC9","@LK-IDB-LRC9","@LK-IDB-LRC9","@LK-IDB-LRC9","@LK-IDB-LRC9","@LK-IDB-LRC9","@LK-IDB-LRC9","@LK-IDB-LRC9","@LK-IDB-LRC9","@LK-IDB-LRC9","@LK-IDB-LRC9","@LK-IDB-LRC9","@LK-IDB-LRC9","@LK-IDB-LRC9","@LK-IDB-LRC9","@LK-IDB-LRC9"]
["@LK-IDB-LRC10","Legrabox Internal 1000 Drawer Box","@LK-IDB-LRC10","@LK-IDB-LRC10","@LK-IDB-LRC10","@LK-IDB-LRC10","@LK-IDB-LRC10","@LK-IDB-LRC10","@LK-IDB-LRC10","@LK-IDB-LRC10","@LK-IDB-LRC10","@LK-IDB-LRC10","@LK-IDB-LRC10","@LK-IDB-LRC10","@LK-IDB-LRC10","@LK-IDB-LRC10","@LK-IDB-LRC10","@LK-IDB-LRC10","@LK-IDB-LRC10"]
["@LK-IDB-LRC3PD","Legrabox Internal 300 Pan Drawer Box","@LK-IDB-LRC3PD","@LK-IDB-LRC3PD","@LK-IDB-LRC3PD","@LK-IDB-LRC3PD","@LK-IDB-LRC3PD","@LK-IDB-LRC3PD","@LK-IDB-LRC3PD","@LK-IDB-LRC3PD","@LK-IDB-LRC3PD","@LK-IDB-LRC3PD","@LK-IDB-LRC3PD","@LK-IDB-LRC3PD","@LK-IDB-LRC3PD","@LK-IDB-LRC3PD","@LK-IDB-LRC3PD","@LK-IDB-LRC3PD","@LK-IDB-LRC3PD"]
["@LK-IDB-LRC4PD","Legrabox Internal 400 Pan Drawer Box","@LK-IDB-LRC4PD","@LK-IDB-LRC4PD","@LK-IDB-LRC4PD","@LK-IDB-LRC4PD","@LK-IDB-LRC4PD","@LK-IDB-LRC4PD","@LK-IDB-LRC4PD","@LK-IDB-LRC4PD","@LK-IDB-LRC4PD","@LK-IDB-LRC4PD","@LK-IDB-LRC4PD","@LK-IDB-LRC4PD","@LK-IDB-LRC4PD","@LK-IDB-LRC4PD","@LK-IDB-LRC4PD","@LK-IDB-LRC4PD","@LK-IDB-LRC4PD"]
["@LK-IDB-LRC5PD","Legrabox Internal 500 Pan Drawer Box","@LK-IDB-LRC5PD","@LK-IDB-LRC5PD","@LK-IDB-LRC5PD","@LK-IDB-LRC5PD","@LK-IDB-LRC5PD","@LK-IDB-LRC5PD","@LK-IDB-LRC5PD","@LK-IDB-LRC5PD","@LK-IDB-LRC5PD","@LK-IDB-LRC5PD","@LK-IDB-LRC5PD","@LK-IDB-LRC5PD","@LK-IDB-LRC5PD","@LK-IDB-LRC5PD","@LK-IDB-LRC5PD","@LK-IDB-LRC5PD","@LK-IDB-LRC5PD"]
["@LK-IDB-LRC6LD","Legrabox Internal 600 Pan Drawer Box","@LK-IDB-LRC6LD","@LK-IDB-LRC6LD","@LK-IDB-LRC6LD","@LK-IDB-LRC6LD","@LK-IDB-LRC6LD","@LK-IDB-LRC6LD","@LK-IDB-LRC6LD","@LK-IDB-LRC6LD","@LK-IDB-LRC6LD","@LK-IDB-LRC6LD","@LK-IDB-LRC6LD","@LK-IDB-LRC6LD","@LK-IDB-LRC6LD","@LK-IDB-LRC6LD","@LK-IDB-LRC6LD","@LK-IDB-LRC6LD","@LK-IDB-LRC6LD"]
["@LK-IDB-LRC6PD","Legrabox Internal 800 Pan Drawer Box","@LK-IDB-LRC6PD","@LK-IDB-LRC6PD","@LK-IDB-LRC6PD","@LK-IDB-LRC6PD","@LK-IDB-LRC6PD","@LK-IDB-LRC6PD","@LK-IDB-LRC6PD","@LK-IDB-LRC6PD","@LK-IDB-LRC6PD","@LK-IDB-LRC6PD","@LK-IDB-LRC6PD","@LK-IDB-LRC6PD","@LK-IDB-LRC6PD","@LK-IDB-LRC6PD","@LK-IDB-LRC6PD","@LK-IDB-LRC6PD","@LK-IDB-LRC6PD"]
["@LK-IDB-LRC8PD","Legrabox Internal 900 Pan Drawer Box","@LK-IDB-LRC8PD","@LK-IDB-LRC8PD","@LK-IDB-LRC8PD","@LK-IDB-LRC8PD","@LK-IDB-LRC8PD","@LK-IDB-LRC8PD","@LK-IDB-LRC8PD","@LK-IDB-LRC8PD","@LK-IDB-LRC8PD","@LK-IDB-LRC8PD","@LK-IDB-LRC8PD","@LK-IDB-LRC8PD","@LK-IDB-LRC8PD","@LK-IDB-LRC8PD","@LK-IDB-LRC8PD","@LK-IDB-LRC8PD","@LK-IDB-LRC8PD"]
["@LK-IDB-LRC10PD","Legrabox Internal 1000 Pan Drawer Box","@LK-IDB-LRC10PD","@LK-IDB-LRC10PD","@LK-IDB-LRC10PD","@LK-IDB-LRC10PD","@LK-IDB-LRC10PD","@LK-IDB-LRC10PD","@LK-IDB-LRC10PD","@LK-IDB-LRC10PD","@LK-IDB-LRC10PD","@LK-IDB-LRC10PD","@LK-IDB-LRC10PD","@LK-IDB-LRC10PD","@LK-IDB-LRC10PD","@LK-IDB-LRC10PD","@LK-IDB-LRC10PD","@LK-IDB-LRC10PD","@LK-IDB-LRC10PD"]
["LK-ST-CTOAK6","Oak Cutlery Insert for 600 Dovetail Drawer","LK-ST-CTOAK6","LK-ST-CTOAK6","LK-ST-CTOAK6","LK-ST-CTOAK6","LK-ST-CTOAK6","LK-ST-CTOAK6","LK-ST-CTOAK6","LK-ST-CTOAK6","LK-ST-CTOAK6","LK-ST-CTOAK6","LK-ST-CTOAK6","LK-ST-CTOAK6","LK-ST-CTOAK6","LK-ST-CTOAK6","LK-ST-CTOAK6","LK-ST-CTOAK6","LK-ST-CTOAK6"]
["LK-ST-CTOAK8","Oak Cutlery Insert for 800 Dovetail Drawer","LK-ST-CTOAK8","LK-ST-CTOAK8","LK-ST-CTOAK8","LK-ST-CTOAK8","LK-ST-CTOAK8","LK-ST-CTOAK8","LK-ST-CTOAK8","LK-ST-CTOAK8","LK-ST-CTOAK8","LK-ST-CTOAK8","LK-ST-CTOAK8","LK-ST-CTOAK8","LK-ST-CTOAK8","LK-ST-CTOAK8","LK-ST-CTOAK8","LK-ST-CTOAK8","LK-ST-CTOAK8"]
["LK-ST-CTOAK9","Oak Cutlery Insert for 900 Dovetail Drawer","LK-ST-CTOAK9","LK-ST-CTOAK9","LK-ST-CTOAK9","LK-ST-CTOAK9","LK-ST-CTOAK9","LK-ST-CTOAK9","LK-ST-CTOAK9","LK-ST-CTOAK9","LK-ST-CTOAK9","LK-ST-CTOAK9","LK-ST-CTOAK9","LK-ST-CTOAK9","LK-ST-CTOAK9","LK-ST-CTOAK9","LK-ST-CTOAK9","LK-ST-CTOAK9","LK-ST-CTOAK9"]
["LK-ST-CTOAK10","Oak Cutlery Insert for 1000 Dovetail Drawer","LK-ST-CTOAK10","LK-ST-CTOAK10","LK-ST-CTOAK10","LK-ST-CTOAK10","LK-ST-CTOAK10","LK-ST-CTOAK10","LK-ST-CTOAK10","LK-ST-CTOAK10","LK-ST-CTOAK10","LK-ST-CTOAK10","LK-ST-CTOAK10","LK-ST-CTOAK10","LK-ST-CTOAK10","LK-ST-CTOAK10","LK-ST-CTOAK10","LK-ST-CTOAK10","LK-ST-CTOAK10"]
["LK-ST-CTOAKIDB6","Oak Cutlery Insert for 600 Internal Dovetail Drawer","LK-ST-CTOAKIDB6","LK-ST-CTOAKIDB6","LK-ST-CTOAKIDB6","LK-ST-CTOAKIDB6","LK-ST-CTOAKIDB6","LK-ST-CTOAKIDB6","LK-ST-CTOAKIDB6","LK-ST-CTOAKIDB6","LK-ST-CTOAKIDB6","LK-ST-CTOAKIDB6","LK-ST-CTOAKIDB6","LK-ST-CTOAKIDB6","LK-ST-CTOAKIDB6","LK-ST-CTOAKIDB6","LK-ST-CTOAKIDB6","LK-ST-CTOAKIDB6","LK-ST-CTOAKIDB6"]
["LK-ST-CTOAKIDB8","Oak Cutlery Insert for 800 Internal Dovetail Drawer","LK-ST-CTOAKIDB8","LK-ST-CTOAKIDB8","LK-ST-CTOAKIDB8","LK-ST-CTOAKIDB8","LK-ST-CTOAKIDB8","LK-ST-CTOAKIDB8","LK-ST-CTOAKIDB8","LK-ST-CTOAKIDB8","LK-ST-CTOAKIDB8","LK-ST-CTOAKIDB8","LK-ST-CTOAKIDB8","LK-ST-CTOAKIDB8","LK-ST-CTOAKIDB8","LK-ST-CTOAKIDB8","LK-ST-CTOAKIDB8","LK-ST-CTOAKIDB8","LK-ST-CTOAKIDB8"]
["LK-ST-CTOAKIDB9","Oak Cutlery Insert for 900 Internal Dovetail Drawer","LK-ST-CTOAKIDB9","LK-ST-CTOAKIDB9","LK-ST-CTOAKIDB9","LK-ST-CTOAKIDB9","LK-ST-CTOAKIDB9","LK-ST-CTOAKIDB9","LK-ST-CTOAKIDB9","LK-ST-CTOAKIDB9","LK-ST-CTOAKIDB9","LK-ST-CTOAKIDB9","LK-ST-CTOAKIDB9","LK-ST-CTOAKIDB9","LK-ST-CTOAKIDB9","LK-ST-CTOAKIDB9","LK-ST-CTOAKIDB9","LK-ST-CTOAKIDB9","LK-ST-CTOAKIDB9"]
["LK-ST-CTOAKIDB10","Oak Cutlery Insert for 1000 Internal Dovetail Drawer","LK-ST-CTOAKIDB10","LK-ST-CTOAKIDB10","LK-ST-CTOAKIDB10","LK-ST-CTOAKIDB10","LK-ST-CTOAKIDB10","LK-ST-CTOAKIDB10","LK-ST-CTOAKIDB10","LK-ST-CTOAKIDB10","LK-ST-CTOAKIDB10","LK-ST-CTOAKIDB10","LK-ST-CTOAKIDB10","LK-ST-CTOAKIDB10","LK-ST-CTOAKIDB10","LK-ST-CTOAKIDB10","LK-ST-CTOAKIDB10","LK-ST-CTOAKIDB10","LK-ST-CTOAKIDB10"]
["LK-ST-CTEX4-6","Adjustable Cut Tray 400 - 600mm 55698301","LK-ST-CTEX4-6","LK-ST-CTEX4-6","LK-ST-CTEX4-6","LK-ST-CTEX4-6","LK-ST-CTEX4-6","LK-ST-CTEX4-6","LK-ST-CTEX4-6","LK-ST-CTEX4-6","LK-ST-CTEX4-6","LK-ST-CTEX4-6","LK-ST-CTEX4-6","LK-ST-CTEX4-6","LK-ST-CTEX4-6","LK-ST-CTEX4-6","LK-ST-CTEX4-6","LK-ST-CTEX4-6","LK-ST-CTEX4-6"]
["LK-ST-CTEX8-10","Adjustable Cut Tray 800-1000mm 55698301","LK-ST-CTEX8-10","LK-ST-CTEX8-10","LK-ST-CTEX8-10","LK-ST-CTEX8-10","LK-ST-CTEX8-10","LK-ST-CTEX8-10","LK-ST-CTEX8-10","LK-ST-CTEX8-10","LK-ST-CTEX8-10","LK-ST-CTEX8-10","LK-ST-CTEX8-10","LK-ST-CTEX8-10","LK-ST-CTEX8-10","LK-ST-CTEX8-10","LK-ST-CTEX8-10","LK-ST-CTEX8-10","LK-ST-CTEX8-10"]
["LK-ST-CTIFILM","Foil and Film Beech Cutlery Tray Insert","LK-ST-CTIFILM","LK-ST-CTIFILM","LK-ST-CTIFILM","LK-ST-CTIFILM","LK-ST-CTIFILM","LK-ST-CTIFILM","LK-ST-CTIFILM","LK-ST-CTIFILM","LK-ST-CTIFILM","LK-ST-CTIFILM","LK-ST-CTIFILM","LK-ST-CTIFILM","LK-ST-CTIFILM","LK-ST-CTIFILM","LK-ST-CTIFILM","LK-ST-CTIFILM","LK-ST-CTIFILM"]
["LK-ST-CTIKNIFE","Knife Block Beech Cutlery Tray Insert","LK-ST-CTIKNIFE","LK-ST-CTIKNIFE","LK-ST-CTIKNIFE","LK-ST-CTIKNIFE","LK-ST-CTIKNIFE","LK-ST-CTIKNIFE","LK-ST-CTIKNIFE","LK-ST-CTIKNIFE","LK-ST-CTIKNIFE","LK-ST-CTIKNIFE","LK-ST-CTIKNIFE","LK-ST-CTIKNIFE","LK-ST-CTIKNIFE","LK-ST-CTIKNIFE","LK-ST-CTIKNIFE","LK-ST-CTIKNIFE","LK-ST-CTIKNIFE"]
["LK-ST-CTISPICE","Spice Holder Beech Cutlery Tray Insert","LK-ST-CTISPICE","LK-ST-CTISPICE","LK-ST-CTISPICE","LK-ST-CTISPICE","LK-ST-CTISPICE","LK-ST-CTISPICE","LK-ST-CTISPICE","LK-ST-CTISPICE","LK-ST-CTISPICE","LK-ST-CTISPICE","LK-ST-CTISPICE","LK-ST-CTISPICE","LK-ST-CTISPICE","LK-ST-CTISPICE","LK-ST-CTISPICE","LK-ST-CTISPICE","LK-ST-CTISPICE"]
["LK-ST-CTICHOP","Chopping Board Beech Cutlery Tray Insert","LK-ST-CTICHOP","LK-ST-CTICHOP","LK-ST-CTICHOP","LK-ST-CTICHOP","LK-ST-CTICHOP","LK-ST-CTICHOP","LK-ST-CTICHOP","LK-ST-CTICHOP","LK-ST-CTICHOP","LK-ST-CTICHOP","LK-ST-CTICHOP","LK-ST-CTICHOP","LK-ST-CTICHOP","LK-ST-CTICHOP","LK-ST-CTICHOP","LK-ST-CTICHOP","LK-ST-CTICHOP"]
["LK-ST-CT4-GG","400mm Excel Cutlery Tray","LK-ST-CT4-GG","LK-ST-CT4-GG","LK-ST-CT4-GG","LK-ST-CT4-GG","LK-ST-CT4-GG","LK-ST-CT4-GG","LK-ST-CT4-GG","LK-ST-CT4-GG","LK-ST-CT4-GG","LK-ST-CT4-GG","LK-ST-CT4-GG","LK-ST-CT4-GG","LK-ST-CT4-GG","LK-ST-CT4-GG","LK-ST-CT4-GG","LK-ST-CT4-GG","LK-ST-CT4-GG"]
["LK-ST-CT5-GG","500mm Excel Cutlery Tray","LK-ST-CT5-GG","LK-ST-CT5-GG","LK-ST-CT5-GG","LK-ST-CT5-GG","LK-ST-CT5-GG","LK-ST-CT5-GG","LK-ST-CT5-GG","LK-ST-CT5-GG","LK-ST-CT5-GG","LK-ST-CT5-GG","LK-ST-CT5-GG","LK-ST-CT5-GG","LK-ST-CT5-GG","LK-ST-CT5-GG","LK-ST-CT5-GG","LK-ST-CT5-GG","LK-ST-CT5-GG"]
["LK-ST-CT6-GG","600mm Excel Cutlery Tray","LK-ST-CT6-GG","LK-ST-CT6-GG","LK-ST-CT6-GG","LK-ST-CT6-GG","LK-ST-CT6-GG","LK-ST-CT6-GG","LK-ST-CT6-GG","LK-ST-CT6-GG","LK-ST-CT6-GG","LK-ST-CT6-GG","LK-ST-CT6-GG","LK-ST-CT6-GG","LK-ST-CT6-GG","LK-ST-CT6-GG","LK-ST-CT6-GG","LK-ST-CT6-GG","LK-ST-CT6-GG"]
["LK-ST-CT8-GG","800mm Excel Cutlery Tray","LK-ST-CT8-GG","LK-ST-CT8-GG","LK-ST-CT8-GG","LK-ST-CT8-GG","LK-ST-CT8-GG","LK-ST-CT8-GG","LK-ST-CT8-GG","LK-ST-CT8-GG","LK-ST-CT8-GG","LK-ST-CT8-GG","LK-ST-CT8-GG","LK-ST-CT8-GG","LK-ST-CT8-GG","LK-ST-CT8-GG","LK-ST-CT8-GG","LK-ST-CT8-GG","LK-ST-CT8-GG"]
["LK-ST-CT9-GG","900mm Excel Cutlery Tray","LK-ST-CT9-GG","LK-ST-CT9-GG","LK-ST-CT9-GG","LK-ST-CT9-GG","LK-ST-CT9-GG","LK-ST-CT9-GG","LK-ST-CT9-GG","LK-ST-CT9-GG","LK-ST-CT9-GG","LK-ST-CT9-GG","LK-ST-CT9-GG","LK-ST-CT9-GG","LK-ST-CT9-GG","LK-ST-CT9-GG","LK-ST-CT9-GG","LK-ST-CT9-GG","LK-ST-CT9-GG"]
["LK-ST-CT10-GG","1000mm Excel Cutlery Tray","LK-ST-CT10-GG","LK-ST-CT10-GG","LK-ST-CT10-GG","LK-ST-CT10-GG","LK-ST-CT10-GG","LK-ST-CT10-GG","LK-ST-CT10-GG","LK-ST-CT10-GG","LK-ST-CT10-GG","LK-ST-CT10-GG","LK-ST-CT10-GG","LK-ST-CT10-GG","LK-ST-CT10-GG","LK-ST-CT10-GG","LK-ST-CT10-GG","LK-ST-CT10-GG","LK-ST-CT10-GG"]
["LK-ST-CT5-BH","500 Beech Cutlery Tray Excel","LK-ST-CT5-BH","LK-ST-CT5-BH","LK-ST-CT5-BH","LK-ST-CT5-BH","LK-ST-CT5-BH","LK-ST-CT5-BH","LK-ST-CT5-BH","LK-ST-CT5-BH","LK-ST-CT5-BH","LK-ST-CT5-BH","LK-ST-CT5-BH","LK-ST-CT5-BH","LK-ST-CT5-BH","LK-ST-CT5-BH","LK-ST-CT5-BH","LK-ST-CT5-BH","LK-ST-CT5-BH"]
["LK-ST-CT6-BH","600 Beech Cutlery Tray Excel","LK-ST-CT6-BH","LK-ST-CT6-BH","LK-ST-CT6-BH","LK-ST-CT6-BH","LK-ST-CT6-BH","LK-ST-CT6-BH","LK-ST-CT6-BH","LK-ST-CT6-BH","LK-ST-CT6-BH","LK-ST-CT6-BH","LK-ST-CT6-BH","LK-ST-CT6-BH","LK-ST-CT6-BH","LK-ST-CT6-BH","LK-ST-CT6-BH","LK-ST-CT6-BH","LK-ST-CT6-BH"]
["LK-ST-CT8-BH","800mm Beech Cutlery Tray Excel","LK-ST-CT8-BH","LK-ST-CT8-BH","LK-ST-CT8-BH","LK-ST-CT8-BH","LK-ST-CT8-BH","LK-ST-CT8-BH","LK-ST-CT8-BH","LK-ST-CT8-BH","LK-ST-CT8-BH","LK-ST-CT8-BH","LK-ST-CT8-BH","LK-ST-CT8-BH","LK-ST-CT8-BH","LK-ST-CT8-BH","LK-ST-CT8-BH","LK-ST-CT8-BH","LK-ST-CT8-BH"]
["LK-ST-CT9-BH","900 Beech Cutlery Tray Excel","LK-ST-CT9-BH","LK-ST-CT9-BH","LK-ST-CT9-BH","LK-ST-CT9-BH","LK-ST-CT9-BH","LK-ST-CT9-BH","LK-ST-CT9-BH","LK-ST-CT9-BH","LK-ST-CT9-BH","LK-ST-CT9-BH","LK-ST-CT9-BH","LK-ST-CT9-BH","LK-ST-CT9-BH","LK-ST-CT9-BH","LK-ST-CT9-BH","LK-ST-CT9-BH","LK-ST-CT9-BH"]
["LK-ST-CT10-BH","1000mm Beech Cutlery Tray Excel","LK-ST-CT10-BH","LK-ST-CT10-BH","LK-ST-CT10-BH","LK-ST-CT10-BH","LK-ST-CT10-BH","LK-ST-CT10-BH","LK-ST-CT10-BH","LK-ST-CT10-BH","LK-ST-CT10-BH","LK-ST-CT10-BH","LK-ST-CT10-BH","LK-ST-CT10-BH","LK-ST-CT10-BH","LK-ST-CT10-BH","LK-ST-CT10-BH","LK-ST-CT10-BH","LK-ST-CT10-BH"]
["LK-ST-CT5-BHI","500 Beech Cutlery Tray Excel Internal","LK-ST-CT5-BHI","LK-ST-CT5-BHI","LK-ST-CT5-BHI","LK-ST-CT5-BHI","LK-ST-CT5-BHI","LK-ST-CT5-BHI","LK-ST-CT5-BHI","LK-ST-CT5-BHI","LK-ST-CT5-BHI","LK-ST-CT5-BHI","LK-ST-CT5-BHI","LK-ST-CT5-BHI","LK-ST-CT5-BHI","LK-ST-CT5-BHI","LK-ST-CT5-BHI","LK-ST-CT5-BHI","LK-ST-CT5-BHI"]
["LK-ST-CT6-BHI","600 Beech Cutlery Tray Excel Internal","LK-ST-CT6-BHI","LK-ST-CT6-BHI","LK-ST-CT6-BHI","LK-ST-CT6-BHI","LK-ST-CT6-BHI","LK-ST-CT6-BHI","LK-ST-CT6-BHI","LK-ST-CT6-BHI","LK-ST-CT6-BHI","LK-ST-CT6-BHI","LK-ST-CT6-BHI","LK-ST-CT6-BHI","LK-ST-CT6-BHI","LK-ST-CT6-BHI","LK-ST-CT6-BHI","LK-ST-CT6-BHI","LK-ST-CT6-BHI"]
["LK-ST-CT8-BHI","800mm Beech Cutlery Tray Excel Internal","LK-ST-CT8-BHI","LK-ST-CT8-BHI","LK-ST-CT8-BHI","LK-ST-CT8-BHI","LK-ST-CT8-BHI","LK-ST-CT8-BHI","LK-ST-CT8-BHI","LK-ST-CT8-BHI","LK-ST-CT8-BHI","LK-ST-CT8-BHI","LK-ST-CT8-BHI","LK-ST-CT8-BHI","LK-ST-CT8-BHI","LK-ST-CT8-BHI","LK-ST-CT8-BHI","LK-ST-CT8-BHI","LK-ST-CT8-BHI"]
["LK-ST-CT9-BHI","900 Beech Cutlery Tray Excel Internal","LK-ST-CT9-BHI","LK-ST-CT9-BHI","LK-ST-CT9-BHI","LK-ST-CT9-BHI","LK-ST-CT9-BHI","LK-ST-CT9-BHI","LK-ST-CT9-BHI","LK-ST-CT9-BHI","LK-ST-CT9-BHI","LK-ST-CT9-BHI","LK-ST-CT9-BHI","LK-ST-CT9-BHI","LK-ST-CT9-BHI","LK-ST-CT9-BHI","LK-ST-CT9-BHI","LK-ST-CT9-BHI","LK-ST-CT9-BHI"]
["LK-ST-CT10-BHI","1000mm Beech Cutlery Tray Excel Internal","LK-ST-CT10-BHI","LK-ST-CT10-BHI","LK-ST-CT10-BHI","LK-ST-CT10-BHI","LK-ST-CT10-BHI","LK-ST-CT10-BHI","LK-ST-CT10-BHI","LK-ST-CT10-BHI","LK-ST-CT10-BHI","LK-ST-CT10-BHI","LK-ST-CT10-BHI","LK-ST-CT10-BHI","LK-ST-CT10-BHI","LK-ST-CT10-BHI","LK-ST-CT10-BHI","LK-ST-CT10-BHI","LK-ST-CT10-BHI"]
["LK-ST-CT5-BHPI","500 Beech Cutlery Tray Excel Plus Internal","LK-ST-CT5-BHPI","LK-ST-CT5-BHPI","LK-ST-CT5-BHPI","LK-ST-CT5-BHPI","LK-ST-CT5-BHPI","LK-ST-CT5-BHPI","LK-ST-CT5-BHPI","LK-ST-CT5-BHPI","LK-ST-CT5-BHPI","LK-ST-CT5-BHPI","LK-ST-CT5-BHPI","LK-ST-CT5-BHPI","LK-ST-CT5-BHPI","LK-ST-CT5-BHPI","LK-ST-CT5-BHPI","LK-ST-CT5-BHPI","LK-ST-CT5-BHPI"]
["LK-ST-CT6-BHPI","600 Beech Cutlery Tray Excel Plus Internal","LK-ST-CT6-BHPI","LK-ST-CT6-BHPI","LK-ST-CT6-BHPI","LK-ST-CT6-BHPI","LK-ST-CT6-BHPI","LK-ST-CT6-BHPI","LK-ST-CT6-BHPI","LK-ST-CT6-BHPI","LK-ST-CT6-BHPI","LK-ST-CT6-BHPI","LK-ST-CT6-BHPI","LK-ST-CT6-BHPI","LK-ST-CT6-BHPI","LK-ST-CT6-BHPI","LK-ST-CT6-BHPI","LK-ST-CT6-BHPI","LK-ST-CT6-BHPI"]
["LK-ST-CT8-BHPI","800mm Beech Cutlery Tray Excel Plus Internal","LK-ST-CT8-BHPI","LK-ST-CT8-BHPI","LK-ST-CT8-BHPI","LK-ST-CT8-BHPI","LK-ST-CT8-BHPI","LK-ST-CT8-BHPI","LK-ST-CT8-BHPI","LK-ST-CT8-BHPI","LK-ST-CT8-BHPI","LK-ST-CT8-BHPI","LK-ST-CT8-BHPI","LK-ST-CT8-BHPI","LK-ST-CT8-BHPI","LK-ST-CT8-BHPI","LK-ST-CT8-BHPI","LK-ST-CT8-BHPI","LK-ST-CT8-BHPI"]
["LK-ST-CT9-BHPI","900 Beech Cutlery Tray Excel Plus Internal","LK-ST-CT9-BHPI","LK-ST-CT9-BHPI","LK-ST-CT9-BHPI","LK-ST-CT9-BHPI","LK-ST-CT9-BHPI","LK-ST-CT9-BHPI","LK-ST-CT9-BHPI","LK-ST-CT9-BHPI","LK-ST-CT9-BHPI","LK-ST-CT9-BHPI","LK-ST-CT9-BHPI","LK-ST-CT9-BHPI","LK-ST-CT9-BHPI","LK-ST-CT9-BHPI","LK-ST-CT9-BHPI","LK-ST-CT9-BHPI","LK-ST-CT9-BHPI"]
["LK-ST-CT10-BHPI","1000mm Beech Cutlery Tray Excel Plus Internal","LK-ST-CT10-BHPI","LK-ST-CT10-BHPI","LK-ST-CT10-BHPI","LK-ST-CT10-BHPI","LK-ST-CT10-BHPI","LK-ST-CT10-BHPI","LK-ST-CT10-BHPI","LK-ST-CT10-BHPI","LK-ST-CT10-BHPI","LK-ST-CT10-BHPI","LK-ST-CT10-BHPI","LK-ST-CT10-BHPI","LK-ST-CT10-BHPI","LK-ST-CT10-BHPI","LK-ST-CT10-BHPI","LK-ST-CT10-BHPI","LK-ST-CT10-BHPI"]
["LK-ST-EXGPDS","Excel Pan Drawer Glass Sides","LK-ST-EXGPDS","LK-ST-EXGPDS","LK-ST-EXGPDS","LK-ST-EXGPDS","LK-ST-EXGPDS","LK-ST-EXGPDS","LK-ST-EXGPDS","LK-ST-EXGPDS","LK-ST-EXGPDS","LK-ST-EXGPDS","LK-ST-EXGPDS","LK-ST-EXGPDS","LK-ST-EXGPDS","LK-ST-EXGPDS","LK-ST-EXGPDS","LK-ST-EXGPDS","LK-ST-EXGPDS"]
["LK-ST-PR6-BH","600 Plate Rack Insert Excel","LK-ST-PR6-BH","LK-ST-PR6-BH","LK-ST-PR6-BH","LK-ST-PR6-BH","LK-ST-PR6-BH","LK-ST-PR6-BH","LK-ST-PR6-BH","LK-ST-PR6-BH","LK-ST-PR6-BH","LK-ST-PR6-BH","LK-ST-PR6-BH","LK-ST-PR6-BH","LK-ST-PR6-BH","LK-ST-PR6-BH","LK-ST-PR6-BH","LK-ST-PR6-BH","LK-ST-PR6-BH"]
["LK-ST-PR8-BH","800 Plate Rack Insert Excel","LK-ST-PR8-BH","LK-ST-PR8-BH","LK-ST-PR8-BH","LK-ST-PR8-BH","LK-ST-PR8-BH","LK-ST-PR8-BH","LK-ST-PR8-BH","LK-ST-PR8-BH","LK-ST-PR8-BH","LK-ST-PR8-BH","LK-ST-PR8-BH","LK-ST-PR8-BH","LK-ST-PR8-BH","LK-ST-PR8-BH","LK-ST-PR8-BH","LK-ST-PR8-BH","LK-ST-PR8-BH"]
["LK-ST-PR9-BH","900 Plate Rack Insert Excel","LK-ST-PR9-BH","LK-ST-PR9-BH","LK-ST-PR9-BH","LK-ST-PR9-BH","LK-ST-PR9-BH","LK-ST-PR9-BH","LK-ST-PR9-BH","LK-ST-PR9-BH","LK-ST-PR9-BH","LK-ST-PR9-BH","LK-ST-PR9-BH","LK-ST-PR9-BH","LK-ST-PR9-BH","LK-ST-PR9-BH","LK-ST-PR9-BH","LK-ST-PR9-BH","LK-ST-PR9-BH"]
["LK-ST-PR10BH","1000 Plate Rack Insert Excel","LK-ST-PR10BH","LK-ST-PR10BH","LK-ST-PR10BH","LK-ST-PR10BH","LK-ST-PR10BH","LK-ST-PR10BH","LK-ST-PR10BH","LK-ST-PR10BH","LK-ST-PR10BH","LK-ST-PR10BH","LK-ST-PR10BH","LK-ST-PR10BH","LK-ST-PR10BH","LK-ST-PR10BH","LK-ST-PR10BH","LK-ST-PR10BH","LK-ST-PR10BH"]
["LK-ST-PS6-BH","600 Pan & Plate Stack Insert Excel","LK-ST-PS6-BH","LK-ST-PS6-BH","LK-ST-PS6-BH","LK-ST-PS6-BH","LK-ST-PS6-BH","LK-ST-PS6-BH","LK-ST-PS6-BH","LK-ST-PS6-BH","LK-ST-PS6-BH","LK-ST-PS6-BH","LK-ST-PS6-BH","LK-ST-PS6-BH","LK-ST-PS6-BH","LK-ST-PS6-BH","LK-ST-PS6-BH","LK-ST-PS6-BH","LK-ST-PS6-BH"]
["LK-ST-PS8-BH","800 Pan & Plate Stack Insert Excel","LK-ST-PS8-BH","LK-ST-PS8-BH","LK-ST-PS8-BH","LK-ST-PS8-BH","LK-ST-PS8-BH","LK-ST-PS8-BH","LK-ST-PS8-BH","LK-ST-PS8-BH","LK-ST-PS8-BH","LK-ST-PS8-BH","LK-ST-PS8-BH","LK-ST-PS8-BH","LK-ST-PS8-BH","LK-ST-PS8-BH","LK-ST-PS8-BH","LK-ST-PS8-BH","LK-ST-PS8-BH"]
["LK-ST-PS9-BH","900 Pan & Plate Stack Insert Excel","LK-ST-PS9-BH","LK-ST-PS9-BH","LK-ST-PS9-BH","LK-ST-PS9-BH","LK-ST-PS9-BH","LK-ST-PS9-BH","LK-ST-PS9-BH","LK-ST-PS9-BH","LK-ST-PS9-BH","LK-ST-PS9-BH","LK-ST-PS9-BH","LK-ST-PS9-BH","LK-ST-PS9-BH","LK-ST-PS9-BH","LK-ST-PS9-BH","LK-ST-PS9-BH","LK-ST-PS9-BH"]
["LK-ST-PS10BH","1000 Pan & Plate Stack Insert Excel","LK-ST-PS10BH","LK-ST-PS10BH","LK-ST-PS10BH","LK-ST-PS10BH","LK-ST-PS10BH","LK-ST-PS10BH","LK-ST-PS10BH","LK-ST-PS10BH","LK-ST-PS10BH","LK-ST-PS10BH","LK-ST-PS10BH","LK-ST-PS10BH","LK-ST-PS10BH","LK-ST-PS10BH","LK-ST-PS10BH","LK-ST-PS10BH","LK-ST-PS10BH"]
["LK-ST-50PODB","500mm Soft Close Pull Out Basket","LK-ST-50PODB","LK-ST-50PODB","LK-ST-50PODB","LK-ST-50PODB","LK-ST-50PODB","LK-ST-50PODB","LK-ST-50PODB","LK-ST-50PODB","LK-ST-50PODB","LK-ST-50PODB","LK-ST-50PODB","LK-ST-50PODB","LK-ST-50PODB","LK-ST-50PODB","LK-ST-50PODB","LK-ST-50PODB","LK-ST-50PODB"]
["LK-ST-60PODB","600mm Soft Close Pull Out Basket","LK-ST-60PODB","LK-ST-60PODB","LK-ST-60PODB","LK-ST-60PODB","LK-ST-60PODB","LK-ST-60PODB","LK-ST-60PODB","LK-ST-60PODB","LK-ST-60PODB","LK-ST-60PODB","LK-ST-60PODB","LK-ST-60PODB","LK-ST-60PODB","LK-ST-60PODB","LK-ST-60PODB","LK-ST-60PODB","LK-ST-60PODB"]
["LK-ST-FBXS6","600mm Float Box Shelving","LK-ST-FBXS6","LK-ST-FBXS6","LK-ST-FBXS6","LK-ST-FBXS6","LK-ST-FBXS6","LK-ST-FBXS6","LK-ST-FBXS6","LK-ST-FBXS6","LK-ST-FBXS6","LK-ST-FBXS6","LK-ST-FBXS6","LK-ST-FBXS6","LK-ST-FBXS6","LK-ST-FBXS6","LK-ST-FBXS6","LK-ST-FBXS6","LK-ST-FBXS6"]
["LK-ST-FBXS9","900mm Float Box Shelving","LK-ST-FBXS9","LK-ST-FBXS9","LK-ST-FBXS9","LK-ST-FBXS9","LK-ST-FBXS9","LK-ST-FBXS9","LK-ST-FBXS9","LK-ST-FBXS9","LK-ST-FBXS9","LK-ST-FBXS9","LK-ST-FBXS9","LK-ST-FBXS9","LK-ST-FBXS9","LK-ST-FBXS9","LK-ST-FBXS9","LK-ST-FBXS9","LK-ST-FBXS9"]
["LK-ST-F4WC","Box Shelving 4 way connector (4 Pk)","LK-ST-F4WC","LK-ST-F4WC","LK-ST-F4WC","LK-ST-F4WC","LK-ST-F4WC","LK-ST-F4WC","LK-ST-F4WC","LK-ST-F4WC","LK-ST-F4WC","LK-ST-F4WC","LK-ST-F4WC","LK-ST-F4WC","LK-ST-F4WC","LK-ST-F4WC","LK-ST-F4WC","LK-ST-F4WC","LK-ST-F4WC"]
["LK-ST-F5WC","Box Shelving 5 way connector (2 Pk)","LK-ST-F5WC","LK-ST-F5WC","LK-ST-F5WC","LK-ST-F5WC","LK-ST-F5WC","LK-ST-F5WC","LK-ST-F5WC","LK-ST-F5WC","LK-ST-F5WC","LK-ST-F5WC","LK-ST-F5WC","LK-ST-F5WC","LK-ST-F5WC","LK-ST-F5WC","LK-ST-F5WC","LK-ST-F5WC","LK-ST-F5WC"]
["LK-FC-BBS720","Industrial B Bar Support 720","LK-FC-BBS720","LK-FC-BBS720","LK-FC-BBS720","LK-FC-BBS720","LK-FC-BBS720","LK-FC-BBS720","LK-FC-BBS720","LK-FC-BBS720","LK-FC-BBS720","LK-FC-BBS720","LK-FC-BBS720","LK-FC-BBS720","LK-FC-BBS720","LK-FC-BBS720","LK-FC-BBS720","LK-FC-BBS720","LK-FC-BBS720"]
["LK-FC-BBS870","Industrial B Bar Support 870","LK-FC-BBS870","LK-FC-BBS870","LK-FC-BBS870","LK-FC-BBS870","LK-FC-BBS870","LK-FC-BBS870","LK-FC-BBS870","LK-FC-BBS870","LK-FC-BBS870","LK-FC-BBS870","LK-FC-BBS870","LK-FC-BBS870","LK-FC-BBS870","LK-FC-BBS870","LK-FC-BBS870","LK-FC-BBS870","LK-FC-BBS870"]
["LK-FC-GLSHF","Glass Shelf 500 x 4mm","LK-FC-GLSHF","LK-FC-GLSHF","LK-FC-GLSHF","LK-FC-GLSHF","LK-FC-GLSHF","LK-FC-GLSHF","LK-FC-GLSHF","LK-FC-GLSHF","LK-FC-GLSHF","LK-FC-GLSHF","LK-FC-GLSHF","LK-FC-GLSHF","LK-FC-GLSHF","LK-FC-GLSHF","LK-FC-GLSHF","LK-FC-GLSHF","LK-FC-GLSHF"]
["LK-FC-GLSHLF5","Glass Shelf 500 x 8mm","LK-FC-GLSHLF5","LK-FC-GLSHLF5","LK-FC-GLSHLF5","LK-FC-GLSHLF5","LK-FC-GLSHLF5","LK-FC-GLSHLF5","LK-FC-GLSHLF5","LK-FC-GLSHLF5","LK-FC-GLSHLF5","LK-FC-GLSHLF5","LK-FC-GLSHLF5","LK-FC-GLSHLF5","LK-FC-GLSHLF5","LK-FC-GLSHLF5","LK-FC-GLSHLF5","LK-FC-GLSHLF5","LK-FC-GLSHLF5"]
["LK-FC-GLSHLF6","Glass Shelf 600 x 8mm","LK-FC-GLSHLF6","LK-FC-GLSHLF6","LK-FC-GLSHLF6","LK-FC-GLSHLF6","LK-FC-GLSHLF6","LK-FC-GLSHLF6","LK-FC-GLSHLF6","LK-FC-GLSHLF6","LK-FC-GLSHLF6","LK-FC-GLSHLF6","LK-FC-GLSHLF6","LK-FC-GLSHLF6","LK-FC-GLSHLF6","LK-FC-GLSHLF6","LK-FC-GLSHLF6","LK-FC-GLSHLF6","LK-FC-GLSHLF6"]
["LK-FC-GLSHLF10","Glass Shelf for 1000 Larder","LK-FC-GLSHLF10","LK-FC-GLSHLF10","LK-FC-GLSHLF10","LK-FC-GLSHLF10","LK-FC-GLSHLF10","LK-FC-GLSHLF10","LK-FC-GLSHLF10","LK-FC-GLSHLF10","LK-FC-GLSHLF10","LK-FC-GLSHLF10","LK-FC-GLSHLF10","LK-FC-GLSHLF10","LK-FC-GLSHLF10","LK-FC-GLSHLF10","LK-FC-GLSHLF10","LK-FC-GLSHLF10","LK-FC-GLSHLF10"]
["LK-ST-TTR","Telescopic Towel Rail","LK-ST-TTR","LK-ST-TTR","LK-ST-TTR","LK-ST-TTR","LK-ST-TTR","LK-ST-TTR","LK-ST-TTR","LK-ST-TTR","LK-ST-TTR","LK-ST-TTR","LK-ST-TTR","LK-ST-TTR","LK-ST-TTR","LK-ST-TTR","LK-ST-TTR","LK-ST-TTR","LK-ST-TTR"]
["LK-FC-BUL5","500 Base Unit Liner 544.14.501","LK-FC-BUL5","LK-FC-BUL5","LK-FC-BUL5","LK-FC-BUL5","LK-FC-BUL5","LK-FC-BUL5","LK-FC-BUL5","LK-FC-BUL5","LK-FC-BUL5","LK-FC-BUL5","LK-FC-BUL5","LK-FC-BUL5","LK-FC-BUL5","LK-FC-BUL5","LK-FC-BUL5","LK-FC-BUL5","LK-FC-BUL5"]
["LK-FC-SBUL6","600 Base Unit Liner 544.14.502","LK-FC-SBUL6","LK-FC-SBUL6","LK-FC-SBUL6","LK-FC-SBUL6","LK-FC-SBUL6","LK-FC-SBUL6","LK-FC-SBUL6","LK-FC-SBUL6","LK-FC-SBUL6","LK-FC-SBUL6","LK-FC-SBUL6","LK-FC-SBUL6","LK-FC-SBUL6","LK-FC-SBUL6","LK-FC-SBUL6","LK-FC-SBUL6","LK-FC-SBUL6"]
["LK-FC-SBUL8","800 Base Unit Liner 544.14.504","LK-FC-SBUL8","LK-FC-SBUL8","LK-FC-SBUL8","LK-FC-SBUL8","LK-FC-SBUL8","LK-FC-SBUL8","LK-FC-SBUL8","LK-FC-SBUL8","LK-FC-SBUL8","LK-FC-SBUL8","LK-FC-SBUL8","LK-FC-SBUL8","LK-FC-SBUL8","LK-FC-SBUL8","LK-FC-SBUL8","LK-FC-SBUL8","LK-FC-SBUL8"]
["LK-FC-SBUL9","900 Base Unit Liner 544.14.505","LK-FC-SBUL9","LK-FC-SBUL9","LK-FC-SBUL9","LK-FC-SBUL9","LK-FC-SBUL9","LK-FC-SBUL9","LK-FC-SBUL9","LK-FC-SBUL9","LK-FC-SBUL9","LK-FC-SBUL9","LK-FC-SBUL9","LK-FC-SBUL9","LK-FC-SBUL9","LK-FC-SBUL9","LK-FC-SBUL9","LK-FC-SBUL9","LK-FC-SBUL9"]
["LK-FC-SBUL10","1000 Base Unit Liner 544.14.506","LK-FC-SBUL10","LK-FC-SBUL10","LK-FC-SBUL10","LK-FC-SBUL10","LK-FC-SBUL10","LK-FC-SBUL10","LK-FC-SBUL10","LK-FC-SBUL10","LK-FC-SBUL10","LK-FC-SBUL10","LK-FC-SBUL10","LK-FC-SBUL10","LK-FC-SBUL10","LK-FC-SBUL10","LK-FC-SBUL10","LK-FC-SBUL10","LK-FC-SBUL10"]
["LK-FC-CPBBL","SD 870 Breakfast Bar Leg","LK-FC-CPBBL","LK-FC-CPBBL","LK-FC-CPBBL","LK-FC-CPBBL","LK-FC-CPBBL","LK-FC-CPBBL","LK-FC-CPBBL","LK-FC-CPBBL","LK-FC-CPBBL","LK-FC-CPBBL","LK-FC-CPBBL","LK-FC-CPBBL","LK-FC-CPBBL","LK-FC-CPBBL","LK-FC-CPBBL","LK-FC-CPBBL","LK-FC-CPBBL"]
["@LK-BFM-AVENT-H","Blum Aventos HK Bifold Mechanism - Heavy","@LK-BFM-AVENT-H","@LK-BFM-AVENT-H","@LK-BFM-AVENT-H","@LK-BFM-AVENT-H","@LK-BFM-AVENT-H","@LK-BFM-AVENT-H","@LK-BFM-AVENT-H","@LK-BFM-AVENT-H","@LK-BFM-AVENT-H","@LK-BFM-AVENT-H","@LK-BFM-AVENT-H","@LK-BFM-AVENT-H","@LK-BFM-AVENT-H","@LK-BFM-AVENT-H","@LK-BFM-AVENT-H","@LK-BFM-AVENT-H","@LK-BFM-AVENT-H"]
["@LK-BFM-AVENT-L","Blum Aventos HK Bifold Mechanism - Light","@LK-BFM-AVENT-L","@LK-BFM-AVENT-L","@LK-BFM-AVENT-L","@LK-BFM-AVENT-L","@LK-BFM-AVENT-L","@LK-BFM-AVENT-L","@LK-BFM-AVENT-L","@LK-BFM-AVENT-L","@LK-BFM-AVENT-L","@LK-BFM-AVENT-L","@LK-BFM-AVENT-L","@LK-BFM-AVENT-L","@LK-BFM-AVENT-L","@LK-BFM-AVENT-L","@LK-BFM-AVENT-L","@LK-BFM-AVENT-L","@LK-BFM-AVENT-L"]
["@LK-BFM-AVENT-M","Blum Aventos HK Bifold Mechanism - Med","@LK-BFM-AVENT-M","@LK-BFM-AVENT-M","@LK-BFM-AVENT-M","@LK-BFM-AVENT-M","@LK-BFM-AVENT-M","@LK-BFM-AVENT-M","@LK-BFM-AVENT-M","@LK-BFM-AVENT-M","@LK-BFM-AVENT-M","@LK-BFM-AVENT-M","@LK-BFM-AVENT-M","@LK-BFM-AVENT-M","@LK-BFM-AVENT-M","@LK-BFM-AVENT-M","@LK-BFM-AVENT-M","@LK-BFM-AVENT-M","@LK-BFM-AVENT-M"]
["LK-FC-STCC35","35mm Cover Caps (Pk of 20) - Stone Grey","LK-FC-STCC35","LK-FC-STCC35","LK-FC-STCC35","LK-FC-STCC35","LK-FC-STCC35","LK-FC-STCC35","LK-FC-STCC35","LK-FC-STCC35","LK-FC-STCC35","LK-FC-STCC35","LK-FC-STCC35","LK-FC-STCC35","LK-FC-STCC35","LK-FC-STCC35","LK-FC-STCC35","LK-FC-STCC35","LK-FC-STCC35"]
["LK-FC-STCC5","5mm Cover Caps (Pk of 50) - Stone Grey","LK-FC-STCC5","LK-FC-STCC5","LK-FC-STCC5","LK-FC-STCC5","LK-FC-STCC5","LK-FC-STCC5","LK-FC-STCC5","LK-FC-STCC5","LK-FC-STCC5","LK-FC-STCC5","LK-FC-STCC5","LK-FC-STCC5","LK-FC-STCC5","LK-FC-STCC5","LK-FC-STCC5","LK-FC-STCC5","LK-FC-STCC5"]
["LK-FC-WHCC35","35mm Cover Caps (Pk of 20) - White","LK-FC-WHCC35","LK-FC-WHCC35","LK-FC-WHCC35","LK-FC-WHCC35","LK-FC-WHCC35","LK-FC-WHCC35","LK-FC-WHCC35","LK-FC-WHCC35","LK-FC-WHCC35","LK-FC-WHCC35","LK-FC-WHCC35","LK-FC-WHCC35","LK-FC-WHCC35","LK-FC-WHCC35","LK-FC-WHCC35","LK-FC-WHCC35","LK-FC-WHCC35"]
["LK-FC-WNCC5","5mm Cover Caps (Pk of 50) - Walnut","LK-FC-WNCC5","LK-FC-WNCC5","LK-FC-WNCC5","LK-FC-WNCC5","LK-FC-WNCC5","LK-FC-WNCC5","LK-FC-WNCC5","LK-FC-WNCC5","LK-FC-WNCC5","LK-FC-WNCC5","LK-FC-WNCC5","LK-FC-WNCC5","LK-FC-WNCC5","LK-FC-WNCC5","LK-FC-WNCC5","LK-FC-WNCC5","LK-FC-WNCC5"]
["LK-FC-WHCC5","5mm Cover Caps (Pk of 50) - White","LK-FC-WHCC5","LK-FC-WHCC5","LK-FC-WHCC5","LK-FC-WHCC5","LK-FC-WHCC5","LK-FC-WHCC5","LK-FC-WHCC5","LK-FC-WHCC5","LK-FC-WHCC5","LK-FC-WHCC5","LK-FC-WHCC5","LK-FC-WHCC5","LK-FC-WHCC5","LK-FC-WHCC5","LK-FC-WHCC5","LK-FC-WHCC5","LK-FC-WHCC5"]
["LK-FC-NOCC35","35mm Cover Caps (Pk of 20) - Oak","LK-FC-NOCC35","LK-FC-NOCC35","LK-FC-NOCC35","LK-FC-NOCC35","LK-FC-NOCC35","LK-FC-NOCC35","LK-FC-NOCC35","LK-FC-NOCC35","LK-FC-NOCC35","LK-FC-NOCC35","LK-FC-NOCC35","LK-FC-NOCC35","LK-FC-NOCC35","LK-FC-NOCC35","LK-FC-NOCC35","LK-FC-NOCC35","LK-FC-NOCC35"]
["LK-FC-NOCC5","5mm Cover Caps (Pk of 50) - Oak","LK-FC-NOCC5","LK-FC-NOCC5","LK-FC-NOCC5","LK-FC-NOCC5","LK-FC-NOCC5","LK-FC-NOCC5","LK-FC-NOCC5","LK-FC-NOCC5","LK-FC-NOCC5","LK-FC-NOCC5","LK-FC-NOCC5","LK-FC-NOCC5","LK-FC-NOCC5","LK-FC-NOCC5","LK-FC-NOCC5","LK-FC-NOCC5","LK-FC-NOCC5"]
["LK-FC-NOST25","14mm Self Adhesive Stickers Pack 25 - Oak","LK-FC-NOST25","LK-FC-NOST25","LK-FC-NOST25","LK-FC-NOST25","LK-FC-NOST25","LK-FC-NOST25","LK-FC-NOST25","LK-FC-NOST25","LK-FC-NOST25","LK-FC-NOST25","LK-FC-NOST25","LK-FC-NOST25","LK-FC-NOST25","LK-FC-NOST25","LK-FC-NOST25","LK-FC-NOST25","LK-FC-NOST25"]
["LK-FC-WNST25","14mm Self Adhesive Stickers Pack 25 - Walnut","LK-FC-WNST25","LK-FC-WNST25","LK-FC-WNST25","LK-FC-WNST25","LK-FC-WNST25","LK-FC-WNST25","LK-FC-WNST25","LK-FC-WNST25","LK-FC-WNST25","LK-FC-WNST25","LK-FC-WNST25","LK-FC-WNST25","LK-FC-WNST25","LK-FC-WNST25","LK-FC-WNST25","LK-FC-WNST25","LK-FC-WNST25"]
["LK-FC-WHST25","14mm Self Adhesive Stickers Pack 25 - White","LK-FC-WHST25","LK-FC-WHST25","LK-FC-WHST25","LK-FC-WHST25","LK-FC-WHST25","LK-FC-WHST25","LK-FC-WHST25","LK-FC-WHST25","LK-FC-WHST25","LK-FC-WHST25","LK-FC-WHST25","LK-FC-WHST25","LK-FC-WHST25","LK-FC-WHST25","LK-FC-WHST25","LK-FC-WHST25","LK-FC-WHST25"]
["LK-FC-SGST25","14mm Self Adhesive Stickers Pack 25 - Stone Grey","LK-FC-SGST25","LK-FC-SGST25","LK-FC-SGST25","LK-FC-SGST25","LK-FC-SGST25","LK-FC-SGST25","LK-FC-SGST25","LK-FC-SGST25","LK-FC-SGST25","LK-FC-SGST25","LK-FC-SGST25","LK-FC-SGST25","LK-FC-SGST25","LK-FC-SGST25","LK-FC-SGST25","LK-FC-SGST25","LK-FC-SGST25"]
["LK-FC-GLST25","14mm Self Adhesive Stickers Pack 25 - Grey Linen","LK-FC-GLST25","LK-FC-GLST25","LK-FC-GLST25","LK-FC-GLST25","LK-FC-GLST25","LK-FC-GLST25","LK-FC-GLST25","LK-FC-GLST25","LK-FC-GLST25","LK-FC-GLST25","LK-FC-GLST25","LK-FC-GLST25","LK-FC-GLST25","LK-FC-GLST25","LK-FC-GLST25","LK-FC-GLST25","LK-FC-GLST25"]
["LK-A-ALN-FP","Fitters Panel 2400x630 - Anthracite Linen","LK-A-ALN-FP","LK-A-ALN-FP","LK-A-ALN-FP","LK-A-ALN-FP","LK-A-ALN-FP","LK-A-ALN-FP","LK-A-ALN-FP","LK-A-ALN-FP","LK-A-ALN-FP","LK-A-ALN-FP","LK-A-ALN-FP","LK-A-ALN-FP","LK-A-ALN-FP","LK-A-ALN-FP","LK-A-ALN-FP","LK-A-ALN-FP","LK-A-ALN-FP"]
["LK-A-GLN-FP","Fitters Panel 2400x630 - Grey Linen","LK-A-GLN-FP","LK-A-GLN-FP","LK-A-GLN-FP","LK-A-GLN-FP","LK-A-GLN-FP","LK-A-GLN-FP","LK-A-GLN-FP","LK-A-GLN-FP","LK-A-GLN-FP","LK-A-GLN-FP","LK-A-GLN-FP","LK-A-GLN-FP","LK-A-GLN-FP","LK-A-GLN-FP","LK-A-GLN-FP","LK-A-GLN-FP","LK-A-GLN-FP"]
["LK-A-STG-FP","Fitters Panel 2400x630 - Stone Grey","LK-A-STG-FP","LK-A-STG-FP","LK-A-STG-FP","LK-A-STG-FP","LK-A-STG-FP","LK-A-STG-FP","LK-A-STG-FP","LK-A-STG-FP","LK-A-STG-FP","LK-A-STG-FP","LK-A-STG-FP","LK-A-STG-FP","LK-A-STG-FP","LK-A-STG-FP","LK-A-STG-FP","LK-A-STG-FP","LK-A-STG-FP"]
["LK-A-LISW-FP","Fitters Panel 2400x630 - Oak","LK-A-LISW-FP","LK-A-LISW-FP","LK-A-LISW-FP","LK-A-LISW-FP","LK-A-LISW-FP","LK-A-LISW-FP","LK-A-LISW-FP","LK-A-LISW-FP","LK-A-LISW-FP","LK-A-LISW-FP","LK-A-LISW-FP","LK-A-LISW-FP","LK-A-LISW-FP","LK-A-LISW-FP","LK-A-LISW-FP","LK-A-LISW-FP","LK-A-LISW-FP"]
["LK-A-WHT-FP","Fitters Panel 2400x630 - White","LK-A-WHT-FP","LK-A-WHT-FP","LK-A-WHT-FP","LK-A-WHT-FP","LK-A-WHT-FP","LK-A-WHT-FP","LK-A-WHT-FP","LK-A-WHT-FP","LK-A-WHT-FP","LK-A-WHT-FP","LK-A-WHT-FP","LK-A-WHT-FP","LK-A-WHT-FP","LK-A-WHT-FP","LK-A-WHT-FP","LK-A-WHT-FP","LK-A-WHT-FP"]
["LK-A-WAL-FP","Fitters Panel 2400x630 - Walnut","LK-A-WAL-FP","LK-A-WAL-FP","LK-A-WAL-FP","LK-A-WAL-FP","LK-A-WAL-FP","LK-A-WAL-FP","LK-A-WAL-FP","LK-A-WAL-FP","LK-A-WAL-FP","LK-A-WAL-FP","LK-A-WAL-FP","LK-A-WAL-FP","LK-A-WAL-FP","LK-A-WAL-FP","LK-A-WAL-FP","LK-A-WAL-FP","LK-A-WAL-FP"]
["LK-ST-ILWB","Wicker Basket (each)","LK-ST-ILWB","LK-ST-ILWB","LK-ST-ILWB","LK-ST-ILWB","LK-ST-ILWB","LK-ST-ILWB","LK-ST-ILWB","LK-ST-ILWB","LK-ST-ILWB","LK-ST-ILWB","LK-ST-ILWB","LK-ST-ILWB","LK-ST-ILWB","LK-ST-ILWB","LK-ST-ILWB","LK-ST-ILWB","LK-ST-ILWB"]
["@LK-ST-SR2","Spice Rack Set - Pair","@LK-ST-SR2","@LK-ST-SR2","@LK-ST-SR2","@LK-ST-SR2","@LK-ST-SR2","@LK-ST-SR2","@LK-ST-SR2","@LK-ST-SR2","@LK-ST-SR2","@LK-ST-SR2","@LK-ST-SR2","@LK-ST-SR2","@LK-ST-SR2","@LK-ST-SR2","@LK-ST-SR2","@LK-ST-SR2","@LK-ST-SR2"]
["LK-FC-PLSL","3m Plinth Seal - 713.25.098","LK-FC-PLSL","LK-FC-PLSL","LK-FC-PLSL","LK-FC-PLSL","LK-FC-PLSL","LK-FC-PLSL","LK-FC-PLSL","LK-FC-PLSL","LK-FC-PLSL","LK-FC-PLSL","LK-FC-PLSL","LK-FC-PLSL","LK-FC-PLSL","LK-FC-PLSL","LK-FC-PLSL","LK-FC-PLSL","LK-FC-PLSL"]
["LK-FC-BL110","Blum 107 Soft Close Hinge","LK-FC-BL110","LK-FC-BL110","LK-FC-BL110","LK-FC-BL110","LK-FC-BL110","LK-FC-BL110","LK-FC-BL110","LK-FC-BL110","LK-FC-BL110","LK-FC-BL110","LK-FC-BL110","LK-FC-BL110","LK-FC-BL110","LK-FC-BL110","LK-FC-BL110","LK-FC-BL110","LK-FC-BL110"]
["LK-FC-BL155","Blum 155 Soft Cose hinge","LK-FC-BL155","LK-FC-BL155","LK-FC-BL155","LK-FC-BL155","LK-FC-BL155","LK-FC-BL155","LK-FC-BL155","LK-FC-BL155","LK-FC-BL155","LK-FC-BL155","LK-FC-BL155","LK-FC-BL155","LK-FC-BL155","LK-FC-BL155","LK-FC-BL155","LK-FC-BL155","LK-FC-BL155"]
["LK-FC-XK109","Adjustable Cabinet Legs - Pack of 5","LK-FC-XK109","LK-FC-XK109","LK-FC-XK109","LK-FC-XK109","LK-FC-XK109","LK-FC-XK109","LK-FC-XK109","LK-FC-XK109","LK-FC-XK109","LK-FC-XK109","LK-FC-XK109","LK-FC-XK109","LK-FC-XK109","LK-FC-XK109","LK-FC-XK109","LK-FC-XK109","LK-FC-XK109"]
["LK-FC-PC16","Plinth Connector 16mm (1m)","LK-FC-PC16","LK-FC-PC16","LK-FC-PC16","LK-FC-PC16","LK-FC-PC16","LK-FC-PC16","LK-FC-PC16","LK-FC-PC16","LK-FC-PC16","LK-FC-PC16","LK-FC-PC16","LK-FC-PC16","LK-FC-PC16","LK-FC-PC16","LK-FC-PC16","LK-FC-PC16","LK-FC-PC16"]
["LK-FC-PC18","Plinth Connector 18mm (1m)","LK-FC-PC18","LK-FC-PC18","LK-FC-PC18","LK-FC-PC18","LK-FC-PC18","LK-FC-PC18","LK-FC-PC18","LK-FC-PC18","LK-FC-PC18","LK-FC-PC18","LK-FC-PC18","LK-FC-PC18","LK-FC-PC18","LK-FC-PC18","LK-FC-PC18","LK-FC-PC18","LK-FC-PC18"]
["LK-FC-PC19","Plinth Connector 19mm (1m)","LK-FC-PC19","LK-FC-PC19","LK-FC-PC19","LK-FC-PC19","LK-FC-PC19","LK-FC-PC19","LK-FC-PC19","LK-FC-PC19","LK-FC-PC19","LK-FC-PC19","LK-FC-PC19","LK-FC-PC19","LK-FC-PC19","LK-FC-PC19","LK-FC-PC19","LK-FC-PC19","LK-FC-PC19"]
["LK-FC-SKFAB","Skirting Plinth Skiffer 75x30x30 Antique Brass","LK-FC-SKFAB","LK-FC-SKFAB","LK-FC-SKFAB","LK-FC-SKFAB","LK-FC-SKFAB","LK-FC-SKFAB","LK-FC-SKFAB","LK-FC-SKFAB","LK-FC-SKFAB","LK-FC-SKFAB","LK-FC-SKFAB","LK-FC-SKFAB","LK-FC-SKFAB","LK-FC-SKFAB","LK-FC-SKFAB","LK-FC-SKFAB","LK-FC-SKFAB"]
["LK-FC-SKFBR","Skirting Plinth Skiffer 75x30x30 Bronze","LK-FC-SKFBR","LK-FC-SKFBR","LK-FC-SKFBR","LK-FC-SKFBR","LK-FC-SKFBR","LK-FC-SKFBR","LK-FC-SKFBR","LK-FC-SKFBR","LK-FC-SKFBR","LK-FC-SKFBR","LK-FC-SKFBR","LK-FC-SKFBR","LK-FC-SKFBR","LK-FC-SKFBR","LK-FC-SKFBR","LK-FC-SKFBR","LK-FC-SKFBR"]
["LK-FC-SKFPW","Skirting Plinth Skiffer 75x30x30 Pewter","LK-FC-SKFPW","LK-FC-SKFPW","LK-FC-SKFPW","LK-FC-SKFPW","LK-FC-SKFPW","LK-FC-SKFPW","LK-FC-SKFPW","LK-FC-SKFPW","LK-FC-SKFPW","LK-FC-SKFPW","LK-FC-SKFPW","LK-FC-SKFPW","LK-FC-SKFPW","LK-FC-SKFPW","LK-FC-SKFPW","LK-FC-SKFPW","LK-FC-SKFPW"]
["LK-FC-JP43","Small Jointing Plate 43mm","LK-FC-JP43","LK-FC-JP43","LK-FC-JP43","LK-FC-JP43","LK-FC-JP43","LK-FC-JP43","LK-FC-JP43","LK-FC-JP43","LK-FC-JP43","LK-FC-JP43","LK-FC-JP43","LK-FC-JP43","LK-FC-JP43","LK-FC-JP43","LK-FC-JP43","LK-FC-JP43","LK-FC-JP43"]
["LK-FC-JP105","Jointing Plate/Door Connector 105mm","LK-FC-JP105","LK-FC-JP105","LK-FC-JP105","LK-FC-JP105","LK-FC-JP105","LK-FC-JP105","LK-FC-JP105","LK-FC-JP105","LK-FC-JP105","LK-FC-JP105","LK-FC-JP105","LK-FC-JP105","LK-FC-JP105","LK-FC-JP105","LK-FC-JP105","LK-FC-JP105","LK-FC-JP105"]
["VS-ST-150SSPO","Vauth Sagel SUB Slim 150 Pull Out","VS-ST-150SSPO","VS-ST-150SSPO","VS-ST-150SSPO","VS-ST-150SSPO","VS-ST-150SSPO","VS-ST-150SSPO","VS-ST-150SSPO","VS-ST-150SSPO","VS-ST-150SSPO","VS-ST-150SSPO","VS-ST-150SSPO","VS-ST-150SSPO","VS-ST-150SSPO","VS-ST-150SSPO","VS-ST-150SSPO","VS-ST-150SSPO","VS-ST-150SSPO"]
["VS-ST-300SSPO","Vauth Sagel SUB 300 Base Pull Out","VS-ST-300SSPO","VS-ST-300SSPO","VS-ST-300SSPO","VS-ST-300SSPO","VS-ST-300SSPO","VS-ST-300SSPO","VS-ST-300SSPO","VS-ST-300SSPO","VS-ST-300SSPO","VS-ST-300SSPO","VS-ST-300SSPO","VS-ST-300SSPO","VS-ST-300SSPO","VS-ST-300SSPO","VS-ST-300SSPO","VS-ST-300SSPO","VS-ST-300SSPO"]
["VS-ST-500CMPOLH","Vauth Sagel CORNERSTONE MAXX Pull Out 500 LH","VS-ST-500CMPOLH","VS-ST-500CMPOLH","VS-ST-500CMPOLH","VS-ST-500CMPOLH","VS-ST-500CMPOLH","VS-ST-500CMPOLH","VS-ST-500CMPOLH","VS-ST-500CMPOLH","VS-ST-500CMPOLH","VS-ST-500CMPOLH","VS-ST-500CMPOLH","VS-ST-500CMPOLH","VS-ST-500CMPOLH","VS-ST-500CMPOLH","VS-ST-500CMPOLH","VS-ST-500CMPOLH","VS-ST-500CMPOLH"]
["VS-ST-500CMPORH","Vauth Sagel CORNERSTONE MAXX Pull Out 500 RH","VS-ST-500CMPORH","VS-ST-500CMPORH","VS-ST-500CMPORH","VS-ST-500CMPORH","VS-ST-500CMPORH","VS-ST-500CMPORH","VS-ST-500CMPORH","VS-ST-500CMPORH","VS-ST-500CMPORH","VS-ST-500CMPORH","VS-ST-500CMPORH","VS-ST-500CMPORH","VS-ST-500CMPORH","VS-ST-500CMPORH","VS-ST-500CMPORH","VS-ST-500CMPORH","VS-ST-500CMPORH"]
["VS-ST-600CMPOLH","Vauth Sagel CORNERSTONE MAXX Pull Out 600 LH","VS-ST-600CMPOLH","VS-ST-600CMPOLH","VS-ST-600CMPOLH","VS-ST-600CMPOLH","VS-ST-600CMPOLH","VS-ST-600CMPOLH","VS-ST-600CMPOLH","VS-ST-600CMPOLH","VS-ST-600CMPOLH","VS-ST-600CMPOLH","VS-ST-600CMPOLH","VS-ST-600CMPOLH","VS-ST-600CMPOLH","VS-ST-600CMPOLH","VS-ST-600CMPOLH","VS-ST-600CMPOLH","VS-ST-600CMPOLH"]
["VS-ST-600CMPORH","Vauth Sagel CORNERSTONE MAXX Pull Out 600 RH","VS-ST-600CMPORH","VS-ST-600CMPORH","VS-ST-600CMPORH","VS-ST-600CMPORH","VS-ST-600CMPORH","VS-ST-600CMPORH","VS-ST-600CMPORH","VS-ST-600CMPORH","VS-ST-600CMPORH","VS-ST-600CMPORH","VS-ST-600CMPORH","VS-ST-600CMPORH","VS-ST-600CMPORH","VS-ST-600CMPORH","VS-ST-600CMPORH","VS-ST-600CMPORH","VS-ST-600CMPORH"]
["VS-ST-CMEXTPO","Vauth Sagel CORNERSTONE MAXX Extension Pole","VS-ST-CMEXTPO","VS-ST-CMEXTPO","VS-ST-CMEXTPO","VS-ST-CMEXTPO","VS-ST-CMEXTPO","VS-ST-CMEXTPO","VS-ST-CMEXTPO","VS-ST-CMEXTPO","VS-ST-CMEXTPO","VS-ST-CMEXTPO","VS-ST-CMEXTPO","VS-ST-CMEXTPO","VS-ST-CMEXTPO","VS-ST-CMEXTPO","VS-ST-CMEXTPO","VS-ST-CMEXTPO","VS-ST-CMEXTPO"]
["VS-ST-450CFPO","Vauth Sagel COR FLEX 450 Door","VS-ST-450CFPO","VS-ST-450CFPO","VS-ST-450CFPO","VS-ST-450CFPO","VS-ST-450CFPO","VS-ST-450CFPO","VS-ST-450CFPO","VS-ST-450CFPO","VS-ST-450CFPO","VS-ST-450CFPO","VS-ST-450CFPO","VS-ST-450CFPO","VS-ST-450CFPO","VS-ST-450CFPO","VS-ST-450CFPO","VS-ST-450CFPO","VS-ST-450CFPO"]
["VS-ST-500CFPO","Vauth Sagel COR FLEX 500/600 Door","VS-ST-500CFPO","VS-ST-500CFPO","VS-ST-500CFPO","VS-ST-500CFPO","VS-ST-500CFPO","VS-ST-500CFPO","VS-ST-500CFPO","VS-ST-500CFPO","VS-ST-500CFPO","VS-ST-500CFPO","VS-ST-500CFPO","VS-ST-500CFPO","VS-ST-500CFPO","VS-ST-500CFPO","VS-ST-500CFPO","VS-ST-500CFPO","VS-ST-500CFPO"]
["VS-ST-300TLPO","Vauth Sagel TAL Larder 300 Pull Out","VS-ST-300TLPO","VS-ST-300TLPO","VS-ST-300TLPO","VS-ST-300TLPO","VS-ST-300TLPO","VS-ST-300TLPO","VS-ST-300TLPO","VS-ST-300TLPO","VS-ST-300TLPO","VS-ST-300TLPO","VS-ST-300TLPO","VS-ST-300TLPO","VS-ST-300TLPO","VS-ST-300TLPO","VS-ST-300TLPO","VS-ST-300TLPO","VS-ST-300TLPO"]
["VS-ST-400TLPO","Vauth Sagel TAL Larder 400 Pull Out","VS-ST-400TLPO","VS-ST-400TLPO","VS-ST-400TLPO","VS-ST-400TLPO","VS-ST-400TLPO","VS-ST-400TLPO","VS-ST-400TLPO","VS-ST-400TLPO","VS-ST-400TLPO","VS-ST-400TLPO","VS-ST-400TLPO","VS-ST-400TLPO","VS-ST-400TLPO","VS-ST-400TLPO","VS-ST-400TLPO","VS-ST-400TLPO","VS-ST-400TLPO"]
["VS-ST-500TGPO","Vauth Sagel TAL GATE 500 Larder Pull Out","VS-ST-500TGPO","VS-ST-500TGPO","VS-ST-500TGPO","VS-ST-500TGPO","VS-ST-500TGPO","VS-ST-500TGPO","VS-ST-500TGPO","VS-ST-500TGPO","VS-ST-500TGPO","VS-ST-500TGPO","VS-ST-500TGPO","VS-ST-500TGPO","VS-ST-500TGPO","VS-ST-500TGPO","VS-ST-500TGPO","VS-ST-500TGPO","VS-ST-500TGPO"]
["VS-ST-600TGPO","Vauth Sagel TAL GATE 600 Larder Pull Out","VS-ST-600TGPO","VS-ST-600TGPO","VS-ST-600TGPO","VS-ST-600TGPO","VS-ST-600TGPO","VS-ST-600TGPO","VS-ST-600TGPO","VS-ST-600TGPO","VS-ST-600TGPO","VS-ST-600TGPO","VS-ST-600TGPO","VS-ST-600TGPO","VS-ST-600TGPO","VS-ST-600TGPO","VS-ST-600TGPO","VS-ST-600TGPO","VS-ST-600TGPO"]
["VS-ST-500TGPRPO","Vauth Sagel TAL GATE PRO 500 Larder Pull Out","VS-ST-500TGPRPO","VS-ST-500TGPRPO","VS-ST-500TGPRPO","VS-ST-500TGPRPO","VS-ST-500TGPRPO","VS-ST-500TGPRPO","VS-ST-500TGPRPO","VS-ST-500TGPRPO","VS-ST-500TGPRPO","VS-ST-500TGPRPO","VS-ST-500TGPRPO","VS-ST-500TGPRPO","VS-ST-500TGPRPO","VS-ST-500TGPRPO","VS-ST-500TGPRPO","VS-ST-500TGPRPO","VS-ST-500TGPRPO"]
["VS-ST-600TGPRPO","Vauth Sagel TAL GATE PRO 600 Larder Pull Out","VS-ST-600TGPRPO","VS-ST-600TGPRPO","VS-ST-600TGPRPO","VS-ST-600TGPRPO","VS-ST-600TGPRPO","VS-ST-600TGPRPO","VS-ST-600TGPRPO","VS-ST-600TGPRPO","VS-ST-600TGPRPO","VS-ST-600TGPRPO","VS-ST-600TGPRPO","VS-ST-600TGPRPO","VS-ST-600TGPRPO","VS-ST-600TGPRPO","VS-ST-600TGPRPO","VS-ST-600TGPRPO","VS-ST-600TGPRPO"]
["@LK-ST-BAMC46","AMBIA-LINE Cutlery Insert Kit 400-600 Drawer","@LK-ST-BAMC46","@LK-ST-BAMC46","@LK-ST-BAMC46","@LK-ST-BAMC46","@LK-ST-BAMC46","@LK-ST-BAMC46","@LK-ST-BAMC46","@LK-ST-BAMC46","@LK-ST-BAMC46","@LK-ST-BAMC46","@LK-ST-BAMC46","@LK-ST-BAMC46","@LK-ST-BAMC46","@LK-ST-BAMC46","@LK-ST-BAMC46","@LK-ST-BAMC46","@LK-ST-BAMC46"]
["@LK-ST-BAMC68","AMBIA-LINE Cutlery Insert Kit 600-800 Drawer","@LK-ST-BAMC68","@LK-ST-BAMC68","@LK-ST-BAMC68","@LK-ST-BAMC68","@LK-ST-BAMC68","@LK-ST-BAMC68","@LK-ST-BAMC68","@LK-ST-BAMC68","@LK-ST-BAMC68","@LK-ST-BAMC68","@LK-ST-BAMC68","@LK-ST-BAMC68","@LK-ST-BAMC68","@LK-ST-BAMC68","@LK-ST-BAMC68","@LK-ST-BAMC68","@LK-ST-BAMC68"]
["@LK-ST-BAMC810","AMBIA-LINE Cutlery Insert Kit 800-1000 Drawer","@LK-ST-BAMC810","@LK-ST-BAMC810","@LK-ST-BAMC810","@LK-ST-BAMC810","@LK-ST-BAMC810","@LK-ST-BAMC810","@LK-ST-BAMC810","@LK-ST-BAMC810","@LK-ST-BAMC810","@LK-ST-BAMC810","@LK-ST-BAMC810","@LK-ST-BAMC810","@LK-ST-BAMC810","@LK-ST-BAMC810","@LK-ST-BAMC810","@LK-ST-BAMC810","@LK-ST-BAMC810"]
["@LK-ST-BAMF46","AMBIA-LINE Pan Drawer Frame Insert Kit 400-600 Drawer","@LK-ST-BAMF46","@LK-ST-BAMF46","@LK-ST-BAMF46","@LK-ST-BAMF46","@LK-ST-BAMF46","@LK-ST-BAMF46","@LK-ST-BAMF46","@LK-ST-BAMF46","@LK-ST-BAMF46","@LK-ST-BAMF46","@LK-ST-BAMF46","@LK-ST-BAMF46","@LK-ST-BAMF46","@LK-ST-BAMF46","@LK-ST-BAMF46","@LK-ST-BAMF46","@LK-ST-BAMF46"]
["@LK-ST-BAMF68","AMBIA-LINE Pan Drawer Frame Insert Kit 600-800 Drawer","@LK-ST-BAMF68","@LK-ST-BAMF68","@LK-ST-BAMF68","@LK-ST-BAMF68","@LK-ST-BAMF68","@LK-ST-BAMF68","@LK-ST-BAMF68","@LK-ST-BAMF68","@LK-ST-BAMF68","@LK-ST-BAMF68","@LK-ST-BAMF68","@LK-ST-BAMF68","@LK-ST-BAMF68","@LK-ST-BAMF68","@LK-ST-BAMF68","@LK-ST-BAMF68","@LK-ST-BAMF68"]
["@LK-ST-BAMF810","AMBIA-LINE Pan Drawer Frame Insert Kit 800-1000 Drawer","@LK-ST-BAMF810","@LK-ST-BAMF810","@LK-ST-BAMF810","@LK-ST-BAMF810","@LK-ST-BAMF810","@LK-ST-BAMF810","@LK-ST-BAMF810","@LK-ST-BAMF810","@LK-ST-BAMF810","@LK-ST-BAMF810","@LK-ST-BAMF810","@LK-ST-BAMF810","@LK-ST-BAMF810","@LK-ST-BAMF810","@LK-ST-BAMF810","@LK-ST-BAMF810","@LK-ST-BAMF810"]
["@LK-ST-BAMU46","AMBIA-LINE Utensil Insert Kit 400-600 Drawer","@LK-ST-BAMU46","@LK-ST-BAMU46","@LK-ST-BAMU46","@LK-ST-BAMU46","@LK-ST-BAMU46","@LK-ST-BAMU46","@LK-ST-BAMU46","@LK-ST-BAMU46","@LK-ST-BAMU46","@LK-ST-BAMU46","@LK-ST-BAMU46","@LK-ST-BAMU46","@LK-ST-BAMU46","@LK-ST-BAMU46","@LK-ST-BAMU46","@LK-ST-BAMU46","@LK-ST-BAMU46"]
["@LK-ST-BAMU68","AMBIA-LINE Utensil Insert Kit 600-800 Drawer","@LK-ST-BAMU68","@LK-ST-BAMU68","@LK-ST-BAMU68","@LK-ST-BAMU68","@LK-ST-BAMU68","@LK-ST-BAMU68","@LK-ST-BAMU68","@LK-ST-BAMU68","@LK-ST-BAMU68","@LK-ST-BAMU68","@LK-ST-BAMU68","@LK-ST-BAMU68","@LK-ST-BAMU68","@LK-ST-BAMU68","@LK-ST-BAMU68","@LK-ST-BAMU68","@LK-ST-BAMU68"]
["@LK-ST-BAMU810","AMBIA-LINE Utensil Insert Kit 800-1000 Drawer","@LK-ST-BAMU810","@LK-ST-BAMU810","@LK-ST-BAMU810","@LK-ST-BAMU810","@LK-ST-BAMU810","@LK-ST-BAMU810","@LK-ST-BAMU810","@LK-ST-BAMU810","@LK-ST-BAMU810","@LK-ST-BAMU810","@LK-ST-BAMU810","@LK-ST-BAMU810","@LK-ST-BAMU810","@LK-ST-BAMU810","@LK-ST-BAMU810","@LK-ST-BAMU810","@LK-ST-BAMU810"]
["LK-ST-BAMC46","AMBIA-LINE Cutlery Tray D450 x W300","LK-ST-BAMC46","LK-ST-BAMC46","LK-ST-BAMC46","LK-ST-BAMC46","LK-ST-BAMC46","LK-ST-BAMC46","LK-ST-BAMC46","LK-ST-BAMC46","LK-ST-BAMC46","LK-ST-BAMC46","LK-ST-BAMC46","LK-ST-BAMC46","LK-ST-BAMC46","LK-ST-BAMC46","LK-ST-BAMC46","LK-ST-BAMC46","LK-ST-BAMC46"]
["LK-ST-BAMNF","AMBIA-LINE Curlery Insert Narrow Frame D450 x W100","LK-ST-BAMNF","LK-ST-BAMNF","LK-ST-BAMNF","LK-ST-BAMNF","LK-ST-BAMNF","LK-ST-BAMNF","LK-ST-BAMNF","LK-ST-BAMNF","LK-ST-BAMNF","LK-ST-BAMNF","LK-ST-BAMNF","LK-ST-BAMNF","LK-ST-BAMNF","LK-ST-BAMNF","LK-ST-BAMNF","LK-ST-BAMNF","LK-ST-BAMNF"]
["LK-ST-BAMWF","AMBIA-LINE Cutlery Insert Wide Frame D450 x W200","LK-ST-BAMWF","LK-ST-BAMWF","LK-ST-BAMWF","LK-ST-BAMWF","LK-ST-BAMWF","LK-ST-BAMWF","LK-ST-BAMWF","LK-ST-BAMWF","LK-ST-BAMWF","LK-ST-BAMWF","LK-ST-BAMWF","LK-ST-BAMWF","LK-ST-BAMWF","LK-ST-BAMWF","LK-ST-BAMWF","LK-ST-BAMWF","LK-ST-BAMWF"]
["LK-ST-BAMKH","AMBIA-LINE Knife Holder","LK-ST-BAMKH","LK-ST-BAMKH","LK-ST-BAMKH","LK-ST-BAMKH","LK-ST-BAMKH","LK-ST-BAMKH","LK-ST-BAMKH","LK-ST-BAMKH","LK-ST-BAMKH","LK-ST-BAMKH","LK-ST-BAMKH","LK-ST-BAMKH","LK-ST-BAMKH","LK-ST-BAMKH","LK-ST-BAMKH","LK-ST-BAMKH","LK-ST-BAMKH"]
["LK-ST-BAMSH","AMBIA-LINE Spice Holder","LK-ST-BAMSH","LK-ST-BAMSH","LK-ST-BAMSH","LK-ST-BAMSH","LK-ST-BAMSH","LK-ST-BAMSH","LK-ST-BAMSH","LK-ST-BAMSH","LK-ST-BAMSH","LK-ST-BAMSH","LK-ST-BAMSH","LK-ST-BAMSH","LK-ST-BAMSH","LK-ST-BAMSH","LK-ST-BAMSH","LK-ST-BAMSH","LK-ST-BAMSH"]
["LK-ST-BAMFFD","AMBIA-LINE Foil & Film Dispenser D450 x W200","LK-ST-BAMFFD","LK-ST-BAMFFD","LK-ST-BAMFFD","LK-ST-BAMFFD","LK-ST-BAMFFD","LK-ST-BAMFFD","LK-ST-BAMFFD","LK-ST-BAMFFD","LK-ST-BAMFFD","LK-ST-BAMFFD","LK-ST-BAMFFD","LK-ST-BAMFFD","LK-ST-BAMFFD","LK-ST-BAMFFD","LK-ST-BAMFFD","LK-ST-BAMFFD","LK-ST-BAMFFD"]
["LK-ST-BAMHF","AMBIA-LINE Pan Drawer High Frame","LK-ST-BAMHF","LK-ST-BAMHF","LK-ST-BAMHF","LK-ST-BAMHF","LK-ST-BAMHF","LK-ST-BAMHF","LK-ST-BAMHF","LK-ST-BAMHF","LK-ST-BAMHF","LK-ST-BAMHF","LK-ST-BAMHF","LK-ST-BAMHF","LK-ST-BAMHF","LK-ST-BAMHF","LK-ST-BAMHF","LK-ST-BAMHF","LK-ST-BAMHF"]
["@LK-ST-BAMDV46","AMBIA-LINE Pan Drawer Cross Divider Kit 400-600 Drawer","@LK-ST-BAMDV46","@LK-ST-BAMDV46","@LK-ST-BAMDV46","@LK-ST-BAMDV46","@LK-ST-BAMDV46","@LK-ST-BAMDV46","@LK-ST-BAMDV46","@LK-ST-BAMDV46","@LK-ST-BAMDV46","@LK-ST-BAMDV46","@LK-ST-BAMDV46","@LK-ST-BAMDV46","@LK-ST-BAMDV46","@LK-ST-BAMDV46","@LK-ST-BAMDV46","@LK-ST-BAMDV46","@LK-ST-BAMDV46"]
["@LK-ST-BAMDV610","AMBIA-LINE Pan Drawer Cross Divider Kit 600-1000 Drawer","@LK-ST-BAMDV610","@LK-ST-BAMDV610","@LK-ST-BAMDV610","@LK-ST-BAMDV610","@LK-ST-BAMDV610","@LK-ST-BAMDV610","@LK-ST-BAMDV610","@LK-ST-BAMDV610","@LK-ST-BAMDV610","@LK-ST-BAMDV610","@LK-ST-BAMDV610","@LK-ST-BAMDV610","@LK-ST-BAMDV610","@LK-ST-BAMDV610","@LK-ST-BAMDV610","@LK-ST-BAMDV610","@LK-ST-BAMDV610"]
[]
[]
[]
[null,"Nova Mini 3 Light Kit NW",null,"@VL-K01-0171NW-3","@VL-K01-0171NW-3","@VL-K01-0171NW-3","@VL-K01-0171NW-3","@VL-K01-0171NW-3","@VL-K01-0171NW-3","@VL-K01-0171NW-3","@VL-K01-0171NW-3","@VL-K01-0171NW-3","@VL-K01-0171NW-3","@VL-K01-0171NW-3","@VL-K01-0171NW-3","@VL-K01-0171NW-3","@VL-K01-0171NW-3","@VL-K01-0171NW-3","@VL-K01-0171NW-3"]
[null,"Nova Mini 5 Light Kit NW",null,"@VL-K01-0171NW-5","@VL-K01-0171NW-5","@VL-K01-0171NW-5","@VL-K01-0171NW-5","@VL-K01-0171NW-5","@VL-K01-0171NW-5","@VL-K01-0171NW-5","@VL-K01-0171NW-5","@VL-K01-0171NW-5","@VL-K01-0171NW-5","@VL-K01-0171NW-5","@VL-K01-0171NW-5","@VL-K01-0171NW-5","@VL-K01-0171NW-5","@VL-K01-0171NW-5","@VL-K01-0171NW-5"]
[null,"Nova Mini 3 Light Kit WW",null,"@VL-K01-0171WW-3","@VL-K01-0171WW-3","@VL-K01-0171WW-3","@VL-K01-0171WW-3","@VL-K01-0171WW-3","@VL-K01-0171WW-3","@VL-K01-0171WW-3","@VL-K01-0171WW-3","@VL-K01-0171WW-3","@VL-K01-0171WW-3","@VL-K01-0171WW-3","@VL-K01-0171WW-3","@VL-K01-0171WW-3","@VL-K01-0171WW-3","@VL-K01-0171WW-3","@VL-K01-0171WW-3"]
[null,"Nova Mini 5 Light Kit WW",null,"@VL-K01-0171WW-5","@VL-K01-0171WW-5","@VL-K01-0171WW-5","@VL-K01-0171WW-5","@VL-K01-0171WW-5","@VL-K01-0171WW-5","@VL-K01-0171WW-5","@VL-K01-0171WW-5","@VL-K01-0171WW-5","@VL-K01-0171WW-5","@VL-K01-0171WW-5","@VL-K01-0171WW-5","@VL-K01-0171WW-5","@VL-K01-0171WW-5","@VL-K01-0171WW-5","@VL-K01-0171WW-5"]
[null,"Nova Mini LED Ultra Thin Light NW",null,"VL-K01-0171NW","VL-K01-0171NW","VL-K01-0171NW","VL-K01-0171NW","VL-K01-0171NW","VL-K01-0171NW","VL-K01-0171NW","VL-K01-0171NW","VL-K01-0171NW","VL-K01-0171NW","VL-K01-0171NW","VL-K01-0171NW","VL-K01-0171NW","VL-K01-0171NW","VL-K01-0171NW","VL-K01-0171NW"]
[null,"Nova Mini LED Ultra Thin Light WW",null,"VL-K01-0171WW","VL-K01-0171WW","VL-K01-0171WW","VL-K01-0171WW","VL-K01-0171WW","VL-K01-0171WW","VL-K01-0171WW","VL-K01-0171WW","VL-K01-0171WW","VL-K01-0171WW","VL-K01-0171WW","VL-K01-0171WW","VL-K01-0171WW","VL-K01-0171WW","VL-K01-0171WW","VL-K01-0171WW"]
[null,"Galaxy COB Triangular 3 Light Kit NW",null,"@VL-K01-0120SSNW-3","@VL-K01-0120SSNW-3","@VL-K01-0120SSNW-3","@VL-K01-0120SSNW-3","@VL-K01-0120SSNW-3","@VL-K01-0120SSNW-3","@VL-K01-0120SSNW-3","@VL-K01-0120SSNW-3","@VL-K01-0120SSNW-3","@VL-K01-0120SSNW-3","@VL-K01-0120SSNW-3","@VL-K01-0120SSNW-3","@VL-K01-0120SSNW-3","@VL-K01-0120SSNW-3","@VL-K01-0120SSNW-3","@VL-K01-0120SSNW-3"]
[null,"Galaxy COB Triangular 5 Light Kit NW",null,"@VL-K01-0120SSNW-5","@VL-K01-0120SSNW-5","@VL-K01-0120SSNW-5","@VL-K01-0120SSNW-5","@VL-K01-0120SSNW-5","@VL-K01-0120SSNW-5","@VL-K01-0120SSNW-5","@VL-K01-0120SSNW-5","@VL-K01-0120SSNW-5","@VL-K01-0120SSNW-5","@VL-K01-0120SSNW-5","@VL-K01-0120SSNW-5","@VL-K01-0120SSNW-5","@VL-K01-0120SSNW-5","@VL-K01-0120SSNW-5","@VL-K01-0120SSNW-5"]
[null,"Galaxy COB Triangular 3 Light Kit WW",null,"@VL-K01-0120SSWW-3","@VL-K01-0120SSWW-3","@VL-K01-0120SSWW-3","@VL-K01-0120SSWW-3","@VL-K01-0120SSWW-3","@VL-K01-0120SSWW-3","@VL-K01-0120SSWW-3","@VL-K01-0120SSWW-3","@VL-K01-0120SSWW-3","@VL-K01-0120SSWW-3","@VL-K01-0120SSWW-3","@VL-K01-0120SSWW-3","@VL-K01-0120SSWW-3","@VL-K01-0120SSWW-3","@VL-K01-0120SSWW-3","@VL-K01-0120SSWW-3"]
[null,"Galaxy COB Triangular 5 Light Kit WW",null,"@VL-K01-0120SSWW-5","@VL-K01-0120SSWW-5","@VL-K01-0120SSWW-5","@VL-K01-0120SSWW-5","@VL-K01-0120SSWW-5","@VL-K01-0120SSWW-5","@VL-K01-0120SSWW-5","@VL-K01-0120SSWW-5","@VL-K01-0120SSWW-5","@VL-K01-0120SSWW-5","@VL-K01-0120SSWW-5","@VL-K01-0120SSWW-5","@VL-K01-0120SSWW-5","@VL-K01-0120SSWW-5","@VL-K01-0120SSWW-5","@VL-K01-0120SSWW-5"]
[null,"Galaxy COB LED Triangular Light NW",null,"VL-K01-0120SSNW","VL-K01-0120SSNW","VL-K01-0120SSNW","VL-K01-0120SSNW","VL-K01-0120SSNW","VL-K01-0120SSNW","VL-K01-0120SSNW","VL-K01-0120SSNW","VL-K01-0120SSNW","VL-K01-0120SSNW","VL-K01-0120SSNW","VL-K01-0120SSNW","VL-K01-0120SSNW","VL-K01-0120SSNW","VL-K01-0120SSNW","VL-K01-0120SSNW"]
[null,"Galaxy COB LED Triangular Light WW",null,"VL-K01-0120SSWW","VL-K01-0120SSWW","VL-K01-0120SSWW","VL-K01-0120SSWW","VL-K01-0120SSWW","VL-K01-0120SSWW","VL-K01-0120SSWW","VL-K01-0120SSWW","VL-K01-0120SSWW","VL-K01-0120SSWW","VL-K01-0120SSWW","VL-K01-0120SSWW","VL-K01-0120SSWW","VL-K01-0120SSWW","VL-K01-0120SSWW","VL-K01-0120SSWW"]
[null,"Galaxy COB Round 3 Light Kit NW",null,"@VL-K01-0102SSNW-3","@VL-K01-0102SSNW-3","@VL-K01-0102SSNW-3","@VL-K01-0102SSNW-3","@VL-K01-0102SSNW-3","@VL-K01-0102SSNW-3","@VL-K01-0102SSNW-3","@VL-K01-0102SSNW-3","@VL-K01-0102SSNW-3","@VL-K01-0102SSNW-3","@VL-K01-0102SSNW-3","@VL-K01-0102SSNW-3","@VL-K01-0102SSNW-3","@VL-K01-0102SSNW-3","@VL-K01-0102SSNW-3","@VL-K01-0102SSNW-3"]
[null,"Galaxy COB Round 5 Light Kit NW",null,"@VL-K01-0102SSNW-5","@VL-K01-0102SSNW-5","@VL-K01-0102SSNW-5","@VL-K01-0102SSNW-5","@VL-K01-0102SSNW-5","@VL-K01-0102SSNW-5","@VL-K01-0102SSNW-5","@VL-K01-0102SSNW-5","@VL-K01-0102SSNW-5","@VL-K01-0102SSNW-5","@VL-K01-0102SSNW-5","@VL-K01-0102SSNW-5","@VL-K01-0102SSNW-5","@VL-K01-0102SSNW-5","@VL-K01-0102SSNW-5","@VL-K01-0102SSNW-5"]
[null,"Galaxy COB Round 3 Light Kit WW",null,"@VL-K01-0102SSWW-3","@VL-K01-0102SSWW-3","@VL-K01-0102SSWW-3","@VL-K01-0102SSWW-3","@VL-K01-0102SSWW-3","@VL-K01-0102SSWW-3","@VL-K01-0102SSWW-3","@VL-K01-0102SSWW-3","@VL-K01-0102SSWW-3","@VL-K01-0102SSWW-3","@VL-K01-0102SSWW-3","@VL-K01-0102SSWW-3","@VL-K01-0102SSWW-3","@VL-K01-0102SSWW-3","@VL-K01-0102SSWW-3","@VL-K01-0102SSWW-3"]
[null,"Galaxy COB Round 5 Light Kit WW",null,"@VL-K01-0102SSWW-5","@VL-K01-0102SSWW-5","@VL-K01-0102SSWW-5","@VL-K01-0102SSWW-5","@VL-K01-0102SSWW-5","@VL-K01-0102SSWW-5","@VL-K01-0102SSWW-5","@VL-K01-0102SSWW-5","@VL-K01-0102SSWW-5","@VL-K01-0102SSWW-5","@VL-K01-0102SSWW-5","@VL-K01-0102SSWW-5","@VL-K01-0102SSWW-5","@VL-K01-0102SSWW-5","@VL-K01-0102SSWW-5","@VL-K01-0102SSWW-5"]
[null,"Galaxy COB LED Round Light NW",null,"VL-K01-0102SSNW","VL-K01-0102SSNW","VL-K01-0102SSNW","VL-K01-0102SSNW","VL-K01-0102SSNW","VL-K01-0102SSNW","VL-K01-0102SSNW","VL-K01-0102SSNW","VL-K01-0102SSNW","VL-K01-0102SSNW","VL-K01-0102SSNW","VL-K01-0102SSNW","VL-K01-0102SSNW","VL-K01-0102SSNW","VL-K01-0102SSNW","VL-K01-0102SSNW"]
[null,"Galaxy COB LED Round Light WW",null,"VL-K01-0102SSWW","VL-K01-0102SSWW","VL-K01-0102SSWW","VL-K01-0102SSWW","VL-K01-0102SSWW","VL-K01-0102SSWW","VL-K01-0102SSWW","VL-K01-0102SSWW","VL-K01-0102SSWW","VL-K01-0102SSWW","VL-K01-0102SSWW","VL-K01-0102SSWW","VL-K01-0102SSWW","VL-K01-0102SSWW","VL-K01-0102SSWW","VL-K01-0102SSWW"]
[null,"Slim Square Panel 3 Light Kit NW",null,"@VL-K01-0190NW-3","@VL-K01-0190NW-3","@VL-K01-0190NW-3","@VL-K01-0190NW-3","@VL-K01-0190NW-3","@VL-K01-0190NW-3","@VL-K01-0190NW-3","@VL-K01-0190NW-3","@VL-K01-0190NW-3","@VL-K01-0190NW-3","@VL-K01-0190NW-3","@VL-K01-0190NW-3","@VL-K01-0190NW-3","@VL-K01-0190NW-3","@VL-K01-0190NW-3","@VL-K01-0190NW-3"]
[null,"Slim Square Panel 5 Light Kit NW",null,"@VL-K01-0190NW-5","@VL-K01-0190NW-5","@VL-K01-0190NW-5","@VL-K01-0190NW-5","@VL-K01-0190NW-5","@VL-K01-0190NW-5","@VL-K01-0190NW-5","@VL-K01-0190NW-5","@VL-K01-0190NW-5","@VL-K01-0190NW-5","@VL-K01-0190NW-5","@VL-K01-0190NW-5","@VL-K01-0190NW-5","@VL-K01-0190NW-5","@VL-K01-0190NW-5","@VL-K01-0190NW-5"]
[null,"Slim Square Panel 3 Light Kit WW",null,"@VL-K01-0190WW-3","@VL-K01-0190WW-3","@VL-K01-0190WW-3","@VL-K01-0190WW-3","@VL-K01-0190WW-3","@VL-K01-0190WW-3","@VL-K01-0190WW-3","@VL-K01-0190WW-3","@VL-K01-0190WW-3","@VL-K01-0190WW-3","@VL-K01-0190WW-3","@VL-K01-0190WW-3","@VL-K01-0190WW-3","@VL-K01-0190WW-3","@VL-K01-0190WW-3","@VL-K01-0190WW-3"]
[null,"Slim Square Panel 5 Light Kit WW",null,"@VL-K01-0190WW-5","@VL-K01-0190WW-5","@VL-K01-0190WW-5","@VL-K01-0190WW-5","@VL-K01-0190WW-5","@VL-K01-0190WW-5","@VL-K01-0190WW-5","@VL-K01-0190WW-5","@VL-K01-0190WW-5","@VL-K01-0190WW-5","@VL-K01-0190WW-5","@VL-K01-0190WW-5","@VL-K01-0190WW-5","@VL-K01-0190WW-5","@VL-K01-0190WW-5","@VL-K01-0190WW-5"]
[null,"Slim Square Panel Light 100x100 NW",null,"VL-K01-0190SLNW","VL-K01-0190SLNW","VL-K01-0190SLNW","VL-K01-0190SLNW","VL-K01-0190SLNW","VL-K01-0190SLNW","VL-K01-0190SLNW","VL-K01-0190SLNW","VL-K01-0190SLNW","VL-K01-0190SLNW","VL-K01-0190SLNW","VL-K01-0190SLNW","VL-K01-0190SLNW","VL-K01-0190SLNW","VL-K01-0190SLNW","VL-K01-0190SLNW"]
[null,"Slim Square Panel Light 100x100 WW",null,"VL-K01-0190SLWW","VL-K01-0190SLWW","VL-K01-0190SLWW","VL-K01-0190SLWW","VL-K01-0190SLWW","VL-K01-0190SLWW","VL-K01-0190SLWW","VL-K01-0190SLWW","VL-K01-0190SLWW","VL-K01-0190SLWW","VL-K01-0190SLWW","VL-K01-0190SLWW","VL-K01-0190SLWW","VL-K01-0190SLWW","VL-K01-0190SLWW","VL-K01-0190SLWW"]
[null,"Slim Rectangular Panel 3 Light Kit NW",null,"@VL-K01-0191NW-3","@VL-K01-0191NW-3","@VL-K01-0191NW-3","@VL-K01-0191NW-3","@VL-K01-0191NW-3","@VL-K01-0191NW-3","@VL-K01-0191NW-3","@VL-K01-0191NW-3","@VL-K01-0191NW-3","@VL-K01-0191NW-3","@VL-K01-0191NW-3","@VL-K01-0191NW-3","@VL-K01-0191NW-3","@VL-K01-0191NW-3","@VL-K01-0191NW-3","@VL-K01-0191NW-3"]
[null,"Slim Rectangular Panel 5 Light Kit NW",null,"@VL-K01-0191NW-5","@VL-K01-0191NW-5","@VL-K01-0191NW-5","@VL-K01-0191NW-5","@VL-K01-0191NW-5","@VL-K01-0191NW-5","@VL-K01-0191NW-5","@VL-K01-0191NW-5","@VL-K01-0191NW-5","@VL-K01-0191NW-5","@VL-K01-0191NW-5","@VL-K01-0191NW-5","@VL-K01-0191NW-5","@VL-K01-0191NW-5","@VL-K01-0191NW-5","@VL-K01-0191NW-5"]
[null,"Slim Rectangular Panel 3 Light Kit WW",null,"@VL-K01-0191WW-3","@VL-K01-0191WW-3","@VL-K01-0191WW-3","@VL-K01-0191WW-3","@VL-K01-0191WW-3","@VL-K01-0191WW-3","@VL-K01-0191WW-3","@VL-K01-0191WW-3","@VL-K01-0191WW-3","@VL-K01-0191WW-3","@VL-K01-0191WW-3","@VL-K01-0191WW-3","@VL-K01-0191WW-3","@VL-K01-0191WW-3","@VL-K01-0191WW-3","@VL-K01-0191WW-3"]
[null,"Slim Rectangular Panel 5 Light Kit WW",null,"@VL-K01-0191WW-5","@VL-K01-0191WW-5","@VL-K01-0191WW-5","@VL-K01-0191WW-5","@VL-K01-0191WW-5","@VL-K01-0191WW-5","@VL-K01-0191WW-5","@VL-K01-0191WW-5","@VL-K01-0191WW-5","@VL-K01-0191WW-5","@VL-K01-0191WW-5","@VL-K01-0191WW-5","@VL-K01-0191WW-5","@VL-K01-0191WW-5","@VL-K01-0191WW-5","@VL-K01-0191WW-5"]
[null,"Slim Rectangular Panel Light 200x100 NW",null,"VL-K01-0191SLNW","VL-K01-0191SLNW","VL-K01-0191SLNW","VL-K01-0191SLNW","VL-K01-0191SLNW","VL-K01-0191SLNW","VL-K01-0191SLNW","VL-K01-0191SLNW","VL-K01-0191SLNW","VL-K01-0191SLNW","VL-K01-0191SLNW","VL-K01-0191SLNW","VL-K01-0191SLNW","VL-K01-0191SLNW","VL-K01-0191SLNW","VL-K01-0191SLNW"]
[null,"Slim Rectangular Panel Light 200x100 WW",null,"VL-K01-0191SLWW","VL-K01-0191SLWW","VL-K01-0191SLWW","VL-K01-0191SLWW","VL-K01-0191SLWW","VL-K01-0191SLWW","VL-K01-0191SLWW","VL-K01-0191SLWW","VL-K01-0191SLWW","VL-K01-0191SLWW","VL-K01-0191SLWW","VL-K01-0191SLWW","VL-K01-0191SLWW","VL-K01-0191SLWW","VL-K01-0191SLWW","VL-K01-0191SLWW"]
[null,"2 Metre Extension Cable",null,"VL-R90-0131","VL-R90-0131","VL-R90-0131","VL-R90-0131","VL-R90-0131","VL-R90-0131","VL-R90-0131","VL-R90-0131","VL-R90-0131","VL-R90-0131","VL-R90-0131","VL-R90-0131","VL-R90-0131","VL-R90-0131","VL-R90-0131","VL-R90-0131"]
[null,"Sola Round Plinth 4 Light Kit NW",null,"VL-K01-0030K4PCNW","VL-K01-0030K4PCNW","VL-K01-0030K4PCNW","VL-K01-0030K4PCNW","VL-K01-0030K4PCNW","VL-K01-0030K4PCNW","VL-K01-0030K4PCNW","VL-K01-0030K4PCNW","VL-K01-0030K4PCNW","VL-K01-0030K4PCNW","VL-K01-0030K4PCNW","VL-K01-0030K4PCNW","VL-K01-0030K4PCNW","VL-K01-0030K4PCNW","VL-K01-0030K4PCNW","VL-K01-0030K4PCNW"]
[null,"Sola Round Plinth 4 Light Kit WW",null,"VL-K01-0030K4PCWW","VL-K01-0030K4PCWW","VL-K01-0030K4PCWW","VL-K01-0030K4PCWW","VL-K01-0030K4PCWW","VL-K01-0030K4PCWW","VL-K01-0030K4PCWW","VL-K01-0030K4PCWW","VL-K01-0030K4PCWW","VL-K01-0030K4PCWW","VL-K01-0030K4PCWW","VL-K01-0030K4PCWW","VL-K01-0030K4PCWW","VL-K01-0030K4PCWW","VL-K01-0030K4PCWW","VL-K01-0030K4PCWW"]
[null,"Sola Round Plinth 8 Light Kit NW",null,"VL-K01-0030K8PCNW","VL-K01-0030K8PCNW","VL-K01-0030K8PCNW","VL-K01-0030K8PCNW","VL-K01-0030K8PCNW","VL-K01-0030K8PCNW","VL-K01-0030K8PCNW","VL-K01-0030K8PCNW","VL-K01-0030K8PCNW","VL-K01-0030K8PCNW","VL-K01-0030K8PCNW","VL-K01-0030K8PCNW","VL-K01-0030K8PCNW","VL-K01-0030K8PCNW","VL-K01-0030K8PCNW","VL-K01-0030K8PCNW"]
[null,"Sola Round Plinth 8 Light Kit WW",null,"VL-K01-0030K8PCWW","VL-K01-0030K8PCWW","VL-K01-0030K8PCWW","VL-K01-0030K8PCWW","VL-K01-0030K8PCWW","VL-K01-0030K8PCWW","VL-K01-0030K8PCWW","VL-K01-0030K8PCWW","VL-K01-0030K8PCWW","VL-K01-0030K8PCWW","VL-K01-0030K8PCWW","VL-K01-0030K8PCWW","VL-K01-0030K8PCWW","VL-K01-0030K8PCWW","VL-K01-0030K8PCWW","VL-K01-0030K8PCWW"]
[null,"Sola Round Plinth Single Light NW",null,"VL-K01-0030PNW","VL-K01-0030PNW","VL-K01-0030PNW","VL-K01-0030PNW","VL-K01-0030PNW","VL-K01-0030PNW","VL-K01-0030PNW","VL-K01-0030PNW","VL-K01-0030PNW","VL-K01-0030PNW","VL-K01-0030PNW","VL-K01-0030PNW","VL-K01-0030PNW","VL-K01-0030PNW","VL-K01-0030PNW","VL-K01-0030PNW"]
[null,"Sola Round Plinth Single Light WW",null,"VL-K01-0030PWW","VL-K01-0030PWW","VL-K01-0030PWW","VL-K01-0030PWW","VL-K01-0030PWW","VL-K01-0030PWW","VL-K01-0030PWW","VL-K01-0030PWW","VL-K01-0030PWW","VL-K01-0030PWW","VL-K01-0030PWW","VL-K01-0030PWW","VL-K01-0030PWW","VL-K01-0030PWW","VL-K01-0030PWW","VL-K01-0030PWW"]
[null,"Strata Square Plinth 4 Light Kit NW",null,"VL-K01-0040K4SSNW","VL-K01-0040K4SSNW","VL-K01-0040K4SSNW","VL-K01-0040K4SSNW","VL-K01-0040K4SSNW","VL-K01-0040K4SSNW","VL-K01-0040K4SSNW","VL-K01-0040K4SSNW","VL-K01-0040K4SSNW","VL-K01-0040K4SSNW","VL-K01-0040K4SSNW","VL-K01-0040K4SSNW","VL-K01-0040K4SSNW","VL-K01-0040K4SSNW","VL-K01-0040K4SSNW","VL-K01-0040K4SSNW"]
[null,"Strata Square Plinth 4 Light Kit WW",null,"VL-K01-0040K4SSWW","VL-K01-0040K4SSWW","VL-K01-0040K4SSWW","VL-K01-0040K4SSWW","VL-K01-0040K4SSWW","VL-K01-0040K4SSWW","VL-K01-0040K4SSWW","VL-K01-0040K4SSWW","VL-K01-0040K4SSWW","VL-K01-0040K4SSWW","VL-K01-0040K4SSWW","VL-K01-0040K4SSWW","VL-K01-0040K4SSWW","VL-K01-0040K4SSWW","VL-K01-0040K4SSWW","VL-K01-0040K4SSWW"]
[null,"Strata Square Plinth 8 Light Kit NW",null,"VL-K01-0040K8SSNW","VL-K01-0040K8SSNW","VL-K01-0040K8SSNW","VL-K01-0040K8SSNW","VL-K01-0040K8SSNW","VL-K01-0040K8SSNW","VL-K01-0040K8SSNW","VL-K01-0040K8SSNW","VL-K01-0040K8SSNW","VL-K01-0040K8SSNW","VL-K01-0040K8SSNW","VL-K01-0040K8SSNW","VL-K01-0040K8SSNW","VL-K01-0040K8SSNW","VL-K01-0040K8SSNW","VL-K01-0040K8SSNW"]
[null,"Strata Square Plinth 8 Light Kit WW",null,"VL-K01-0040K8SSWW","VL-K01-0040K8SSWW","VL-K01-0040K8SSWW","VL-K01-0040K8SSWW","VL-K01-0040K8SSWW","VL-K01-0040K8SSWW","VL-K01-0040K8SSWW","VL-K01-0040K8SSWW","VL-K01-0040K8SSWW","VL-K01-0040K8SSWW","VL-K01-0040K8SSWW","VL-K01-0040K8SSWW","VL-K01-0040K8SSWW","VL-K01-0040K8SSWW","VL-K01-0040K8SSWW","VL-K01-0040K8SSWW"]
[null,"Strata Square Plinth Single Light NW",null,"VL-K01-0040SSNW","VL-K01-0040SSNW","VL-K01-0040SSNW","VL-K01-0040SSNW","VL-K01-0040SSNW","VL-K01-0040SSNW","VL-K01-0040SSNW","VL-K01-0040SSNW","VL-K01-0040SSNW","VL-K01-0040SSNW","VL-K01-0040SSNW","VL-K01-0040SSNW","VL-K01-0040SSNW","VL-K01-0040SSNW","VL-K01-0040SSNW","VL-K01-0040SSNW"]
[null,"Strata Square Plinth Single Light WW",null,"VL-K01-0040SSWW","VL-K01-0040SSWW","VL-K01-0040SSWW","VL-K01-0040SSWW","VL-K01-0040SSWW","VL-K01-0040SSWW","VL-K01-0040SSWW","VL-K01-0040SSWW","VL-K01-0040SSWW","VL-K01-0040SSWW","VL-K01-0040SSWW","VL-K01-0040SSWW","VL-K01-0040SSWW","VL-K01-0040SSWW","VL-K01-0040SSWW","VL-K01-0040SSWW"]
[null,"Sabre Drawer Light 462mm Natural White",null,"VL-K01-0200NW-462","VL-K01-0200NW-462","VL-K01-0200NW-462","VL-K01-0200NW-462","VL-K01-0200NW-462","VL-K01-0200NW-462","VL-K01-0200NW-462","VL-K01-0200NW-462","VL-K01-0200NW-462","VL-K01-0200NW-462","VL-K01-0200NW-462","VL-K01-0200NW-462","VL-K01-0200NW-462","VL-K01-0200NW-462","VL-K01-0200NW-462","VL-K01-0200NW-462"]
[null,"Sabre Drawer Light 562mm Natural White",null,"VL-K01-0200NW-562","VL-K01-0200NW-562","VL-K01-0200NW-562","VL-K01-0200NW-562","VL-K01-0200NW-562","VL-K01-0200NW-562","VL-K01-0200NW-562","VL-K01-0200NW-562","VL-K01-0200NW-562","VL-K01-0200NW-562","VL-K01-0200NW-562","VL-K01-0200NW-562","VL-K01-0200NW-562","VL-K01-0200NW-562","VL-K01-0200NW-562","VL-K01-0200NW-562"]
[null,"Sabre Drawer Light 762mm Natural White",null,"VL-K01-0200NW-762","VL-K01-0200NW-762","VL-K01-0200NW-762","VL-K01-0200NW-762","VL-K01-0200NW-762","VL-K01-0200NW-762","VL-K01-0200NW-762","VL-K01-0200NW-762","VL-K01-0200NW-762","VL-K01-0200NW-762","VL-K01-0200NW-762","VL-K01-0200NW-762","VL-K01-0200NW-762","VL-K01-0200NW-762","VL-K01-0200NW-762","VL-K01-0200NW-762"]
[null,"Sabre Drawer Light 862mm Natural White",null,"VL-K01-0200NW-862","VL-K01-0200NW-862","VL-K01-0200NW-862","VL-K01-0200NW-862","VL-K01-0200NW-862","VL-K01-0200NW-862","VL-K01-0200NW-862","VL-K01-0200NW-862","VL-K01-0200NW-862","VL-K01-0200NW-862","VL-K01-0200NW-862","VL-K01-0200NW-862","VL-K01-0200NW-862","VL-K01-0200NW-862","VL-K01-0200NW-862","VL-K01-0200NW-862"]
[null,"Sabre Drawer Light 962mm Natural White",null,"VL-K01-0200NW-962","VL-K01-0200NW-962","VL-K01-0200NW-962","VL-K01-0200NW-962","VL-K01-0200NW-962","VL-K01-0200NW-962","VL-K01-0200NW-962","VL-K01-0200NW-962","VL-K01-0200NW-962","VL-K01-0200NW-962","VL-K01-0200NW-962","VL-K01-0200NW-962","VL-K01-0200NW-962","VL-K01-0200NW-962","VL-K01-0200NW-962","VL-K01-0200NW-962"]
[null,"Dotless Frontview Tape IP65 1 Metre NW",null,"VL-K30-1270NW-1M","VL-K30-1270NW-1M","VL-K30-1270NW-1M","VL-K30-1270NW-1M","VL-K30-1270NW-1M","VL-K30-1270NW-1M","VL-K30-1270NW-1M","VL-K30-1270NW-1M","VL-K30-1270NW-1M","VL-K30-1270NW-1M","VL-K30-1270NW-1M","VL-K30-1270NW-1M","VL-K30-1270NW-1M","VL-K30-1270NW-1M","VL-K30-1270NW-1M","VL-K30-1270NW-1M"]
[null,"Dotless Frontview Tape IP65 2 Metre NW",null,"VL-K30-1270NW-2M","VL-K30-1270NW-2M","VL-K30-1270NW-2M","VL-K30-1270NW-2M","VL-K30-1270NW-2M","VL-K30-1270NW-2M","VL-K30-1270NW-2M","VL-K30-1270NW-2M","VL-K30-1270NW-2M","VL-K30-1270NW-2M","VL-K30-1270NW-2M","VL-K30-1270NW-2M","VL-K30-1270NW-2M","VL-K30-1270NW-2M","VL-K30-1270NW-2M","VL-K30-1270NW-2M"]
[null,"Dotless Frontview Tape IP65 3 Metre NW",null,"VL-K30-1270NW-3M","VL-K30-1270NW-3M","VL-K30-1270NW-3M","VL-K30-1270NW-3M","VL-K30-1270NW-3M","VL-K30-1270NW-3M","VL-K30-1270NW-3M","VL-K30-1270NW-3M","VL-K30-1270NW-3M","VL-K30-1270NW-3M","VL-K30-1270NW-3M","VL-K30-1270NW-3M","VL-K30-1270NW-3M","VL-K30-1270NW-3M","VL-K30-1270NW-3M","VL-K30-1270NW-3M"]
[null,"Dotless Frontview Tape IP65 1 Metre WW",null,"VL-K30-1270WW-1M","VL-K30-1270WW-1M","VL-K30-1270WW-1M","VL-K30-1270WW-1M","VL-K30-1270WW-1M","VL-K30-1270WW-1M","VL-K30-1270WW-1M","VL-K30-1270WW-1M","VL-K30-1270WW-1M","VL-K30-1270WW-1M","VL-K30-1270WW-1M","VL-K30-1270WW-1M","VL-K30-1270WW-1M","VL-K30-1270WW-1M","VL-K30-1270WW-1M","VL-K30-1270WW-1M"]
[null,"Dotless Frontview Tape IP65 2 Metre WW",null,"VL-K30-1270WW-2M","VL-K30-1270WW-2M","VL-K30-1270WW-2M","VL-K30-1270WW-2M","VL-K30-1270WW-2M","VL-K30-1270WW-2M","VL-K30-1270WW-2M","VL-K30-1270WW-2M","VL-K30-1270WW-2M","VL-K30-1270WW-2M","VL-K30-1270WW-2M","VL-K30-1270WW-2M","VL-K30-1270WW-2M","VL-K30-1270WW-2M","VL-K30-1270WW-2M","VL-K30-1270WW-2M"]
[null,"Dotless Frontview Tape IP65 3 Metre WW",null,"VL-K30-1270WW-3M","VL-K30-1270WW-3M","VL-K30-1270WW-3M","VL-K30-1270WW-3M","VL-K30-1270WW-3M","VL-K30-1270WW-3M","VL-K30-1270WW-3M","VL-K30-1270WW-3M","VL-K30-1270WW-3M","VL-K30-1270WW-3M","VL-K30-1270WW-3M","VL-K30-1270WW-3M","VL-K30-1270WW-3M","VL-K30-1270WW-3M","VL-K30-1270WW-3M","VL-K30-1270WW-3M"]
[null,"Dotless Sideview Tape IP65 2 Metre NW",null,"VL-K30-1260NW-2M","VL-K30-1260NW-2M","VL-K30-1260NW-2M","VL-K30-1260NW-2M","VL-K30-1260NW-2M","VL-K30-1260NW-2M","VL-K30-1260NW-2M","VL-K30-1260NW-2M","VL-K30-1260NW-2M","VL-K30-1260NW-2M","VL-K30-1260NW-2M","VL-K30-1260NW-2M","VL-K30-1260NW-2M","VL-K30-1260NW-2M","VL-K30-1260NW-2M","VL-K30-1260NW-2M"]
[null,"Dotless Sideview Tape IP65 3 Metre NW",null,"VL-K30-1260NW-3M","VL-K30-1260NW-3M","VL-K30-1260NW-3M","VL-K30-1260NW-3M","VL-K30-1260NW-3M","VL-K30-1260NW-3M","VL-K30-1260NW-3M","VL-K30-1260NW-3M","VL-K30-1260NW-3M","VL-K30-1260NW-3M","VL-K30-1260NW-3M","VL-K30-1260NW-3M","VL-K30-1260NW-3M","VL-K30-1260NW-3M","VL-K30-1260NW-3M","VL-K30-1260NW-3M"]
[null,"Dotless Sideview Tape IP65 5 Metre NW",null,"VL-K30-1260NW-5M","VL-K30-1260NW-5M","VL-K30-1260NW-5M","VL-K30-1260NW-5M","VL-K30-1260NW-5M","VL-K30-1260NW-5M","VL-K30-1260NW-5M","VL-K30-1260NW-5M","VL-K30-1260NW-5M","VL-K30-1260NW-5M","VL-K30-1260NW-5M","VL-K30-1260NW-5M","VL-K30-1260NW-5M","VL-K30-1260NW-5M","VL-K30-1260NW-5M","VL-K30-1260NW-5M"]
[null,"Dotless Sideview Tape IP65 2 Metre WW",null,"VL-K30-1260WW-2M","VL-K30-1260WW-2M","VL-K30-1260WW-2M","VL-K30-1260WW-2M","VL-K30-1260WW-2M","VL-K30-1260WW-2M","VL-K30-1260WW-2M","VL-K30-1260WW-2M","VL-K30-1260WW-2M","VL-K30-1260WW-2M","VL-K30-1260WW-2M","VL-K30-1260WW-2M","VL-K30-1260WW-2M","VL-K30-1260WW-2M","VL-K30-1260WW-2M","VL-K30-1260WW-2M"]
[null,"Dotless Sideview Tape IP65 3 Metre WW",null,"VL-K30-1260WW-3M","VL-K30-1260WW-3M","VL-K30-1260WW-3M","VL-K30-1260WW-3M","VL-K30-1260WW-3M","VL-K30-1260WW-3M","VL-K30-1260WW-3M","VL-K30-1260WW-3M","VL-K30-1260WW-3M","VL-K30-1260WW-3M","VL-K30-1260WW-3M","VL-K30-1260WW-3M","VL-K30-1260WW-3M","VL-K30-1260WW-3M","VL-K30-1260WW-3M","VL-K30-1260WW-3M"]
[null,"Dotless Sideview Tape IP65 5 Metre WW",null,"VL-K30-1260WW-5M","VL-K30-1260WW-5M","VL-K30-1260WW-5M","VL-K30-1260WW-5M","VL-K30-1260WW-5M","VL-K30-1260WW-5M","VL-K30-1260WW-5M","VL-K30-1260WW-5M","VL-K30-1260WW-5M","VL-K30-1260WW-5M","VL-K30-1260WW-5M","VL-K30-1260WW-5M","VL-K30-1260WW-5M","VL-K30-1260WW-5M","VL-K30-1260WW-5M","VL-K30-1260WW-5M"]
[null,"Callo LED Tape 60 LED 1 Metre NW",null,"VL-K30-5720NW-1M","VL-K30-5720NW-1M","VL-K30-5720NW-1M","VL-K30-5720NW-1M","VL-K30-5720NW-1M","VL-K30-5720NW-1M","VL-K30-5720NW-1M","VL-K30-5720NW-1M","VL-K30-5720NW-1M","VL-K30-5720NW-1M","VL-K30-5720NW-1M","VL-K30-5720NW-1M","VL-K30-5720NW-1M","VL-K30-5720NW-1M","VL-K30-5720NW-1M","VL-K30-5720NW-1M"]
[null,"Callo LED Tape 60 LED 2 Metre NW",null,"VL-K30-5720NW-2M","VL-K30-5720NW-2M","VL-K30-5720NW-2M","VL-K30-5720NW-2M","VL-K30-5720NW-2M","VL-K30-5720NW-2M","VL-K30-5720NW-2M","VL-K30-5720NW-2M","VL-K30-5720NW-2M","VL-K30-5720NW-2M","VL-K30-5720NW-2M","VL-K30-5720NW-2M","VL-K30-5720NW-2M","VL-K30-5720NW-2M","VL-K30-5720NW-2M","VL-K30-5720NW-2M"]
[null,"Callo LED Tape 60 LED 1 Metre WW",null,"VL-K30-5720WW-1M","VL-K30-5720WW-1M","VL-K30-5720WW-1M","VL-K30-5720WW-1M","VL-K30-5720WW-1M","VL-K30-5720WW-1M","VL-K30-5720WW-1M","VL-K30-5720WW-1M","VL-K30-5720WW-1M","VL-K30-5720WW-1M","VL-K30-5720WW-1M","VL-K30-5720WW-1M","VL-K30-5720WW-1M","VL-K30-5720WW-1M","VL-K30-5720WW-1M","VL-K30-5720WW-1M"]
[null,"Callo LED Tape 60 LED 2 Metre WW",null,"VL-K30-5720WW-2M","VL-K30-5720WW-2M","VL-K30-5720WW-2M","VL-K30-5720WW-2M","VL-K30-5720WW-2M","VL-K30-5720WW-2M","VL-K30-5720WW-2M","VL-K30-5720WW-2M","VL-K30-5720WW-2M","VL-K30-5720WW-2M","VL-K30-5720WW-2M","VL-K30-5720WW-2M","VL-K30-5720WW-2M","VL-K30-5720WW-2M","VL-K30-5720WW-2M","VL-K30-5720WW-2M"]
[null,"Bon LED Tape 120 LED 1 Metre NW",null,"VL-K30-5730NW-1M","VL-K30-5730NW-1M","VL-K30-5730NW-1M","VL-K30-5730NW-1M","VL-K30-5730NW-1M","VL-K30-5730NW-1M","VL-K30-5730NW-1M","VL-K30-5730NW-1M","VL-K30-5730NW-1M","VL-K30-5730NW-1M","VL-K30-5730NW-1M","VL-K30-5730NW-1M","VL-K30-5730NW-1M","VL-K30-5730NW-1M","VL-K30-5730NW-1M","VL-K30-5730NW-1M"]
[null,"Bon LED Tape 120 LED 2 Metre NW",null,"VL-K30-5730NW-2M","VL-K30-5730NW-2M","VL-K30-5730NW-2M","VL-K30-5730NW-2M","VL-K30-5730NW-2M","VL-K30-5730NW-2M","VL-K30-5730NW-2M","VL-K30-5730NW-2M","VL-K30-5730NW-2M","VL-K30-5730NW-2M","VL-K30-5730NW-2M","VL-K30-5730NW-2M","VL-K30-5730NW-2M","VL-K30-5730NW-2M","VL-K30-5730NW-2M","VL-K30-5730NW-2M"]
[null,"Bon LED Tape 120 LED 1 Metre WW",null,"VL-K30-5730WW-1M","VL-K30-5730WW-1M","VL-K30-5730WW-1M","VL-K30-5730WW-1M","VL-K30-5730WW-1M","VL-K30-5730WW-1M","VL-K30-5730WW-1M","VL-K30-5730WW-1M","VL-K30-5730WW-1M","VL-K30-5730WW-1M","VL-K30-5730WW-1M","VL-K30-5730WW-1M","VL-K30-5730WW-1M","VL-K30-5730WW-1M","VL-K30-5730WW-1M","VL-K30-5730WW-1M"]
[null,"Bon LED Tape 120 LED 2 Metre WW",null,"VL-K30-5730WW-2M","VL-K30-5730WW-2M","VL-K30-5730WW-2M","VL-K30-5730WW-2M","VL-K30-5730WW-2M","VL-K30-5730WW-2M","VL-K30-5730WW-2M","VL-K30-5730WW-2M","VL-K30-5730WW-2M","VL-K30-5730WW-2M","VL-K30-5730WW-2M","VL-K30-5730WW-2M","VL-K30-5730WW-2M","VL-K30-5730WW-2M","VL-K30-5730WW-2M","VL-K30-5730WW-2M"]
[null,"Smart Surface Profile for LED Tape 1m",null,"VL-K01-1035K1OP-WR","VL-K01-1035K1OP-WR","VL-K01-1035K1OP-WR","VL-K01-1035K1OP-WR","VL-K01-1035K1OP-WR","VL-K01-1035K1OP-WR","VL-K01-1035K1OP-WR","VL-K01-1035K1OP-WR","VL-K01-1035K1OP-WR","VL-K01-1035K1OP-WR","VL-K01-1035K1OP-WR","VL-K01-1035K1OP-WR","VL-K01-1035K1OP-WR","VL-K01-1035K1OP-WR","VL-K01-1035K1OP-WR","VL-K01-1035K1OP-WR"]
[null,"Smart Surface Profile for LED Tape 2m",null,"VL-K01-1035K2OP-WR","VL-K01-1035K2OP-WR","VL-K01-1035K2OP-WR","VL-K01-1035K2OP-WR","VL-K01-1035K2OP-WR","VL-K01-1035K2OP-WR","VL-K01-1035K2OP-WR","VL-K01-1035K2OP-WR","VL-K01-1035K2OP-WR","VL-K01-1035K2OP-WR","VL-K01-1035K2OP-WR","VL-K01-1035K2OP-WR","VL-K01-1035K2OP-WR","VL-K01-1035K2OP-WR","VL-K01-1035K2OP-WR","VL-K01-1035K2OP-WR"]
[null,"Smart Recessed Profile for LED Tape 1m",null,"VL-K01-1037K1OP-WR","VL-K01-1037K1OP-WR","VL-K01-1037K1OP-WR","VL-K01-1037K1OP-WR","VL-K01-1037K1OP-WR","VL-K01-1037K1OP-WR","VL-K01-1037K1OP-WR","VL-K01-1037K1OP-WR","VL-K01-1037K1OP-WR","VL-K01-1037K1OP-WR","VL-K01-1037K1OP-WR","VL-K01-1037K1OP-WR","VL-K01-1037K1OP-WR","VL-K01-1037K1OP-WR","VL-K01-1037K1OP-WR","VL-K01-1037K1OP-WR"]
[null,"Smart Recessed Profile for LED Tape 2m",null,"VL-K01-1037K2OP-WR","VL-K01-1037K2OP-WR","VL-K01-1037K2OP-WR","VL-K01-1037K2OP-WR","VL-K01-1037K2OP-WR","VL-K01-1037K2OP-WR","VL-K01-1037K2OP-WR","VL-K01-1037K2OP-WR","VL-K01-1037K2OP-WR","VL-K01-1037K2OP-WR","VL-K01-1037K2OP-WR","VL-K01-1037K2OP-WR","VL-K01-1037K2OP-WR","VL-K01-1037K2OP-WR","VL-K01-1037K2OP-WR","VL-K01-1037K2OP-WR"]
[null,"Smart Corner Profile for LED Tape 1m",null,"VL-K01-1060K1OP-WR","VL-K01-1060K1OP-WR","VL-K01-1060K1OP-WR","VL-K01-1060K1OP-WR","VL-K01-1060K1OP-WR","VL-K01-1060K1OP-WR","VL-K01-1060K1OP-WR","VL-K01-1060K1OP-WR","VL-K01-1060K1OP-WR","VL-K01-1060K1OP-WR","VL-K01-1060K1OP-WR","VL-K01-1060K1OP-WR","VL-K01-1060K1OP-WR","VL-K01-1060K1OP-WR","VL-K01-1060K1OP-WR","VL-K01-1060K1OP-WR"]
[null,"Smart Corner Profile for LED Tape 2m",null,"VL-K01-1060K2OP-WR","VL-K01-1060K2OP-WR","VL-K01-1060K2OP-WR","VL-K01-1060K2OP-WR","VL-K01-1060K2OP-WR","VL-K01-1060K2OP-WR","VL-K01-1060K2OP-WR","VL-K01-1060K2OP-WR","VL-K01-1060K2OP-WR","VL-K01-1060K2OP-WR","VL-K01-1060K2OP-WR","VL-K01-1060K2OP-WR","VL-K01-1060K2OP-WR","VL-K01-1060K2OP-WR","VL-K01-1060K2OP-WR","VL-K01-1060K2OP-WR"]
[null,"Callo IP65 LED Tape 60 LED 5 Metre NW",null,"VL-K30-5725NW","VL-K30-5725NW","VL-K30-5725NW","VL-K30-5725NW","VL-K30-5725NW","VL-K30-5725NW","VL-K30-5725NW","VL-K30-5725NW","VL-K30-5725NW","VL-K30-5725NW","VL-K30-5725NW","VL-K30-5725NW","VL-K30-5725NW","VL-K30-5725NW","VL-K30-5725NW","VL-K30-5725NW"]
[null,"Callo IP65 LED Tape 60 LED 5 Metre WW",null,"VL-K30-5725WW","VL-K30-5725WW","VL-K30-5725WW","VL-K30-5725WW","VL-K30-5725WW","VL-K30-5725WW","VL-K30-5725WW","VL-K30-5725WW","VL-K30-5725WW","VL-K30-5725WW","VL-K30-5725WW","VL-K30-5725WW","VL-K30-5725WW","VL-K30-5725WW","VL-K30-5725WW","VL-K30-5725WW"]
[null,"2m Connector Lead for Callo IP65 Tape",null,"VL-K30-5800IPMP","VL-K30-5800IPMP","VL-K30-5800IPMP","VL-K30-5800IPMP","VL-K30-5800IPMP","VL-K30-5800IPMP","VL-K30-5800IPMP","VL-K30-5800IPMP","VL-K30-5800IPMP","VL-K30-5800IPMP","VL-K30-5800IPMP","VL-K30-5800IPMP","VL-K30-5800IPMP","VL-K30-5800IPMP","VL-K30-5800IPMP","VL-K30-5800IPMP"]
[null,"50mm Link Lead for Callo IP65 Tape",null,"VL-K30-5810IP","VL-K30-5810IP","VL-K30-5810IP","VL-K30-5810IP","VL-K30-5810IP","VL-K30-5810IP","VL-K30-5810IP","VL-K30-5810IP","VL-K30-5810IP","VL-K30-5810IP","VL-K30-5810IP","VL-K30-5810IP","VL-K30-5810IP","VL-K30-5810IP","VL-K30-5810IP","VL-K30-5810IP"]
[null,"1 Metre Link Lead for Callo IP65 Tape",null,"VL-K30-5812IP","VL-K30-5812IP","VL-K30-5812IP","VL-K30-5812IP","VL-K30-5812IP","VL-K30-5812IP","VL-K30-5812IP","VL-K30-5812IP","VL-K30-5812IP","VL-K30-5812IP","VL-K30-5812IP","VL-K30-5812IP","VL-K30-5812IP","VL-K30-5812IP","VL-K30-5812IP","VL-K30-5812IP"]
[null,"2 Metre Link Lead for Callo IP65 Tape",null,"VL-K30-5813IP","VL-K30-5813IP","VL-K30-5813IP","VL-K30-5813IP","VL-K30-5813IP","VL-K30-5813IP","VL-K30-5813IP","VL-K30-5813IP","VL-K30-5813IP","VL-K30-5813IP","VL-K30-5813IP","VL-K30-5813IP","VL-K30-5813IP","VL-K30-5813IP","VL-K30-5813IP","VL-K30-5813IP"]
[null,"Butt Connector for Callo IP65 Tape",null,"VL-K30-5815IP","VL-K30-5815IP","VL-K30-5815IP","VL-K30-5815IP","VL-K30-5815IP","VL-K30-5815IP","VL-K30-5815IP","VL-K30-5815IP","VL-K30-5815IP","VL-K30-5815IP","VL-K30-5815IP","VL-K30-5815IP","VL-K30-5815IP","VL-K30-5815IP","VL-K30-5815IP","VL-K30-5815IP"]
[null,"Single Colour LED Dimming Remote Control",null,"VL-K30-2034Z","VL-K30-2034Z","VL-K30-2034Z","VL-K30-2034Z","VL-K30-2034Z","VL-K30-2034Z","VL-K30-2034Z","VL-K30-2034Z","VL-K30-2034Z","VL-K30-2034Z","VL-K30-2034Z","VL-K30-2034Z","VL-K30-2034Z","VL-K30-2034Z","VL-K30-2034Z","VL-K30-2034Z"]
[null,"Single Channel Remote Receiver",null,"VL-K30-2037ZU","VL-K30-2037ZU","VL-K30-2037ZU","VL-K30-2037ZU","VL-K30-2037ZU","VL-K30-2037ZU","VL-K30-2037ZU","VL-K30-2037ZU","VL-K30-2037ZU","VL-K30-2037ZU","VL-K30-2037ZU","VL-K30-2037ZU","VL-K30-2037ZU","VL-K30-2037ZU","VL-K30-2037ZU","VL-K30-2037ZU"]
[null,"8W 12V LED Uni Driver - Remote Control",null,"VL-K01-1200 UNI","VL-K01-1200 UNI","VL-K01-1200 UNI","VL-K01-1200 UNI","VL-K01-1200 UNI","VL-K01-1200 UNI","VL-K01-1200 UNI","VL-K01-1200 UNI","VL-K01-1200 UNI","VL-K01-1200 UNI","VL-K01-1200 UNI","VL-K01-1200 UNI","VL-K01-1200 UNI","VL-K01-1200 UNI","VL-K01-1200 UNI","VL-K01-1200 UNI"]
[null,"15W 12V LED Uni Driver - Remote Control",null,"VL-K10-1220 UNI","VL-K10-1220 UNI","VL-K10-1220 UNI","VL-K10-1220 UNI","VL-K10-1220 UNI","VL-K10-1220 UNI","VL-K10-1220 UNI","VL-K10-1220 UNI","VL-K10-1220 UNI","VL-K10-1220 UNI","VL-K10-1220 UNI","VL-K10-1220 UNI","VL-K10-1220 UNI","VL-K10-1220 UNI","VL-K10-1220 UNI","VL-K10-1220 UNI"]
[null,"30W 12V LED Uni Driver - Remote Control",null,"VL-K10-1230 UNI","VL-K10-1230 UNI","VL-K10-1230 UNI","VL-K10-1230 UNI","VL-K10-1230 UNI","VL-K10-1230 UNI","VL-K10-1230 UNI","VL-K10-1230 UNI","VL-K10-1230 UNI","VL-K10-1230 UNI","VL-K10-1230 UNI","VL-K10-1230 UNI","VL-K10-1230 UNI","VL-K10-1230 UNI","VL-K10-1230 UNI","VL-K10-1230 UNI"]
[null,"50W 12V LED Uni Driver - Remote Control",null,"VL-K10-1250 UNI","VL-K10-1250 UNI","VL-K10-1250 UNI","VL-K10-1250 UNI","VL-K10-1250 UNI","VL-K10-1250 UNI","VL-K10-1250 UNI","VL-K10-1250 UNI","VL-K10-1250 UNI","VL-K10-1250 UNI","VL-K10-1250 UNI","VL-K10-1250 UNI","VL-K10-1250 UNI","VL-K10-1250 UNI","VL-K10-1250 UNI","VL-K10-1250 UNI"]
[null,"Dimmer Touch Sensor Switch",null,"VL-N28-0005","VL-N28-0005","VL-N28-0005","VL-N28-0005","VL-N28-0005","VL-N28-0005","VL-N28-0005","VL-N28-0005","VL-N28-0005","VL-N28-0005","VL-N28-0005","VL-N28-0005","VL-N28-0005","VL-N28-0005","VL-N28-0005","VL-N28-0005"]
[null,"Double Door IR Sensor Switch",null,"VL-N28-0001D","VL-N28-0001D","VL-N28-0001D","VL-N28-0001D","VL-N28-0001D","VL-N28-0001D","VL-N28-0001D","VL-N28-0001D","VL-N28-0001D","VL-N28-0001D","VL-N28-0001D","VL-N28-0001D","VL-N28-0001D","VL-N28-0001D","VL-N28-0001D","VL-N28-0001D"]
[null,"Single Door IR Sensor Switch",null,"VL-N28-0001","VL-N28-0001","VL-N28-0001","VL-N28-0001","VL-N28-0001","VL-N28-0001","VL-N28-0001","VL-N28-0001","VL-N28-0001","VL-N28-0001","VL-N28-0001","VL-N28-0001","VL-N28-0001","VL-N28-0001","VL-N28-0001","VL-N28-0001"]
[null,"Motion IR Sensor Switch",null,"VL-N28-0004","VL-N28-0004","VL-N28-0004","VL-N28-0004","VL-N28-0004","VL-N28-0004","VL-N28-0004","VL-N28-0004","VL-N28-0004","VL-N28-0004","VL-N28-0004","VL-N28-0004","VL-N28-0004","VL-N28-0004","VL-N28-0004","VL-N28-0004"]
[null,"8W 12V LED Driver 4 Ports",null,"VL-K01-1200","VL-K01-1200","VL-K01-1200","VL-K01-1200","VL-K01-1200","VL-K01-1200","VL-K01-1200","VL-K01-1200","VL-K01-1200","VL-K01-1200","VL-K01-1200","VL-K01-1200","VL-K01-1200","VL-K01-1200","VL-K01-1200","VL-K01-1200"]
[null,"15W 12V LED Driver 6 Ports",null,"VL-K01-1220","VL-K01-1220","VL-K01-1220","VL-K01-1220","VL-K01-1220","VL-K01-1220","VL-K01-1220","VL-K01-1220","VL-K01-1220","VL-K01-1220","VL-K01-1220","VL-K01-1220","VL-K01-1220","VL-K01-1220","VL-K01-1220","VL-K01-1220"]
[null,"30W 12V LED Driver 6 Ports",null,"VL-K01-1230","VL-K01-1230","VL-K01-1230","VL-K01-1230","VL-K01-1230","VL-K01-1230","VL-K01-1230","VL-K01-1230","VL-K01-1230","VL-K01-1230","VL-K01-1230","VL-K01-1230","VL-K01-1230","VL-K01-1230","VL-K01-1230","VL-K01-1230"]
[null,"50W 12V LED Driver 6 Ports",null,"VL-K01-1250","VL-K01-1250","VL-K01-1250","VL-K01-1250","VL-K01-1250","VL-K01-1250","VL-K01-1250","VL-K01-1250","VL-K01-1250","VL-K01-1250","VL-K01-1250","VL-K01-1250","VL-K01-1250","VL-K01-1250","VL-K01-1250","VL-K01-1250"]
[null,"Driver Extender Block - 4 Ports",null,"VL-R90-0133","VL-R90-0133","VL-R90-0133","VL-R90-0133","VL-R90-0133","VL-R90-0133","VL-R90-0133","VL-R90-0133","VL-R90-0133","VL-R90-0133","VL-R90-0133","VL-R90-0133","VL-R90-0133","VL-R90-0133","VL-R90-0133","VL-R90-0133"]
[null,"Pop Up Socket 13A - 3 Sockets 2 USB SS",null,"VL-N00-0171SS","VL-N00-0171SS","VL-N00-0171SS","VL-N00-0171SS","VL-N00-0171SS","VL-N00-0171SS","VL-N00-0171SS","VL-N00-0171SS","VL-N00-0171SS","VL-N00-0171SS","VL-N00-0171SS","VL-N00-0171SS","VL-N00-0171SS","VL-N00-0171SS","VL-N00-0171SS","VL-N00-0171SS"]
[]
[]
["LK-SLA-HNO-ESP","End Support / Plant on Base Panel Halifax Natural Oak","LK-SLA-HNO-ESP","LK-SLA-HNO-ESP","LK-SLA-HNO-ESP","LK-SLA-HNO-ESP","LK-SLA-HNO-ESP","LK-SLA-HNO-ESP","LK-SLA-HNO-ESP","LK-SLA-HNO-ESP","LK-SLA-HNO-ESP","LK-SLA-HNO-ESP","LK-SLA-HNO-ESP","LK-SLA-HNO-ESP","LK-SLA-HNO-ESP","LK-SLA-HNO-ESP","LK-SLA-HNO-ESP","LK-SLA-HNO-ESP","LK-SLA-HNO-ESP"]
["LK-SLA-HNO-LUP","Large Universal Panel 2.4m x 900 Halifax Natural Oak","LK-SLA-HNO-LUP","LK-SLA-HNO-LUP","LK-SLA-HNO-LUP","LK-SLA-HNO-LUP","LK-SLA-HNO-LUP","LK-SLA-HNO-LUP","LK-SLA-HNO-LUP","LK-SLA-HNO-LUP","LK-SLA-HNO-LUP","LK-SLA-HNO-LUP","LK-SLA-HNO-LUP","LK-SLA-HNO-LUP","LK-SLA-HNO-LUP","LK-SLA-HNO-LUP","LK-SLA-HNO-LUP","LK-SLA-HNO-LUP","LK-SLA-HNO-LUP"]
["LK-SLA-HNO-ET","22mm Edging - 10m Halifax Natural Oak","LK-SLA-HNO-ET","LK-SLA-HNO-ET","LK-SLA-HNO-ET","LK-SLA-HNO-ET","LK-SLA-HNO-ET","LK-SLA-HNO-ET","LK-SLA-HNO-ET","LK-SLA-HNO-ET","LK-SLA-HNO-ET","LK-SLA-HNO-ET","LK-SLA-HNO-ET","LK-SLA-HNO-ET","LK-SLA-HNO-ET","LK-SLA-HNO-ET","LK-SLA-HNO-ET","LK-SLA-HNO-ET","LK-SLA-HNO-ET"]
[]
["LK-SLA-HTO-ESP","End Support / Plant on Base Panel Halifax Tobacco Oak","LK-SLA-HTO-ESP","LK-SLA-HTO-ESP","LK-SLA-HTO-ESP","LK-SLA-HTO-ESP","LK-SLA-HTO-ESP","LK-SLA-HTO-ESP","LK-SLA-HTO-ESP","LK-SLA-HTO-ESP","LK-SLA-HTO-ESP","LK-SLA-HTO-ESP","LK-SLA-HTO-ESP","LK-SLA-HTO-ESP","LK-SLA-HTO-ESP","LK-SLA-HTO-ESP","LK-SLA-HTO-ESP","LK-SLA-HTO-ESP","LK-SLA-HTO-ESP"]
["LK-SLA-HTO-LUP","Large Universal Panel 2.4m x 900 Halifax Tobacco Oak","LK-SLA-HTO-LUP","LK-SLA-HTO-LUP","LK-SLA-HTO-LUP","LK-SLA-HTO-LUP","LK-SLA-HTO-LUP","LK-SLA-HTO-LUP","LK-SLA-HTO-LUP","LK-SLA-HTO-LUP","LK-SLA-HTO-LUP","LK-SLA-HTO-LUP","LK-SLA-HTO-LUP","LK-SLA-HTO-LUP","LK-SLA-HTO-LUP","LK-SLA-HTO-LUP","LK-SLA-HTO-LUP","LK-SLA-HTO-LUP","LK-SLA-HTO-LUP"]
["LK-SLA-HTO-ET","22mm Edging - 10m Halifax Tobacco Oak","LK-SLA-HTO-ET","LK-SLA-HTO-ET","LK-SLA-HTO-ET","LK-SLA-HTO-ET","LK-SLA-HTO-ET","LK-SLA-HTO-ET","LK-SLA-HTO-ET","LK-SLA-HTO-ET","LK-SLA-HTO-ET","LK-SLA-HTO-ET","LK-SLA-HTO-ET","LK-SLA-HTO-ET","LK-SLA-HTO-ET","LK-SLA-HTO-ET","LK-SLA-HTO-ET","LK-SLA-HTO-ET","LK-SLA-HTO-ET"]
[]
["LK-SLA-BCN-ESP","End Support / Plant on Base Panel Concrete","LK-SLA-BCN-ESP","LK-SLA-BCN-ESP","LK-SLA-BCN-ESP","LK-SLA-BCN-ESP","LK-SLA-BCN-ESP","LK-SLA-BCN-ESP","LK-SLA-BCN-ESP","LK-SLA-BCN-ESP","LK-SLA-BCN-ESP","LK-SLA-BCN-ESP","LK-SLA-BCN-ESP","LK-SLA-BCN-ESP","LK-SLA-BCN-ESP","LK-SLA-BCN-ESP","LK-SLA-BCN-ESP","LK-SLA-BCN-ESP","LK-SLA-BCN-ESP"]
["LK-SLA-BCN-LUP","Large Universal Panel 2.4m x 900 Concrete","LK-SLA-BCN-LUP","LK-SLA-BCN-LUP","LK-SLA-BCN-LUP","LK-SLA-BCN-LUP","LK-SLA-BCN-LUP","LK-SLA-BCN-LUP","LK-SLA-BCN-LUP","LK-SLA-BCN-LUP","LK-SLA-BCN-LUP","LK-SLA-BCN-LUP","LK-SLA-BCN-LUP","LK-SLA-BCN-LUP","LK-SLA-BCN-LUP","LK-SLA-BCN-LUP","LK-SLA-BCN-LUP","LK-SLA-BCN-LUP","LK-SLA-BCN-LUP"]
["LK-SLA-BCN-ET","22mm Edging - 10m Halifax Concrete","LK-SLA-BCN-ET","LK-SLA-BCN-ET","LK-SLA-BCN-ET","LK-SLA-BCN-ET","LK-SLA-BCN-ET","LK-SLA-BCN-ET","LK-SLA-BCN-ET","LK-SLA-BCN-ET","LK-SLA-BCN-ET","LK-SLA-BCN-ET","LK-SLA-BCN-ET","LK-SLA-BCN-ET","LK-SLA-BCN-ET","LK-SLA-BCN-ET","LK-SLA-BCN-ET","LK-SLA-BCN-ET","LK-SLA-BCN-ET"]
[]
["LK-SLA-HWO-ESP","End Support / Plant on Base Panel Halifax White Oak","LK-SLA-HWO-ESP","LK-SLA-HWO-ESP","LK-SLA-HWO-ESP","LK-SLA-HWO-ESP","LK-SLA-HWO-ESP","LK-SLA-HWO-ESP","LK-SLA-HWO-ESP","LK-SLA-HWO-ESP","LK-SLA-HWO-ESP","LK-SLA-HWO-ESP","LK-SLA-HWO-ESP","LK-SLA-HWO-ESP","LK-SLA-HWO-ESP","LK-SLA-HWO-ESP","LK-SLA-HWO-ESP","LK-SLA-HWO-ESP","LK-SLA-HWO-ESP"]
["LK-SLA-HWO-LUP","Large Universal Panel 2.4m x 900 Halifax White Oak","LK-SLA-HWO-LUP","LK-SLA-HWO-LUP","LK-SLA-HWO-LUP","LK-SLA-HWO-LUP","LK-SLA-HWO-LUP","LK-SLA-HWO-LUP","LK-SLA-HWO-LUP","LK-SLA-HWO-LUP","LK-SLA-HWO-LUP","LK-SLA-HWO-LUP","LK-SLA-HWO-LUP","LK-SLA-HWO-LUP","LK-SLA-HWO-LUP","LK-SLA-HWO-LUP","LK-SLA-HWO-LUP","LK-SLA-HWO-LUP","LK-SLA-HWO-LUP"]
[]
[]
[null,"Home Delivery",null,"HOME DEL CHARGE","HOME DEL CHARGE","HOME DEL CHARGE","HOME DEL CHARGE","HOME DEL CHARGE","HOME DEL CHARGE","HOME DEL CHARGE","HOME DEL CHARGE","HOME DEL CHARGE","HOME DEL CHARGE","HOME DEL CHARGE","HOME DEL CHARGE","HOME DEL CHARGE","HOME DEL CHARGE","HOME DEL CHARGE","HOME DEL CHARGE"]

{"sheet":"Prices Furniture","index":4,"n_rows":943969,"n_cols":6,"rows_kept":4500,"cut":true,"hidden":true,"merged":[],"bounds":{"rows_first":2000,"rows_last":500,"rows_between":2000,"halvings":0}}
["Bom Header","Description","Range","Short Code","NEW RRP"]
["@LK-EMD-AD45I","450 Integrated Dishwasher Fascia","Euro Matt Dove Grey","AD45I",107,"450 Integrated Dishwasher Fascia Euro Matt Dove Grey"]
["@LK-EMD-AD60FD","600 Fridge/Dishwasher Fascia","Euro Matt Dove Grey","AD60FD",131,"600 Fridge/Dishwasher Fascia Euro Matt Dove Grey"]
["@LK-EMD-AD60ICH","600 Integrated Extractor Door","Euro Matt Dove Grey","AD60ICH",95,"600 Integrated Extractor Door Euro Matt Dove Grey"]
["@LK-EMD-AD60S","600 Semi Int Dishwasher Fascia","Euro Matt Dove Grey","AD60S",129,"600 Semi Int Dishwasher Fascia Euro Matt Dove Grey"]
["@LK-EMD-AH-CO","600 Compact / Microwave Housing","Euro Matt Dove Grey","AH-CO",823,"600 Compact / Microwave Housing Euro Matt Dove Grey"]
["@LK-EMD-AH-DMW","600 Double Oven & MW unit","Euro Matt Dove Grey","AH-DMW",927,"600 Double Oven & MW unit Euro Matt Dove Grey"]
["@LK-EMD-AH-DO","600 Dble Oven Housing","Euro Matt Dove Grey","AH-DO",731,"600 Dble Oven Housing Euro Matt Dove Grey"]
["@LK-EMD-AH-DO2D","600 Dble Oven & 2 Drws","Euro Matt Dove Grey","AH-DO2D",1058,"600 Dble Oven & 2 Drws Euro Matt Dove Grey"]
["@LK-EMD-AH-F55","600 50/50 FF Housing Unit","Euro Matt Dove Grey","AH-F55",735,"600 50/50 FF Housing Unit Euro Matt Dove Grey"]
["@LK-EMD-AH-F73","600 70/30 FF Housing Unit","Euro Matt Dove Grey","AH-F73",711,"600 70/30 FF Housing Unit Euro Matt Dove Grey"]
["@LK-EMD-AH-SM2D","600 Single Oven & MW 2 Drw unit","Euro Matt Dove Grey","AH-SM2D",1074,"600 Single Oven & MW 2 Drw unit Euro Matt Dove Grey"]
["@LK-EMD-AH-SMW","600 Sgle Oven & MW 2 Door unit","Euro Matt Dove Grey","AH-SMW",786,"600 Sgle Oven & MW 2 Door unit Euro Matt Dove Grey"]
["@LK-EMD-AH-SO","600 Single Oven Housing","Euro Matt Dove Grey","AH-SO",750,"600 Single Oven Housing Euro Matt Dove Grey"]
["@LK-EMD-AH-SO1D","600 Single Oven + 1 Drw Unit","Euro Matt Dove Grey","AH-SO1D",896,"600 Single Oven + 1 Drw Unit Euro Matt Dove Grey"]
["@LK-EMD-AH-SO2D","600 Single Oven + 2 Drws Unit","Euro Matt Dove Grey","AH-SO2D",1112,"600 Single Oven + 2 Drws Unit Euro Matt Dove Grey"]
["@LK-EMD-AH-SO3D","600 Single Oven + 3 Drws Unit","Euro Matt Dove Grey","AH-SO3D",1261,"600 Single Oven + 3 Drws Unit Euro Matt Dove Grey"]
["@LK-EMD-AH-SOT","600 Twin Single Oven Housing","Euro Matt Dove Grey","AH-SOT",876,"600 Twin Single Oven Housing Euro Matt Dove Grey"]
["@LK-EMD-BC145","1000 HL Cnr Base (450 Door)","Euro Matt Dove Grey","BC145",397,"1000 HL Cnr Base (450 Door) Euro Matt Dove Grey"]
["@LK-EMD-BC15","1000 HL Cnr Base (500 Door)","Euro Matt Dove Grey","BC15",405,"1000 HL Cnr Base (500 Door) Euro Matt Dove Grey"]
["@LK-EMD-BC16","1000 HL Cnr Base (600 Door)","Euro Matt Dove Grey","BC16",421,"1000 HL Cnr Base (600 Door) Euro Matt Dove Grey"]
["@LK-EMD-BC83","800 HL Cnr Base (300 Door)","Euro Matt Dove Grey","BC83",374,"800 HL Cnr Base (300 Door) Euro Matt Dove Grey"]
["@LK-EMD-BC84","800 HL Cnr Base Unit (400 Door)","Euro Matt Dove Grey","BC84",380,"800 HL Cnr Base Unit (400 Door) Euro Matt Dove Grey"]
["@LK-EMD-BC845","800 HL Cnr Base (450 Door)","Euro Matt Dove Grey","BC845",392,"800 HL Cnr Base (450 Door) Euro Matt Dove Grey"]
["@LK-EMD-BC945","900 HL Cnr Base (450 Door)","Euro Matt Dove Grey","BC945",392,"900 HL Cnr Base (450 Door) Euro Matt Dove Grey"]
["@LK-EMD-BCL15L","1000 Cnr Base CORNERSTONE LH - 500 door","Euro Matt Dove Grey","BCL15L",1270,"1000 Cnr Base CORNERSTONE LH - 500 door Euro Matt Dove Grey"]
["@LK-EMD-BCL15R","1000 Cnr Base CORNERSTONE RH - 500 door","Euro Matt Dove Grey","BCL15R",1270,"1000 Cnr Base CORNERSTONE RH - 500 door Euro Matt Dove Grey"]
["@LK-EMD-BCL16L","1000 Cnr Base CORNERSTONE LH - 600 door","Euro Matt Dove Grey","BCL16L",1349,"1000 Cnr Base CORNERSTONE LH - 600 door Euro Matt Dove Grey"]
["@LK-EMD-BCL16R","1000 Cnr Base CORNERSTONE RH - 600 door","Euro Matt Dove Grey","BCL16R",1349,"1000 Cnr Base CORNERSTONE RH - 600 door Euro Matt Dove Grey"]
["@LK-EMD-BCL9","950 HL Cnr L Base","Euro Matt Dove Grey","BCL9",618,"950 HL Cnr L Base Euro Matt Dove Grey"]
["@LK-EMD-BCO145","1000 Corner Base VS COR FLEX - 450 door","Euro Matt Dove Grey","BCO145",1407,"1000 Corner Base VS COR FLEX - 450 door Euro Matt Dove Grey"]
["@LK-EMD-BCO15","1000 Corner Base VS COR FLEX - 500 door","Euro Matt Dove Grey","BCO15",1415,"1000 Corner Base VS COR FLEX - 500 door Euro Matt Dove Grey"]
["@LK-EMD-BCO16","1000 Corner Base VS COR FLEX - 600 door","Euro Matt Dove Grey","BCO16",1431,"1000 Corner Base VS COR FLEX - 600 door Euro Matt Dove Grey"]
["@LK-EMD-BCO945","900 Corner Base VS COR FLEX - 450 door","Euro Matt Dove Grey","BCO945",1402,"900 Corner Base VS COR FLEX - 450 door Euro Matt Dove Grey"]
["@LK-EMD-BD13","1000 3 Drw Base Unit","Euro Matt Dove Grey","BD13",845,"1000 3 Drw Base Unit Euro Matt Dove Grey"]
["@LK-EMD-BD53","500 3 Drw Base Unit","Euro Matt Dove Grey","BD53",714,"500 3 Drw Base Unit Euro Matt Dove Grey"]
["@LK-EMD-BD54","500 4 Drw Base Unit","Euro Matt Dove Grey","BD54",846,"500 4 Drw Base Unit Euro Matt Dove Grey"]
["@LK-EMD-BD62","600 2 Pan Drw Unit","Euro Matt Dove Grey","BD62",683,"600 2 Pan Drw Unit Euro Matt Dove Grey"]
["@LK-EMD-BD62I","600 2 Pan Drw Unit + 1 Internal","Euro Matt Dove Grey","BD62I",859,"600 2 Pan Drw Unit + 1 Internal Euro Matt Dove Grey"]
["@LK-EMD-BD63","600 3 Drw Base Unit","Euro Matt Dove Grey","BD63",806,"600 3 Drw Base Unit Euro Matt Dove Grey"]
["@LK-EMD-BD635L","600 Low Single Drawer unit 360 high","Euro Matt Dove Grey","BD635L",384,"600 Low Single Drawer unit 360 high Euro Matt Dove Grey"]
["@LK-EMD-BD83","800 3 Drw Base Unit","Euro Matt Dove Grey","BD83",813,"800 3 Drw Base Unit Euro Matt Dove Grey"]
["@LK-EMD-BD92","900 2 Pan Drw Unit","Euro Matt Dove Grey","BD92",700,"900 2 Pan Drw Unit Euro Matt Dove Grey"]
["@LK-EMD-BD92I","900 2 Pan Drw Unit + 1 Internal","Euro Matt Dove Grey","BD92I",901,"900 2 Pan Drw Unit + 1 Internal Euro Matt Dove Grey"]
["@LK-EMD-BD93","900 3 Drw Base Unit","Euro Matt Dove Grey","BD93",828,"900 3 Drw Base Unit Euro Matt Dove Grey"]
["@LK-EMD-BH100","1000 HL Base Unit","Euro Matt Dove Grey","BH100",439,"1000 HL Base Unit Euro Matt Dove Grey"]
["@LK-EMD-BH10S","1000 HL Sink Base Unit (Inc Liner)","Euro Matt Dove Grey","BH10S",485,"1000 HL Sink Base Unit (Inc Liner) Euro Matt Dove Grey"]
["@LK-EMD-BH15","150 HL Base Unit","Euro Matt Dove Grey","BH15",228,"150 HL Base Unit Euro Matt Dove Grey"]
["@LK-EMD-BH30","300 HL Base Unit","Euro Matt Dove Grey","BH30",239,"300 HL Base Unit Euro Matt Dove Grey"]
["@LK-EMD-BH35","350 HL Base Unit","Euro Matt Dove Grey","BH35",245,"350 HL Base Unit Euro Matt Dove Grey"]
["@LK-EMD-BH3B","300 HL Base Unit & Bin","Euro Matt Dove Grey","BH3B",607,"300 HL Base Unit & Bin Euro Matt Dove Grey"]
["@LK-EMD-BH40","400 HL Base Unit","Euro Matt Dove Grey","BH40",249,"400 HL Base Unit Euro Matt Dove Grey"]
["@LK-EMD-BH45","450 HL Base Unit","Euro Matt Dove Grey","BH45",272,"450 HL Base Unit Euro Matt Dove Grey"]
["@LK-EMD-BH45B","450 HL Base Unit & Bin","Euro Matt Dove Grey","BH45B",710,"450 HL Base Unit & Bin Euro Matt Dove Grey"]
["@LK-EMD-BH4B","400 HL Base Unit & Bin","Euro Matt Dove Grey","BH4B",682,"400 HL Base Unit & Bin Euro Matt Dove Grey"]
["@LK-EMD-BH50","500 HL Base Unit","Euro Matt Dove Grey","BH50",283,"500 HL Base Unit Euro Matt Dove Grey"]
["@LK-EMD-BH50S","500 HL Sink Base Unit (Inc Liner)","Euro Matt Dove Grey","BH50S",313,"500 HL Sink Base Unit (Inc Liner) Euro Matt Dove Grey"]
["@LK-EMD-BH5B","500 HL Base Unit & Bin","Euro Matt Dove Grey","BH5B",727,"500 HL Base Unit & Bin Euro Matt Dove Grey"]
["@LK-EMD-BH60","600 HL Base Unit","Euro Matt Dove Grey","BH60",319,"600 HL Base Unit Euro Matt Dove Grey"]
["@LK-EMD-BH60S","600 HL Sink Base Unit (Inc Liner)","Euro Matt Dove Grey","BH60S",365,"600 HL Sink Base Unit (Inc Liner) Euro Matt Dove Grey"]
["@LK-EMD-BH6B2","600 HL Base Unit & Bin (2 Bins)","Euro Matt Dove Grey","BH6B2",800,"600 HL Base Unit & Bin (2 Bins) Euro Matt Dove Grey"]
["@LK-EMD-BH6B4","600 HL Base Unit & Bin (4 Bins)","Euro Matt Dove Grey","BH6B4",852,"600 HL Base Unit & Bin (4 Bins) Euro Matt Dove Grey"]
["@LK-EMD-BH70","700 HL Base Unit","Euro Matt Dove Grey","BH70",388,"700 HL Base Unit Euro Matt Dove Grey"]
["@LK-EMD-BH80","800 HL Base Unit","Euro Matt Dove Grey","BH80",394,"800 HL Base Unit Euro Matt Dove Grey"]
["@LK-EMD-BH80S","800 HL Sink Base Unit (Inc Liner)","Euro Matt Dove Grey","BH80S",440,"800 HL Sink Base Unit (Inc Liner) Euro Matt Dove Grey"]
["@LK-EMD-BH90","900 HL Base Unit","Euro Matt Dove Grey","BH90",418,"900 HL Base Unit Euro Matt Dove Grey"]
["@LK-EMD-BH90S","900 HL Sink Base Unit (Inc Liner)","Euro Matt Dove Grey","BH90S",464,"900 HL Sink Base Unit (Inc Liner) Euro Matt Dove Grey"]
["@LK-EMD-BHD3","300 Highline Drw Unit 1 Pan 2 Internal","Euro Matt Dove Grey","BHD3",628,"300 Highline Drw Unit 1 Pan 2 Internal Euro Matt Dove Grey"]
["@LK-EMD-BHD4","400 Highline Drw Unit 1 Pan 2 Internal","Euro Matt Dove Grey","BHD4",677,"400 Highline Drw Unit 1 Pan 2 Internal Euro Matt Dove Grey"]
["@LK-EMD-BHD5","500 Highline Drw Unit 1 Pan 2 Internal","Euro Matt Dove Grey","BHD5",740,"500 Highline Drw Unit 1 Pan 2 Internal Euro Matt Dove Grey"]
["@LK-EMD-BHD6","600 Highline Drw Unit 1 Pan 2 Internal","Euro Matt Dove Grey","BHD6",796,"600 Highline Drw Unit 1 Pan 2 Internal Euro Matt Dove Grey"]
["@LK-EMD-BLD9","900 Boiler Door","Euro Matt Dove Grey","BLD9",133,"900 Boiler Door Euro Matt Dove Grey"]
["@LK-EMD-BOH6","600 BU Oven Housing","Euro Matt Dove Grey","BOH6",199,"600 BU Oven Housing Euro Matt Dove Grey"]
["@LK-EMD-BOHD6","600 BU Oven Housing with drawer -18mm","Euro Matt Dove Grey","BOHD6",312,"600 BU Oven Housing with drawer -18mm Euro Matt Dove Grey"]
["@LK-EMD-BP15TY","150 HL Pull Out Base VS SUB","Euro Matt Dove Grey","BP15TY",408,"150 HL Pull Out Base VS SUB Euro Matt Dove Grey"]
["@LK-EMD-BP3TY","300 HL Pull Out Base VS SUB","Euro Matt Dove Grey","BP3TY",634,"300 HL Pull Out Base VS SUB Euro Matt Dove Grey"]
["@LK-EMD-BSU6450","600 Belfast Sink Unit (450mm High)","Euro Matt Dove Grey","BSU6450",283,"600 Belfast Sink Unit (450mm High) Euro Matt Dove Grey"]
["@LK-EMD-BSU6495","600 Belfast Sink Unit (495mm High)","Euro Matt Dove Grey","BSU6495",285,"600 Belfast Sink Unit (495mm High) Euro Matt Dove Grey"]
["@LK-EMD-CH-MW","Corner Compact Appliance Unit","Euro Matt Dove Grey","CH-MW",700,"Corner Compact Appliance Unit Euro Matt Dove Grey"]
["@LK-EMD-CH-SO","Corner Single Oven Housing Unit","Euro Matt Dove Grey","CH-SO",654,"Corner Single Oven Housing Unit Euro Matt Dove Grey"]
["@LK-EMD-CH-ST","Corner Storage Unit","Euro Matt Dove Grey","CH-ST",880,"Corner Storage Unit Euro Matt Dove Grey"]
["@LK-EMD-L3","300 Larder Unit","Euro Matt Dove Grey","L3",663,"300 Larder Unit Euro Matt Dove Grey"]
["@LK-EMD-L5","500 Larder Unit","Euro Matt Dove Grey","L5",723,"500 Larder Unit Euro Matt Dove Grey"]
["@LK-EMD-L6","600 Larder Unit","Euro Matt Dove Grey","L6",794,"600 Larder Unit Euro Matt Dove Grey"]
["@LK-EMD-LAC","Angled Corner Larder","Euro Matt Dove Grey","LAC",2084,"Angled Corner Larder Euro Matt Dove Grey"]
["@LK-EMD-LBC15","1000mm Blind Corner larder 500 door","Euro Matt Dove Grey","LBC15",944,"1000mm Blind Corner larder 500 door Euro Matt Dove Grey"]
["@LK-EMD-LBC16","1000mm Blind Corner larder 600 door","Euro Matt Dove Grey","LBC16",970,"1000mm Blind Corner larder 600 door Euro Matt Dove Grey"]
["@LK-EMD-LBCLM15L","1000 Cnr Larder CORNERSTONE LH 500 Dr","Euro Matt Dove Grey","LBCLM15L",2782,"1000 Cnr Larder CORNERSTONE LH 500 Dr Euro Matt Dove Grey"]
["@LK-EMD-LBCLM15R","1000 Cnr Larder CORNERSTONE RH 500 Dr","Euro Matt Dove Grey","LBCLM15R",2782,"1000 Cnr Larder CORNERSTONE RH 500 Dr Euro Matt Dove Grey"]
["@LK-EMD-LBCLM16L","1000 Cnr Larder CORNERSTONE LH 600 Dr","Euro Matt Dove Grey","LBCLM16L",2934,"1000 Cnr Larder CORNERSTONE LH 600 Dr Euro Matt Dove Grey"]
["@LK-EMD-LBCLM16R","1000 Cnr Larder CORNERSTONE RH 600 Dr","Euro Matt Dove Grey","LBCLM16R",2934,"1000 Cnr Larder CORNERSTONE RH 600 Dr Euro Matt Dove Grey"]
["@LK-EMD-LL10CB","1000 Combi","Euro Matt Dove Grey","LL10CB",1245,"1000 Combi Euro Matt Dove Grey"]
["@LK-EMD-LL10CU","1000 Cleaning & Utility","Euro Matt Dove Grey","LL10CU",1235,"1000 Cleaning & Utility Euro Matt Dove Grey"]
["@LK-EMD-LL10CUS","1000 Cleaning & Utility Ex Shelves","Euro Matt Dove Grey","LL10CUS",1334,"1000 Cleaning & Utility Ex Shelves Euro Matt Dove Grey"]
["@LK-EMD-LL6CU","600 Cleaning & Utility","Euro Matt Dove Grey","LL6CU",786,"600 Cleaning & Utility Euro Matt Dove Grey"]
["@LK-EMD-LL6EA","600 Easy Access Larder","Euro Matt Dove Grey","LL6EA",836,"600 Easy Access Larder Euro Matt Dove Grey"]
["@LK-EMD-LL8LS","800 Laundry Stacker Larder","Euro Matt Dove Grey","LL8LS",1364,"800 Laundry Stacker Larder Euro Matt Dove Grey"]
["@LK-EMD-LP3","300 Larder & TAL LARDER Pull Out","Euro Matt Dove Grey","LP3",1445,"300 Larder & TAL LARDER Pull Out Euro Matt Dove Grey"]
["@LK-EMD-LP5T","500 Larder & TAL GATE PRO Pull Out","Euro Matt Dove Grey","LP5T",1915,"500 Larder & TAL GATE PRO Pull Out Euro Matt Dove Grey"]
["@LK-EMD-LP5TS","500 Larder & TAL GATE Pull Out","Euro Matt Dove Grey","LP5TS",1657,"500 Larder & TAL GATE Pull Out Euro Matt Dove Grey"]
["@LK-EMD-LP6T","600 Larder & TAL GATE PRO Pull Out","Euro Matt Dove Grey","LP6T",1980,"600 Larder & TAL GATE PRO Pull Out Euro Matt Dove Grey"]
["@LK-EMD-LP6TS","600 Larder & TAL GATE Pull Out","Euro Matt Dove Grey","LP6TS",1781,"600 Larder & TAL GATE Pull Out Euro Matt Dove Grey"]
["@LK-EMD-LPN12D2DW","1000mm Pantry 2 Doors 2 Drawers","Euro Matt Dove Grey","LPN12D2DW",1392,"1000mm Pantry 2 Doors 2 Drawers Euro Matt Dove Grey"]
["@LK-EMD-LPN12D3DW","1000mm Pantry 2 Doors 3 Drawers","Euro Matt Dove Grey","LPN12D3DW",1523,"1000mm Pantry 2 Doors 3 Drawers Euro Matt Dove Grey"]
["@LK-EMD-LPN14D","1000mm Pantry 4 Doors","Euro Matt Dove Grey","LPN14D",1124,"1000mm Pantry 4 Doors Euro Matt Dove Grey"]
["@LK-EMD-LT3","300 Larder Tower","Euro Matt Dove Grey","LT3",1764,"300 Larder Tower Euro Matt Dove Grey"]
["@LK-EMD-LT5","500 Larder Tower","Euro Matt Dove Grey","LT5",1892,"500 Larder Tower Euro Matt Dove Grey"]
["@LK-EMD-LT6","600 Larder Tower","Euro Matt Dove Grey","LT6",2029,"600 Larder Tower Euro Matt Dove Grey"]
["@LK-EMD-TCH-MW","Tall Corner Compact Appliance Unit","Euro Matt Dove Grey","TCH-MW",759,"Tall Corner Compact Appliance Unit Euro Matt Dove Grey"]
["@LK-EMD-TCH-SO","Tall Corner Single Oven Housing Unit","Euro Matt Dove Grey","TCH-SO",846,"Tall Corner Single Oven Housing Unit Euro Matt Dove Grey"]
["@LK-EMD-TCH-ST","Tall Corner Storage Unit","Euro Matt Dove Grey","TCH-ST",918,"Tall Corner Storage Unit Euro Matt Dove Grey"]
["@LK-EMD-W100","1000 Wall Unit","Euro Matt Dove Grey","W100",434,"1000 Wall Unit Euro Matt Dove Grey"]
["@LK-EMD-W30","300 Wall Unit","Euro Matt Dove Grey","W30",221,"300 Wall Unit Euro Matt Dove Grey"]
["@LK-EMD-W35","350 Wall Cabinet","Euro Matt Dove Grey","W35",227,"350 Wall Cabinet Euro Matt Dove Grey"]
["@LK-EMD-W40","400 Wall Unit","Euro Matt Dove Grey","W40",235,"400 Wall Unit Euro Matt Dove Grey"]
["@LK-EMD-W45","450 Wall Unit","Euro Matt Dove Grey","W45",252,"450 Wall Unit Euro Matt Dove Grey"]
["@LK-EMD-W50","500 Wall Unit","Euro Matt Dove Grey","W50",266,"500 Wall Unit Euro Matt Dove Grey"]
["@LK-EMD-W60","600 Wall Unit","Euro Matt Dove Grey","W60",290,"600 Wall Unit Euro Matt Dove Grey"]
["@LK-EMD-W70","700 Wall Cabinet","Euro Matt Dove Grey","W70",383,"700 Wall Cabinet Euro Matt Dove Grey"]
["@LK-EMD-W80","800 Wall Unit","Euro Matt Dove Grey","W80",389,"800 Wall Unit Euro Matt Dove Grey"]
["@LK-EMD-W90","900 Wall Unit","Euro Matt Dove Grey","W90",409,"900 Wall Unit Euro Matt Dove Grey"]
["@LK-EMD-WB12","1000 Bridging Unit","Euro Matt Dove Grey","WB12",338,"1000 Bridging Unit Euro Matt Dove Grey"]
["@LK-EMD-WB62","600 Bridging Unit","Euro Matt Dove Grey","WB62",237,"600 Bridging Unit Euro Matt Dove Grey"]
["@LK-EMD-WB63","600 355mm Bridging Unit","Euro Matt Dove Grey","WB63",295,"600 355mm Bridging Unit Euro Matt Dove Grey"]
["@LK-EMD-WB82","800 Bridging Unit","Euro Matt Dove Grey","WB82",295,"800 Bridging Unit Euro Matt Dove Grey"]
["@LK-EMD-WB92","900 Bridging Unit","Euro Matt Dove Grey","WB92",312,"900 Bridging Unit Euro Matt Dove Grey"]
["@LK-EMD-WB93","900 355mm Bridging Unit","Euro Matt Dove Grey","WB93",344,"900 355mm Bridging Unit Euro Matt Dove Grey"]
["@LK-EMD-WBHU","600 Boiler Housing","Euro Matt Dove Grey","WBHU",282,"600 Boiler Housing Euro Matt Dove Grey"]
["@LK-EMD-WBI60","600 Bifold Unit","Euro Matt Dove Grey","WBI60",663,"600 Bifold Unit Euro Matt Dove Grey"]
["@LK-EMD-WBI90","900 Bifold Unit","Euro Matt Dove Grey","WBI90",695,"900 Bifold Unit Euro Matt Dove Grey"]
["@LK-EMD-WC6","600 Cnr Wall Unit","Euro Matt Dove Grey","WC6",309,"600 Cnr Wall Unit Euro Matt Dove Grey"]
["@LK-EMD-WC9","900 Cnr Wall Unit","Euro Matt Dove Grey","WC9",371,"900 Cnr Wall Unit Euro Matt Dove Grey"]
["@LK-EMD-WCL65","650 L Cnr Wall Unit","Euro Matt Dove Grey","WCL65",553,"650 L Cnr Wall Unit Euro Matt Dove Grey"]
["@LK-EMD-WGR5","Reeded Glass Wall Unit - 500mm","Euro Matt Dove Grey","WGR5",434,"Reeded Glass Wall Unit - 500mm Euro Matt Dove Grey"]
["@LK-EMD-WGR6","Reeded Glass Wall Unit - 600mm","Euro Matt Dove Grey","WGR6",476,"Reeded Glass Wall Unit - 600mm Euro Matt Dove Grey"]
["@LK-EMD-WGS5","Smoked Glass Wall Unit - 500mm","Euro Matt Dove Grey","WGS5",434,"Smoked Glass Wall Unit - 500mm Euro Matt Dove Grey"]
["@LK-EMD-WGS6","Smoked Glass Wall Unit - 600mm","Euro Matt Dove Grey","WGS6",476,"Smoked Glass Wall Unit - 600mm Euro Matt Dove Grey"]
["@LK-EMD-WM60","600 Wall Microwave Unit","Euro Matt Dove Grey","WM60",361,"600 Wall Microwave Unit Euro Matt Dove Grey"]
["LK-A-EMD-BLPEL","Modern Sq Bul Pelmet / Cornice","Euro Matt Dove Grey","BLPEL",86,"Modern Sq Bul Pelmet / Cornice Euro Matt Dove Grey"]
["LK-A-EMD-CPBC","Curved End post Cap Classic","Euro Matt Dove Grey","CPBC",116,"Curved End post Cap Classic Euro Matt Dove Grey"]
["LK-A-EMD-CPBM","Curved End post Cap Modern","Euro Matt Dove Grey","CPBM",109,"Curved End post Cap Modern Euro Matt Dove Grey"]
["LK-A-EMD-CVP","Curved End Post","Euro Matt Dove Grey","CVP",123,"Curved End Post Euro Matt Dove Grey"]
["LK-A-EMD-ESP","End Support / Plant on Base Panel","Euro Matt Dove Grey","ESP",135,"End Support / Plant on Base Panel Euro Matt Dove Grey"]
["LK-A-EMD-ET","22mm Edging - 10m","Euro Matt Dove Grey","ET",37,"22mm Edging - 10m Euro Matt Dove Grey"]
["LK-A-EMD-LUP","Large Universal Panel 2.4 x 900mm","Euro Matt Dove Grey","LUP",391,"Large Universal Panel 2.4 x 900mm Euro Matt Dove Grey"]
["LK-A-EMD-PL","Plinth","Euro Matt Dove Grey","PL",90,"Plinth Euro Matt Dove Grey"]
["LK-A-EMD-PTEP","Plant on Tall End Panel 2400x630","Euro Matt Dove Grey","PTEP",305,"Plant on Tall End Panel 2400x630 Euro Matt Dove Grey"]
["LK-A-EMD-PWEP20","2000 x 360 Plant on Wall End Panel","Euro Matt Dove Grey","PWEP20",200,"2000 x 360 Plant on Wall End Panel Euro Matt Dove Grey"]
["LK-A-EMD-PWEP72","720 x 360 Plant on Wall End Panel","Euro Matt Dove Grey","PWEP72",92,"720 x 360 Plant on Wall End Panel Euro Matt Dove Grey"]
["LK-A-EMD-SCCRN","Sculptured Cornice","Euro Matt Dove Grey","SCCRN",113,"Sculptured Cornice Euro Matt Dove Grey"]
["LK-A-EMD-WREP72","720 Wall Rep end Panel","Euro Matt Dove Grey","WREP72",77,"720 Wall Rep end Panel Euro Matt Dove Grey"]
["@LK-EMY-AD45I","450 Integrated Dishwasher Fascia","Euro Matt Dust Grey","AD45I",107,"450 Integrated Dishwasher Fascia Euro Matt Dust Grey"]
["@LK-EMY-AD60FD","600 Fridge/Dishwasher Fascia","Euro Matt Dust Grey","AD60FD",131,"600 Fridge/Dishwasher Fascia Euro Matt Dust Grey"]
["@LK-EMY-AD60ICH","600 Integrated Extractor Door","Euro Matt Dust Grey","AD60ICH",95,"600 Integrated Extractor Door Euro Matt Dust Grey"]
["@LK-EMY-AD60S","600 Semi Int Dishwasher Fascia","Euro Matt Dust Grey","AD60S",129,"600 Semi Int Dishwasher Fascia Euro Matt Dust Grey"]
["@LK-EMY-AH-CO","600 Compact / Microwave Housing","Euro Matt Dust Grey","AH-CO",823,"600 Compact / Microwave Housing Euro Matt Dust Grey"]
["@LK-EMY-AH-DMW","600 Double Oven & MW unit","Euro Matt Dust Grey","AH-DMW",927,"600 Double Oven & MW unit Euro Matt Dust Grey"]
["@LK-EMY-AH-DO","600 Dble Oven Housing","Euro Matt Dust Grey","AH-DO",731,"600 Dble Oven Housing Euro Matt Dust Grey"]
["@LK-EMY-AH-DO2D","600 Dble Oven & 2 Drws","Euro Matt Dust Grey","AH-DO2D",1058,"600 Dble Oven & 2 Drws Euro Matt Dust Grey"]
["@LK-EMY-AH-F55","600 50/50 FF Housing Unit","Euro Matt Dust Grey","AH-F55",735,"600 50/50 FF Housing Unit Euro Matt Dust Grey"]
["@LK-EMY-AH-F73","600 70/30 FF Housing Unit","Euro Matt Dust Grey","AH-F73",711,"600 70/30 FF Housing Unit Euro Matt Dust Grey"]
["@LK-EMY-AH-SM2D","600 Single Oven & MW 2 Drw unit","Euro Matt Dust Grey","AH-SM2D",1074,"600 Single Oven & MW 2 Drw unit Euro Matt Dust Grey"]
["@LK-EMY-AH-SMW","600 Sgle Oven & MW 2 Door unit","Euro Matt Dust Grey","AH-SMW",786,"600 Sgle Oven & MW 2 Door unit Euro Matt Dust Grey"]
["@LK-EMY-AH-SO","600 Single Oven Housing","Euro Matt Dust Grey","AH-SO",750,"600 Single Oven Housing Euro Matt Dust Grey"]
["@LK-EMY-AH-SO1D","600 Single Oven + 1 Drw Unit","Euro Matt Dust Grey","AH-SO1D",896,"600 Single Oven + 1 Drw Unit Euro Matt Dust Grey"]
["@LK-EMY-AH-SO2D","600 Single Oven + 2 Drws Unit","Euro Matt Dust Grey","AH-SO2D",1112,"600 Single Oven + 2 Drws Unit Euro Matt Dust Grey"]
["@LK-EMY-AH-SO3D","600 Single Oven + 3 Drws Unit","Euro Matt Dust Grey","AH-SO3D",1261,"600 Single Oven + 3 Drws Unit Euro Matt Dust Grey"]
["@LK-EMY-AH-SOT","600 Twin Single Oven Housing","Euro Matt Dust Grey","AH-SOT",876,"600 Twin Single Oven Housing Euro Matt Dust Grey"]
["@LK-EMY-BC145","1000 HL Cnr Base (450 Door)","Euro Matt Dust Grey","BC145",397,"1000 HL Cnr Base (450 Door) Euro Matt Dust Grey"]
["@LK-EMY-BC15","1000 HL Cnr Base (500 Door)","Euro Matt Dust Grey","BC15",405,"1000 HL Cnr Base (500 Door) Euro Matt Dust Grey"]
["@LK-EMY-BC16","1000 HL Cnr Base (600 Door)","Euro Matt Dust Grey","BC16",421,"1000 HL Cnr Base (600 Door) Euro Matt Dust Grey"]
["@LK-EMY-BC83","800 HL Cnr Base (300 Door)","Euro Matt Dust Grey","BC83",374,"800 HL Cnr Base (300 Door) Euro Matt Dust Grey"]
["@LK-EMY-BC84","800 HL Cnr Base Unit (400 Door)","Euro Matt Dust Grey","BC84",380,"800 HL Cnr Base Unit (400 Door) Euro Matt Dust Grey"]
["@LK-EMY-BC845","800 HL Cnr Base (450 Door)","Euro Matt Dust Grey","BC845",392,"800 HL Cnr Base (450 Door) Euro Matt Dust Grey"]
["@LK-EMY-BC945","900 HL Cnr Base (450 Door)","Euro Matt Dust Grey","BC945",390,"900 HL Cnr Base (450 Door) Euro Matt Dust Grey"]
["@LK-EMY-BCL15L","1000 Cnr Base CORNERSTONE LH - 500 door","Euro Matt Dust Grey","BCL15L",1270,"1000 Cnr Base CORNERSTONE LH - 500 door Euro Matt Dust Grey"]
["@LK-EMY-BCL15R","1000 Cnr Base CORNERSTONE RH - 500 door","Euro Matt Dust Grey","BCL15R",1270,"1000 Cnr Base CORNERSTONE RH - 500 door Euro Matt Dust Grey"]
["@LK-EMY-BCL16L","1000 Cnr Base CORNERSTONE LH - 600 door","Euro Matt Dust Grey","BCL16L",1349,"1000 Cnr Base CORNERSTONE LH - 600 door Euro Matt Dust Grey"]
["@LK-EMY-BCL16R","1000 Cnr Base CORNERSTONE RH - 600 door","Euro Matt Dust Grey","BCL16R",1349,"1000 Cnr Base CORNERSTONE RH - 600 door Euro Matt Dust Grey"]
["@LK-EMY-BCL9","950 HL Cnr L Base","Euro Matt Dust Grey","BCL9",618,"950 HL Cnr L Base Euro Matt Dust Grey"]
["@LK-EMY-BCO145","1000 Corner Base VS COR FLEX - 450 door","Euro Matt Dust Grey","BCO145",1407,"1000 Corner Base VS COR FLEX - 450 door Euro Matt Dust Grey"]
["@LK-EMY-BCO15","1000 Corner Base VS COR FLEX - 500 door","Euro Matt Dust Grey","BCO15",1415,"1000 Corner Base VS COR FLEX - 500 door Euro Matt Dust Grey"]
["@LK-EMY-BCO16","1000 Corner Base VS COR FLEX - 600 door","Euro Matt Dust Grey","BCO16",1431,"1000 Corner Base VS COR FLEX - 600 door Euro Matt Dust Grey"]
["@LK-EMY-BCO945","900 Corner Base VS COR FLEX - 450 door","Euro Matt Dust Grey","BCO945",1400,"900 Corner Base VS COR FLEX - 450 door Euro Matt Dust Grey"]
["@LK-EMY-BD13","1000 3 Drw Base Unit","Euro Matt Dust Grey","BD13",845,"1000 3 Drw Base Unit Euro Matt Dust Grey"]
["@LK-EMY-BD53","500 3 Drw Base Unit","Euro Matt Dust Grey","BD53",714,"500 3 Drw Base Unit Euro Matt Dust Grey"]
["@LK-EMY-BD54","500 4 Drw Base Unit","Euro Matt Dust Grey","BD54",846,"500 4 Drw Base Unit Euro Matt Dust Grey"]
["@LK-EMY-BD62","600 2 Pan Drw Unit","Euro Matt Dust Grey","BD62",683,"600 2 Pan Drw Unit Euro Matt Dust Grey"]
["@LK-EMY-BD62I","600 2 Pan Drw Unit + 1 Internal","Euro Matt Dust Grey","BD62I",859,"600 2 Pan Drw Unit + 1 Internal Euro Matt Dust Grey"]
["@LK-EMY-BD63","600 3 Drw Base Unit","Euro Matt Dust Grey","BD63",806,"600 3 Drw Base Unit Euro Matt Dust Grey"]
["@LK-EMY-BD635L","600 Low Single Drawer unit 360 high","Euro Matt Dust Grey","BD635L",384,"600 Low Single Drawer unit 360 high Euro Matt Dust Grey"]
["@LK-EMY-BD83","800 3 Drw Base Unit","Euro Matt Dust Grey","BD83",813,"800 3 Drw Base Unit Euro Matt Dust Grey"]
["@LK-EMY-BD92","900 2 Pan Drw Unit","Euro Matt Dust Grey","BD92",700,"900 2 Pan Drw Unit Euro Matt Dust Grey"]
["@LK-EMY-BD92I","900 2 Pan Drw Unit + 1 Internal","Euro Matt Dust Grey","BD92I",901,"900 2 Pan Drw Unit + 1 Internal Euro Matt Dust Grey"]
["@LK-EMY-BD93","900 3 Drw Base Unit","Euro Matt Dust Grey","BD93",828,"900 3 Drw Base Unit Euro Matt Dust Grey"]
["@LK-EMY-BH100","1000 HL Base Unit","Euro Matt Dust Grey","BH100",439,"1000 HL Base Unit Euro Matt Dust Grey"]
["@LK-EMY-BH10S","1000 HL Sink Base Unit (Inc Liner)","Euro Matt Dust Grey","BH10S",485,"1000 HL Sink Base Unit (Inc Liner) Euro Matt Dust Grey"]
["@LK-EMY-BH15","150 HL Base Unit","Euro Matt Dust Grey","BH15",228,"150 HL Base Unit Euro Matt Dust Grey"]
["@LK-EMY-BH30","300 HL Base Unit","Euro Matt Dust Grey","BH30",239,"300 HL Base Unit Euro Matt Dust Grey"]
["@LK-EMY-BH35","350 HL Base Unit","Euro Matt Dust Grey","BH35",245,"350 HL Base Unit Euro Matt Dust Grey"]
["@LK-EMY-BH3B","300 HL Base Unit & Bin","Euro Matt Dust Grey","BH3B",607,"300 HL Base Unit & Bin Euro Matt Dust Grey"]
["@LK-EMY-BH40","400 HL Base Unit","Euro Matt Dust Grey","BH40",249,"400 HL Base Unit Euro Matt Dust Grey"]
["@LK-EMY-BH45","450 HL Base Unit","Euro Matt Dust Grey","BH45",272,"450 HL Base Unit Euro Matt Dust Grey"]
["@LK-EMY-BH45B","450 HL Base Unit & Bin","Euro Matt Dust Grey","BH45B",710,"450 HL Base Unit & Bin Euro Matt Dust Grey"]
["@LK-EMY-BH4B","400 HL Base Unit & Bin","Euro Matt Dust Grey","BH4B",682,"400 HL Base Unit & Bin Euro Matt Dust Grey"]
["@LK-EMY-BH50","500 HL Base Unit","Euro Matt Dust Grey","BH50",283,"500 HL Base Unit Euro Matt Dust Grey"]
["@LK-EMY-BH50S","500 HL Sink Base Unit (Inc Liner)","Euro Matt Dust Grey","BH50S",313,"500 HL Sink Base Unit (Inc Liner) Euro Matt Dust Grey"]
["@LK-EMY-BH5B","500 HL Base Unit & Bin","Euro Matt Dust Grey","BH5B",727,"500 HL Base Unit & Bin Euro Matt Dust Grey"]
["@LK-EMY-BH60","600 HL Base Unit","Euro Matt Dust Grey","BH60",319,"600 HL Base Unit Euro Matt Dust Grey"]
["@LK-EMY-BH60S","600 HL Sink Base Unit (Inc Liner)","Euro Matt Dust Grey","BH60S",365,"600 HL Sink Base Unit (Inc Liner) Euro Matt Dust Grey"]
["@LK-EMY-BH6B2","600 HL Base Unit & Bin (2 Bins)","Euro Matt Dust Grey","BH6B2",800,"600 HL Base Unit & Bin (2 Bins) Euro Matt Dust Grey"]
["@LK-EMY-BH6B4","600 HL Base Unit & Bin (4 Bins)","Euro Matt Dust Grey","BH6B4",852,"600 HL Base Unit & Bin (4 Bins) Euro Matt Dust Grey"]
["@LK-EMY-BH70","700 HL Base Unit","Euro Matt Dust Grey","BH70",388,"700 HL Base Unit Euro Matt Dust Grey"]
["@LK-EMY-BH80","800 HL Base Unit","Euro Matt Dust Grey","BH80",394,"800 HL Base Unit Euro Matt Dust Grey"]
["@LK-EMY-BH80S","800 HL Sink Base Unit (Inc Liner)","Euro Matt Dust Grey","BH80S",440,"800 HL Sink Base Unit (Inc Liner) Euro Matt Dust Grey"]
["@LK-EMY-BH90","900 HL Base Unit","Euro Matt Dust Grey","BH90",418,"900 HL Base Unit Euro Matt Dust Grey"]
["@LK-EMY-BH90S","900 HL Sink Base Unit (Inc Liner)","Euro Matt Dust Grey","BH90S",464,"900 HL Sink Base Unit (Inc Liner) Euro Matt Dust Grey"]
["@LK-EMY-BHD3","300 Highline Drw Unit 1 Pan 2 Internal","Euro Matt Dust Grey","BHD3",628,"300 Highline Drw Unit 1 Pan 2 Internal Euro Matt Dust Grey"]
["@LK-EMY-BHD4","400 Highline Drw Unit 1 Pan 2 Internal","Euro Matt Dust Grey","BHD4",677,"400 Highline Drw Unit 1 Pan 2 Internal Euro Matt Dust Grey"]
["@LK-EMY-BHD5","500 Highline Drw Unit 1 Pan 2 Internal","Euro Matt Dust Grey","BHD5",740,"500 Highline Drw Unit 1 Pan 2 Internal Euro Matt Dust Grey"]
["@LK-EMY-BHD6","600 Highline Drw Unit 1 Pan 2 Internal","Euro Matt Dust Grey","BHD6",796,"600 Highline Drw Unit 1 Pan 2 Internal Euro Matt Dust Grey"]
["@LK-EMY-BLD9","900 Boiler Door","Euro Matt Dust Grey","BLD9",133,"900 Boiler Door Euro Matt Dust Grey"]
["@LK-EMY-BOH6","600 BU Oven Housing","Euro Matt Dust Grey","BOH6",199,"600 BU Oven Housing Euro Matt Dust Grey"]
["@LK-EMY-BOHD6","600 BU Oven Housing with drawer -18mm","Euro Matt Dust Grey","BOHD6",312,"600 BU Oven Housing with drawer -18mm Euro Matt Dust Grey"]
["@LK-EMY-BP15TY","150 HL Pull Out Base VS SUB","Euro Matt Dust Grey","BP15TY",408,"150 HL Pull Out Base VS SUB Euro Matt Dust Grey"]
["@LK-EMY-BP3TY","300 HL Pull Out Base VS SUB","Euro Matt Dust Grey","BP3TY",634,"300 HL Pull Out Base VS SUB Euro Matt Dust Grey"]
["@LK-EMY-BSU6450","600 Belfast Sink Unit (450mm High)","Euro Matt Dust Grey","BSU6450",283,"600 Belfast Sink Unit (450mm High) Euro Matt Dust Grey"]
["@LK-EMY-BSU6495","600 Belfast Sink Unit (495mm High)","Euro Matt Dust Grey","BSU6495",285,"600 Belfast Sink Unit (495mm High) Euro Matt Dust Grey"]
["@LK-EMY-CH-MW","Corner Compact Appliance Unit","Euro Matt Dust Grey","CH-MW",700,"Corner Compact Appliance Unit Euro Matt Dust Grey"]
["@LK-EMY-CH-SO","Corner Single Oven Housing Unit","Euro Matt Dust Grey","CH-SO",654,"Corner Single Oven Housing Unit Euro Matt Dust Grey"]
["@LK-EMY-CH-ST","Corner Storage Unit","Euro Matt Dust Grey","CH-ST",880,"Corner Storage Unit Euro Matt Dust Grey"]
["@LK-EMY-L3","300 Larder Unit","Euro Matt Dust Grey","L3",663,"300 Larder Unit Euro Matt Dust Grey"]
["@LK-EMY-L5","500 Larder Unit","Euro Matt Dust Grey","L5",723,"500 Larder Unit Euro Matt Dust Grey"]
["@LK-EMY-L6","600 Larder Unit","Euro Matt Dust Grey","L6",794,"600 Larder Unit Euro Matt Dust Grey"]
["@LK-EMY-LAC","Angled Corner Larder","Euro Matt Dust Grey","LAC",2084,"Angled Corner Larder Euro Matt Dust Grey"]
["@LK-EMY-LBC15","1000mm Blind Corner larder 500 door","Euro Matt Dust Grey","LBC15",944,"1000mm Blind Corner larder 500 door Euro Matt Dust Grey"]
["@LK-EMY-LBC16","1000mm Blind Corner larder 600 door","Euro Matt Dust Grey","LBC16",970,"1000mm Blind Corner larder 600 door Euro Matt Dust Grey"]
["@LK-EMY-LBCLM15L","1000 Cnr Larder CORNERSTONE LH 500 Dr","Euro Matt Dust Grey","LBCLM15L",2782,"1000 Cnr Larder CORNERSTONE LH 500 Dr Euro Matt Dust Grey"]
["@LK-EMY-LBCLM15R","1000 Cnr Larder CORNERSTONE RH 500 Dr","Euro Matt Dust Grey","LBCLM15R",2782,"1000 Cnr Larder CORNERSTONE RH 500 Dr Euro Matt Dust Grey"]
["@LK-EMY-LBCLM16L","1000 Cnr Larder CORNERSTONE LH 600 Dr","Euro Matt Dust Grey","LBCLM16L",2934,"1000 Cnr Larder CORNERSTONE LH 600 Dr Euro Matt Dust Grey"]
["@LK-EMY-LBCLM16R","1000 Cnr Larder CORNERSTONE RH 600 Dr","Euro Matt Dust Grey","LBCLM16R",2934,"1000 Cnr Larder CORNERSTONE RH 600 Dr Euro Matt Dust Grey"]
["@LK-EMY-LL10CB","1000 Combi","Euro Matt Dust Grey","LL10CB",1245,"1000 Combi Euro Matt Dust Grey"]
["@LK-EMY-LL10CU","1000 Cleaning & Utility","Euro Matt Dust Grey","LL10CU",1235,"1000 Cleaning & Utility Euro Matt Dust Grey"]
["@LK-EMY-LL10CUS","1000 Cleaning & Utility Ex Shelves","Euro Matt Dust Grey","LL10CUS",1334,"1000 Cleaning & Utility Ex Shelves Euro Matt Dust Grey"]
["@LK-EMY-LL6CU","600 Cleaning & Utility","Euro Matt Dust Grey","LL6CU",786,"600 Cleaning & Utility Euro Matt Dust Grey"]
["@LK-EMY-LL6EA","600 Easy Access Larder","Euro Matt Dust Grey","LL6EA",836,"600 Easy Access Larder Euro Matt Dust Grey"]
["@LK-EMY-LL8LS","800 Laundry Stacker Larder","Euro Matt Dust Grey","LL8LS",1364,"800 Laundry Stacker Larder Euro Matt Dust Grey"]
["@LK-EMY-LP3","300 Larder & TAL LARDER Pull Out","Euro Matt Dust Grey","LP3",1445,"300 Larder & TAL LARDER Pull Out Euro Matt Dust Grey"]
["@LK-EMY-LP5T","500 Larder & TAL GATE PRO Pull Out","Euro Matt Dust Grey","LP5T",1915,"500 Larder & TAL GATE PRO Pull Out Euro Matt Dust Grey"]
["@LK-EMY-LP5TS","500 Larder & TAL GATE Pull Out","Euro Matt Dust Grey","LP5TS",1657,"500 Larder & TAL GATE Pull Out Euro Matt Dust Grey"]
["@LK-EMY-LP6T","600 Larder & TAL GATE PRO Pull Out","Euro Matt Dust Grey","LP6T",1980,"600 Larder & TAL GATE PRO Pull Out Euro Matt Dust Grey"]
["@LK-EMY-LP6TS","600 Larder & TAL GATE Pull Out","Euro Matt Dust Grey","LP6TS",1781,"600 Larder & TAL GATE Pull Out Euro Matt Dust Grey"]
["@LK-EMY-LPN12D2DW","1000mm Pantry 2 Doors 2 Drawers","Euro Matt Dust Grey","LPN12D2DW",1392,"1000mm Pantry 2 Doors 2 Drawers Euro Matt Dust Grey"]
["@LK-EMY-LPN12D3DW","1000mm Pantry 2 Doors 3 Drawers","Euro Matt Dust Grey","LPN12D3DW",1523,"1000mm Pantry 2 Doors 3 Drawers Euro Matt Dust Grey"]
["@LK-EMY-LPN14D","1000mm Pantry 4 Doors","Euro Matt Dust Grey","LPN14D",1124,"1000mm Pantry 4 Doors Euro Matt Dust Grey"]
["@LK-EMY-LT3","300 Larder Tower","Euro Matt Dust Grey","LT3",1764,"300 Larder Tower Euro Matt Dust Grey"]
["@LK-EMY-LT5","500 Larder Tower","Euro Matt Dust Grey","LT5",1892,"500 Larder Tower Euro Matt Dust Grey"]
["@LK-EMY-LT6","600 Larder Tower","Euro Matt Dust Grey","LT6",2029,"600 Larder Tower Euro Matt Dust Grey"]
["@LK-EMY-TCH-MW","Tall Corner Compact Appliance Unit","Euro Matt Dust Grey","TCH-MW",759,"Tall Corner Compact Appliance Unit Euro Matt Dust Grey"]
["@LK-EMY-TCH-SO","Tall Corner Single Oven Housing Unit","Euro Matt Dust Grey","TCH-SO",846,"Tall Corner Single Oven Housing Unit Euro Matt Dust Grey"]
["@LK-EMY-TCH-ST","Tall Corner Storage Unit","Euro Matt Dust Grey","TCH-ST",918,"Tall Corner Storage Unit Euro Matt Dust Grey"]
["@LK-EMY-W100","1000 Wall Unit","Euro Matt Dust Grey","W100",434,"1000 Wall Unit Euro Matt Dust Grey"]
["@LK-EMY-W30","300 Wall Unit","Euro Matt Dust Grey","W30",221,"300 Wall Unit Euro Matt Dust Grey"]
["@LK-EMY-W35","350 Wall Cabinet","Euro Matt Dust Grey","W35",227,"350 Wall Cabinet Euro Matt Dust Grey"]
["@LK-EMY-W40","400 Wall Unit","Euro Matt Dust Grey","W40",235,"400 Wall Unit Euro Matt Dust Grey"]
["@LK-EMY-W45","450 Wall Unit","Euro Matt Dust Grey","W45",252,"450 Wall Unit Euro Matt Dust Grey"]
["@LK-EMY-W50","500 Wall Unit","Euro Matt Dust Grey","W50",266,"500 Wall Unit Euro Matt Dust Grey"]
["@LK-EMY-W60","600 Wall Unit","Euro Matt Dust Grey","W60",290,"600 Wall Unit Euro Matt Dust Grey"]
["@LK-EMY-W70","700 Wall Cabinet","Euro Matt Dust Grey","W70",383,"700 Wall Cabinet Euro Matt Dust Grey"]
["@LK-EMY-W80","800 Wall Unit","Euro Matt Dust Grey","W80",389,"800 Wall Unit Euro Matt Dust Grey"]
["@LK-EMY-W90","900 Wall Unit","Euro Matt Dust Grey","W90",409,"900 Wall Unit Euro Matt Dust Grey"]
["@LK-EMY-WB12","1000 Bridging Unit","Euro Matt Dust Grey","WB12",338,"1000 Bridging Unit Euro Matt Dust Grey"]
["@LK-EMY-WB62","600 Bridging Unit","Euro Matt Dust Grey","WB62",237,"600 Bridging Unit Euro Matt Dust Grey"]
["@LK-EMY-WB63","600 355mm Bridging Unit","Euro Matt Dust Grey","WB63",295,"600 355mm Bridging Unit Euro Matt Dust Grey"]
["@LK-EMY-WB82","800 Bridging Unit","Euro Matt Dust Grey","WB82",295,"800 Bridging Unit Euro Matt Dust Grey"]
["@LK-EMY-WB92","900 Bridging Unit","Euro Matt Dust Grey","WB92",312,"900 Bridging Unit Euro Matt Dust Grey"]
["@LK-EMY-WB93","900 355mm Bridging Unit","Euro Matt Dust Grey","WB93",344,"900 355mm Bridging Unit Euro Matt Dust Grey"]
["@LK-EMY-WBHU","600 Boiler Housing","Euro Matt Dust Grey","WBHU",282,"600 Boiler Housing Euro Matt Dust Grey"]
["@LK-EMY-WBI60","600 Bifold Unit","Euro Matt Dust Grey","WBI60",663,"600 Bifold Unit Euro Matt Dust Grey"]
["@LK-EMY-WBI90","900 Bifold Unit","Euro Matt Dust Grey","WBI90",695,"900 Bifold Unit Euro Matt Dust Grey"]
["@LK-EMY-WC6","600 Cnr Wall Unit","Euro Matt Dust Grey","WC6",309,"600 Cnr Wall Unit Euro Matt Dust Grey"]
["@LK-EMY-WC9","900 Cnr Wall Unit","Euro Matt Dust Grey","WC9",371,"900 Cnr Wall Unit Euro Matt Dust Grey"]
["@LK-EMY-WCL65","650 L Cnr Wall Unit","Euro Matt Dust Grey","WCL65",553,"650 L Cnr Wall Unit Euro Matt Dust Grey"]
["@LK-EMY-WGR5","Reeded Glass Wall Unit - 500mm","Euro Matt Dust Grey","WGR5",434,"Reeded Glass Wall Unit - 500mm Euro Matt Dust Grey"]
["@LK-EMY-WGR6","Reeded Glass Wall Unit - 600mm","Euro Matt Dust Grey","WGR6",476,"Reeded Glass Wall Unit - 600mm Euro Matt Dust Grey"]
["@LK-EMY-WGS5","Smoked Glass Wall Unit - 500mm","Euro Matt Dust Grey","WGS5",434,"Smoked Glass Wall Unit - 500mm Euro Matt Dust Grey"]
["@LK-EMY-WGS6","Smoked Glass Wall Unit - 600mm","Euro Matt Dust Grey","WGS6",476,"Smoked Glass Wall Unit - 600mm Euro Matt Dust Grey"]
["@LK-EMY-WM60","600 Wall Microwave Unit","Euro Matt Dust Grey","WM60",361,"600 Wall Microwave Unit Euro Matt Dust Grey"]
["LK-A-EMY-BLPEL","Modern Sq Bul Pelmet / Cornice","Euro Matt Dust Grey","BLPEL",86,"Modern Sq Bul Pelmet / Cornice Euro Matt Dust Grey"]
["LK-A-EMY-CPBC","Curved End post Cap Classic","Euro Matt Dust Grey","CPBC",116,"Curved End post Cap Classic Euro Matt Dust Grey"]
["LK-A-EMY-CPBM","Curved End post Cap Modern","Euro Matt Dust Grey","CPBM",109,"Curved End post Cap Modern Euro Matt Dust Grey"]
["LK-A-EMY-CVP","Curved End Post","Euro Matt Dust Grey","CVP",123,"Curved End Post Euro Matt Dust Grey"]
["LK-A-EMY-ESP","End Support / Plant on Base Panel","Euro Matt Dust Grey","ESP",135,"End Support / Plant on Base Panel Euro Matt Dust Grey"]
["LK-A-EMY-LUP","Large Universal Panel 2.4 x 900mm","Euro Matt Dust Grey","LUP",391,"Large Universal Panel 2.4 x 900mm Euro Matt Dust Grey"]
["LK-A-EMY-PL","Plinth","Euro Matt Dust Grey","PL",90,"Plinth Euro Matt Dust Grey"]
["LK-A-EMY-PTEP","Plant on Tall End Panel 2400x630","Euro Matt Dust Grey","PTEP",305,"Plant on Tall End Panel 2400x630 Euro Matt Dust Grey"]
["LK-A-EMY-PWEP20","2000 x 360 Plant on Wall End Panel","Euro Matt Dust Grey","PWEP20",200,"2000 x 360 Plant on Wall End Panel Euro Matt Dust Grey"]
["LK-A-EMY-PWEP72","720 x 360 Plant on Wall End Panel","Euro Matt Dust Grey","PWEP72",92,"720 x 360 Plant on Wall End Panel Euro Matt Dust Grey"]
["LK-A-EMY-SCCRN","Sculptured Cornice","Euro Matt Dust Grey","SCCRN",113,"Sculptured Cornice Euro Matt Dust Grey"]
["LK-A-EMY-WREP72","720 Wall Rep end Panel","Euro Matt Dust Grey","WREP72",77,"720 Wall Rep end Panel Euro Matt Dust Grey"]
["@LK-EMM-AD45I","450 Integrated Dishwasher Fascia","Euro Matt Mussel","AD45I",107,"450 Integrated Dishwasher Fascia Euro Matt Mussel"]
["@LK-EMM-AD60FD","600 Fridge/Dishwasher Fascia","Euro Matt Mussel","AD60FD",131,"600 Fridge/Dishwasher Fascia Euro Matt Mussel"]
["@LK-EMM-AD60ICH","600 Integrated Extractor Door","Euro Matt Mussel","AD60ICH",95,"600 Integrated Extractor Door Euro Matt Mussel"]
["@LK-EMM-AD60S","600 Semi Int Dishwasher Fascia","Euro Matt Mussel","AD60S",129,"600 Semi Int Dishwasher Fascia Euro Matt Mussel"]
["@LK-EMM-AH-CO","600 Compact / Microwave Housing","Euro Matt Mussel","AH-CO",823,"600 Compact / Microwave Housing Euro Matt Mussel"]
["@LK-EMM-AH-DMW","600 Double Oven & MW unit","Euro Matt Mussel","AH-DMW",927,"600 Double Oven & MW unit Euro Matt Mussel"]
["@LK-EMM-AH-DO","600 Dble Oven Housing","Euro Matt Mussel","AH-DO",731,"600 Dble Oven Housing Euro Matt Mussel"]
["@LK-EMM-AH-DO2D","600 Dble Oven & 2 Drws","Euro Matt Mussel","AH-DO2D",1058,"600 Dble Oven & 2 Drws Euro Matt Mussel"]
["@LK-EMM-AH-F55","600 50/50 FF Housing Unit","Euro Matt Mussel","AH-F55",735,"600 50/50 FF Housing Unit Euro Matt Mussel"]
["@LK-EMM-AH-F73","600 70/30 FF Housing Unit","Euro Matt Mussel","AH-F73",711,"600 70/30 FF Housing Unit Euro Matt Mussel"]
["@LK-EMM-AH-SM2D","600 Single Oven & MW 2 Drw unit","Euro Matt Mussel","AH-SM2D",1074,"600 Single Oven & MW 2 Drw unit Euro Matt Mussel"]
["@LK-EMM-AH-SMW","600 Sgle Oven & MW 2 Door unit","Euro Matt Mussel","AH-SMW",786,"600 Sgle Oven & MW 2 Door unit Euro Matt Mussel"]
["@LK-EMM-AH-SO","600 Single Oven Housing","Euro Matt Mussel","AH-SO",750,"600 Single Oven Housing Euro Matt Mussel"]
["@LK-EMM-AH-SO1D","600 Single Oven + 1 Drw Unit","Euro Matt Mussel","AH-SO1D",896,"600 Single Oven + 1 Drw Unit Euro Matt Mussel"]
["@LK-EMM-AH-SO2D","600 Single Oven + 2 Drws Unit","Euro Matt Mussel","AH-SO2D",1112,"600 Single Oven + 2 Drws Unit Euro Matt Mussel"]
["@LK-EMM-AH-SO3D","600 Single Oven + 3 Drws Unit","Euro Matt Mussel","AH-SO3D",1261,"600 Single Oven + 3 Drws Unit Euro Matt Mussel"]
["@LK-EMM-AH-SOT","600 Twin Single Oven Housing","Euro Matt Mussel","AH-SOT",876,"600 Twin Single Oven Housing Euro Matt Mussel"]
["@LK-EMM-BC145","1000 HL Cnr Base (450 Door)","Euro Matt Mussel","BC145",397,"1000 HL Cnr Base (450 Door) Euro Matt Mussel"]
["@LK-EMM-BC15","1000 HL Cnr Base (500 Door)","Euro Matt Mussel","BC15",405,"1000 HL Cnr Base (500 Door) Euro Matt Mussel"]
["@LK-EMM-BC16","1000 HL Cnr Base (600 Door)","Euro Matt Mussel","BC16",421,"1000 HL Cnr Base (600 Door) Euro Matt Mussel"]
["@LK-EMM-BC83","800 HL Cnr Base (300 Door)","Euro Matt Mussel","BC83",374,"800 HL Cnr Base (300 Door) Euro Matt Mussel"]
["@LK-EMM-BC84","800 HL Cnr Base Unit (400 Door)","Euro Matt Mussel","BC84",380,"800 HL Cnr Base Unit (400 Door) Euro Matt Mussel"]
["@LK-EMM-BC845","800 HL Cnr Base (450 Door)","Euro Matt Mussel","BC845",392,"800 HL Cnr Base (450 Door) Euro Matt Mussel"]
["@LK-EMM-BC945","900 HL Cnr Base (450 Door)","Euro Matt Mussel","BC945",392,"900 HL Cnr Base (450 Door) Euro Matt Mussel"]
["@LK-EMM-BCL15L","1000 Cnr Base CORNERSTONE LH - 500 door","Euro Matt Mussel","BCL15L",1270,"1000 Cnr Base CORNERSTONE LH - 500 door Euro Matt Mussel"]
["@LK-EMM-BCL15R","1000 Cnr Base CORNERSTONE RH - 500 door","Euro Matt Mussel","BCL15R",1270,"1000 Cnr Base CORNERSTONE RH - 500 door Euro Matt Mussel"]
["@LK-EMM-BCL16L","1000 Cnr Base CORNERSTONE LH - 600 door","Euro Matt Mussel","BCL16L",1349,"1000 Cnr Base CORNERSTONE LH - 600 door Euro Matt Mussel"]
["@LK-EMM-BCL16R","1000 Cnr Base CORNERSTONE RH - 600 door","Euro Matt Mussel","BCL16R",1349,"1000 Cnr Base CORNERSTONE RH - 600 door Euro Matt Mussel"]
["@LK-EMM-BCL9","950 HL Cnr L Base","Euro Matt Mussel","BCL9",618,"950 HL Cnr L Base Euro Matt Mussel"]
["@LK-EMM-BCO145","1000 Corner Base VS COR FLEX - 450 door","Euro Matt Mussel","BCO145",1407,"1000 Corner Base VS COR FLEX - 450 door Euro Matt Mussel"]
["@LK-EMM-BCO15","1000 Corner Base VS COR FLEX - 500 door","Euro Matt Mussel","BCO15",1415,"1000 Corner Base VS COR FLEX - 500 door Euro Matt Mussel"]
["@LK-EMM-BCO16","1000 Corner Base VS COR FLEX - 600 door","Euro Matt Mussel","BCO16",1431,"1000 Corner Base VS COR FLEX - 600 door Euro Matt Mussel"]
["@LK-EMM-BCO945","900 Corner Base VS COR FLEX - 450 door","Euro Matt Mussel","BCO945",1402,"900 Corner Base VS COR FLEX - 450 door Euro Matt Mussel"]
["@LK-EMM-BD13","1000 3 Drw Base Unit","Euro Matt Mussel","BD13",845,"1000 3 Drw Base Unit Euro Matt Mussel"]
["@LK-EMM-BD53","500 3 Drw Base Unit","Euro Matt Mussel","BD53",714,"500 3 Drw Base Unit Euro Matt Mussel"]
["@LK-EMM-BD54","500 4 Drw Base Unit","Euro Matt Mussel","BD54",846,"500 4 Drw Base Unit Euro Matt Mussel"]
["@LK-EMM-BD62","600 2 Pan Drw Unit","Euro Matt Mussel","BD62",683,"600 2 Pan Drw Unit Euro Matt Mussel"]
["@LK-EMM-BD62I","600 2 Pan Drw Unit + 1 Internal","Euro Matt Mussel","BD62I",859,"600 2 Pan Drw Unit + 1 Internal Euro Matt Mussel"]
["@LK-EMM-BD63","600 3 Drw Base Unit","Euro Matt Mussel","BD63",806,"600 3 Drw Base Unit Euro Matt Mussel"]
["@LK-EMM-BD635L","600 Low Single Drawer unit 360 high","Euro Matt Mussel","BD635L",384,"600 Low Single Drawer unit 360 high Euro Matt Mussel"]
["@LK-EMM-BD83","800 3 Drw Base Unit","Euro Matt Mussel","BD83",813,"800 3 Drw Base Unit Euro Matt Mussel"]
["@LK-EMM-BD92","900 2 Pan Drw Unit","Euro Matt Mussel","BD92",700,"900 2 Pan Drw Unit Euro Matt Mussel"]
["@LK-EMM-BD92I","900 2 Pan Drw Unit + 1 Internal","Euro Matt Mussel","BD92I",901,"900 2 Pan Drw Unit + 1 Internal Euro Matt Mussel"]
["@LK-EMM-BD93","900 3 Drw Base Unit","Euro Matt Mussel","BD93",828,"900 3 Drw Base Unit Euro Matt Mussel"]
["@LK-EMM-BH100","1000 HL Base Unit","Euro Matt Mussel","BH100",439,"1000 HL Base Unit Euro Matt Mussel"]
["@LK-EMM-BH10S","1000 HL Sink Base Unit (Inc Liner)","Euro Matt Mussel","BH10S",485,"1000 HL Sink Base Unit (Inc Liner) Euro Matt Mussel"]
["@LK-EMM-BH15","150 HL Base Unit","Euro Matt Mussel","BH15",228,"150 HL Base Unit Euro Matt Mussel"]
["@LK-EMM-BH30","300 HL Base Unit","Euro Matt Mussel","BH30",239,"300 HL Base Unit Euro Matt Mussel"]
["@LK-EMM-BH35","350 HL Base Unit","Euro Matt Mussel","BH35",245,"350 HL Base Unit Euro Matt Mussel"]
["@LK-EMM-BH3B","300 HL Base Unit & Bin","Euro Matt Mussel","BH3B",607,"300 HL Base Unit & Bin Euro Matt Mussel"]
["@LK-EMM-BH40","400 HL Base Unit","Euro Matt Mussel","BH40",249,"400 HL Base Unit Euro Matt Mussel"]
["@LK-EMM-BH45","450 HL Base Unit","Euro Matt Mussel","BH45",272,"450 HL Base Unit Euro Matt Mussel"]
["@LK-EMM-BH45B","450 HL Base Unit & Bin","Euro Matt Mussel","BH45B",710,"450 HL Base Unit & Bin Euro Matt Mussel"]
["@LK-EMM-BH4B","400 HL Base Unit & Bin","Euro Matt Mussel","BH4B",682,"400 HL Base Unit & Bin Euro Matt Mussel"]
["@LK-EMM-BH50","500 HL Base Unit","Euro Matt Mussel","BH50",283,"500 HL Base Unit Euro Matt Mussel"]
["@LK-EMM-BH50S","500 HL Sink Base Unit (Inc Liner)","Euro Matt Mussel","BH50S",313,"500 HL Sink Base Unit (Inc Liner) Euro Matt Mussel"]
["@LK-EMM-BH5B","500 HL Base Unit & Bin","Euro Matt Mussel","BH5B",727,"500 HL Base Unit & Bin Euro Matt Mussel"]
["@LK-EMM-BH60","600 HL Base Unit","Euro Matt Mussel","BH60",319,"600 HL Base Unit Euro Matt Mussel"]
["@LK-EMM-BH60S","600 HL Sink Base Unit (Inc Liner)","Euro Matt Mussel","BH60S",365,"600 HL Sink Base Unit (Inc Liner) Euro Matt Mussel"]
["@LK-EMM-BH6B2","600 HL Base Unit & Bin (2 Bins)","Euro Matt Mussel","BH6B2",800,"600 HL Base Unit & Bin (2 Bins) Euro Matt Mussel"]
["@LK-EMM-BH6B4","600 HL Base Unit & Bin (4 Bins)","Euro Matt Mussel","BH6B4",852,"600 HL Base Unit & Bin (4 Bins) Euro Matt Mussel"]
["@LK-EMM-BH70","700 HL Base Unit","Euro Matt Mussel","BH70",388,"700 HL Base Unit Euro Matt Mussel"]
["@LK-EMM-BH80","800 HL Base Unit","Euro Matt Mussel","BH80",394,"800 HL Base Unit Euro Matt Mussel"]
["@LK-EMM-BH80S","800 HL Sink Base Unit (Inc Liner)","Euro Matt Mussel","BH80S",440,"800 HL Sink Base Unit (Inc Liner) Euro Matt Mussel"]
["@LK-EMM-BH90","900 HL Base Unit","Euro Matt Mussel","BH90",418,"900 HL Base Unit Euro Matt Mussel"]
["@LK-EMM-BH90S","900 HL Sink Base Unit (Inc Liner)","Euro Matt Mussel","BH90S",464,"900 HL Sink Base Unit (Inc Liner) Euro Matt Mussel"]
["@LK-EMM-BHD3","300 Highline Drw Unit 1 Pan 2 Internal","Euro Matt Mussel","BHD3",628,"300 Highline Drw Unit 1 Pan 2 Internal Euro Matt Mussel"]
["@LK-EMM-BHD4","400 Highline Drw Unit 1 Pan 2 Internal","Euro Matt Mussel","BHD4",677,"400 Highline Drw Unit 1 Pan 2 Internal Euro Matt Mussel"]
["@LK-EMM-BHD5","500 Highline Drw Unit 1 Pan 2 Internal","Euro Matt Mussel","BHD5",740,"500 Highline Drw Unit 1 Pan 2 Internal Euro Matt Mussel"]
["@LK-EMM-BHD6","600 Highline Drw Unit 1 Pan 2 Internal","Euro Matt Mussel","BHD6",796,"600 Highline Drw Unit 1 Pan 2 Internal Euro Matt Mussel"]
["@LK-EMM-BLD9","900 Boiler Door","Euro Matt Mussel","BLD9",133,"900 Boiler Door Euro Matt Mussel"]
["@LK-EMM-BOH6","600 BU Oven Housing","Euro Matt Mussel","BOH6",199,"600 BU Oven Housing Euro Matt Mussel"]
["@LK-EMM-BOHD6","600 BU Oven Housing with drawer -18mm","Euro Matt Mussel","BOHD6",312,"600 BU Oven Housing with drawer -18mm Euro Matt Mussel"]
["@LK-EMM-BP15TY","150 HL Pull Out Base VS SUB","Euro Matt Mussel","BP15TY",408,"150 HL Pull Out Base VS SUB Euro Matt Mussel"]
["@LK-EMM-BP3TY","300 HL Pull Out Base VS SUB","Euro Matt Mussel","BP3TY",634,"300 HL Pull Out Base VS SUB Euro Matt Mussel"]
["@LK-EMM-BSU6450","600 Belfast Sink Unit (450mm High)","Euro Matt Mussel","BSU6450",283,"600 Belfast Sink Unit (450mm High) Euro Matt Mussel"]
["@LK-EMM-BSU6495","600 Belfast Sink Unit (495mm High)","Euro Matt Mussel","BSU6495",285,"600 Belfast Sink Unit (495mm High) Euro Matt Mussel"]
["@LK-EMM-CH-MW","Corner Compact Appliance Unit","Euro Matt Mussel","CH-MW",700,"Corner Compact Appliance Unit Euro Matt Mussel"]
["@LK-EMM-CH-SO","Corner Single Oven Housing Unit","Euro Matt Mussel","CH-SO",654,"Corner Single Oven Housing Unit Euro Matt Mussel"]
["@LK-EMM-CH-ST","Corner Storage Unit","Euro Matt Mussel","CH-ST",880,"Corner Storage Unit Euro Matt Mussel"]
["@LK-EMM-L3","300 Larder Unit","Euro Matt Mussel","L3",663,"300 Larder Unit Euro Matt Mussel"]
["@LK-EMM-L5","500 Larder Unit","Euro Matt Mussel","L5",723,"500 Larder Unit Euro Matt Mussel"]
["@LK-EMM-L6","600 Larder Unit","Euro Matt Mussel","L6",794,"600 Larder Unit Euro Matt Mussel"]
["@LK-EMM-LAC","Angled Corner Larder","Euro Matt Mussel","LAC",2084,"Angled Corner Larder Euro Matt Mussel"]
["@LK-EMM-LBC15","1000mm Blind Corner larder 500 door","Euro Matt Mussel","LBC15",944,"1000mm Blind Corner larder 500 door Euro Matt Mussel"]
["@LK-EMM-LBC16","1000mm Blind Corner larder 600 door","Euro Matt Mussel","LBC16",970,"1000mm Blind Corner larder 600 door Euro Matt Mussel"]
["@LK-EMM-LBCLM15L","1000 Cnr Larder CORNERSTONE LH 500 Dr","Euro Matt Mussel","LBCLM15L",2782,"1000 Cnr Larder CORNERSTONE LH 500 Dr Euro Matt Mussel"]
["@LK-EMM-LBCLM15R","1000 Cnr Larder CORNERSTONE RH 500 Dr","Euro Matt Mussel","LBCLM15R",2782,"1000 Cnr Larder CORNERSTONE RH 500 Dr Euro Matt Mussel"]
["@LK-EMM-LBCLM16L","1000 Cnr Larder CORNERSTONE LH 600 Dr","Euro Matt Mussel","LBCLM16L",2934,"1000 Cnr Larder CORNERSTONE LH 600 Dr Euro Matt Mussel"]
["@LK-EMM-LBCLM16R","1000 Cnr Larder CORNERSTONE RH 600 Dr","Euro Matt Mussel","LBCLM16R",2934,"1000 Cnr Larder CORNERSTONE RH 600 Dr Euro Matt Mussel"]
["@LK-EMM-LL10CB","1000 Combi","Euro Matt Mussel","LL10CB",1245,"1000 Combi Euro Matt Mussel"]
["@LK-EMM-LL10CU","1000 Cleaning & Utility","Euro Matt Mussel","LL10CU",1235,"1000 Cleaning & Utility Euro Matt Mussel"]
["@LK-EMM-LL10CUS","1000 Cleaning & Utility Ex Shelves","Euro Matt Mussel","LL10CUS",1334,"1000 Cleaning & Utility Ex Shelves Euro Matt Mussel"]
["@LK-EMM-LL6CU","600 Cleaning & Utility","Euro Matt Mussel","LL6CU",786,"600 Cleaning & Utility Euro Matt Mussel"]
["@LK-EMM-LL6EA","600 Easy Access Larder","Euro Matt Mussel","LL6EA",836,"600 Easy Access Larder Euro Matt Mussel"]
["@LK-EMM-LL8LS","800 Laundry Stacker Larder","Euro Matt Mussel","LL8LS",1364,"800 Laundry Stacker Larder Euro Matt Mussel"]
["@LK-EMM-LP3","300 Larder & TAL LARDER Pull Out","Euro Matt Mussel","LP3",1445,"300 Larder & TAL LARDER Pull Out Euro Matt Mussel"]
["@LK-EMM-LP5T","500 Larder & TAL GATE PRO Pull Out","Euro Matt Mussel","LP5T",1915,"500 Larder & TAL GATE PRO Pull Out Euro Matt Mussel"]
["@LK-EMM-LP5TS","500 Larder & TAL GATE Pull Out","Euro Matt Mussel","LP5TS",1657,"500 Larder & TAL GATE Pull Out Euro Matt Mussel"]
["@LK-EMM-LP6T","600 Larder & TAL GATE PRO Pull Out","Euro Matt Mussel","LP6T",1980,"600 Larder & TAL GATE PRO Pull Out Euro Matt Mussel"]
["@LK-EMM-LP6TS","600 Larder & TAL GATE Pull Out","Euro Matt Mussel","LP6TS",1781,"600 Larder & TAL GATE Pull Out Euro Matt Mussel"]
["@LK-EMM-LPN12D2DW","1000mm Pantry 2 Doors 2 Drawers","Euro Matt Mussel","LPN12D2DW",1392,"1000mm Pantry 2 Doors 2 Drawers Euro Matt Mussel"]
["@LK-EMM-LPN12D3DW","1000mm Pantry 2 Doors 3 Drawers","Euro Matt Mussel","LPN12D3DW",1523,"1000mm Pantry 2 Doors 3 Drawers Euro Matt Mussel"]
["@LK-EMM-LPN14D","1000mm Pantry 4 Doors","Euro Matt Mussel","LPN14D",1124,"1000mm Pantry 4 Doors Euro Matt Mussel"]
["@LK-EMM-LT3","300 Larder Tower","Euro Matt Mussel","LT3",1764,"300 Larder Tower Euro Matt Mussel"]
["@LK-EMM-LT5","500 Larder Tower","Euro Matt Mussel","LT5",1892,"500 Larder Tower Euro Matt Mussel"]
["@LK-EMM-LT6","600 Larder Tower","Euro Matt Mussel","LT6",2029,"600 Larder Tower Euro Matt Mussel"]
["@LK-EMM-TCH-MW","Tall Corner Compact Appliance Unit","Euro Matt Mussel","TCH-MW",759,"Tall Corner Compact Appliance Unit Euro Matt Mussel"]
["@LK-EMM-TCH-SO","Tall Corner Single Oven Housing Unit","Euro Matt Mussel","TCH-SO",846,"Tall Corner Single Oven Housing Unit Euro Matt Mussel"]
["@LK-EMM-TCH-ST","Tall Corner Storage Unit","Euro Matt Mussel","TCH-ST",918,"Tall Corner Storage Unit Euro Matt Mussel"]
["@LK-EMM-W100","1000 Wall Unit","Euro Matt Mussel","W100",434,"1000 Wall Unit Euro Matt Mussel"]
["@LK-EMM-W30","300 Wall Unit","Euro Matt Mussel","W30",221,"300 Wall Unit Euro Matt Mussel"]
["@LK-EMM-W35","350 Wall Cabinet","Euro Matt Mussel","W35",227,"350 Wall Cabinet Euro Matt Mussel"]
["@LK-EMM-W40","400 Wall Unit","Euro Matt Mussel","W40",235,"400 Wall Unit Euro Matt Mussel"]
["@LK-EMM-W45","450 Wall Unit","Euro Matt Mussel","W45",252,"450 Wall Unit Euro Matt Mussel"]
["@LK-EMM-W50","500 Wall Unit","Euro Matt Mussel","W50",266,"500 Wall Unit Euro Matt Mussel"]
["@LK-EMM-W60","600 Wall Unit","Euro Matt Mussel","W60",290,"600 Wall Unit Euro Matt Mussel"]
["@LK-EMM-W70","700 Wall Cabinet","Euro Matt Mussel","W70",383,"700 Wall Cabinet Euro Matt Mussel"]
["@LK-EMM-W80","800 Wall Unit","Euro Matt Mussel","W80",389,"800 Wall Unit Euro Matt Mussel"]
["@LK-EMM-W90","900 Wall Unit","Euro Matt Mussel","W90",409,"900 Wall Unit Euro Matt Mussel"]
["@LK-EMM-WB12","1000 Bridging Unit","Euro Matt Mussel","WB12",338,"1000 Bridging Unit Euro Matt Mussel"]
["@LK-EMM-WB62","600 Bridging Unit","Euro Matt Mussel","WB62",237,"600 Bridging Unit Euro Matt Mussel"]
["@LK-EMM-WB63","600 355mm Bridging Unit","Euro Matt Mussel","WB63",295,"600 355mm Bridging Unit Euro Matt Mussel"]
["@LK-EMM-WB82","800 Bridging Unit","Euro Matt Mussel","WB82",295,"800 Bridging Unit Euro Matt Mussel"]
["@LK-EMM-WB92","900 Bridging Unit","Euro Matt Mussel","WB92",312,"900 Bridging Unit Euro Matt Mussel"]
["@LK-EMM-WB93","900 355mm Bridging Unit","Euro Matt Mussel","WB93",344,"900 355mm Bridging Unit Euro Matt Mussel"]
["@LK-EMM-WBHU","600 Boiler Housing","Euro Matt Mussel","WBHU",282,"600 Boiler Housing Euro Matt Mussel"]
["@LK-EMM-WBI60","600 Bifold Unit","Euro Matt Mussel","WBI60",663,"600 Bifold Unit Euro Matt Mussel"]
["@LK-EMM-WBI90","900 Bifold Unit","Euro Matt Mussel","WBI90",695,"900 Bifold Unit Euro Matt Mussel"]
["@LK-EMM-WC6","600 Cnr Wall Unit","Euro Matt Mussel","WC6",309,"600 Cnr Wall Unit Euro Matt Mussel"]
["@LK-EMM-WC9","900 Cnr Wall Unit","Euro Matt Mussel","WC9",371,"900 Cnr Wall Unit Euro Matt Mussel"]
["@LK-EMM-WCL65","650 L Cnr Wall Unit","Euro Matt Mussel","WCL65",553,"650 L Cnr Wall Unit Euro Matt Mussel"]
["@LK-EMM-WGR5","Reeded Glass Wall Unit - 500mm","Euro Matt Mussel","WGR5",434,"Reeded Glass Wall Unit - 500mm Euro Matt Mussel"]
["@LK-EMM-WGR6","Reeded Glass Wall Unit - 600mm","Euro Matt Mussel","WGR6",476,"Reeded Glass Wall Unit - 600mm Euro Matt Mussel"]
["@LK-EMM-WGS5","Smoked Glass Wall Unit - 500mm","Euro Matt Mussel","WGS5",434,"Smoked Glass Wall Unit - 500mm Euro Matt Mussel"]
["@LK-EMM-WGS6","Smoked Glass Wall Unit - 600mm","Euro Matt Mussel","WGS6",476,"Smoked Glass Wall Unit - 600mm Euro Matt Mussel"]
["@LK-EMM-WM60","600 Wall Microwave Unit","Euro Matt Mussel","WM60",361,"600 Wall Microwave Unit Euro Matt Mussel"]
["LK-A-EMM-BLPEL","Modern Sq Bul Pelmet / Cornice","Euro Matt Mussel","BLPEL",86,"Modern Sq Bul Pelmet / Cornice Euro Matt Mussel"]
["LK-A-EMM-CPBC","Curved End post Cap Classic","Euro Matt Mussel","CPBC",116,"Curved End post Cap Classic Euro Matt Mussel"]
["LK-A-EMM-CPBM","Curved End post Cap Modern","Euro Matt Mussel","CPBM",109,"Curved End post Cap Modern Euro Matt Mussel"]
["LK-A-EMM-CVP","Curved End Post","Euro Matt Mussel","CVP",123,"Curved End Post Euro Matt Mussel"]
["LK-A-EMM-ESP","End Support / Plant on Base Panel","Euro Matt Mussel","ESP",135,"End Support / Plant on Base Panel Euro Matt Mussel"]
["LK-A-EMM-ET","22mm Edging - 10m","Euro Matt Mussel","ET",37,"22mm Edging - 10m Euro Matt Mussel"]
["LK-A-EMM-LUP","Large Universal Panel 2.4 x 900mm","Euro Matt Mussel","LUP",391,"Large Universal Panel 2.4 x 900mm Euro Matt Mussel"]
["LK-A-EMM-PL","Plinth","Euro Matt Mussel","PL",90,"Plinth Euro Matt Mussel"]
["LK-A-EMM-PTEP","Plant on Tall End Panel 2400x630","Euro Matt Mussel","PTEP",305,"Plant on Tall End Panel 2400x630 Euro Matt Mussel"]
["LK-A-EMM-PWEP20","2000 x 360 Plant on Wall End Panel","Euro Matt Mussel","PWEP20",200,"2000 x 360 Plant on Wall End Panel Euro Matt Mussel"]
["LK-A-EMM-PWEP72","720 x 360 Plant on Wall End Panel","Euro Matt Mussel","PWEP72",92,"720 x 360 Plant on Wall End Panel Euro Matt Mussel"]
["LK-A-EMM-SCCRN","Sculptured Cornice","Euro Matt Mussel","SCCRN",113,"Sculptured Cornice Euro Matt Mussel"]
["LK-A-EMM-WREP72","720 Wall Rep end Panel","Euro Matt Mussel","WREP72",77,"720 Wall Rep end Panel Euro Matt Mussel"]
["@LK-EMS-AD45I","450 Integrated Dishwasher Fascia","Euro Matt Sea Blue","AD45I",107,"450 Integrated Dishwasher Fascia Euro Matt Sea Blue"]
["@LK-EMS-AD60FD","600 Fridge/Dishwasher Fascia","Euro Matt Sea Blue","AD60FD",131,"600 Fridge/Dishwasher Fascia Euro Matt Sea Blue"]
["@LK-EMS-AD60ICH","600 Integrated Extractor Door","Euro Matt Sea Blue","AD60ICH",95,"600 Integrated Extractor Door Euro Matt Sea Blue"]
["@LK-EMS-AD60S","600 Semi Int Dishwasher Fascia","Euro Matt Sea Blue","AD60S",129,"600 Semi Int Dishwasher Fascia Euro Matt Sea Blue"]
["@LK-EMS-AH-CO","600 Compact / Microwave Housing","Euro Matt Sea Blue","AH-CO",823,"600 Compact / Microwave Housing Euro Matt Sea Blue"]
["@LK-EMS-AH-DMW","600 Double Oven & MW unit","Euro Matt Sea Blue","AH-DMW",927,"600 Double Oven & MW unit Euro Matt Sea Blue"]
["@LK-EMS-AH-DO","600 Dble Oven Housing","Euro Matt Sea Blue","AH-DO",731,"600 Dble Oven Housing Euro Matt Sea Blue"]
["@LK-EMS-AH-DO2D","600 Dble Oven & 2 Drws","Euro Matt Sea Blue","AH-DO2D",1058,"600 Dble Oven & 2 Drws Euro Matt Sea Blue"]
["@LK-EMS-AH-F55","600 50/50 FF Housing Unit","Euro Matt Sea Blue","AH-F55",735,"600 50/50 FF Housing Unit Euro Matt Sea Blue"]
["@LK-EMS-AH-F73","600 70/30 FF Housing Unit","Euro Matt Sea Blue","AH-F73",711,"600 70/30 FF Housing Unit Euro Matt Sea Blue"]
["@LK-EMS-AH-SM2D","600 Single Oven & MW 2 Drw unit","Euro Matt Sea Blue","AH-SM2D",1074,"600 Single Oven & MW 2 Drw unit Euro Matt Sea Blue"]
["@LK-EMS-AH-SMW","600 Sgle Oven & MW 2 Door unit","Euro Matt Sea Blue","AH-SMW",786,"600 Sgle Oven & MW 2 Door unit Euro Matt Sea Blue"]
["@LK-EMS-AH-SO","600 Single Oven Housing","Euro Matt Sea Blue","AH-SO",750,"600 Single Oven Housing Euro Matt Sea Blue"]
["@LK-EMS-AH-SO1D","600 Single Oven + 1 Drw Unit","Euro Matt Sea Blue","AH-SO1D",896,"600 Single Oven + 1 Drw Unit Euro Matt Sea Blue"]
["@LK-EMS-AH-SO2D","600 Single Oven + 2 Drws Unit","Euro Matt Sea Blue","AH-SO2D",1112,"600 Single Oven + 2 Drws Unit Euro Matt Sea Blue"]
["@LK-EMS-AH-SO3D","600 Single Oven + 3 Drws Unit","Euro Matt Sea Blue","AH-SO3D",1261,"600 Single Oven + 3 Drws Unit Euro Matt Sea Blue"]
["@LK-EMS-AH-SOT","600 Twin Single Oven Housing","Euro Matt Sea Blue","AH-SOT",876,"600 Twin Single Oven Housing Euro Matt Sea Blue"]
["@LK-EMS-BC145","1000 HL Cnr Base (450 Door)","Euro Matt Sea Blue","BC145",397,"1000 HL Cnr Base (450 Door) Euro Matt Sea Blue"]
["@LK-EMS-BC15","1000 HL Cnr Base (500 Door)","Euro Matt Sea Blue","BC15",405,"1000 HL Cnr Base (500 Door) Euro Matt Sea Blue"]
["@LK-EMS-BC16","1000 HL Cnr Base (600 Door)","Euro Matt Sea Blue","BC16",421,"1000 HL Cnr Base (600 Door) Euro Matt Sea Blue"]
["@LK-EMS-BC83","800 HL Cnr Base (300 Door)","Euro Matt Sea Blue","BC83",374,"800 HL Cnr Base (300 Door) Euro Matt Sea Blue"]
["@LK-EMS-BC84","800 HL Cnr Base Unit (400 Door)","Euro Matt Sea Blue","BC84",380,"800 HL Cnr Base Unit (400 Door) Euro Matt Sea Blue"]
["@LK-EMS-BC845","800 HL Cnr Base (450 Door)","Euro Matt Sea Blue","BC845",392,"800 HL Cnr Base (450 Door) Euro Matt Sea Blue"]
["@LK-EMS-BC945","900 HL Cnr Base (450 Door)","Euro Matt Sea Blue","BC945",390,"900 HL Cnr Base (450 Door) Euro Matt Sea Blue"]
["@LK-EMS-BCL15L","1000 Cnr Base CORNERSTONE LH - 500 door","Euro Matt Sea Blue","BCL15L",1270,"1000 Cnr Base CORNERSTONE LH - 500 door Euro Matt Sea Blue"]
["@LK-EMS-BCL15R","1000 Cnr Base CORNERSTONE RH - 500 door","Euro Matt Sea Blue","BCL15R",1270,"1000 Cnr Base CORNERSTONE RH - 500 door Euro Matt Sea Blue"]
["@LK-EMS-BCL16L","1000 Cnr Base CORNERSTONE LH - 600 door","Euro Matt Sea Blue","BCL16L",1349,"1000 Cnr Base CORNERSTONE LH - 600 door Euro Matt Sea Blue"]
["@LK-EMS-BCL16R","1000 Cnr Base CORNERSTONE RH - 600 door","Euro Matt Sea Blue","BCL16R",1349,"1000 Cnr Base CORNERSTONE RH - 600 door Euro Matt Sea Blue"]
["@LK-EMS-BCL9","950 HL Cnr L Base","Euro Matt Sea Blue","BCL9",618,"950 HL Cnr L Base Euro Matt Sea Blue"]
["@LK-EMS-BCO145","1000 Corner Base VS COR FLEX - 450 door","Euro Matt Sea Blue","BCO145",1407,"1000 Corner Base VS COR FLEX - 450 door Euro Matt Sea Blue"]
["@LK-EMS-BCO15","1000 Corner Base VS COR FLEX - 500 door","Euro Matt Sea Blue","BCO15",1415,"1000 Corner Base VS COR FLEX - 500 door Euro Matt Sea Blue"]
["@LK-EMS-BCO16","1000 Corner Base VS COR FLEX - 600 door","Euro Matt Sea Blue","BCO16",1431,"1000 Corner Base VS COR FLEX - 600 door Euro Matt Sea Blue"]
["@LK-EMS-BCO945","900 Corner Base VS COR FLEX - 450 door","Euro Matt Sea Blue","BCO945",1402,"900 Corner Base VS COR FLEX - 450 door Euro Matt Sea Blue"]
["@LK-EMS-BD13","1000 3 Drw Base Unit","Euro Matt Sea Blue","BD13",845,"1000 3 Drw Base Unit Euro Matt Sea Blue"]
["@LK-EMS-BD53","500 3 Drw Base Unit","Euro Matt Sea Blue","BD53",714,"500 3 Drw Base Unit Euro Matt Sea Blue"]
["@LK-EMS-BD54","500 4 Drw Base Unit","Euro Matt Sea Blue","BD54",846,"500 4 Drw Base Unit Euro Matt Sea Blue"]
["@LK-EMS-BD62","600 2 Pan Drw Unit","Euro Matt Sea Blue","BD62",683,"600 2 Pan Drw Unit Euro Matt Sea Blue"]
["@LK-EMS-BD62I","600 2 Pan Drw Unit + 1 Internal","Euro Matt Sea Blue","BD62I",859,"600 2 Pan Drw Unit + 1 Internal Euro Matt Sea Blue"]
["@LK-EMS-BD63","600 3 Drw Base Unit","Euro Matt Sea Blue","BD63",806,"600 3 Drw Base Unit Euro Matt Sea Blue"]
["@LK-EMS-BD635L","600 Low Single Drawer unit 360 high","Euro Matt Sea Blue","BD635L",384,"600 Low Single Drawer unit 360 high Euro Matt Sea Blue"]
["@LK-EMS-BD83","800 3 Drw Base Unit","Euro Matt Sea Blue","BD83",813,"800 3 Drw Base Unit Euro Matt Sea Blue"]
["@LK-EMS-BD92","900 2 Pan Drw Unit","Euro Matt Sea Blue","BD92",700,"900 2 Pan Drw Unit Euro Matt Sea Blue"]
["@LK-EMS-BD92I","900 2 Pan Drw Unit + 1 Internal","Euro Matt Sea Blue","BD92I",901,"900 2 Pan Drw Unit + 1 Internal Euro Matt Sea Blue"]
["@LK-EMS-BD93","900 3 Drw Base Unit","Euro Matt Sea Blue","BD93",828,"900 3 Drw Base Unit Euro Matt Sea Blue"]
["@LK-EMS-BH100","1000 HL Base Unit","Euro Matt Sea Blue","BH100",439,"1000 HL Base Unit Euro Matt Sea Blue"]
["@LK-EMS-BH10S","1000 HL Sink Base Unit (Inc Liner)","Euro Matt Sea Blue","BH10S",485,"1000 HL Sink Base Unit (Inc Liner) Euro Matt Sea Blue"]
["@LK-EMS-BH15","150 HL Base Unit","Euro Matt Sea Blue","BH15",228,"150 HL Base Unit Euro Matt Sea Blue"]
["@LK-EMS-BH30","300 HL Base Unit","Euro Matt Sea Blue","BH30",239,"300 HL Base Unit Euro Matt Sea Blue"]
["@LK-EMS-BH35","350 HL Base Unit","Euro Matt Sea Blue","BH35",245,"350 HL Base Unit Euro Matt Sea Blue"]
["@LK-EMS-BH3B","300 HL Base Unit & Bin","Euro Matt Sea Blue","BH3B",607,"300 HL Base Unit & Bin Euro Matt Sea Blue"]
["@LK-EMS-BH40","400 HL Base Unit","Euro Matt Sea Blue","BH40",249,"400 HL Base Unit Euro Matt Sea Blue"]
["@LK-EMS-BH45","450 HL Base Unit","Euro Matt Sea Blue","BH45",272,"450 HL Base Unit Euro Matt Sea Blue"]
["@LK-EMS-BH45B","450 HL Base Unit & Bin","Euro Matt Sea Blue","BH45B",710,"450 HL Base Unit & Bin Euro Matt Sea Blue"]
["@LK-EMS-BH4B","400 HL Base Unit & Bin","Euro Matt Sea Blue","BH4B",682,"400 HL Base Unit & Bin Euro Matt Sea Blue"]
["@LK-EMS-BH50","500 HL Base Unit","Euro Matt Sea Blue","BH50",283,"500 HL Base Unit Euro Matt Sea Blue"]
["@LK-EMS-BH50S","500 HL Sink Base Unit (Inc Liner)","Euro Matt Sea Blue","BH50S",313,"500 HL Sink Base Unit (Inc Liner) Euro Matt Sea Blue"]
["@LK-EMS-BH5B","500 HL Base Unit & Bin","Euro Matt Sea Blue","BH5B",727,"500 HL Base Unit & Bin Euro Matt Sea Blue"]
["@LK-EMS-BH60","600 HL Base Unit","Euro Matt Sea Blue","BH60",319,"600 HL Base Unit Euro Matt Sea Blue"]
["@LK-EMS-BH60S","600 HL Sink Base Unit (Inc Liner)","Euro Matt Sea Blue","BH60S",365,"600 HL Sink Base Unit (Inc Liner) Euro Matt Sea Blue"]
["@LK-EMS-BH6B2","600 HL Base Unit & Bin (2 Bins)","Euro Matt Sea Blue","BH6B2",800,"600 HL Base Unit & Bin (2 Bins) Euro Matt Sea Blue"]
["@LK-EMS-BH6B4","600 HL Base Unit & Bin (4 Bins)","Euro Matt Sea Blue","BH6B4",852,"600 HL Base Unit & Bin (4 Bins) Euro Matt Sea Blue"]
["@LK-EMS-BH70","700 HL Base Unit","Euro Matt Sea Blue","BH70",388,"700 HL Base Unit Euro Matt Sea Blue"]
["@LK-EMS-BH80","800 HL Base Unit","Euro Matt Sea Blue","BH80",394,"800 HL Base Unit Euro Matt Sea Blue"]
["@LK-EMS-BH80S","800 HL Sink Base Unit (Inc Liner)","Euro Matt Sea Blue","BH80S",440,"800 HL Sink Base Unit (Inc Liner) Euro Matt Sea Blue"]
["@LK-EMS-BH90","900 HL Base Unit","Euro Matt Sea Blue","BH90",418,"900 HL Base Unit Euro Matt Sea Blue"]
["@LK-EMS-BH90S","900 HL Sink Base Unit (Inc Liner)","Euro Matt Sea Blue","BH90S",464,"900 HL Sink Base Unit (Inc Liner) Euro Matt Sea Blue"]
["@LK-EMS-BHD3","300 Highline Drw Unit 1 Pan 2 Internal","Euro Matt Sea Blue","BHD3",628,"300 Highline Drw Unit 1 Pan 2 Internal Euro Matt Sea Blue"]
["@LK-EMS-BHD4","400 Highline Drw Unit 1 Pan 2 Internal","Euro Matt Sea Blue","BHD4",677,"400 Highline Drw Unit 1 Pan 2 Internal Euro Matt Sea Blue"]
["@LK-EMS-BHD5","500 Highline Drw Unit 1 Pan 2 Internal","Euro Matt Sea Blue","BHD5",740,"500 Highline Drw Unit 1 Pan 2 Internal Euro Matt Sea Blue"]
["@LK-EMS-BHD6","600 Highline Drw Unit 1 Pan 2 Internal","Euro Matt Sea Blue","BHD6",796,"600 Highline Drw Unit 1 Pan 2 Internal Euro Matt Sea Blue"]
["@LK-EMS-BLD9","900 Boiler Door","Euro Matt Sea Blue","BLD9",133,"900 Boiler Door Euro Matt Sea Blue"]
["@LK-EMS-BOH6","600 BU Oven Housing","Euro Matt Sea Blue","BOH6",199,"600 BU Oven Housing Euro Matt Sea Blue"]
["@LK-EMS-BOHD6","600 BU Oven Housing with drawer -18mm","Euro Matt Sea Blue","BOHD6",312,"600 BU Oven Housing with drawer -18mm Euro Matt Sea Blue"]
["@LK-EMS-BP15TY","150 HL Pull Out Base VS SUB","Euro Matt Sea Blue","BP15TY",408,"150 HL Pull Out Base VS SUB Euro Matt Sea Blue"]
["@LK-EMS-BP3TY","300 HL Pull Out Base VS SUB","Euro Matt Sea Blue","BP3TY",634,"300 HL Pull Out Base VS SUB Euro Matt Sea Blue"]
["@LK-EMS-BSU6450","600 Belfast Sink Unit (450mm High)","Euro Matt Sea Blue","BSU6450",283,"600 Belfast Sink Unit (450mm High) Euro Matt Sea Blue"]
["@LK-EMS-BSU6495","600 Belfast Sink Unit (495mm High)","Euro Matt Sea Blue","BSU6495",285,"600 Belfast Sink Unit (495mm High) Euro Matt Sea Blue"]
["@LK-EMS-CH-MW","Corner Compact Appliance Unit","Euro Matt Sea Blue","CH-MW",700,"Corner Compact Appliance Unit Euro Matt Sea Blue"]
["@LK-EMS-CH-SO","Corner Single Oven Housing Unit","Euro Matt Sea Blue","CH-SO",654,"Corner Single Oven Housing Unit Euro Matt Sea Blue"]
["@LK-EMS-CH-ST","Corner Storage Unit","Euro Matt Sea Blue","CH-ST",880,"Corner Storage Unit Euro Matt Sea Blue"]
["@LK-EMS-L3","300 Larder Unit","Euro Matt Sea Blue","L3",663,"300 Larder Unit Euro Matt Sea Blue"]
["@LK-EMS-L5","500 Larder Unit","Euro Matt Sea Blue","L5",723,"500 Larder Unit Euro Matt Sea Blue"]
["@LK-EMS-L6","600 Larder Unit","Euro Matt Sea Blue","L6",794,"600 Larder Unit Euro Matt Sea Blue"]
["@LK-EMS-LAC","Angled Corner Larder","Euro Matt Sea Blue","LAC",2084,"Angled Corner Larder Euro Matt Sea Blue"]
["@LK-EMS-LBC15","1000mm Blind Corner larder 500 door","Euro Matt Sea Blue","LBC15",944,"1000mm Blind Corner larder 500 door Euro Matt Sea Blue"]
["@LK-EMS-LBC16","1000mm Blind Corner larder 600 door","Euro Matt Sea Blue","LBC16",970,"1000mm Blind Corner larder 600 door Euro Matt Sea Blue"]
["@LK-EMS-LBCLM15L","1000 Cnr Larder CORNERSTONE LH 500 Dr","Euro Matt Sea Blue","LBCLM15L",2782,"1000 Cnr Larder CORNERSTONE LH 500 Dr Euro Matt Sea Blue"]
["@LK-EMS-LBCLM15R","1000 Cnr Larder CORNERSTONE RH 500 Dr","Euro Matt Sea Blue","LBCLM15R",2782,"1000 Cnr Larder CORNERSTONE RH 500 Dr Euro Matt Sea Blue"]
["@LK-EMS-LBCLM16L","1000 Cnr Larder CORNERSTONE LH 600 Dr","Euro Matt Sea Blue","LBCLM16L",2934,"1000 Cnr Larder CORNERSTONE LH 600 Dr Euro Matt Sea Blue"]
["@LK-EMS-LBCLM16R","1000 Cnr Larder CORNERSTONE RH 600 Dr","Euro Matt Sea Blue","LBCLM16R",2934,"1000 Cnr Larder CORNERSTONE RH 600 Dr Euro Matt Sea Blue"]
["@LK-EMS-LL10CB","1000 Combi","Euro Matt Sea Blue","LL10CB",1245,"1000 Combi Euro Matt Sea Blue"]
["@LK-EMS-LL10CU","1000 Cleaning & Utility","Euro Matt Sea Blue","LL10CU",1235,"1000 Cleaning & Utility Euro Matt Sea Blue"]
["@LK-EMS-LL10CUS","1000 Cleaning & Utility Ex Shelves","Euro Matt Sea Blue","LL10CUS",1334,"1000 Cleaning & Utility Ex Shelves Euro Matt Sea Blue"]
["@LK-EMS-LL6CU","600 Cleaning & Utility","Euro Matt Sea Blue","LL6CU",786,"600 Cleaning & Utility Euro Matt Sea Blue"]
["@LK-EMS-LL6EA","600 Easy Access Larder","Euro Matt Sea Blue","LL6EA",836,"600 Easy Access Larder Euro Matt Sea Blue"]
["@LK-EMS-LL8LS","800 Laundry Stacker Larder","Euro Matt Sea Blue","LL8LS",1364,"800 Laundry Stacker Larder Euro Matt Sea Blue"]
["@LK-EMS-LP3","300 Larder & TAL LARDER Pull Out","Euro Matt Sea Blue","LP3",1445,"300 Larder & TAL LARDER Pull Out Euro Matt Sea Blue"]
["@LK-EMS-LP5T","500 Larder & TAL GATE PRO Pull Out","Euro Matt Sea Blue","LP5T",1915,"500 Larder & TAL GATE PRO Pull Out Euro Matt Sea Blue"]
["@LK-EMS-LP5TS","500 Larder & TAL GATE Pull Out","Euro Matt Sea Blue","LP5TS",1657,"500 Larder & TAL GATE Pull Out Euro Matt Sea Blue"]
["@LK-EMS-LP6T","600 Larder & TAL GATE PRO Pull Out","Euro Matt Sea Blue","LP6T",1980,"600 Larder & TAL GATE PRO Pull Out Euro Matt Sea Blue"]
["@LK-EMS-LP6TS","600 Larder & TAL GATE Pull Out","Euro Matt Sea Blue","LP6TS",1781,"600 Larder & TAL GATE Pull Out Euro Matt Sea Blue"]
["@LK-EMS-LPN12D2DW","1000mm Pantry 2 Doors 2 Drawers","Euro Matt Sea Blue","LPN12D2DW",1392,"1000mm Pantry 2 Doors 2 Drawers Euro Matt Sea Blue"]
["@LK-EMS-LPN12D3DW","1000mm Pantry 2 Doors 3 Drawers","Euro Matt Sea Blue","LPN12D3DW",1523,"1000mm Pantry 2 Doors 3 Drawers Euro Matt Sea Blue"]
["@LK-EMS-LPN14D","1000mm Pantry 4 Doors","Euro Matt Sea Blue","LPN14D",1124,"1000mm Pantry 4 Doors Euro Matt Sea Blue"]
["@LK-EMS-LT3","300 Larder Tower","Euro Matt Sea Blue","LT3",1764,"300 Larder Tower Euro Matt Sea Blue"]
["@LK-EMS-LT5","500 Larder Tower","Euro Matt Sea Blue","LT5",1892,"500 Larder Tower Euro Matt Sea Blue"]
["@LK-EMS-LT6","600 Larder Tower","Euro Matt Sea Blue","LT6",2029,"600 Larder Tower Euro Matt Sea Blue"]
["@LK-EMS-TCH-MW","Tall Corner Compact Appliance Unit","Euro Matt Sea Blue","TCH-MW",759,"Tall Corner Compact Appliance Unit Euro Matt Sea Blue"]
["@LK-EMS-TCH-SO","Tall Corner Single Oven Housing Unit","Euro Matt Sea Blue","TCH-SO",846,"Tall Corner Single Oven Housing Unit Euro Matt Sea Blue"]
["@LK-EMS-TCH-ST","Tall Corner Storage Unit","Euro Matt Sea Blue","TCH-ST",918,"Tall Corner Storage Unit Euro Matt Sea Blue"]
["@LK-EMS-W100","1000 Wall Unit","Euro Matt Sea Blue","W100",434,"1000 Wall Unit Euro Matt Sea Blue"]
["@LK-EMS-W30","300 Wall Unit","Euro Matt Sea Blue","W30",221,"300 Wall Unit Euro Matt Sea Blue"]
["@LK-EMS-W35","350 Wall Cabinet","Euro Matt Sea Blue","W35",227,"350 Wall Cabinet Euro Matt Sea Blue"]
["@LK-EMS-W40","400 Wall Unit","Euro Matt Sea Blue","W40",235,"400 Wall Unit Euro Matt Sea Blue"]
["@LK-EMS-W45","450 Wall Unit","Euro Matt Sea Blue","W45",252,"450 Wall Unit Euro Matt Sea Blue"]
["@LK-EMS-W50","500 Wall Unit","Euro Matt Sea Blue","W50",266,"500 Wall Unit Euro Matt Sea Blue"]
["@LK-EMS-W60","600 Wall Unit","Euro Matt Sea Blue","W60",290,"600 Wall Unit Euro Matt Sea Blue"]
["@LK-EMS-W70","700 Wall Cabinet","Euro Matt Sea Blue","W70",383,"700 Wall Cabinet Euro Matt Sea Blue"]
["@LK-EMS-W80","800 Wall Unit","Euro Matt Sea Blue","W80",389,"800 Wall Unit Euro Matt Sea Blue"]
["@LK-EMS-W90","900 Wall Unit","Euro Matt Sea Blue","W90",409,"900 Wall Unit Euro Matt Sea Blue"]
["@LK-EMS-WB12","1000 Bridging Unit","Euro Matt Sea Blue","WB12",338,"1000 Bridging Unit Euro Matt Sea Blue"]
["@LK-EMS-WB62","600 Bridging Unit","Euro Matt Sea Blue","WB62",237,"600 Bridging Unit Euro Matt Sea Blue"]
["@LK-EMS-WB63","600 355mm Bridging Unit","Euro Matt Sea Blue","WB63",295,"600 355mm Bridging Unit Euro Matt Sea Blue"]
["@LK-EMS-WB82","800 Bridging Unit","Euro Matt Sea Blue","WB82",295,"800 Bridging Unit Euro Matt Sea Blue"]
["@LK-EMS-WB92","900 Bridging Unit","Euro Matt Sea Blue","WB92",312,"900 Bridging Unit Euro Matt Sea Blue"]
["@LK-EMS-WB93","900 355mm Bridging Unit","Euro Matt Sea Blue","WB93",344,"900 355mm Bridging Unit Euro Matt Sea Blue"]
["@LK-EMS-WBHU","600 Boiler Housing","Euro Matt Sea Blue","WBHU",282,"600 Boiler Housing Euro Matt Sea Blue"]
["@LK-EMS-WBI60","600 Bifold Unit","Euro Matt Sea Blue","WBI60",663,"600 Bifold Unit Euro Matt Sea Blue"]
["@LK-EMS-WBI90","900 Bifold Unit","Euro Matt Sea Blue","WBI90",695,"900 Bifold Unit Euro Matt Sea Blue"]
["@LK-EMS-WC6","600 Cnr Wall Unit","Euro Matt Sea Blue","WC6",309,"600 Cnr Wall Unit Euro Matt Sea Blue"]
["@LK-EMS-WC9","900 Cnr Wall Unit","Euro Matt Sea Blue","WC9",371,"900 Cnr Wall Unit Euro Matt Sea Blue"]
["@LK-EMS-WCL65","650 L Cnr Wall Unit","Euro Matt Sea Blue","WCL65",553,"650 L Cnr Wall Unit Euro Matt Sea Blue"]
["@LK-EMS-WGR5","Reeded Glass Wall Unit - 500mm","Euro Matt Sea Blue","WGR5",434,"Reeded Glass Wall Unit - 500mm Euro Matt Sea Blue"]
["@LK-EMS-WGR6","Reeded Glass Wall Unit - 600mm","Euro Matt Sea Blue","WGR6",476,"Reeded Glass Wall Unit - 600mm Euro Matt Sea Blue"]
["@LK-EMS-WGS5","Smoked Glass Wall Unit - 500mm","Euro Matt Sea Blue","WGS5",434,"Smoked Glass Wall Unit - 500mm Euro Matt Sea Blue"]
["@LK-EMS-WGS6","Smoked Glass Wall Unit - 600mm","Euro Matt Sea Blue","WGS6",476,"Smoked Glass Wall Unit - 600mm Euro Matt Sea Blue"]
["@LK-EMS-WM60","600 Wall Microwave Unit","Euro Matt Sea Blue","WM60",361,"600 Wall Microwave Unit Euro Matt Sea Blue"]
["LK-A-EMS-BLPEL","Modern Sq Bul Pelmet / Cornice","Euro Matt Sea Blue","BLPEL",86,"Modern Sq Bul Pelmet / Cornice Euro Matt Sea Blue"]
["LK-A-EMS-CPBC","Curved End post Cap Classic","Euro Matt Sea Blue","CPBC",116,"Curved End post Cap Classic Euro Matt Sea Blue"]
["LK-A-EMS-CPBM","Curved End post Cap Modern","Euro Matt Sea Blue","CPBM",109,"Curved End post Cap Modern Euro Matt Sea Blue"]
["LK-A-EMS-CVP","Curved End Post","Euro Matt Sea Blue","CVP",123,"Curved End Post Euro Matt Sea Blue"]
["LK-A-EMS-ESP","End Support / Plant on Base Panel","Euro Matt Sea Blue","ESP",135,"End Support / Plant on Base Panel Euro Matt Sea Blue"]
["LK-A-EMS-ET","22mm Edging - 10m","Euro Matt Sea Blue","ET",37,"22mm Edging - 10m Euro Matt Sea Blue"]
["LK-A-EMS-LUP","Large Universal Panel 2.4 x 900mm","Euro Matt Sea Blue","LUP",391,"Large Universal Panel 2.4 x 900mm Euro Matt Sea Blue"]
["LK-A-EMS-PL","Plinth","Euro Matt Sea Blue","PL",90,"Plinth Euro Matt Sea Blue"]
["LK-A-EMS-PTEP","Plant on Tall End Panel 2400x630","Euro Matt Sea Blue","PTEP",305,"Plant on Tall End Panel 2400x630 Euro Matt Sea Blue"]
["LK-A-EMS-PWEP20","2000 x 360 Plant on Wall End Panel","Euro Matt Sea Blue","PWEP20",200,"2000 x 360 Plant on Wall End Panel Euro Matt Sea Blue"]
["LK-A-EMS-PWEP72","720 x 360 Plant on Wall End Panel","Euro Matt Sea Blue","PWEP72",92,"720 x 360 Plant on Wall End Panel Euro Matt Sea Blue"]
["LK-A-EMS-SCCRN","Sculptured Cornice","Euro Matt Sea Blue","SCCRN",113,"Sculptured Cornice Euro Matt Sea Blue"]
["LK-A-EMS-WREP72","720 Wall Rep end Panel","Euro Matt Sea Blue","WREP72",77,"720 Wall Rep end Panel Euro Matt Sea Blue"]
["@LK-OPD-AD45I","450 Integrated Dishwasher Fascia","Opaco Dove Grey","AD45I",107,"450 Integrated Dishwasher Fascia Opaco Dove Grey"]
["@LK-OPD-AD60FD","600 Fridge/Dishwasher Fascia","Opaco Dove Grey","AD60FD",131,"600 Fridge/Dishwasher Fascia Opaco Dove Grey"]
["@LK-OPD-AD60ICH","600 Integrated Extractor Door","Opaco Dove Grey","AD60ICH",95,"600 Integrated Extractor Door Opaco Dove Grey"]
["@LK-OPD-AD60S","600 Semi Int Dishwasher Fascia","Opaco Dove Grey","AD60S",129,"600 Semi Int Dishwasher Fascia Opaco Dove Grey"]
["@LK-OPD-AH-CO","600 Compact / Microwave Housing","Opaco Dove Grey","AH-CO",823,"600 Compact / Microwave Housing Opaco Dove Grey"]
["@LK-OPD-AH-DMW","600 Double Oven & MW unit","Opaco Dove Grey","AH-DMW",927,"600 Double Oven & MW unit Opaco Dove Grey"]
["@LK-OPD-AH-DO","600 Dble Oven Housing","Opaco Dove Grey","AH-DO",731,"600 Dble Oven Housing Opaco Dove Grey"]
["@LK-OPD-AH-DO2D","600 Dble Oven & 2 Drws","Opaco Dove Grey","AH-DO2D",1058,"600 Dble Oven & 2 Drws Opaco Dove Grey"]
["@LK-OPD-AH-F55","600 50/50 FF Housing Unit","Opaco Dove Grey","AH-F55",735,"600 50/50 FF Housing Unit Opaco Dove Grey"]
["@LK-OPD-AH-F73","600 70/30 FF Housing Unit","Opaco Dove Grey","AH-F73",711,"600 70/30 FF Housing Unit Opaco Dove Grey"]
["@LK-OPD-AH-SM2D","600 Single Oven & MW 2 Drw unit","Opaco Dove Grey","AH-SM2D",1074,"600 Single Oven & MW 2 Drw unit Opaco Dove Grey"]
["@LK-OPD-AH-SMW","600 Sgle Oven & MW 2 Door unit","Opaco Dove Grey","AH-SMW",786,"600 Sgle Oven & MW 2 Door unit Opaco Dove Grey"]
["@LK-OPD-AH-SO","600 Single Oven Housing","Opaco Dove Grey","AH-SO",750,"600 Single Oven Housing Opaco Dove Grey"]
["@LK-OPD-AH-SO1D","600 Single Oven + 1 Drw Unit","Opaco Dove Grey","AH-SO1D",896,"600 Single Oven + 1 Drw Unit Opaco Dove Grey"]
["@LK-OPD-AH-SO2D","600 Single Oven + 2 Drws Unit","Opaco Dove Grey","AH-SO2D",1112,"600 Single Oven + 2 Drws Unit Opaco Dove Grey"]
["@LK-OPD-AH-SO3D","600 Single Oven + 3 Drws Unit","Opaco Dove Grey","AH-SO3D",1261,"600 Single Oven + 3 Drws Unit Opaco Dove Grey"]
["@LK-OPD-AH-SOT","600 Twin Single Oven Housing","Opaco Dove Grey","AH-SOT",876,"600 Twin Single Oven Housing Opaco Dove Grey"]
["@LK-OPD-BC145","1000 HL Cnr Base (450 Door)","Opaco Dove Grey","BC145",397,"1000 HL Cnr Base (450 Door) Opaco Dove Grey"]
["@LK-OPD-BC15","1000 HL Cnr Base (500 Door)","Opaco Dove Grey","BC15",405,"1000 HL Cnr Base (500 Door) Opaco Dove Grey"]
["@LK-OPD-BC16","1000 HL Cnr Base (600 Door)","Opaco Dove Grey","BC16",421,"1000 HL Cnr Base (600 Door) Opaco Dove Grey"]
["@LK-OPD-BC83","800 HL Cnr Base (300 Door)","Opaco Dove Grey","BC83",374,"800 HL Cnr Base (300 Door) Opaco Dove Grey"]
["@LK-OPD-BC84","800 HL Cnr Base Unit (400 Door)","Opaco Dove Grey","BC84",380,"800 HL Cnr Base Unit (400 Door) Opaco Dove Grey"]
["@LK-OPD-BC845","800 HL Cnr Base (450 Door)","Opaco Dove Grey","BC845",392,"800 HL Cnr Base (450 Door) Opaco Dove Grey"]
["@LK-OPD-BC945","900 HL Cnr Base (450 Door)","Opaco Dove Grey","BC945",392,"900 HL Cnr Base (450 Door) Opaco Dove Grey"]
["@LK-OPD-BCL15L","1000 Cnr Base CORNERSTONE LH - 500 door","Opaco Dove Grey","BCL15L",1270,"1000 Cnr Base CORNERSTONE LH - 500 door Opaco Dove Grey"]
["@LK-OPD-BCL15R","1000 Cnr Base CORNERSTONE RH - 500 door","Opaco Dove Grey","BCL15R",1270,"1000 Cnr Base CORNERSTONE RH - 500 door Opaco Dove Grey"]
["@LK-OPD-BCL16L","1000 Cnr Base CORNERSTONE LH - 600 door","Opaco Dove Grey","BCL16L",1349,"1000 Cnr Base CORNERSTONE LH - 600 door Opaco Dove Grey"]
["@LK-OPD-BCL16R","1000 Cnr Base CORNERSTONE RH - 600 door","Opaco Dove Grey","BCL16R",1349,"1000 Cnr Base CORNERSTONE RH - 600 door Opaco Dove Grey"]
["@LK-OPD-BCL9","950 HL Cnr L Base","Opaco Dove Grey","BCL9",618,"950 HL Cnr L Base Opaco Dove Grey"]
["@LK-OPD-BCO145","1000 Corner Base VS COR FLEX - 450 door","Opaco Dove Grey","BCO145",1407,"1000 Corner Base VS COR FLEX - 450 door Opaco Dove Grey"]
["@LK-OPD-BCO15","1000 Corner Base VS COR FLEX - 500 door","Opaco Dove Grey","BCO15",1415,"1000 Corner Base VS COR FLEX - 500 door Opaco Dove Grey"]
["@LK-OPD-BCO16","1000 Corner Base VS COR FLEX - 600 door","Opaco Dove Grey","BCO16",1431,"1000 Corner Base VS COR FLEX - 600 door Opaco Dove Grey"]
["@LK-OPD-BCO945","900 Corner Base VS COR FLEX - 450 door","Opaco Dove Grey","BCO945",1402,"900 Corner Base VS COR FLEX - 450 door Opaco Dove Grey"]
["@LK-OPD-BD13","1000 3 Drw Base Unit","Opaco Dove Grey","BD13",845,"1000 3 Drw Base Unit Opaco Dove Grey"]
["@LK-OPD-BD53","500 3 Drw Base Unit","Opaco Dove Grey","BD53",714,"500 3 Drw Base Unit Opaco Dove Grey"]
["@LK-OPD-BD54","500 4 Drw Base Unit","Opaco Dove Grey","BD54",846,"500 4 Drw Base Unit Opaco Dove Grey"]
["@LK-OPD-BD62","600 2 Pan Drw Unit","Opaco Dove Grey","BD62",683,"600 2 Pan Drw Unit Opaco Dove Grey"]
["@LK-OPD-BD62I","600 2 Pan Drw Unit + 1 Internal","Opaco Dove Grey","BD62I",859,"600 2 Pan Drw Unit + 1 Internal Opaco Dove Grey"]
["@LK-OPD-BD63","600 3 Drw Base Unit","Opaco Dove Grey","BD63",806,"600 3 Drw Base Unit Opaco Dove Grey"]
["@LK-OPD-BD635L","600 Low Single Drawer unit 360 high","Opaco Dove Grey","BD635L",384,"600 Low Single Drawer unit 360 high Opaco Dove Grey"]
["@LK-OPD-BD83","800 3 Drw Base Unit","Opaco Dove Grey","BD83",813,"800 3 Drw Base Unit Opaco Dove Grey"]
["@LK-OPD-BD92","900 2 Pan Drw Unit","Opaco Dove Grey","BD92",700,"900 2 Pan Drw Unit Opaco Dove Grey"]
["@LK-OPD-BD92I","900 2 Pan Drw Unit + 1 Internal","Opaco Dove Grey","BD92I",901,"900 2 Pan Drw Unit + 1 Internal Opaco Dove Grey"]
["@LK-OPD-BD93","900 3 Drw Base Unit","Opaco Dove Grey","BD93",828,"900 3 Drw Base Unit Opaco Dove Grey"]
["@LK-OPD-BH100","1000 HL Base Unit","Opaco Dove Grey","BH100",439,"1000 HL Base Unit Opaco Dove Grey"]
["@LK-OPD-BH10S","1000 HL Sink Base Unit (Inc Liner)","Opaco Dove Grey","BH10S",485,"1000 HL Sink Base Unit (Inc Liner) Opaco Dove Grey"]
["@LK-OPD-BH15","150 HL Base Unit","Opaco Dove Grey","BH15",228,"150 HL Base Unit Opaco Dove Grey"]
["@LK-OPD-BH30","300 HL Base Unit","Opaco Dove Grey","BH30",239,"300 HL Base Unit Opaco Dove Grey"]
["@LK-OPD-BH35","350 HL Base Unit","Opaco Dove Grey","BH35",245,"350 HL Base Unit Opaco Dove Grey"]
["@LK-OPD-BH3B","300 HL Base Unit & Bin","Opaco Dove Grey","BH3B",607,"300 HL Base Unit & Bin Opaco Dove Grey"]
["@LK-OPD-BH40","400 HL Base Unit","Opaco Dove Grey","BH40",249,"400 HL Base Unit Opaco Dove Grey"]
["@LK-OPD-BH45","450 HL Base Unit","Opaco Dove Grey","BH45",272,"450 HL Base Unit Opaco Dove Grey"]
["@LK-OPD-BH45B","450 HL Base Unit & Bin","Opaco Dove Grey","BH45B",710,"450 HL Base Unit & Bin Opaco Dove Grey"]
["@LK-OPD-BH4B","400 HL Base Unit & Bin","Opaco Dove Grey","BH4B",682,"400 HL Base Unit & Bin Opaco Dove Grey"]
["@LK-OPD-BH50","500 HL Base Unit","Opaco Dove Grey","BH50",283,"500 HL Base Unit Opaco Dove Grey"]
["@LK-OPD-BH50S","500 HL Sink Base Unit (Inc Liner)","Opaco Dove Grey","BH50S",313,"500 HL Sink Base Unit (Inc Liner) Opaco Dove Grey"]
["@LK-OPD-BH5B","500 HL Base Unit & Bin","Opaco Dove Grey","BH5B",727,"500 HL Base Unit & Bin Opaco Dove Grey"]
["@LK-OPD-BH60","600 HL Base Unit","Opaco Dove Grey","BH60",319,"600 HL Base Unit Opaco Dove Grey"]
["@LK-OPD-BH60S","600 HL Sink Base Unit (Inc Liner)","Opaco Dove Grey","BH60S",365,"600 HL Sink Base Unit (Inc Liner) Opaco Dove Grey"]
["@LK-OPD-BH6B2","600 HL Base Unit & Bin (2 Bins)","Opaco Dove Grey","BH6B2",800,"600 HL Base Unit & Bin (2 Bins) Opaco Dove Grey"]
["@LK-OPD-BH6B4","600 HL Base Unit & Bin (4 Bins)","Opaco Dove Grey","BH6B4",852,"600 HL Base Unit & Bin (4 Bins) Opaco Dove Grey"]
["@LK-OPD-BH70","700 HL Base Unit","Opaco Dove Grey","BH70",388,"700 HL Base Unit Opaco Dove Grey"]
["@LK-OPD-BH80","800 HL Base Unit","Opaco Dove Grey","BH80",394,"800 HL Base Unit Opaco Dove Grey"]
["@LK-OPD-BH80S","800 HL Sink Base Unit (Inc Liner)","Opaco Dove Grey","BH80S",440,"800 HL Sink Base Unit (Inc Liner) Opaco Dove Grey"]
["@LK-OPD-BH90","900 HL Base Unit","Opaco Dove Grey","BH90",418,"900 HL Base Unit Opaco Dove Grey"]
["@LK-OPD-BH90S","900 HL Sink Base Unit (Inc Liner)","Opaco Dove Grey","BH90S",464,"900 HL Sink Base Unit (Inc Liner) Opaco Dove Grey"]
["@LK-OPD-BHD3","300 Highline Drw Unit 1 Pan 2 Internal","Opaco Dove Grey","BHD3",628,"300 Highline Drw Unit 1 Pan 2 Internal Opaco Dove Grey"]
["@LK-OPD-BHD4","400 Highline Drw Unit 1 Pan 2 Internal","Opaco Dove Grey","BHD4",677,"400 Highline Drw Unit 1 Pan 2 Internal Opaco Dove Grey"]
["@LK-OPD-BHD5","500 Highline Drw Unit 1 Pan 2 Internal","Opaco Dove Grey","BHD5",740,"500 Highline Drw Unit 1 Pan 2 Internal Opaco Dove Grey"]
["@LK-OPD-BHD6","600 Highline Drw Unit 1 Pan 2 Internal","Opaco Dove Grey","BHD6",796,"600 Highline Drw Unit 1 Pan 2 Internal Opaco Dove Grey"]
["@LK-OPD-BLD9","900 Boiler Door","Opaco Dove Grey","BLD9",133,"900 Boiler Door Opaco Dove Grey"]
["@LK-OPD-BOH6","600 BU Oven Housing","Opaco Dove Grey","BOH6",199,"600 BU Oven Housing Opaco Dove Grey"]
["@LK-OPD-BOHD6","600 BU Oven Housing with drawer -18mm","Opaco Dove Grey","BOHD6",312,"600 BU Oven Housing with drawer -18mm Opaco Dove Grey"]
["@LK-OPD-BP15TY","150 HL Pull Out Base VS SUB","Opaco Dove Grey","BP15TY",408,"150 HL Pull Out Base VS SUB Opaco Dove Grey"]
["@LK-OPD-BP3TY","300 HL Pull Out Base VS SUB","Opaco Dove Grey","BP3TY",634,"300 HL Pull Out Base VS SUB Opaco Dove Grey"]
["@LK-OPD-BSU6450","600 Belfast Sink Unit (450mm High)","Opaco Dove Grey","BSU6450",283,"600 Belfast Sink Unit (450mm High) Opaco Dove Grey"]
["@LK-OPD-BSU6495","600 Belfast Sink Unit (495mm High)","Opaco Dove Grey","BSU6495",285,"600 Belfast Sink Unit (495mm High) Opaco Dove Grey"]
["@LK-OPD-CH-MW","Corner Compact Appliance Unit","Opaco Dove Grey","CH-MW",700,"Corner Compact Appliance Unit Opaco Dove Grey"]
["@LK-OPD-CH-SO","Corner Single Oven Housing Unit","Opaco Dove Grey","CH-SO",654,"Corner Single Oven Housing Unit Opaco Dove Grey"]
["@LK-OPD-CH-ST","Corner Storage Unit","Opaco Dove Grey","CH-ST",880,"Corner Storage Unit Opaco Dove Grey"]
["@LK-OPD-L3","300 Larder Unit","Opaco Dove Grey","L3",663,"300 Larder Unit Opaco Dove Grey"]
["@LK-OPD-L5","500 Larder Unit","Opaco Dove Grey","L5",723,"500 Larder Unit Opaco Dove Grey"]
["@LK-OPD-L6","600 Larder Unit","Opaco Dove Grey","L6",794,"600 Larder Unit Opaco Dove Grey"]
["@LK-OPD-LAC","Angled Corner Larder","Opaco Dove Grey","LAC",2084,"Angled Corner Larder Opaco Dove Grey"]
["@LK-OPD-LBC15","1000mm Blind Corner larder 500 door","Opaco Dove Grey","LBC15",944,"1000mm Blind Corner larder 500 door Opaco Dove Grey"]
["@LK-OPD-LBC16","1000mm Blind Corner larder 600 door","Opaco Dove Grey","LBC16",970,"1000mm Blind Corner larder 600 door Opaco Dove Grey"]
["@LK-OPD-LBCLM15L","1000 Cnr Larder CORNERSTONE LH 500 Dr","Opaco Dove Grey","LBCLM15L",2782,"1000 Cnr Larder CORNERSTONE LH 500 Dr Opaco Dove Grey"]
["@LK-OPD-LBCLM15R","1000 Cnr Larder CORNERSTONE RH 500 Dr","Opaco Dove Grey","LBCLM15R",2782,"1000 Cnr Larder CORNERSTONE RH 500 Dr Opaco Dove Grey"]
["@LK-OPD-LBCLM16L","1000 Cnr Larder CORNERSTONE LH 600 Dr","Opaco Dove Grey","LBCLM16L",2934,"1000 Cnr Larder CORNERSTONE LH 600 Dr Opaco Dove Grey"]
["@LK-OPD-LBCLM16R","1000 Cnr Larder CORNERSTONE RH 600 Dr","Opaco Dove Grey","LBCLM16R",2934,"1000 Cnr Larder CORNERSTONE RH 600 Dr Opaco Dove Grey"]
["@LK-OPD-LL10CB","1000 Combi","Opaco Dove Grey","LL10CB",1245,"1000 Combi Opaco Dove Grey"]
["@LK-OPD-LL10CU","1000 Cleaning & Utility","Opaco Dove Grey","LL10CU",1235,"1000 Cleaning & Utility Opaco Dove Grey"]
["@LK-OPD-LL10CUS","1000 Cleaning & Utility Ex Shelves","Opaco Dove Grey","LL10CUS",1334,"1000 Cleaning & Utility Ex Shelves Opaco Dove Grey"]
["@LK-OPD-LL6CU","600 Cleaning & Utility","Opaco Dove Grey","LL6CU",786,"600 Cleaning & Utility Opaco Dove Grey"]
["@LK-OPD-LL6EA","600 Easy Access Larder","Opaco Dove Grey","LL6EA",836,"600 Easy Access Larder Opaco Dove Grey"]
["@LK-OPD-LL8LS","800 Laundry Stacker Larder","Opaco Dove Grey","LL8LS",1364,"800 Laundry Stacker Larder Opaco Dove Grey"]
["@LK-OPD-LP3","300 Larder & TAL LARDER Pull Out","Opaco Dove Grey","LP3",1445,"300 Larder & TAL LARDER Pull Out Opaco Dove Grey"]
["@LK-OPD-LP5T","500 Larder & TAL GATE PRO Pull Out","Opaco Dove Grey","LP5T",1915,"500 Larder & TAL GATE PRO Pull Out Opaco Dove Grey"]
["@LK-OPD-LP5TS","500 Larder & TAL GATE Pull Out","Opaco Dove Grey","LP5TS",1657,"500 Larder & TAL GATE Pull Out Opaco Dove Grey"]
["@LK-OPD-LP6T","600 Larder & TAL GATE PRO Pull Out","Opaco Dove Grey","LP6T",1980,"600 Larder & TAL GATE PRO Pull Out Opaco Dove Grey"]
["@LK-OPD-LP6TS","600 Larder & TAL GATE Pull Out","Opaco Dove Grey","LP6TS",1781,"600 Larder & TAL GATE Pull Out Opaco Dove Grey"]
["@LK-OPD-LPN12D2DW","1000mm Pantry 2 Doors 2 Drawers","Opaco Dove Grey","LPN12D2DW",1392,"1000mm Pantry 2 Doors 2 Drawers Opaco Dove Grey"]
["@LK-OPD-LPN12D3DW","1000mm Pantry 2 Doors 3 Drawers","Opaco Dove Grey","LPN12D3DW",1523,"1000mm Pantry 2 Doors 3 Drawers Opaco Dove Grey"]
["@LK-OPD-LPN14D","1000mm Pantry 4 Doors","Opaco Dove Grey","LPN14D",1124,"1000mm Pantry 4 Doors Opaco Dove Grey"]
["@LK-OPD-LT3","300 Larder Tower","Opaco Dove Grey","LT3",1764,"300 Larder Tower Opaco Dove Grey"]
["@LK-OPD-LT5","500 Larder Tower","Opaco Dove Grey","LT5",1892,"500 Larder Tower Opaco Dove Grey"]
["@LK-OPD-LT6","600 Larder Tower","Opaco Dove Grey","LT6",2029,"600 Larder Tower Opaco Dove Grey"]
["@LK-OPD-TCH-MW","Tall Corner Compact Appliance Unit","Opaco Dove Grey","TCH-MW",759,"Tall Corner Compact Appliance Unit Opaco Dove Grey"]
["@LK-OPD-TCH-SO","Tall Corner Single Oven Housing Unit","Opaco Dove Grey","TCH-SO",846,"Tall Corner Single Oven Housing Unit Opaco Dove Grey"]
["@LK-OPD-TCH-ST","Tall Corner Storage Unit","Opaco Dove Grey","TCH-ST",918,"Tall Corner Storage Unit Opaco Dove Grey"]
["@LK-OPD-W100","1000 Wall Unit","Opaco Dove Grey","W100",434,"1000 Wall Unit Opaco Dove Grey"]
["@LK-OPD-W30","300 Wall Unit","Opaco Dove Grey","W30",221,"300 Wall Unit Opaco Dove Grey"]
["@LK-OPD-W35","350 Wall Cabinet","Opaco Dove Grey","W35",227,"350 Wall Cabinet Opaco Dove Grey"]
["@LK-OPD-W40","400 Wall Unit","Opaco Dove Grey","W40",235,"400 Wall Unit Opaco Dove Grey"]
["@LK-OPD-W45","450 Wall Unit","Opaco Dove Grey","W45",252,"450 Wall Unit Opaco Dove Grey"]
["@LK-OPD-W50","500 Wall Unit","Opaco Dove Grey","W50",266,"500 Wall Unit Opaco Dove Grey"]
["@LK-OPD-W60","600 Wall Unit","Opaco Dove Grey","W60",290,"600 Wall Unit Opaco Dove Grey"]
["@LK-OPD-W70","700 Wall Cabinet","Opaco Dove Grey","W70",383,"700 Wall Cabinet Opaco Dove Grey"]
["@LK-OPD-W80","800 Wall Unit","Opaco Dove Grey","W80",389,"800 Wall Unit Opaco Dove Grey"]
["@LK-OPD-W90","900 Wall Unit","Opaco Dove Grey","W90",409,"900 Wall Unit Opaco Dove Grey"]
["@LK-OPD-WB12","1000 Bridging Unit","Opaco Dove Grey","WB12",338,"1000 Bridging Unit Opaco Dove Grey"]
["@LK-OPD-WB62","600 Bridging Unit","Opaco Dove Grey","WB62",237,"600 Bridging Unit Opaco Dove Grey"]
["@LK-OPD-WB63","600 355mm Bridging Unit","Opaco Dove Grey","WB63",295,"600 355mm Bridging Unit Opaco Dove Grey"]
["@LK-OPD-WB82","800 Bridging Unit","Opaco Dove Grey","WB82",295,"800 Bridging Unit Opaco Dove Grey"]
["@LK-OPD-WB92","900 Bridging Unit","Opaco Dove Grey","WB92",312,"900 Bridging Unit Opaco Dove Grey"]
["@LK-OPD-WB93","900 355mm Bridging Unit","Opaco Dove Grey","WB93",344,"900 355mm Bridging Unit Opaco Dove Grey"]
["@LK-OPD-WBHU","600 Boiler Housing","Opaco Dove Grey","WBHU",282,"600 Boiler Housing Opaco Dove Grey"]
["@LK-OPD-WBI60","600 Bifold Unit","Opaco Dove Grey","WBI60",663,"600 Bifold Unit Opaco Dove Grey"]
["@LK-OPD-WBI90","900 Bifold Unit","Opaco Dove Grey","WBI90",695,"900 Bifold Unit Opaco Dove Grey"]
["@LK-OPD-WC6","600 Cnr Wall Unit","Opaco Dove Grey","WC6",309,"600 Cnr Wall Unit Opaco Dove Grey"]
["@LK-OPD-WC9","900 Cnr Wall Unit","Opaco Dove Grey","WC9",371,"900 Cnr Wall Unit Opaco Dove Grey"]
["@LK-OPD-WCL65","650 L Cnr Wall Unit","Opaco Dove Grey","WCL65",553,"650 L Cnr Wall Unit Opaco Dove Grey"]
["@LK-OPD-WGR5","Reeded Glass Wall Unit - 500mm","Opaco Dove Grey","WGR5",434,"Reeded Glass Wall Unit - 500mm Opaco Dove Grey"]
["@LK-OPD-WGR6","Reeded Glass Wall Unit - 600mm","Opaco Dove Grey","WGR6",476,"Reeded Glass Wall Unit - 600mm Opaco Dove Grey"]
["@LK-OPD-WGS5","Smoked Glass Wall Unit - 500mm","Opaco Dove Grey","WGS5",434,"Smoked Glass Wall Unit - 500mm Opaco Dove Grey"]
["@LK-OPD-WGS6","Smoked Glass Wall Unit - 600mm","Opaco Dove Grey","WGS6",476,"Smoked Glass Wall Unit - 600mm Opaco Dove Grey"]
["@LK-OPD-WM60","600 Wall Microwave Unit","Opaco Dove Grey","WM60",361,"600 Wall Microwave Unit Opaco Dove Grey"]
["LK-A-OPD-BLPEL","Modern Sq Bul Pelmet / Cornice","Opaco Dove Grey","BLPEL",86,"Modern Sq Bul Pelmet / Cornice Opaco Dove Grey"]
["LK-A-OPD-CPBC","Curved End post Cap Classic","Opaco Dove Grey","CPBC",116,"Curved End post Cap Classic Opaco Dove Grey"]
["LK-A-OPD-CPBM","Curved End post Cap Modern","Opaco Dove Grey","CPBM",109,"Curved End post Cap Modern Opaco Dove Grey"]
["LK-A-OPD-CVP","Curved End Post","Opaco Dove Grey","CVP",123,"Curved End Post Opaco Dove Grey"]
["LK-A-OPD-ESP","End Support / Plant on Base Panel","Opaco Dove Grey","ESP",135,"End Support / Plant on Base Panel Opaco Dove Grey"]
["LK-A-OPD-ET","22mm Edging - 10m","Opaco Dove Grey","ET",37,"22mm Edging - 10m Opaco Dove Grey"]
["LK-A-OPD-LUP","Large Universal Panel 2.4 x 900mm","Opaco Dove Grey","LUP",391,"Large Universal Panel 2.4 x 900mm Opaco Dove Grey"]
["LK-A-OPD-PL","Plinth","Opaco Dove Grey","PL",90,"Plinth Opaco Dove Grey"]
["LK-A-OPD-PTEP","Plant on Tall End Panel 2400x630","Opaco Dove Grey","PTEP",305,"Plant on Tall End Panel 2400x630 Opaco Dove Grey"]
["LK-A-OPD-PWEP20","2000 x 360 Plant on Wall End Panel","Opaco Dove Grey","PWEP20",200,"2000 x 360 Plant on Wall End Panel Opaco Dove Grey"]
["LK-A-OPD-PWEP72","720 x 360 Plant on Wall End Panel","Opaco Dove Grey","PWEP72",92,"720 x 360 Plant on Wall End Panel Opaco Dove Grey"]
["LK-A-OPD-SCCRN","Sculptured Cornice","Opaco Dove Grey","SCCRN",113,"Sculptured Cornice Opaco Dove Grey"]
["LK-A-OPD-WREP72","720 Wall Rep end Panel","Opaco Dove Grey","WREP72",77,"720 Wall Rep end Panel Opaco Dove Grey"]
["@LK-OPY-AD45I","450 Integrated Dishwasher Fascia","Opaco Dust Grey","AD45I",107,"450 Integrated Dishwasher Fascia Opaco Dust Grey"]
["@LK-OPY-AD60FD","600 Fridge/Dishwasher Fascia","Opaco Dust Grey","AD60FD",131,"600 Fridge/Dishwasher Fascia Opaco Dust Grey"]
["@LK-OPY-AD60ICH","600 Integrated Extractor Door","Opaco Dust Grey","AD60ICH",95,"600 Integrated Extractor Door Opaco Dust Grey"]
["@LK-OPY-AD60S","600 Semi Int Dishwasher Fascia","Opaco Dust Grey","AD60S",129,"600 Semi Int Dishwasher Fascia Opaco Dust Grey"]
["@LK-OPY-AH-CO","600 Compact / Microwave Housing","Opaco Dust Grey","AH-CO",823,"600 Compact / Microwave Housing Opaco Dust Grey"]
["@LK-OPY-AH-DMW","600 Double Oven & MW unit","Opaco Dust Grey","AH-DMW",927,"600 Double Oven & MW unit Opaco Dust Grey"]
["@LK-OPY-AH-DO","600 Dble Oven Housing","Opaco Dust Grey","AH-DO",731,"600 Dble Oven Housing Opaco Dust Grey"]
["@LK-OPY-AH-DO2D","600 Dble Oven & 2 Drws","Opaco Dust Grey","AH-DO2D",1058,"600 Dble Oven & 2 Drws Opaco Dust Grey"]
["@LK-OPY-AH-F55","600 50/50 FF Housing Unit","Opaco Dust Grey","AH-F55",735,"600 50/50 FF Housing Unit Opaco Dust Grey"]
["@LK-OPY-AH-F73","600 70/30 FF Housing Unit","Opaco Dust Grey","AH-F73",711,"600 70/30 FF Housing Unit Opaco Dust Grey"]
["@LK-OPY-AH-SM2D","600 Single Oven & MW 2 Drw unit","Opaco Dust Grey","AH-SM2D",1074,"600 Single Oven & MW 2 Drw unit Opaco Dust Grey"]
["@LK-OPY-AH-SMW","600 Sgle Oven & MW 2 Door unit","Opaco Dust Grey","AH-SMW",786,"600 Sgle Oven & MW 2 Door unit Opaco Dust Grey"]
["@LK-OPY-AH-SO","600 Single Oven Housing","Opaco Dust Grey","AH-SO",750,"600 Single Oven Housing Opaco Dust Grey"]
["@LK-OPY-AH-SO1D","600 Single Oven + 1 Drw Unit","Opaco Dust Grey","AH-SO1D",896,"600 Single Oven + 1 Drw Unit Opaco Dust Grey"]
["@LK-OPY-AH-SO2D","600 Single Oven + 2 Drws Unit","Opaco Dust Grey","AH-SO2D",1112,"600 Single Oven + 2 Drws Unit Opaco Dust Grey"]
["@LK-OPY-AH-SO3D","600 Single Oven + 3 Drws Unit","Opaco Dust Grey","AH-SO3D",1261,"600 Single Oven + 3 Drws Unit Opaco Dust Grey"]
["@LK-OPY-AH-SOT","600 Twin Single Oven Housing","Opaco Dust Grey","AH-SOT",876,"600 Twin Single Oven Housing Opaco Dust Grey"]
["@LK-OPY-BC145","1000 HL Cnr Base (450 Door)","Opaco Dust Grey","BC145",397,"1000 HL Cnr Base (450 Door) Opaco Dust Grey"]
["@LK-OPY-BC15","1000 HL Cnr Base (500 Door)","Opaco Dust Grey","BC15",405,"1000 HL Cnr Base (500 Door) Opaco Dust Grey"]
["@LK-OPY-BC16","1000 HL Cnr Base (600 Door)","Opaco Dust Grey","BC16",421,"1000 HL Cnr Base (600 Door) Opaco Dust Grey"]
["@LK-OPY-BC83","800 HL Cnr Base (300 Door)","Opaco Dust Grey","BC83",374,"800 HL Cnr Base (300 Door) Opaco Dust Grey"]
["@LK-OPY-BC84","800 HL Cnr Base Unit (400 Door)","Opaco Dust Grey","BC84",380,"800 HL Cnr Base Unit (400 Door) Opaco Dust Grey"]
["@LK-OPY-BC845","800 HL Cnr Base (450 Door)","Opaco Dust Grey","BC845",392,"800 HL Cnr Base (450 Door) Opaco Dust Grey"]
["@LK-OPY-BC945","900 HL Cnr Base (450 Door)","Opaco Dust Grey","BC945",390,"900 HL Cnr Base (450 Door) Opaco Dust Grey"]
["@LK-OPY-BCL15L","1000 Cnr Base CORNERSTONE LH - 500 door","Opaco Dust Grey","BCL15L",1270,"1000 Cnr Base CORNERSTONE LH - 500 door Opaco Dust Grey"]
["@LK-OPY-BCL15R","1000 Cnr Base CORNERSTONE RH - 500 door","Opaco Dust Grey","BCL15R",1270,"1000 Cnr Base CORNERSTONE RH - 500 door Opaco Dust Grey"]
["@LK-OPY-BCL16L","1000 Cnr Base CORNERSTONE LH - 600 door","Opaco Dust Grey","BCL16L",1349,"1000 Cnr Base CORNERSTONE LH - 600 door Opaco Dust Grey"]
["@LK-OPY-BCL16R","1000 Cnr Base CORNERSTONE RH - 600 door","Opaco Dust Grey","BCL16R",1349,"1000 Cnr Base CORNERSTONE RH - 600 door Opaco Dust Grey"]
["@LK-OPY-BCL9","950 HL Cnr L Base","Opaco Dust Grey","BCL9",618,"950 HL Cnr L Base Opaco Dust Grey"]
["@LK-OPY-BCO145","1000 Corner Base VS COR FLEX - 450 door","Opaco Dust Grey","BCO145",1407,"1000 Corner Base VS COR FLEX - 450 door Opaco Dust Grey"]
["@LK-OPY-BCO15","1000 Corner Base VS COR FLEX - 500 door","Opaco Dust Grey","BCO15",1415,"1000 Corner Base VS COR FLEX - 500 door Opaco Dust Grey"]
["@LK-OPY-BCO16","1000 Corner Base VS COR FLEX - 600 door","Opaco Dust Grey","BCO16",1431,"1000 Corner Base VS COR FLEX - 600 door Opaco Dust Grey"]
["@LK-OPY-BCO945","900 Corner Base VS COR FLEX - 450 door","Opaco Dust Grey","BCO945",1400,"900 Corner Base VS COR FLEX - 450 door Opaco Dust Grey"]
["@LK-OPY-BD13","1000 3 Drw Base Unit","Opaco Dust Grey","BD13",845,"1000 3 Drw Base Unit Opaco Dust Grey"]
["@LK-OPY-BD53","500 3 Drw Base Unit","Opaco Dust Grey","BD53",714,"500 3 Drw Base Unit Opaco Dust Grey"]
["@LK-OPY-BD54","500 4 Drw Base Unit","Opaco Dust Grey","BD54",846,"500 4 Drw Base Unit Opaco Dust Grey"]
["@LK-OPY-BD62","600 2 Pan Drw Unit","Opaco Dust Grey","BD62",683,"600 2 Pan Drw Unit Opaco Dust Grey"]
["@LK-OPY-BD62I","600 2 Pan Drw Unit + 1 Internal","Opaco Dust Grey","BD62I",859,"600 2 Pan Drw Unit + 1 Internal Opaco Dust Grey"]
["@LK-OPY-BD63","600 3 Drw Base Unit","Opaco Dust Grey","BD63",806,"600 3 Drw Base Unit Opaco Dust Grey"]
["@LK-OPY-BD635L","600 Low Single Drawer unit 360 high","Opaco Dust Grey","BD635L",384,"600 Low Single Drawer unit 360 high Opaco Dust Grey"]
["@LK-OPY-BD83","800 3 Drw Base Unit","Opaco Dust Grey","BD83",813,"800 3 Drw Base Unit Opaco Dust Grey"]
["@LK-OPY-BD92","900 2 Pan Drw Unit","Opaco Dust Grey","BD92",700,"900 2 Pan Drw Unit Opaco Dust Grey"]
["@LK-OPY-BD92I","900 2 Pan Drw Unit + 1 Internal","Opaco Dust Grey","BD92I",901,"900 2 Pan Drw Unit + 1 Internal Opaco Dust Grey"]
["@LK-OPY-BD93","900 3 Drw Base Unit","Opaco Dust Grey","BD93",828,"900 3 Drw Base Unit Opaco Dust Grey"]
["@LK-OPY-BH100","1000 HL Base Unit","Opaco Dust Grey","BH100",439,"1000 HL Base Unit Opaco Dust Grey"]
["@LK-OPY-BH10S","1000 HL Sink Base Unit (Inc Liner)","Opaco Dust Grey","BH10S",485,"1000 HL Sink Base Unit (Inc Liner) Opaco Dust Grey"]
["@LK-OPY-BH15","150 HL Base Unit","Opaco Dust Grey","BH15",228,"150 HL Base Unit Opaco Dust Grey"]
["@LK-OPY-BH30","300 HL Base Unit","Opaco Dust Grey","BH30",239,"300 HL Base Unit Opaco Dust Grey"]
["@LK-OPY-BH35","350 HL Base Unit","Opaco Dust Grey","BH35",245,"350 HL Base Unit Opaco Dust Grey"]
["@LK-OPY-BH3B","300 HL Base Unit & Bin","Opaco Dust Grey","BH3B",607,"300 HL Base Unit & Bin Opaco Dust Grey"]
["@LK-OPY-BH40","400 HL Base Unit","Opaco Dust Grey","BH40",249,"400 HL Base Unit Opaco Dust Grey"]
["@LK-OPY-BH45","450 HL Base Unit","Opaco Dust Grey","BH45",272,"450 HL Base Unit Opaco Dust Grey"]
["@LK-OPY-BH45B","450 HL Base Unit & Bin","Opaco Dust Grey","BH45B",710,"450 HL Base Unit & Bin Opaco Dust Grey"]
["@LK-OPY-BH4B","400 HL Base Unit & Bin","Opaco Dust Grey","BH4B",682,"400 HL Base Unit & Bin Opaco Dust Grey"]
["@LK-OPY-BH50","500 HL Base Unit","Opaco Dust Grey","BH50",283,"500 HL Base Unit Opaco Dust Grey"]
["@LK-OPY-BH50S","500 HL Sink Base Unit (Inc Liner)","Opaco Dust Grey","BH50S",313,"500 HL Sink Base Unit (Inc Liner) Opaco Dust Grey"]
["@LK-OPY-BH5B","500 HL Base Unit & Bin","Opaco Dust Grey","BH5B",727,"500 HL Base Unit & Bin Opaco Dust Grey"]
["@LK-OPY-BH60","600 HL Base Unit","Opaco Dust Grey","BH60",319,"600 HL Base Unit Opaco Dust Grey"]
["@LK-OPY-BH60S","600 HL Sink Base Unit (Inc Liner)","Opaco Dust Grey","BH60S",365,"600 HL Sink Base Unit (Inc Liner) Opaco Dust Grey"]
["@LK-OPY-BH6B2","600 HL Base Unit & Bin (2 Bins)","Opaco Dust Grey","BH6B2",800,"600 HL Base Unit & Bin (2 Bins) Opaco Dust Grey"]
["@LK-OPY-BH6B4","600 HL Base Unit & Bin (4 Bins)","Opaco Dust Grey","BH6B4",852,"600 HL Base Unit & Bin (4 Bins) Opaco Dust Grey"]
["@LK-OPY-BH70","700 HL Base Unit","Opaco Dust Grey","BH70",388,"700 HL Base Unit Opaco Dust Grey"]
["@LK-OPY-BH80","800 HL Base Unit","Opaco Dust Grey","BH80",394,"800 HL Base Unit Opaco Dust Grey"]
["@LK-OPY-BH80S","800 HL Sink Base Unit (Inc Liner)","Opaco Dust Grey","BH80S",440,"800 HL Sink Base Unit (Inc Liner) Opaco Dust Grey"]
["@LK-OPY-BH90","900 HL Base Unit","Opaco Dust Grey","BH90",418,"900 HL Base Unit Opaco Dust Grey"]
["@LK-OPY-BH90S","900 HL Sink Base Unit (Inc Liner)","Opaco Dust Grey","BH90S",464,"900 HL Sink Base Unit (Inc Liner) Opaco Dust Grey"]
["@LK-OPY-BHD3","300 Highline Drw Unit 1 Pan 2 Internal","Opaco Dust Grey","BHD3",628,"300 Highline Drw Unit 1 Pan 2 Internal Opaco Dust Grey"]
["@LK-OPY-BHD4","400 Highline Drw Unit 1 Pan 2 Internal","Opaco Dust Grey","BHD4",677,"400 Highline Drw Unit 1 Pan 2 Internal Opaco Dust Grey"]
["@LK-OPY-BHD5","500 Highline Drw Unit 1 Pan 2 Internal","Opaco Dust Grey","BHD5",740,"500 Highline Drw Unit 1 Pan 2 Internal Opaco Dust Grey"]
["@LK-OPY-BHD6","600 Highline Drw Unit 1 Pan 2 Internal","Opaco Dust Grey","BHD6",796,"600 Highline Drw Unit 1 Pan 2 Internal Opaco Dust Grey"]
["@LK-OPY-BLD9","900 Boiler Door","Opaco Dust Grey","BLD9",133,"900 Boiler Door Opaco Dust Grey"]
["@LK-OPY-BOH6","600 BU Oven Housing","Opaco Dust Grey","BOH6",199,"600 BU Oven Housing Opaco Dust Grey"]
["@LK-OPY-BOHD6","600 BU Oven Housing with drawer -18mm","Opaco Dust Grey","BOHD6",312,"600 BU Oven Housing with drawer -18mm Opaco Dust Grey"]
["@LK-OPY-BP15TY","150 HL Pull Out Base VS SUB","Opaco Dust Grey","BP15TY",408,"150 HL Pull Out Base VS SUB Opaco Dust Grey"]
["@LK-OPY-BP3TY","300 HL Pull Out Base VS SUB","Opaco Dust Grey","BP3TY",634,"300 HL Pull Out Base VS SUB Opaco Dust Grey"]
["@LK-OPY-BSU6450","600 Belfast Sink Unit (450mm High)","Opaco Dust Grey","BSU6450",283,"600 Belfast Sink Unit (450mm High) Opaco Dust Grey"]
["@LK-OPY-BSU6495","600 Belfast Sink Unit (495mm High)","Opaco Dust Grey","BSU6495",285,"600 Belfast Sink Unit (495mm High) Opaco Dust Grey"]
["@LK-OPY-CH-MW","Corner Compact Appliance Unit","Opaco Dust Grey","CH-MW",700,"Corner Compact Appliance Unit Opaco Dust Grey"]
["@LK-OPY-CH-SO","Corner Single Oven Housing Unit","Opaco Dust Grey","CH-SO",654,"Corner Single Oven Housing Unit Opaco Dust Grey"]
["@LK-OPY-CH-ST","Corner Storage Unit","Opaco Dust Grey","CH-ST",880,"Corner Storage Unit Opaco Dust Grey"]
["@LK-OPY-L3","300 Larder Unit","Opaco Dust Grey","L3",663,"300 Larder Unit Opaco Dust Grey"]
["@LK-OPY-L5","500 Larder Unit","Opaco Dust Grey","L5",723,"500 Larder Unit Opaco Dust Grey"]
["@LK-OPY-L6","600 Larder Unit","Opaco Dust Grey","L6",794,"600 Larder Unit Opaco Dust Grey"]
["@LK-OPY-LAC","Angled Corner Larder","Opaco Dust Grey","LAC",2084,"Angled Corner Larder Opaco Dust Grey"]
["@LK-OPY-LBC15","1000mm Blind Corner larder 500 door","Opaco Dust Grey","LBC15",944,"1000mm Blind Corner larder 500 door Opaco Dust Grey"]
["@LK-OPY-LBC16","1000mm Blind Corner larder 600 door","Opaco Dust Grey","LBC16",970,"1000mm Blind Corner larder 600 door Opaco Dust Grey"]
["@LK-OPY-LBCLM15L","1000 Cnr Larder CORNERSTONE LH 500 Dr","Opaco Dust Grey","LBCLM15L",2782,"1000 Cnr Larder CORNERSTONE LH 500 Dr Opaco Dust Grey"]
["@LK-OPY-LBCLM15R","1000 Cnr Larder CORNERSTONE RH 500 Dr","Opaco Dust Grey","LBCLM15R",2782,"1000 Cnr Larder CORNERSTONE RH 500 Dr Opaco Dust Grey"]
["@LK-OPY-LBCLM16L","1000 Cnr Larder CORNERSTONE LH 600 Dr","Opaco Dust Grey","LBCLM16L",2934,"1000 Cnr Larder CORNERSTONE LH 600 Dr Opaco Dust Grey"]
["@LK-OPY-LBCLM16R","1000 Cnr Larder CORNERSTONE RH 600 Dr","Opaco Dust Grey","LBCLM16R",2934,"1000 Cnr Larder CORNERSTONE RH 600 Dr Opaco Dust Grey"]
["@LK-OPY-LL10CB","1000 Combi","Opaco Dust Grey","LL10CB",1245,"1000 Combi Opaco Dust Grey"]
["@LK-OPY-LL10CU","1000 Cleaning & Utility","Opaco Dust Grey","LL10CU",1235,"1000 Cleaning & Utility Opaco Dust Grey"]
["@LK-OPY-LL10CUS","1000 Cleaning & Utility Ex Shelves","Opaco Dust Grey","LL10CUS",1334,"1000 Cleaning & Utility Ex Shelves Opaco Dust Grey"]
["@LK-OPY-LL6CU","600 Cleaning & Utility","Opaco Dust Grey","LL6CU",786,"600 Cleaning & Utility Opaco Dust Grey"]
["@LK-OPY-LL6EA","600 Easy Access Larder","Opaco Dust Grey","LL6EA",836,"600 Easy Access Larder Opaco Dust Grey"]
["@LK-OPY-LL8LS","800 Laundry Stacker Larder","Opaco Dust Grey","LL8LS",1364,"800 Laundry Stacker Larder Opaco Dust Grey"]
["@LK-OPY-LP3","300 Larder & TAL LARDER Pull Out","Opaco Dust Grey","LP3",1445,"300 Larder & TAL LARDER Pull Out Opaco Dust Grey"]
["@LK-OPY-LP5T","500 Larder & TAL GATE PRO Pull Out","Opaco Dust Grey","LP5T",1915,"500 Larder & TAL GATE PRO Pull Out Opaco Dust Grey"]
["@LK-OPY-LP5TS","500 Larder & TAL GATE Pull Out","Opaco Dust Grey","LP5TS",1657,"500 Larder & TAL GATE Pull Out Opaco Dust Grey"]
["@LK-OPY-LP6T","600 Larder & TAL GATE PRO Pull Out","Opaco Dust Grey","LP6T",1980,"600 Larder & TAL GATE PRO Pull Out Opaco Dust Grey"]
["@LK-OPY-LP6TS","600 Larder & TAL GATE Pull Out","Opaco Dust Grey","LP6TS",1781,"600 Larder & TAL GATE Pull Out Opaco Dust Grey"]
["@LK-OPY-LPN12D2DW","1000mm Pantry 2 Doors 2 Drawers","Opaco Dust Grey","LPN12D2DW",1392,"1000mm Pantry 2 Doors 2 Drawers Opaco Dust Grey"]
["@LK-OPY-LPN12D3DW","1000mm Pantry 2 Doors 3 Drawers","Opaco Dust Grey","LPN12D3DW",1523,"1000mm Pantry 2 Doors 3 Drawers Opaco Dust Grey"]
["@LK-OPY-LPN14D","1000mm Pantry 4 Doors","Opaco Dust Grey","LPN14D",1124,"1000mm Pantry 4 Doors Opaco Dust Grey"]
["@LK-OPY-LT3","300 Larder Tower","Opaco Dust Grey","LT3",1764,"300 Larder Tower Opaco Dust Grey"]
["@LK-OPY-LT5","500 Larder Tower","Opaco Dust Grey","LT5",1892,"500 Larder Tower Opaco Dust Grey"]
["@LK-OPY-LT6","600 Larder Tower","Opaco Dust Grey","LT6",2029,"600 Larder Tower Opaco Dust Grey"]
["@LK-OPY-TCH-MW","Tall Corner Compact Appliance Unit","Opaco Dust Grey","TCH-MW",759,"Tall Corner Compact Appliance Unit Opaco Dust Grey"]
["@LK-OPY-TCH-SO","Tall Corner Single Oven Housing Unit","Opaco Dust Grey","TCH-SO",846,"Tall Corner Single Oven Housing Unit Opaco Dust Grey"]
["@LK-OPY-TCH-ST","Tall Corner Storage Unit","Opaco Dust Grey","TCH-ST",918,"Tall Corner Storage Unit Opaco Dust Grey"]
["@LK-OPY-W100","1000 Wall Unit","Opaco Dust Grey","W100",434,"1000 Wall Unit Opaco Dust Grey"]
["@LK-OPY-W30","300 Wall Unit","Opaco Dust Grey","W30",221,"300 Wall Unit Opaco Dust Grey"]
["@LK-OPY-W35","350 Wall Cabinet","Opaco Dust Grey","W35",227,"350 Wall Cabinet Opaco Dust Grey"]
["@LK-OPY-W40","400 Wall Unit","Opaco Dust Grey","W40",235,"400 Wall Unit Opaco Dust Grey"]
["@LK-OPY-W45","450 Wall Unit","Opaco Dust Grey","W45",252,"450 Wall Unit Opaco Dust Grey"]
["@LK-OPY-W50","500 Wall Unit","Opaco Dust Grey","W50",266,"500 Wall Unit Opaco Dust Grey"]
["@LK-OPY-W60","600 Wall Unit","Opaco Dust Grey","W60",290,"600 Wall Unit Opaco Dust Grey"]
["@LK-OPY-W70","700 Wall Cabinet","Opaco Dust Grey","W70",383,"700 Wall Cabinet Opaco Dust Grey"]
["@LK-OPY-W80","800 Wall Unit","Opaco Dust Grey","W80",389,"800 Wall Unit Opaco Dust Grey"]
["@LK-OPY-W90","900 Wall Unit","Opaco Dust Grey","W90",409,"900 Wall Unit Opaco Dust Grey"]
["@LK-OPY-WB12","1000 Bridging Unit","Opaco Dust Grey","WB12",338,"1000 Bridging Unit Opaco Dust Grey"]
["@LK-OPY-WB62","600 Bridging Unit","Opaco Dust Grey","WB62",237,"600 Bridging Unit Opaco Dust Grey"]
["@LK-OPY-WB63","600 355mm Bridging Unit","Opaco Dust Grey","WB63",295,"600 355mm Bridging Unit Opaco Dust Grey"]
["@LK-OPY-WB82","800 Bridging Unit","Opaco Dust Grey","WB82",295,"800 Bridging Unit Opaco Dust Grey"]
["@LK-OPY-WB92","900 Bridging Unit","Opaco Dust Grey","WB92",312,"900 Bridging Unit Opaco Dust Grey"]
["@LK-OPY-WB93","900 355mm Bridging Unit","Opaco Dust Grey","WB93",344,"900 355mm Bridging Unit Opaco Dust Grey"]
["@LK-OPY-WBHU","600 Boiler Housing","Opaco Dust Grey","WBHU",282,"600 Boiler Housing Opaco Dust Grey"]
["@LK-OPY-WBI60","600 Bifold Unit","Opaco Dust Grey","WBI60",663,"600 Bifold Unit Opaco Dust Grey"]
["@LK-OPY-WBI90","900 Bifold Unit","Opaco Dust Grey","WBI90",695,"900 Bifold Unit Opaco Dust Grey"]
["@LK-OPY-WC6","600 Cnr Wall Unit","Opaco Dust Grey","WC6",309,"600 Cnr Wall Unit Opaco Dust Grey"]
["@LK-OPY-WC9","900 Cnr Wall Unit","Opaco Dust Grey","WC9",371,"900 Cnr Wall Unit Opaco Dust Grey"]
["@LK-OPY-WCL65","650 L Cnr Wall Unit","Opaco Dust Grey","WCL65",553,"650 L Cnr Wall Unit Opaco Dust Grey"]
["@LK-OPY-WGR5","Reeded Glass Wall Unit - 500mm","Opaco Dust Grey","WGR5",434,"Reeded Glass Wall Unit - 500mm Opaco Dust Grey"]
["@LK-OPY-WGR6","Reeded Glass Wall Unit - 600mm","Opaco Dust Grey","WGR6",476,"Reeded Glass Wall Unit - 600mm Opaco Dust Grey"]
["@LK-OPY-WGS5","Smoked Glass Wall Unit - 500mm","Opaco Dust Grey","WGS5",434,"Smoked Glass Wall Unit - 500mm Opaco Dust Grey"]
["@LK-OPY-WGS6","Smoked Glass Wall Unit - 600mm","Opaco Dust Grey","WGS6",476,"Smoked Glass Wall Unit - 600mm Opaco Dust Grey"]
["@LK-OPY-WM60","600 Wall Microwave Unit","Opaco Dust Grey","WM60",361,"600 Wall Microwave Unit Opaco Dust Grey"]
["LK-A-OPY-BLPEL","Modern Sq Bul Pelmet / Cornice","Opaco Dust Grey","BLPEL",86,"Modern Sq Bul Pelmet / Cornice Opaco Dust Grey"]
["LK-A-OPY-CPBC","Curved End post Cap Classic","Opaco Dust Grey","CPBC",116,"Curved End post Cap Classic Opaco Dust Grey"]
["LK-A-OPY-CPBM","Curved End post Cap Modern","Opaco Dust Grey","CPBM",109,"Curved End post Cap Modern Opaco Dust Grey"]
["LK-A-OPY-CVP","Curved End Post","Opaco Dust Grey","CVP",123,"Curved End Post Opaco Dust Grey"]
["LK-A-OPY-ESP","End Support / Plant on Base Panel","Opaco Dust Grey","ESP",135,"End Support / Plant on Base Panel Opaco Dust Grey"]
["LK-A-OPY-ET","22mm Edging - 10m","Opaco Dust Grey","ET",37,"22mm Edging - 10m Opaco Dust Grey"]
["LK-A-OPY-LUP","Large Universal Panel 2.4 x 900mm","Opaco Dust Grey","LUP",391,"Large Universal Panel 2.4 x 900mm Opaco Dust Grey"]
["LK-A-OPY-PL","Plinth","Opaco Dust Grey","PL",90,"Plinth Opaco Dust Grey"]
["LK-A-OPY-PTEP","Plant on Tall End Panel 2400x630","Opaco Dust Grey","PTEP",305,"Plant on Tall End Panel 2400x630 Opaco Dust Grey"]
["LK-A-OPY-PWEP20","2000 x 360 Plant on Wall End Panel","Opaco Dust Grey","PWEP20",200,"2000 x 360 Plant on Wall End Panel Opaco Dust Grey"]
["LK-A-OPY-PWEP72","720 x 360 Plant on Wall End Panel","Opaco Dust Grey","PWEP72",92,"720 x 360 Plant on Wall End Panel Opaco Dust Grey"]
["LK-A-OPY-SCCRN","Sculptured Cornice","Opaco Dust Grey","SCCRN",113,"Sculptured Cornice Opaco Dust Grey"]
["LK-A-OPY-WREP72","720 Wall Rep end Panel","Opaco Dust Grey","WREP72",77,"720 Wall Rep end Panel Opaco Dust Grey"]
["@LK-OPF-AD45I","450 Integrated Dishwasher Fascia","Opaco Fjord","AD45I",107,"450 Integrated Dishwasher Fascia Opaco Fjord"]
["@LK-OPF-AD60FD","600 Fridge/Dishwasher Fascia","Opaco Fjord","AD60FD",131,"600 Fridge/Dishwasher Fascia Opaco Fjord"]
["@LK-OPF-AD60ICH","600 Integrated Extractor Door","Opaco Fjord","AD60ICH",95,"600 Integrated Extractor Door Opaco Fjord"]
["@LK-OPF-AD60S","600 Semi Int Dishwasher Fascia","Opaco Fjord","AD60S",129,"600 Semi Int Dishwasher Fascia Opaco Fjord"]
["@LK-OPF-AH-CO","600 Compact / Microwave Housing","Opaco Fjord","AH-CO",823,"600 Compact / Microwave Housing Opaco Fjord"]
["@LK-OPF-AH-DMW","600 Double Oven & MW unit","Opaco Fjord","AH-DMW",927,"600 Double Oven & MW unit Opaco Fjord"]
["@LK-OPF-AH-DO","600 Dble Oven Housing","Opaco Fjord","AH-DO",731,"600 Dble Oven Housing Opaco Fjord"]
["@LK-OPF-AH-DO2D","600 Dble Oven & 2 Drws","Opaco Fjord","AH-DO2D",1058,"600 Dble Oven & 2 Drws Opaco Fjord"]
["@LK-OPF-AH-F55","600 50/50 FF Housing Unit","Opaco Fjord","AH-F55",735,"600 50/50 FF Housing Unit Opaco Fjord"]
["@LK-OPF-AH-F73","600 70/30 FF Housing Unit","Opaco Fjord","AH-F73",711,"600 70/30 FF Housing Unit Opaco Fjord"]
["@LK-OPF-AH-SM2D","600 Single Oven & MW 2 Drw unit","Opaco Fjord","AH-SM2D",1074,"600 Single Oven & MW 2 Drw unit Opaco Fjord"]
["@LK-OPF-AH-SMW","600 Sgle Oven & MW 2 Door unit","Opaco Fjord","AH-SMW",786,"600 Sgle Oven & MW 2 Door unit Opaco Fjord"]
["@LK-OPF-AH-SO","600 Single Oven Housing","Opaco Fjord","AH-SO",750,"600 Single Oven Housing Opaco Fjord"]
["@LK-OPF-AH-SO1D","600 Single Oven + 1 Drw Unit","Opaco Fjord","AH-SO1D",896,"600 Single Oven + 1 Drw Unit Opaco Fjord"]
["@LK-OPF-AH-SO2D","600 Single Oven + 2 Drws Unit","Opaco Fjord","AH-SO2D",1112,"600 Single Oven + 2 Drws Unit Opaco Fjord"]
["@LK-OPF-AH-SO3D","600 Single Oven + 3 Drws Unit","Opaco Fjord","AH-SO3D",1261,"600 Single Oven + 3 Drws Unit Opaco Fjord"]
["@LK-OPF-AH-SOT","600 Twin Single Oven Housing","Opaco Fjord","AH-SOT",876,"600 Twin Single Oven Housing Opaco Fjord"]
["@LK-OPF-BC145","1000 HL Cnr Base (450 Door)","Opaco Fjord","BC145",397,"1000 HL Cnr Base (450 Door) Opaco Fjord"]
["@LK-OPF-BC15","1000 HL Cnr Base (500 Door)","Opaco Fjord","BC15",405,"1000 HL Cnr Base (500 Door) Opaco Fjord"]
["@LK-OPF-BC16","1000 HL Cnr Base (600 Door)","Opaco Fjord","BC16",421,"1000 HL Cnr Base (600 Door) Opaco Fjord"]
["@LK-OPF-BC83","800 HL Cnr Base (300 Door)","Opaco Fjord","BC83",374,"800 HL Cnr Base (300 Door) Opaco Fjord"]
["@LK-OPF-BC84","800 HL Cnr Base Unit (400 Door)","Opaco Fjord","BC84",380,"800 HL Cnr Base Unit (400 Door) Opaco Fjord"]
["@LK-OPF-BC845","800 HL Cnr Base (450 Door)","Opaco Fjord","BC845",392,"800 HL Cnr Base (450 Door) Opaco Fjord"]
["@LK-OPF-BC945","900 HL Cnr Base (450 Door)","Opaco Fjord","BC945",392,"900 HL Cnr Base (450 Door) Opaco Fjord"]
["@LK-OPF-BCL15L","1000 Cnr Base CORNERSTONE LH - 500 door","Opaco Fjord","BCL15L",1270,"1000 Cnr Base CORNERSTONE LH - 500 door Opaco Fjord"]
["@LK-OPF-BCL15R","1000 Cnr Base CORNERSTONE RH - 500 door","Opaco Fjord","BCL15R",1270,"1000 Cnr Base CORNERSTONE RH - 500 door Opaco Fjord"]
["@LK-OPF-BCL16L","1000 Cnr Base CORNERSTONE LH - 600 door","Opaco Fjord","BCL16L",1349,"1000 Cnr Base CORNERSTONE LH - 600 door Opaco Fjord"]
["@LK-OPF-BCL16R","1000 Cnr Base CORNERSTONE RH - 600 door","Opaco Fjord","BCL16R",1349,"1000 Cnr Base CORNERSTONE RH - 600 door Opaco Fjord"]
["@LK-OPF-BCL9","950 HL Cnr L Base","Opaco Fjord","BCL9",618,"950 HL Cnr L Base Opaco Fjord"]
["@LK-OPF-BCO145","1000 Corner Base VS COR FLEX - 450 door","Opaco Fjord","BCO145",1407,"1000 Corner Base VS COR FLEX - 450 door Opaco Fjord"]
["@LK-OPF-BCO15","1000 Corner Base VS COR FLEX - 500 door","Opaco Fjord","BCO15",1415,"1000 Corner Base VS COR FLEX - 500 door Opaco Fjord"]
["@LK-OPF-BCO16","1000 Corner Base VS COR FLEX - 600 door","Opaco Fjord","BCO16",1431,"1000 Corner Base VS COR FLEX - 600 door Opaco Fjord"]
["@LK-OPF-BCO945","900 Corner Base VS COR FLEX - 450 door","Opaco Fjord","BCO945",1397,"900 Corner Base VS COR FLEX - 450 door Opaco Fjord"]
["@LK-OPF-BD13","1000 3 Drw Base Unit","Opaco Fjord","BD13",845,"1000 3 Drw Base Unit Opaco Fjord"]
["@LK-OPF-BD53","500 3 Drw Base Unit","Opaco Fjord","BD53",714,"500 3 Drw Base Unit Opaco Fjord"]
["@LK-OPF-BD54","500 4 Drw Base Unit","Opaco Fjord","BD54",846,"500 4 Drw Base Unit Opaco Fjord"]
["@LK-OPF-BD62","600 2 Pan Drw Unit","Opaco Fjord","BD62",683,"600 2 Pan Drw Unit Opaco Fjord"]
["@LK-OPF-BD62I","600 2 Pan Drw Unit + 1 Internal","Opaco Fjord","BD62I",859,"600 2 Pan Drw Unit + 1 Internal Opaco Fjord"]
["@LK-OPF-BD63","600 3 Drw Base Unit","Opaco Fjord","BD63",806,"600 3 Drw Base Unit Opaco Fjord"]
["@LK-OPF-BD635L","600 Low Single Drawer unit 360 high","Opaco Fjord","BD635L",384,"600 Low Single Drawer unit 360 high Opaco Fjord"]
["@LK-OPF-BD83","800 3 Drw Base Unit","Opaco Fjord","BD83",813,"800 3 Drw Base Unit Opaco Fjord"]
["@LK-OPF-BD92","900 2 Pan Drw Unit","Opaco Fjord","BD92",700,"900 2 Pan Drw Unit Opaco Fjord"]
["@LK-OPF-BD92I","900 2 Pan Drw Unit + 1 Internal","Opaco Fjord","BD92I",901,"900 2 Pan Drw Unit + 1 Internal Opaco Fjord"]
["@LK-OPF-BD93","900 3 Drw Base Unit","Opaco Fjord","BD93",828,"900 3 Drw Base Unit Opaco Fjord"]
["@LK-OPF-BH100","1000 HL Base Unit","Opaco Fjord","BH100",439,"1000 HL Base Unit Opaco Fjord"]
["@LK-OPF-BH10S","1000 HL Sink Base Unit (Inc Liner)","Opaco Fjord","BH10S",485,"1000 HL Sink Base Unit (Inc Liner) Opaco Fjord"]
["@LK-OPF-BH15","150 HL Base Unit","Opaco Fjord","BH15",228,"150 HL Base Unit Opaco Fjord"]
["@LK-OPF-BH30","300 HL Base Unit","Opaco Fjord","BH30",239,"300 HL Base Unit Opaco Fjord"]
["@LK-OPF-BH35","350 HL Base Unit","Opaco Fjord","BH35",245,"350 HL Base Unit Opaco Fjord"]
["@LK-OPF-BH3B","300 HL Base Unit & Bin","Opaco Fjord","BH3B",607,"300 HL Base Unit & Bin Opaco Fjord"]
["@LK-OPF-BH40","400 HL Base Unit","Opaco Fjord","BH40",249,"400 HL Base Unit Opaco Fjord"]
["@LK-OPF-BH45","450 HL Base Unit","Opaco Fjord","BH45",272,"450 HL Base Unit Opaco Fjord"]
["@LK-OPF-BH45B","450 HL Base Unit & Bin","Opaco Fjord","BH45B",710,"450 HL Base Unit & Bin Opaco Fjord"]
["@LK-OPF-BH4B","400 HL Base Unit & Bin","Opaco Fjord","BH4B",682,"400 HL Base Unit & Bin Opaco Fjord"]
["@LK-OPF-BH50","500 HL Base Unit","Opaco Fjord","BH50",283,"500 HL Base Unit Opaco Fjord"]
["@LK-OPF-BH50S","500 HL Sink Base Unit (Inc Liner)","Opaco Fjord","BH50S",313,"500 HL Sink Base Unit (Inc Liner) Opaco Fjord"]
["@LK-OPF-BH5B","500 HL Base Unit & Bin","Opaco Fjord","BH5B",727,"500 HL Base Unit & Bin Opaco Fjord"]
["@LK-OPF-BH60","600 HL Base Unit","Opaco Fjord","BH60",319,"600 HL Base Unit Opaco Fjord"]
["@LK-OPF-BH60S","600 HL Sink Base Unit (Inc Liner)","Opaco Fjord","BH60S",365,"600 HL Sink Base Unit (Inc Liner) Opaco Fjord"]
["@LK-OPF-BH6B2","600 HL Base Unit & Bin (2 Bins)","Opaco Fjord","BH6B2",800,"600 HL Base Unit & Bin (2 Bins) Opaco Fjord"]
["@LK-OPF-BH6B4","600 HL Base Unit & Bin (4 Bins)","Opaco Fjord","BH6B4",852,"600 HL Base Unit & Bin (4 Bins) Opaco Fjord"]
["@LK-OPF-BH70","700 HL Base Unit","Opaco Fjord","BH70",388,"700 HL Base Unit Opaco Fjord"]
["@LK-OPF-BH80","800 HL Base Unit","Opaco Fjord","BH80",394,"800 HL Base Unit Opaco Fjord"]
["@LK-OPF-BH80S","800 HL Sink Base Unit (Inc Liner)","Opaco Fjord","BH80S",440,"800 HL Sink Base Unit (Inc Liner) Opaco Fjord"]
["@LK-OPF-BH90","900 HL Base Unit","Opaco Fjord","BH90",418,"900 HL Base Unit Opaco Fjord"]
["@LK-OPF-BH90S","900 HL Sink Base Unit (Inc Liner)","Opaco Fjord","BH90S",464,"900 HL Sink Base Unit (Inc Liner) Opaco Fjord"]
["@LK-OPF-BHD3","300 Highline Drw Unit 1 Pan 2 Internal","Opaco Fjord","BHD3",628,"300 Highline Drw Unit 1 Pan 2 Internal Opaco Fjord"]
["@LK-OPF-BHD4","400 Highline Drw Unit 1 Pan 2 Internal","Opaco Fjord","BHD4",677,"400 Highline Drw Unit 1 Pan 2 Internal Opaco Fjord"]
["@LK-OPF-BHD5","500 Highline Drw Unit 1 Pan 2 Internal","Opaco Fjord","BHD5",740,"500 Highline Drw Unit 1 Pan 2 Internal Opaco Fjord"]
["@LK-OPF-BHD6","600 Highline Drw Unit 1 Pan 2 Internal","Opaco Fjord","BHD6",796,"600 Highline Drw Unit 1 Pan 2 Internal Opaco Fjord"]
["@LK-OPF-BLD9","900 Boiler Door","Opaco Fjord","BLD9",133,"900 Boiler Door Opaco Fjord"]
["@LK-OPF-BOH6","600 BU Oven Housing","Opaco Fjord","BOH6",199,"600 BU Oven Housing Opaco Fjord"]
["@LK-OPF-BOHD6","600 BU Oven Housing with drawer -18mm","Opaco Fjord","BOHD6",312,"600 BU Oven Housing with drawer -18mm Opaco Fjord"]
["@LK-OPF-BP15TY","150 HL Pull Out Base VS SUB","Opaco Fjord","BP15TY",408,"150 HL Pull Out Base VS SUB Opaco Fjord"]
["@LK-OPF-BP3TY","300 HL Pull Out Base VS SUB","Opaco Fjord","BP3TY",634,"300 HL Pull Out Base VS SUB Opaco Fjord"]
["@LK-OPF-BSU6450","600 Belfast Sink Unit (450mm High)","Opaco Fjord","BSU6450",283,"600 Belfast Sink Unit (450mm High) Opaco Fjord"]
["@LK-OPF-BSU6495","600 Belfast Sink Unit (495mm High)","Opaco Fjord","BSU6495",285,"600 Belfast Sink Unit (495mm High) Opaco Fjord"]
["@LK-OPF-CH-MW","Corner Compact Appliance Unit","Opaco Fjord","CH-MW",700,"Corner Compact Appliance Unit Opaco Fjord"]
["@LK-OPF-CH-SO","Corner Single Oven Housing Unit","Opaco Fjord","CH-SO",654,"Corner Single Oven Housing Unit Opaco Fjord"]
["@LK-OPF-CH-ST","Corner Storage Unit","Opaco Fjord","CH-ST",880,"Corner Storage Unit Opaco Fjord"]
["@LK-OPF-L3","300 Larder Unit","Opaco Fjord","L3",663,"300 Larder Unit Opaco Fjord"]
["@LK-OPF-L5","500 Larder Unit","Opaco Fjord","L5",723,"500 Larder Unit Opaco Fjord"]
["@LK-OPF-L6","600 Larder Unit","Opaco Fjord","L6",794,"600 Larder Unit Opaco Fjord"]
["@LK-OPF-LAC","Angled Corner Larder","Opaco Fjord","LAC",2084,"Angled Corner Larder Opaco Fjord"]
["@LK-OPF-LBC15","1000mm Blind Corner larder 500 door","Opaco Fjord","LBC15",944,"1000mm Blind Corner larder 500 door Opaco Fjord"]
["@LK-OPF-LBC16","1000mm Blind Corner larder 600 door","Opaco Fjord","LBC16",970,"1000mm Blind Corner larder 600 door Opaco Fjord"]
["@LK-OPF-LBCLM15L","1000 Cnr Larder CORNERSTONE LH 500 Dr","Opaco Fjord","LBCLM15L",2782,"1000 Cnr Larder CORNERSTONE LH 500 Dr Opaco Fjord"]
["@LK-OPF-LBCLM15R","1000 Cnr Larder CORNERSTONE RH 500 Dr","Opaco Fjord","LBCLM15R",2782,"1000 Cnr Larder CORNERSTONE RH 500 Dr Opaco Fjord"]
["@LK-OPF-LBCLM16L","1000 Cnr Larder CORNERSTONE LH 600 Dr","Opaco Fjord","LBCLM16L",2934,"1000 Cnr Larder CORNERSTONE LH 600 Dr Opaco Fjord"]
["@LK-OPF-LBCLM16R","1000 Cnr Larder CORNERSTONE RH 600 Dr","Opaco Fjord","LBCLM16R",2934,"1000 Cnr Larder CORNERSTONE RH 600 Dr Opaco Fjord"]
["@LK-OPF-LL10CB","1000 Combi","Opaco Fjord","LL10CB",1245,"1000 Combi Opaco Fjord"]
["@LK-OPF-LL10CU","1000 Cleaning & Utility","Opaco Fjord","LL10CU",1235,"1000 Cleaning & Utility Opaco Fjord"]
["@LK-OPF-LL10CUS","1000 Cleaning & Utility Ex Shelves","Opaco Fjord","LL10CUS",1334,"1000 Cleaning & Utility Ex Shelves Opaco Fjord"]
["@LK-OPF-LL6CU","600 Cleaning & Utility","Opaco Fjord","LL6CU",786,"600 Cleaning & Utility Opaco Fjord"]
["@LK-OPF-LL6EA","600 Easy Access Larder","Opaco Fjord","LL6EA",836,"600 Easy Access Larder Opaco Fjord"]
["@LK-OPF-LL8LS","800 Laundry Stacker Larder","Opaco Fjord","LL8LS",1364,"800 Laundry Stacker Larder Opaco Fjord"]
["@LK-OPF-LP3","300 Larder & TAL LARDER Pull Out","Opaco Fjord","LP3",1445,"300 Larder & TAL LARDER Pull Out Opaco Fjord"]
["@LK-OPF-LP5T","500 Larder & TAL GATE PRO Pull Out","Opaco Fjord","LP5T",1915,"500 Larder & TAL GATE PRO Pull Out Opaco Fjord"]
["@LK-OPF-LP5TS","500 Larder & TAL GATE Pull Out","Opaco Fjord","LP5TS",1657,"500 Larder & TAL GATE Pull Out Opaco Fjord"]
["@LK-OPF-LP6T","600 Larder & TAL GATE PRO Pull Out","Opaco Fjord","LP6T",1980,"600 Larder & TAL GATE PRO Pull Out Opaco Fjord"]
["@LK-OPF-LP6TS","600 Larder & TAL GATE Pull Out","Opaco Fjord","LP6TS",1781,"600 Larder & TAL GATE Pull Out Opaco Fjord"]
["@LK-OPF-LPN12D2DW","1000mm Pantry 2 Doors 2 Drawers","Opaco Fjord","LPN12D2DW",1392,"1000mm Pantry 2 Doors 2 Drawers Opaco Fjord"]
["@LK-OPF-LPN12D3DW","1000mm Pantry 2 Doors 3 Drawers","Opaco Fjord","LPN12D3DW",1523,"1000mm Pantry 2 Doors 3 Drawers Opaco Fjord"]
["@LK-OPF-LPN14D","1000mm Pantry 4 Doors","Opaco Fjord","LPN14D",1124,"1000mm Pantry 4 Doors Opaco Fjord"]
["@LK-OPF-LT3","300 Larder Tower","Opaco Fjord","LT3",1764,"300 Larder Tower Opaco Fjord"]
["@LK-OPF-LT5","500 Larder Tower","Opaco Fjord","LT5",1892,"500 Larder Tower Opaco Fjord"]
["@LK-OPF-LT6","600 Larder Tower","Opaco Fjord","LT6",2029,"600 Larder Tower Opaco Fjord"]
["@LK-OPF-TCH-MW","Tall Corner Compact Appliance Unit","Opaco Fjord","TCH-MW",759,"Tall Corner Compact Appliance Unit Opaco Fjord"]
["@LK-OPF-TCH-SO","Tall Corner Single Oven Housing Unit","Opaco Fjord","TCH-SO",846,"Tall Corner Single Oven Housing Unit Opaco Fjord"]
["@LK-OPF-TCH-ST","Tall Corner Storage Unit","Opaco Fjord","TCH-ST",918,"Tall Corner Storage Unit Opaco Fjord"]
["@LK-OPF-W100","1000 Wall Unit","Opaco Fjord","W100",434,"1000 Wall Unit Opaco Fjord"]
["@LK-OPF-W30","300 Wall Unit","Opaco Fjord","W30",221,"300 Wall Unit Opaco Fjord"]
["@LK-OPF-W35","350 Wall Cabinet","Opaco Fjord","W35",227,"350 Wall Cabinet Opaco Fjord"]
["@LK-OPF-W40","400 Wall Unit","Opaco Fjord","W40",235,"400 Wall Unit Opaco Fjord"]
["@LK-OPF-W45","450 Wall Unit","Opaco Fjord","W45",252,"450 Wall Unit Opaco Fjord"]
["@LK-OPF-W50","500 Wall Unit","Opaco Fjord","W50",266,"500 Wall Unit Opaco Fjord"]
["@LK-OPF-W60","600 Wall Unit","Opaco Fjord","W60",290,"600 Wall Unit Opaco Fjord"]
["@LK-OPF-W70","700 Wall Cabinet","Opaco Fjord","W70",383,"700 Wall Cabinet Opaco Fjord"]
["@LK-OPF-W80","800 Wall Unit","Opaco Fjord","W80",389,"800 Wall Unit Opaco Fjord"]
["@LK-OPF-W90","900 Wall Unit","Opaco Fjord","W90",409,"900 Wall Unit Opaco Fjord"]
["@LK-OPF-WB12","1000 Bridging Unit","Opaco Fjord","WB12",338,"1000 Bridging Unit Opaco Fjord"]
["@LK-OPF-WB62","600 Bridging Unit","Opaco Fjord","WB62",237,"600 Bridging Unit Opaco Fjord"]
["@LK-OPF-WB63","600 355mm Bridging Unit","Opaco Fjord","WB63",295,"600 355mm Bridging Unit Opaco Fjord"]
["@LK-OPF-WB82","800 Bridging Unit","Opaco Fjord","WB82",295,"800 Bridging Unit Opaco Fjord"]
["@LK-OPF-WB92","900 Bridging Unit","Opaco Fjord","WB92",312,"900 Bridging Unit Opaco Fjord"]
["@LK-OPF-WB93","900 355mm Bridging Unit","Opaco Fjord","WB93",344,"900 355mm Bridging Unit Opaco Fjord"]
["@LK-OPF-WBHU","600 Boiler Housing","Opaco Fjord","WBHU",282,"600 Boiler Housing Opaco Fjord"]
["@LK-OPF-WBI60","600 Bifold Unit","Opaco Fjord","WBI60",663,"600 Bifold Unit Opaco Fjord"]
["@LK-OPF-WBI90","900 Bifold Unit","Opaco Fjord","WBI90",695,"900 Bifold Unit Opaco Fjord"]
["@LK-OPF-WC6","600 Cnr Wall Unit","Opaco Fjord","WC6",309,"600 Cnr Wall Unit Opaco Fjord"]
["@LK-OPF-WC9","900 Cnr Wall Unit","Opaco Fjord","WC9",371,"900 Cnr Wall Unit Opaco Fjord"]
["@LK-OPF-WCL65","650 L Cnr Wall Unit","Opaco Fjord","WCL65",553,"650 L Cnr Wall Unit Opaco Fjord"]
["@LK-OPF-WGR5","Reeded Glass Wall Unit - 500mm","Opaco Fjord","WGR5",434,"Reeded Glass Wall Unit - 500mm Opaco Fjord"]
["@LK-OPF-WGR6","Reeded Glass Wall Unit - 600mm","Opaco Fjord","WGR6",476,"Reeded Glass Wall Unit - 600mm Opaco Fjord"]
["@LK-OPF-WGS5","Smoked Glass Wall Unit - 500mm","Opaco Fjord","WGS5",434,"Smoked Glass Wall Unit - 500mm Opaco Fjord"]
["@LK-OPF-WGS6","Smoked Glass Wall Unit - 600mm","Opaco Fjord","WGS6",476,"Smoked Glass Wall Unit - 600mm Opaco Fjord"]
["@LK-OPF-WM60","600 Wall Microwave Unit","Opaco Fjord","WM60",361,"600 Wall Microwave Unit Opaco Fjord"]
["LK-A-OPF-BLPEL","Modern Sq Bul Pelmet / Cornice","Opaco Fjord","BLPEL",86,"Modern Sq Bul Pelmet / Cornice Opaco Fjord"]
["LK-A-OPF-CPBC","Curved End post Cap Classic","Opaco Fjord","CPBC",116,"Curved End post Cap Classic Opaco Fjord"]
["LK-A-OPF-CPBM","Curved End post Cap Modern","Opaco Fjord","CPBM",109,"Curved End post Cap Modern Opaco Fjord"]
["LK-A-OPF-CVP","Curved End Post","Opaco Fjord","CVP",123,"Curved End Post Opaco Fjord"]
["LK-A-OPF-ESP","End Support / Plant on Base Panel","Opaco Fjord","ESP",135,"End Support / Plant on Base Panel Opaco Fjord"]
["LK-A-OPF-ET","22mm Edging - 10m","Opaco Fjord","ET",37,"22mm Edging - 10m Opaco Fjord"]
["LK-A-OPF-LUP","Large Universal Panel 2.4 x 900mm","Opaco Fjord","LUP",391,"Large Universal Panel 2.4 x 900mm Opaco Fjord"]
["LK-A-OPF-PL","Plinth","Opaco Fjord","PL",90,"Plinth Opaco Fjord"]
["LK-A-OPF-PTEP","Plant on Tall End Panel 2400x630","Opaco Fjord","PTEP",305,"Plant on Tall End Panel 2400x630 Opaco Fjord"]
["LK-A-OPF-PWEP20","2000 x 360 Plant on Wall End Panel","Opaco Fjord","PWEP20",200,"2000 x 360 Plant on Wall End Panel Opaco Fjord"]
["LK-A-OPF-PWEP72","720 x 360 Plant on Wall End Panel","Opaco Fjord","PWEP72",92,"720 x 360 Plant on Wall End Panel Opaco Fjord"]
["LK-A-OPF-SCCRN","Sculptured Cornice","Opaco Fjord","SCCRN",113,"Sculptured Cornice Opaco Fjord"]
["LK-A-OPF-WREP72","720 Wall Rep end Panel","Opaco Fjord","WREP72",77,"720 Wall Rep end Panel Opaco Fjord"]
["@LK-OPM-AD45I","450 Integrated Dishwasher Fascia","Opaco Mussel","AD45I",107,"450 Integrated Dishwasher Fascia Opaco Mussel"]
["@LK-OPM-AD60FD","600 Fridge/Dishwasher Fascia","Opaco Mussel","AD60FD",131,"600 Fridge/Dishwasher Fascia Opaco Mussel"]
["@LK-OPM-AD60ICH","600 Integrated Extractor Door","Opaco Mussel","AD60ICH",95,"600 Integrated Extractor Door Opaco Mussel"]
["@LK-OPM-AD60S","600 Semi Int Dishwasher Fascia","Opaco Mussel","AD60S",129,"600 Semi Int Dishwasher Fascia Opaco Mussel"]
["@LK-OPM-AH-CO","600 Compact / Microwave Housing","Opaco Mussel","AH-CO",823,"600 Compact / Microwave Housing Opaco Mussel"]
["@LK-OPM-AH-DMW","600 Double Oven & MW unit","Opaco Mussel","AH-DMW",927,"600 Double Oven & MW unit Opaco Mussel"]
["@LK-OPM-AH-DO","600 Dble Oven Housing","Opaco Mussel","AH-DO",731,"600 Dble Oven Housing Opaco Mussel"]
["@LK-OPM-AH-DO2D","600 Dble Oven & 2 Drws","Opaco Mussel","AH-DO2D",1058,"600 Dble Oven & 2 Drws Opaco Mussel"]
["@LK-OPM-AH-F55","600 50/50 FF Housing Unit","Opaco Mussel","AH-F55",735,"600 50/50 FF Housing Unit Opaco Mussel"]
["@LK-OPM-AH-F73","600 70/30 FF Housing Unit","Opaco Mussel","AH-F73",711,"600 70/30 FF Housing Unit Opaco Mussel"]
["@LK-OPM-AH-SM2D","600 Single Oven & MW 2 Drw unit","Opaco Mussel","AH-SM2D",1074,"600 Single Oven & MW 2 Drw unit Opaco Mussel"]
["@LK-OPM-AH-SMW","600 Sgle Oven & MW 2 Door unit","Opaco Mussel","AH-SMW",786,"600 Sgle Oven & MW 2 Door unit Opaco Mussel"]
["@LK-OPM-AH-SO","600 Single Oven Housing","Opaco Mussel","AH-SO",750,"600 Single Oven Housing Opaco Mussel"]
["@LK-OPM-AH-SO1D","600 Single Oven + 1 Drw Unit","Opaco Mussel","AH-SO1D",896,"600 Single Oven + 1 Drw Unit Opaco Mussel"]
["@LK-OPM-AH-SO2D","600 Single Oven + 2 Drws Unit","Opaco Mussel","AH-SO2D",1112,"600 Single Oven + 2 Drws Unit Opaco Mussel"]
["@LK-OPM-AH-SO3D","600 Single Oven + 3 Drws Unit","Opaco Mussel","AH-SO3D",1261,"600 Single Oven + 3 Drws Unit Opaco Mussel"]
["@LK-OPM-AH-SOT","600 Twin Single Oven Housing","Opaco Mussel","AH-SOT",876,"600 Twin Single Oven Housing Opaco Mussel"]
["@LK-OPM-BC145","1000 HL Cnr Base (450 Door)","Opaco Mussel","BC145",397,"1000 HL Cnr Base (450 Door) Opaco Mussel"]
["@LK-OPM-BC15","1000 HL Cnr Base (500 Door)","Opaco Mussel","BC15",405,"1000 HL Cnr Base (500 Door) Opaco Mussel"]
["@LK-OPM-BC16","1000 HL Cnr Base (600 Door)","Opaco Mussel","BC16",421,"1000 HL Cnr Base (600 Door) Opaco Mussel"]
["@LK-OPM-BC83","800 HL Cnr Base (300 Door)","Opaco Mussel","BC83",374,"800 HL Cnr Base (300 Door) Opaco Mussel"]
["@LK-OPM-BC84","800 HL Cnr Base Unit (400 Door)","Opaco Mussel","BC84",380,"800 HL Cnr Base Unit (400 Door) Opaco Mussel"]
["@LK-OPM-BC845","800 HL Cnr Base (450 Door)","Opaco Mussel","BC845",392,"800 HL Cnr Base (450 Door) Opaco Mussel"]
["@LK-OPM-BC945","900 HL Cnr Base (450 Door)","Opaco Mussel","BC945",392,"900 HL Cnr Base (450 Door) Opaco Mussel"]
["@LK-OPM-BCL15L","1000 Cnr Base CORNERSTONE LH - 500 door","Opaco Mussel","BCL15L",1270,"1000 Cnr Base CORNERSTONE LH - 500 door Opaco Mussel"]
["@LK-OPM-BCL15R","1000 Cnr Base CORNERSTONE RH - 500 door","Opaco Mussel","BCL15R",1270,"1000 Cnr Base CORNERSTONE RH - 500 door Opaco Mussel"]
["@LK-OPM-BCL16L","1000 Cnr Base CORNERSTONE LH - 600 door","Opaco Mussel","BCL16L",1349,"1000 Cnr Base CORNERSTONE LH - 600 door Opaco Mussel"]
["@LK-OPM-BCL16R","1000 Cnr Base CORNERSTONE RH - 600 door","Opaco Mussel","BCL16R",1349,"1000 Cnr Base CORNERSTONE RH - 600 door Opaco Mussel"]
["@LK-OPM-BCL9","950 HL Cnr L Base","Opaco Mussel","BCL9",618,"950 HL Cnr L Base Opaco Mussel"]
["@LK-OPM-BCO145","1000 Corner Base VS COR FLEX - 450 door","Opaco Mussel","BCO145",1407,"1000 Corner Base VS COR FLEX - 450 door Opaco Mussel"]
["@LK-OPM-BCO15","1000 Corner Base VS COR FLEX - 500 door","Opaco Mussel","BCO15",1415,"1000 Corner Base VS COR FLEX - 500 door Opaco Mussel"]
["@LK-OPM-BCO16","1000 Corner Base VS COR FLEX - 600 door","Opaco Mussel","BCO16",1431,"1000 Corner Base VS COR FLEX - 600 door Opaco Mussel"]
["@LK-OPM-BCO945","900 Corner Base VS COR FLEX - 450 door","Opaco Mussel","BCO945",1402,"900 Corner Base VS COR FLEX - 450 door Opaco Mussel"]
["@LK-OPM-BD13","1000 3 Drw Base Unit","Opaco Mussel","BD13",845,"1000 3 Drw Base Unit Opaco Mussel"]
["@LK-OPM-BD53","500 3 Drw Base Unit","Opaco Mussel","BD53",714,"500 3 Drw Base Unit Opaco Mussel"]
["@LK-OPM-BD54","500 4 Drw Base Unit","Opaco Mussel","BD54",846,"500 4 Drw Base Unit Opaco Mussel"]
["@LK-OPM-BD62","600 2 Pan Drw Unit","Opaco Mussel","BD62",683,"600 2 Pan Drw Unit Opaco Mussel"]
["@LK-OPM-BD62I","600 2 Pan Drw Unit + 1 Internal","Opaco Mussel","BD62I",859,"600 2 Pan Drw Unit + 1 Internal Opaco Mussel"]
["@LK-OPM-BD63","600 3 Drw Base Unit","Opaco Mussel","BD63",806,"600 3 Drw Base Unit Opaco Mussel"]
["@LK-OPM-BD635L","600 Low Single Drawer unit 360 high","Opaco Mussel","BD635L",384,"600 Low Single Drawer unit 360 high Opaco Mussel"]
["@LK-OPM-BD83","800 3 Drw Base Unit","Opaco Mussel","BD83",813,"800 3 Drw Base Unit Opaco Mussel"]
["@LK-OPM-BD92","900 2 Pan Drw Unit","Opaco Mussel","BD92",700,"900 2 Pan Drw Unit Opaco Mussel"]
["@LK-OPM-BD92I","900 2 Pan Drw Unit + 1 Internal","Opaco Mussel","BD92I",901,"900 2 Pan Drw Unit + 1 Internal Opaco Mussel"]
["@LK-OPM-BD93","900 3 Drw Base Unit","Opaco Mussel","BD93",828,"900 3 Drw Base Unit Opaco Mussel"]
["@LK-OPM-BH100","1000 HL Base Unit","Opaco Mussel","BH100",439,"1000 HL Base Unit Opaco Mussel"]
["@LK-OPM-BH10S","1000 HL Sink Base Unit (Inc Liner)","Opaco Mussel","BH10S",485,"1000 HL Sink Base Unit (Inc Liner) Opaco Mussel"]
["@LK-OPM-BH15","150 HL Base Unit","Opaco Mussel","BH15",228,"150 HL Base Unit Opaco Mussel"]
["@LK-OPM-BH30","300 HL Base Unit","Opaco Mussel","BH30",239,"300 HL Base Unit Opaco Mussel"]
["@LK-OPM-BH35","350 HL Base Unit","Opaco Mussel","BH35",245,"350 HL Base Unit Opaco Mussel"]
["@LK-OPM-BH3B","300 HL Base Unit & Bin","Opaco Mussel","BH3B",607,"300 HL Base Unit & Bin Opaco Mussel"]
["@LK-OPM-BH40","400 HL Base Unit","Opaco Mussel","BH40",249,"400 HL Base Unit Opaco Mussel"]
["@LK-OPM-BH45","450 HL Base Unit","Opaco Mussel","BH45",272,"450 HL Base Unit Opaco Mussel"]
["@LK-OPM-BH45B","450 HL Base Unit & Bin","Opaco Mussel","BH45B",710,"450 HL Base Unit & Bin Opaco Mussel"]
["@LK-OPM-BH4B","400 HL Base Unit & Bin","Opaco Mussel","BH4B",682,"400 HL Base Unit & Bin Opaco Mussel"]
["@LK-OPM-BH50","500 HL Base Unit","Opaco Mussel","BH50",283,"500 HL Base Unit Opaco Mussel"]
["@LK-OPM-BH50S","500 HL Sink Base Unit (Inc Liner)","Opaco Mussel","BH50S",313,"500 HL Sink Base Unit (Inc Liner) Opaco Mussel"]
["@LK-OPM-BH5B","500 HL Base Unit & Bin","Opaco Mussel","BH5B",727,"500 HL Base Unit & Bin Opaco Mussel"]
["@LK-OPM-BH60","600 HL Base Unit","Opaco Mussel","BH60",319,"600 HL Base Unit Opaco Mussel"]
["@LK-OPM-BH60S","600 HL Sink Base Unit (Inc Liner)","Opaco Mussel","BH60S",365,"600 HL Sink Base Unit (Inc Liner) Opaco Mussel"]
["@LK-OPM-BH6B2","600 HL Base Unit & Bin (2 Bins)","Opaco Mussel","BH6B2",800,"600 HL Base Unit & Bin (2 Bins) Opaco Mussel"]
["@LK-OPM-BH6B4","600 HL Base Unit & Bin (4 Bins)","Opaco Mussel","BH6B4",852,"600 HL Base Unit & Bin (4 Bins) Opaco Mussel"]
["@LK-OPM-BH70","700 HL Base Unit","Opaco Mussel","BH70",388,"700 HL Base Unit Opaco Mussel"]
["@LK-OPM-BH80","800 HL Base Unit","Opaco Mussel","BH80",394,"800 HL Base Unit Opaco Mussel"]
["@LK-OPM-BH80S","800 HL Sink Base Unit (Inc Liner)","Opaco Mussel","BH80S",440,"800 HL Sink Base Unit (Inc Liner) Opaco Mussel"]
["@LK-OPM-BH90","900 HL Base Unit","Opaco Mussel","BH90",418,"900 HL Base Unit Opaco Mussel"]
["@LK-OPM-BH90S","900 HL Sink Base Unit (Inc Liner)","Opaco Mussel","BH90S",464,"900 HL Sink Base Unit (Inc Liner) Opaco Mussel"]
["@LK-OPM-BHD3","300 Highline Drw Unit 1 Pan 2 Internal","Opaco Mussel","BHD3",628,"300 Highline Drw Unit 1 Pan 2 Internal Opaco Mussel"]
["@LK-OPM-BHD4","400 Highline Drw Unit 1 Pan 2 Internal","Opaco Mussel","BHD4",677,"400 Highline Drw Unit 1 Pan 2 Internal Opaco Mussel"]
["@LK-OPM-BHD5","500 Highline Drw Unit 1 Pan 2 Internal","Opaco Mussel","BHD5",740,"500 Highline Drw Unit 1 Pan 2 Internal Opaco Mussel"]
["@LK-OPM-BHD6","600 Highline Drw Unit 1 Pan 2 Internal","Opaco Mussel","BHD6",796,"600 Highline Drw Unit 1 Pan 2 Internal Opaco Mussel"]
["@LK-OPM-BLD9","900 Boiler Door","Opaco Mussel","BLD9",133,"900 Boiler Door Opaco Mussel"]
["@LK-OPM-BOH6","600 BU Oven Housing","Opaco Mussel","BOH6",199,"600 BU Oven Housing Opaco Mussel"]
["@LK-OPM-BOHD6","600 BU Oven Housing with drawer -18mm","Opaco Mussel","BOHD6",312,"600 BU Oven Housing with drawer -18mm Opaco Mussel"]
["@LK-OPM-BP15TY","150 HL Pull Out Base VS SUB","Opaco Mussel","BP15TY",408,"150 HL Pull Out Base VS SUB Opaco Mussel"]
["@LK-OPM-BP3TY","300 HL Pull Out Base VS SUB","Opaco Mussel","BP3TY",634,"300 HL Pull Out Base VS SUB Opaco Mussel"]
["@LK-OPM-BSU6450","600 Belfast Sink Unit (450mm High)","Opaco Mussel","BSU6450",283,"600 Belfast Sink Unit (450mm High) Opaco Mussel"]
["@LK-OPM-BSU6495","600 Belfast Sink Unit (495mm High)","Opaco Mussel","BSU6495",285,"600 Belfast Sink Unit (495mm High) Opaco Mussel"]
["@LK-OPM-CH-MW","Corner Compact Appliance Unit","Opaco Mussel","CH-MW",700,"Corner Compact Appliance Unit Opaco Mussel"]
["@LK-OPM-CH-SO","Corner Single Oven Housing Unit","Opaco Mussel","CH-SO",654,"Corner Single Oven Housing Unit Opaco Mussel"]
["@LK-OPM-CH-ST","Corner Storage Unit","Opaco Mussel","CH-ST",880,"Corner Storage Unit Opaco Mussel"]
["@LK-OPM-L3","300 Larder Unit","Opaco Mussel","L3",663,"300 Larder Unit Opaco Mussel"]
["@LK-OPM-L5","500 Larder Unit","Opaco Mussel","L5",723,"500 Larder Unit Opaco Mussel"]
["@LK-OPM-L6","600 Larder Unit","Opaco Mussel","L6",794,"600 Larder Unit Opaco Mussel"]
["@LK-OPM-LAC","Angled Corner Larder","Opaco Mussel","LAC",2084,"Angled Corner Larder Opaco Mussel"]
["@LK-OPM-LBC15","1000mm Blind Corner larder 500 door","Opaco Mussel","LBC15",944,"1000mm Blind Corner larder 500 door Opaco Mussel"]
["@LK-OPM-LBC16","1000mm Blind Corner larder 600 door","Opaco Mussel","LBC16",970,"1000mm Blind Corner larder 600 door Opaco Mussel"]
["@LK-OPM-LBCLM15L","1000 Cnr Larder CORNERSTONE LH 500 Dr","Opaco Mussel","LBCLM15L",2782,"1000 Cnr Larder CORNERSTONE LH 500 Dr Opaco Mussel"]
["@LK-OPM-LBCLM15R","1000 Cnr Larder CORNERSTONE RH 500 Dr","Opaco Mussel","LBCLM15R",2782,"1000 Cnr Larder CORNERSTONE RH 500 Dr Opaco Mussel"]
["@LK-OPM-LBCLM16L","1000 Cnr Larder CORNERSTONE LH 600 Dr","Opaco Mussel","LBCLM16L",2934,"1000 Cnr Larder CORNERSTONE LH 600 Dr Opaco Mussel"]
["@LK-OPM-LBCLM16R","1000 Cnr Larder CORNERSTONE RH 600 Dr","Opaco Mussel","LBCLM16R",2934,"1000 Cnr Larder CORNERSTONE RH 600 Dr Opaco Mussel"]
["@LK-OPM-LL10CB","1000 Combi","Opaco Mussel","LL10CB",1245,"1000 Combi Opaco Mussel"]
["@LK-OPM-LL10CU","1000 Cleaning & Utility","Opaco Mussel","LL10CU",1235,"1000 Cleaning & Utility Opaco Mussel"]
["@LK-OPM-LL10CUS","1000 Cleaning & Utility Ex Shelves","Opaco Mussel","LL10CUS",1334,"1000 Cleaning & Utility Ex Shelves Opaco Mussel"]
["@LK-OPM-LL6CU","600 Cleaning & Utility","Opaco Mussel","LL6CU",786,"600 Cleaning & Utility Opaco Mussel"]
["@LK-OPM-LL6EA","600 Easy Access Larder","Opaco Mussel","LL6EA",836,"600 Easy Access Larder Opaco Mussel"]
["@LK-OPM-LL8LS","800 Laundry Stacker Larder","Opaco Mussel","LL8LS",1364,"800 Laundry Stacker Larder Opaco Mussel"]
["@LK-OPM-LP3","300 Larder & TAL LARDER Pull Out","Opaco Mussel","LP3",1445,"300 Larder & TAL LARDER Pull Out Opaco Mussel"]
["@LK-OPM-LP5T","500 Larder & TAL GATE PRO Pull Out","Opaco Mussel","LP5T",1915,"500 Larder & TAL GATE PRO Pull Out Opaco Mussel"]
["@LK-OPM-LP5TS","500 Larder & TAL GATE Pull Out","Opaco Mussel","LP5TS",1657,"500 Larder & TAL GATE Pull Out Opaco Mussel"]
["@LK-OPM-LP6T","600 Larder & TAL GATE PRO Pull Out","Opaco Mussel","LP6T",1980,"600 Larder & TAL GATE PRO Pull Out Opaco Mussel"]
["@LK-OPM-LP6TS","600 Larder & TAL GATE Pull Out","Opaco Mussel","LP6TS",1781,"600 Larder & TAL GATE Pull Out Opaco Mussel"]
["@LK-OPM-LPN12D2DW","1000mm Pantry 2 Doors 2 Drawers","Opaco Mussel","LPN12D2DW",1392,"1000mm Pantry 2 Doors 2 Drawers Opaco Mussel"]
["@LK-OPM-LPN12D3DW","1000mm Pantry 2 Doors 3 Drawers","Opaco Mussel","LPN12D3DW",1523,"1000mm Pantry 2 Doors 3 Drawers Opaco Mussel"]
["@LK-OPM-LPN14D","1000mm Pantry 4 Doors","Opaco Mussel","LPN14D",1124,"1000mm Pantry 4 Doors Opaco Mussel"]
["@LK-OPM-LT3","300 Larder Tower","Opaco Mussel","LT3",1764,"300 Larder Tower Opaco Mussel"]
["@LK-OPM-LT5","500 Larder Tower","Opaco Mussel","LT5",1892,"500 Larder Tower Opaco Mussel"]
["@LK-OPM-LT6","600 Larder Tower","Opaco Mussel","LT6",2029,"600 Larder Tower Opaco Mussel"]
["@LK-OPM-TCH-MW","Tall Corner Compact Appliance Unit","Opaco Mussel","TCH-MW",759,"Tall Corner Compact Appliance Unit Opaco Mussel"]
["@LK-OPM-TCH-SO","Tall Corner Single Oven Housing Unit","Opaco Mussel","TCH-SO",846,"Tall Corner Single Oven Housing Unit Opaco Mussel"]
["@LK-OPM-TCH-ST","Tall Corner Storage Unit","Opaco Mussel","TCH-ST",918,"Tall Corner Storage Unit Opaco Mussel"]
["@LK-OPM-W100","1000 Wall Unit","Opaco Mussel","W100",434,"1000 Wall Unit Opaco Mussel"]
["@LK-OPM-W30","300 Wall Unit","Opaco Mussel","W30",221,"300 Wall Unit Opaco Mussel"]
["@LK-OPM-W35","350 Wall Cabinet","Opaco Mussel","W35",227,"350 Wall Cabinet Opaco Mussel"]
["@LK-OPM-W40","400 Wall Unit","Opaco Mussel","W40",235,"400 Wall Unit Opaco Mussel"]
["@LK-OPM-W45","450 Wall Unit","Opaco Mussel","W45",252,"450 Wall Unit Opaco Mussel"]
["@LK-OPM-W50","500 Wall Unit","Opaco Mussel","W50",266,"500 Wall Unit Opaco Mussel"]
["@LK-OPM-W60","600 Wall Unit","Opaco Mussel","W60",290,"600 Wall Unit Opaco Mussel"]
["@LK-OPM-W70","700 Wall Cabinet","Opaco Mussel","W70",383,"700 Wall Cabinet Opaco Mussel"]
["@LK-OPM-W80","800 Wall Unit","Opaco Mussel","W80",389,"800 Wall Unit Opaco Mussel"]
["@LK-OPM-W90","900 Wall Unit","Opaco Mussel","W90",409,"900 Wall Unit Opaco Mussel"]
["@LK-OPM-WB12","1000 Bridging Unit","Opaco Mussel","WB12",338,"1000 Bridging Unit Opaco Mussel"]
["@LK-OPM-WB62","600 Bridging Unit","Opaco Mussel","WB62",237,"600 Bridging Unit Opaco Mussel"]
["@LK-OPM-WB63","600 355mm Bridging Unit","Opaco Mussel","WB63",295,"600 355mm Bridging Unit Opaco Mussel"]
["@LK-OPM-WB82","800 Bridging Unit","Opaco Mussel","WB82",295,"800 Bridging Unit Opaco Mussel"]
["@LK-OPM-WB92","900 Bridging Unit","Opaco Mussel","WB92",312,"900 Bridging Unit Opaco Mussel"]
["@LK-OPM-WB93","900 355mm Bridging Unit","Opaco Mussel","WB93",344,"900 355mm Bridging Unit Opaco Mussel"]
["@LK-OPM-WBHU","600 Boiler Housing","Opaco Mussel","WBHU",282,"600 Boiler Housing Opaco Mussel"]
["@LK-OPM-WBI60","600 Bifold Unit","Opaco Mussel","WBI60",663,"600 Bifold Unit Opaco Mussel"]
["@LK-OPM-WBI90","900 Bifold Unit","Opaco Mussel","WBI90",695,"900 Bifold Unit Opaco Mussel"]
["@LK-OPM-WC6","600 Cnr Wall Unit","Opaco Mussel","WC6",309,"600 Cnr Wall Unit Opaco Mussel"]
["@LK-OPM-WC9","900 Cnr Wall Unit","Opaco Mussel","WC9",371,"900 Cnr Wall Unit Opaco Mussel"]
["@LK-OPM-WCL65","650 L Cnr Wall Unit","Opaco Mussel","WCL65",553,"650 L Cnr Wall Unit Opaco Mussel"]
["@LK-OPM-WGR5","Reeded Glass Wall Unit - 500mm","Opaco Mussel","WGR5",434,"Reeded Glass Wall Unit - 500mm Opaco Mussel"]
["@LK-OPM-WGR6","Reeded Glass Wall Unit - 600mm","Opaco Mussel","WGR6",476,"Reeded Glass Wall Unit - 600mm Opaco Mussel"]
["@LK-OPM-WGS5","Smoked Glass Wall Unit - 500mm","Opaco Mussel","WGS5",434,"Smoked Glass Wall Unit - 500mm Opaco Mussel"]
["@LK-OPM-WGS6","Smoked Glass Wall Unit - 600mm","Opaco Mussel","WGS6",476,"Smoked Glass Wall Unit - 600mm Opaco Mussel"]
["@LK-OPM-WM60","600 Wall Microwave Unit","Opaco Mussel","WM60",361,"600 Wall Microwave Unit Opaco Mussel"]
["LK-A-OPM-BLPEL","Modern Sq Bul Pelmet / Cornice","Opaco Mussel","BLPEL",86,"Modern Sq Bul Pelmet / Cornice Opaco Mussel"]
["LK-A-OPM-CPBC","Curved End post Cap Classic","Opaco Mussel","CPBC",116,"Curved End post Cap Classic Opaco Mussel"]
["LK-A-OPM-CPBM","Curved End post Cap Modern","Opaco Mussel","CPBM",109,"Curved End post Cap Modern Opaco Mussel"]
["LK-A-OPM-CVP","Curved End Post","Opaco Mussel","CVP",123,"Curved End Post Opaco Mussel"]
["LK-A-OPM-ESP","End Support / Plant on Base Panel","Opaco Mussel","ESP",135,"End Support / Plant on Base Panel Opaco Mussel"]
["LK-A-OPM-ET","22mm Edging - 10m","Opaco Mussel","ET",37,"22mm Edging - 10m Opaco Mussel"]
["LK-A-OPM-LUP","Large Universal Panel 2.4 x 900mm","Opaco Mussel","LUP",391,"Large Universal Panel 2.4 x 900mm Opaco Mussel"]
["LK-A-OPM-PL","Plinth","Opaco Mussel","PL",90,"Plinth Opaco Mussel"]
["LK-A-OPM-PTEP","Plant on Tall End Panel 2400x630","Opaco Mussel","PTEP",305,"Plant on Tall End Panel 2400x630 Opaco Mussel"]
["LK-A-OPM-PWEP20","2000 x 360 Plant on Wall End Panel","Opaco Mussel","PWEP20",200,"2000 x 360 Plant on Wall End Panel Opaco Mussel"]
["LK-A-OPM-PWEP72","720 x 360 Plant on Wall End Panel","Opaco Mussel","PWEP72",92,"720 x 360 Plant on Wall End Panel Opaco Mussel"]
["LK-A-OPM-SCCRN","Sculptured Cornice","Opaco Mussel","SCCRN",113,"Sculptured Cornice Opaco Mussel"]
["LK-A-OPM-WREP72","720 Wall Rep end Panel","Opaco Mussel","WREP72",77,"720 Wall Rep end Panel Opaco Mussel"]
["@LK-OPR-AD45I","450 Integrated Dishwasher Fascia","Opaco Reed Green","AD45I",107,"450 Integrated Dishwasher Fascia Opaco Reed Green"]
["@LK-OPR-AD60FD","600 Fridge/Dishwasher Fascia","Opaco Reed Green","AD60FD",131,"600 Fridge/Dishwasher Fascia Opaco Reed Green"]
["@LK-OPR-AD60ICH","600 Integrated Extractor Door","Opaco Reed Green","AD60ICH",95,"600 Integrated Extractor Door Opaco Reed Green"]
["@LK-OPR-AD60S","600 Semi Int Dishwasher Fascia","Opaco Reed Green","AD60S",129,"600 Semi Int Dishwasher Fascia Opaco Reed Green"]
["@LK-OPR-AH-CO","600 Compact / Microwave Housing","Opaco Reed Green","AH-CO",823,"600 Compact / Microwave Housing Opaco Reed Green"]
["@LK-OPR-AH-DMW","600 Double Oven & MW unit","Opaco Reed Green","AH-DMW",927,"600 Double Oven & MW unit Opaco Reed Green"]
["@LK-OPR-AH-DO","600 Dble Oven Housing","Opaco Reed Green","AH-DO",731,"600 Dble Oven Housing Opaco Reed Green"]
["@LK-OPR-AH-DO2D","600 Dble Oven & 2 Drws","Opaco Reed Green","AH-DO2D",1058,"600 Dble Oven & 2 Drws Opaco Reed Green"]
["@LK-OPR-AH-F55","600 50/50 FF Housing Unit","Opaco Reed Green","AH-F55",735,"600 50/50 FF Housing Unit Opaco Reed Green"]
["@LK-OPR-AH-F73","600 70/30 FF Housing Unit","Opaco Reed Green","AH-F73",711,"600 70/30 FF Housing Unit Opaco Reed Green"]
["@LK-OPR-AH-SM2D","600 Single Oven & MW 2 Drw unit","Opaco Reed Green","AH-SM2D",1074,"600 Single Oven & MW 2 Drw unit Opaco Reed Green"]
["@LK-OPR-AH-SMW","600 Sgle Oven & MW 2 Door unit","Opaco Reed Green","AH-SMW",786,"600 Sgle Oven & MW 2 Door unit Opaco Reed Green"]
["@LK-OPR-AH-SO","600 Single Oven Housing","Opaco Reed Green","AH-SO",750,"600 Single Oven Housing Opaco Reed Green"]
["@LK-OPR-AH-SO1D","600 Single Oven + 1 Drw Unit","Opaco Reed Green","AH-SO1D",896,"600 Single Oven + 1 Drw Unit Opaco Reed Green"]
["@LK-OPR-AH-SO2D","600 Single Oven + 2 Drws Unit","Opaco Reed Green","AH-SO2D",1112,"600 Single Oven + 2 Drws Unit Opaco Reed Green"]
["@LK-OPR-AH-SO3D","600 Single Oven + 3 Drws Unit","Opaco Reed Green","AH-SO3D",1261,"600 Single Oven + 3 Drws Unit Opaco Reed Green"]
["@LK-OPR-AH-SOT","600 Twin Single Oven Housing","Opaco Reed Green","AH-SOT",876,"600 Twin Single Oven Housing Opaco Reed Green"]
["@LK-OPR-BC145","1000 HL Cnr Base (450 Door)","Opaco Reed Green","BC145",397,"1000 HL Cnr Base (450 Door) Opaco Reed Green"]
["@LK-OPR-BC15","1000 HL Cnr Base (500 Door)","Opaco Reed Green","BC15",405,"1000 HL Cnr Base (500 Door) Opaco Reed Green"]
["@LK-OPR-BC16","1000 HL Cnr Base (600 Door)","Opaco Reed Green","BC16",421,"1000 HL Cnr Base (600 Door) Opaco Reed Green"]
["@LK-OPR-BC83","800 HL Cnr Base (300 Door)","Opaco Reed Green","BC83",374,"800 HL Cnr Base (300 Door) Opaco Reed Green"]
["@LK-OPR-BC84","800 HL Cnr Base Unit (400 Door)","Opaco Reed Green","BC84",380,"800 HL Cnr Base Unit (400 Door) Opaco Reed Green"]
["@LK-OPR-BC845","800 HL Cnr Base (450 Door)","Opaco Reed Green","BC845",392,"800 HL Cnr Base (450 Door) Opaco Reed Green"]
["@LK-OPR-BC945","900 HL Cnr Base (450 Door)","Opaco Reed Green","BC945",392,"900 HL Cnr Base (450 Door) Opaco Reed Green"]
["@LK-OPR-BCL15L","1000 Cnr Base CORNERSTONE LH - 500 door","Opaco Reed Green","BCL15L",1270,"1000 Cnr Base CORNERSTONE LH - 500 door Opaco Reed Green"]
["@LK-OPR-BCL15R","1000 Cnr Base CORNERSTONE RH - 500 door","Opaco Reed Green","BCL15R",1270,"1000 Cnr Base CORNERSTONE RH - 500 door Opaco Reed Green"]
["@LK-OPR-BCL16L","1000 Cnr Base CORNERSTONE LH - 600 door","Opaco Reed Green","BCL16L",1349,"1000 Cnr Base CORNERSTONE LH - 600 door Opaco Reed Green"]
["@LK-OPR-BCL16R","1000 Cnr Base CORNERSTONE RH - 600 door","Opaco Reed Green","BCL16R",1349,"1000 Cnr Base CORNERSTONE RH - 600 door Opaco Reed Green"]
["@LK-OPR-BCL9","950 HL Cnr L Base","Opaco Reed Green","BCL9",618,"950 HL Cnr L Base Opaco Reed Green"]
["@LK-OPR-BCO145","1000 Corner Base VS COR FLEX - 450 door","Opaco Reed Green","BCO145",1407,"1000 Corner Base VS COR FLEX - 450 door Opaco Reed Green"]
["@LK-OPR-BCO15","1000 Corner Base VS COR FLEX - 500 door","Opaco Reed Green","BCO15",1415,"1000 Corner Base VS COR FLEX - 500 door Opaco Reed Green"]
["@LK-OPR-BCO16","1000 Corner Base VS COR FLEX - 600 door","Opaco Reed Green","BCO16",1431,"1000 Corner Base VS COR FLEX - 600 door Opaco Reed Green"]
["@LK-OPR-BCO945","900 Corner Base VS COR FLEX - 450 door","Opaco Reed Green","BCO945",1402,"900 Corner Base VS COR FLEX - 450 door Opaco Reed Green"]
["@LK-OPR-BD13","1000 3 Drw Base Unit","Opaco Reed Green","BD13",845,"1000 3 Drw Base Unit Opaco Reed Green"]
["@LK-OPR-BD53","500 3 Drw Base Unit","Opaco Reed Green","BD53",714,"500 3 Drw Base Unit Opaco Reed Green"]
["@LK-OPR-BD54","500 4 Drw Base Unit","Opaco Reed Green","BD54",846,"500 4 Drw Base Unit Opaco Reed Green"]
["@LK-OPR-BD62","600 2 Pan Drw Unit","Opaco Reed Green","BD62",683,"600 2 Pan Drw Unit Opaco Reed Green"]
["@LK-OPR-BD62I","600 2 Pan Drw Unit + 1 Internal","Opaco Reed Green","BD62I",859,"600 2 Pan Drw Unit + 1 Internal Opaco Reed Green"]
["@LK-OPR-BD63","600 3 Drw Base Unit","Opaco Reed Green","BD63",806,"600 3 Drw Base Unit Opaco Reed Green"]
["@LK-OPR-BD635L","600 Low Single Drawer unit 360 high","Opaco Reed Green","BD635L",384,"600 Low Single Drawer unit 360 high Opaco Reed Green"]
["@LK-OPR-BD83","800 3 Drw Base Unit","Opaco Reed Green","BD83",813,"800 3 Drw Base Unit Opaco Reed Green"]
["@LK-OPR-BD92","900 2 Pan Drw Unit","Opaco Reed Green","BD92",700,"900 2 Pan Drw Unit Opaco Reed Green"]
["@LK-OPR-BD92I","900 2 Pan Drw Unit + 1 Internal","Opaco Reed Green","BD92I",901,"900 2 Pan Drw Unit + 1 Internal Opaco Reed Green"]
["@LK-OPR-BD93","900 3 Drw Base Unit","Opaco Reed Green","BD93",828,"900 3 Drw Base Unit Opaco Reed Green"]
["@LK-OPR-BH100","1000 HL Base Unit","Opaco Reed Green","BH100",439,"1000 HL Base Unit Opaco Reed Green"]
["@LK-OPR-BH10S","1000 HL Sink Base Unit (Inc Liner)","Opaco Reed Green","BH10S",485,"1000 HL Sink Base Unit (Inc Liner) Opaco Reed Green"]
["@LK-OPR-BH15","150 HL Base Unit","Opaco Reed Green","BH15",228,"150 HL Base Unit Opaco Reed Green"]
["@LK-OPR-BH30","300 HL Base Unit","Opaco Reed Green","BH30",239,"300 HL Base Unit Opaco Reed Green"]
["@LK-OPR-BH35","350 HL Base Unit","Opaco Reed Green","BH35",245,"350 HL Base Unit Opaco Reed Green"]
["@LK-OPR-BH3B","300 HL Base Unit & Bin","Opaco Reed Green","BH3B",607,"300 HL Base Unit & Bin Opaco Reed Green"]
["@LK-OPR-BH40","400 HL Base Unit","Opaco Reed Green","BH40",249,"400 HL Base Unit Opaco Reed Green"]
["@LK-OPR-BH45","450 HL Base Unit","Opaco Reed Green","BH45",272,"450 HL Base Unit Opaco Reed Green"]
["@LK-OPR-BH45B","450 HL Base Unit & Bin","Opaco Reed Green","BH45B",710,"450 HL Base Unit & Bin Opaco Reed Green"]
["@LK-OPR-BH4B","400 HL Base Unit & Bin","Opaco Reed Green","BH4B",682,"400 HL Base Unit & Bin Opaco Reed Green"]
["@LK-OPR-BH50","500 HL Base Unit","Opaco Reed Green","BH50",283,"500 HL Base Unit Opaco Reed Green"]
["@LK-OPR-BH50S","500 HL Sink Base Unit (Inc Liner)","Opaco Reed Green","BH50S",313,"500 HL Sink Base Unit (Inc Liner) Opaco Reed Green"]
["@LK-OPR-BH5B","500 HL Base Unit & Bin","Opaco Reed Green","BH5B",727,"500 HL Base Unit & Bin Opaco Reed Green"]
["@LK-OPR-BH60","600 HL Base Unit","Opaco Reed Green","BH60",319,"600 HL Base Unit Opaco Reed Green"]
["@LK-OPR-BH60S","600 HL Sink Base Unit (Inc Liner)","Opaco Reed Green","BH60S",365,"600 HL Sink Base Unit (Inc Liner) Opaco Reed Green"]
["@LK-OPR-BH6B2","600 HL Base Unit & Bin (2 Bins)","Opaco Reed Green","BH6B2",800,"600 HL Base Unit & Bin (2 Bins) Opaco Reed Green"]
["@LK-OPR-BH6B4","600 HL Base Unit & Bin (4 Bins)","Opaco Reed Green","BH6B4",852,"600 HL Base Unit & Bin (4 Bins) Opaco Reed Green"]
["@LK-OPR-BH70","700 HL Base Unit","Opaco Reed Green","BH70",388,"700 HL Base Unit Opaco Reed Green"]
["@LK-OPR-BH80","800 HL Base Unit","Opaco Reed Green","BH80",394,"800 HL Base Unit Opaco Reed Green"]
["@LK-OPR-BH80S","800 HL Sink Base Unit (Inc Liner)","Opaco Reed Green","BH80S",440,"800 HL Sink Base Unit (Inc Liner) Opaco Reed Green"]
["@LK-OPR-BH90","900 HL Base Unit","Opaco Reed Green","BH90",418,"900 HL Base Unit Opaco Reed Green"]
["@LK-OPR-BH90S","900 HL Sink Base Unit (Inc Liner)","Opaco Reed Green","BH90S",464,"900 HL Sink Base Unit (Inc Liner) Opaco Reed Green"]
["@LK-OPR-BHD3","300 Highline Drw Unit 1 Pan 2 Internal","Opaco Reed Green","BHD3",1256,"300 Highline Drw Unit 1 Pan 2 Internal Opaco Reed Green"]
["@LK-OPR-BHD4","400 Highline Drw Unit 1 Pan 2 Internal","Opaco Reed Green","BHD4",1354,"400 Highline Drw Unit 1 Pan 2 Internal Opaco Reed Green"]
["@LK-OPR-BHD5","500 Highline Drw Unit 1 Pan 2 Internal","Opaco Reed Green","BHD5",1480,"500 Highline Drw Unit 1 Pan 2 Internal Opaco Reed Green"]
["@LK-OPR-BHD6","600 Highline Drw Unit 1 Pan 2 Internal","Opaco Reed Green","BHD6",1592,"600 Highline Drw Unit 1 Pan 2 Internal Opaco Reed Green"]
["@LK-OPR-BLD9","900 Boiler Door","Opaco Reed Green","BLD9",133,"900 Boiler Door Opaco Reed Green"]
["@LK-OPR-BOH6","600 BU Oven Housing","Opaco Reed Green","BOH6",199,"600 BU Oven Housing Opaco Reed Green"]
["@LK-OPR-BOHD6","600 BU Oven Housing with drawer -18mm","Opaco Reed Green","BOHD6",312,"600 BU Oven Housing with drawer -18mm Opaco Reed Green"]
["@LK-OPR-BP15TY","150 HL Pull Out Base VS SUB","Opaco Reed Green","BP15TY",408,"150 HL Pull Out Base VS SUB Opaco Reed Green"]
["@LK-OPR-BP3TY","300 HL Pull Out Base VS SUB","Opaco Reed Green","BP3TY",634,"300 HL Pull Out Base VS SUB Opaco Reed Green"]
["@LK-OPR-BSU6450","600 Belfast Sink Unit (450mm High)","Opaco Reed Green","BSU6450",283,"600 Belfast Sink Unit (450mm High) Opaco Reed Green"]
["@LK-OPR-BSU6495","600 Belfast Sink Unit (495mm High)","Opaco Reed Green","BSU6495",285,"600 Belfast Sink Unit (495mm High) Opaco Reed Green"]
["@LK-OPR-CH-MW","Corner Compact Appliance Unit","Opaco Reed Green","CH-MW",700,"Corner Compact Appliance Unit Opaco Reed Green"]
["@LK-OPR-CH-SO","Corner Single Oven Housing Unit","Opaco Reed Green","CH-SO",654,"Corner Single Oven Housing Unit Opaco Reed Green"]
["@LK-OPR-CH-ST","Corner Storage Unit","Opaco Reed Green","CH-ST",880,"Corner Storage Unit Opaco Reed Green"]
["@LK-OPR-L3","300 Larder Unit","Opaco Reed Green","L3",663,"300 Larder Unit Opaco Reed Green"]
["@LK-OPR-L5","500 Larder Unit","Opaco Reed Green","L5",723,"500 Larder Unit Opaco Reed Green"]
["@LK-OPR-L6","600 Larder Unit","Opaco Reed Green","L6",794,"600 Larder Unit Opaco Reed Green"]
["@LK-OPR-LAC","Angled Corner Larder","Opaco Reed Green","LAC",2084,"Angled Corner Larder Opaco Reed Green"]
["@LK-OPR-LBC15","1000mm Blind Corner larder 500 door","Opaco Reed Green","LBC15",944,"1000mm Blind Corner larder 500 door Opaco Reed Green"]
["@LK-OPR-LBC16","1000mm Blind Corner larder 600 door","Opaco Reed Green","LBC16",970,"1000mm Blind Corner larder 600 door Opaco Reed Green"]
["@LK-OPR-LBCLM15L","1000 Cnr Larder CORNERSTONE LH 500 Dr","Opaco Reed Green","LBCLM15L",2782,"1000 Cnr Larder CORNERSTONE LH 500 Dr Opaco Reed Green"]
["@LK-OPR-LBCLM15R","1000 Cnr Larder CORNERSTONE RH 500 Dr","Opaco Reed Green","LBCLM15R",2782,"1000 Cnr Larder CORNERSTONE RH 500 Dr Opaco Reed Green"]
["@LK-OPR-LBCLM16L","1000 Cnr Larder CORNERSTONE LH 600 Dr","Opaco Reed Green","LBCLM16L",2934,"1000 Cnr Larder CORNERSTONE LH 600 Dr Opaco Reed Green"]
["@LK-OPR-LBCLM16R","1000 Cnr Larder CORNERSTONE RH 600 Dr","Opaco Reed Green","LBCLM16R",2934,"1000 Cnr Larder CORNERSTONE RH 600 Dr Opaco Reed Green"]
["@LK-OPR-LL10CB","1000 Combi","Opaco Reed Green","LL10CB",1245,"1000 Combi Opaco Reed Green"]
["@LK-OPR-LL10CU","1000 Cleaning & Utility","Opaco Reed Green","LL10CU",1235,"1000 Cleaning & Utility Opaco Reed Green"]
["@LK-OPR-LL10CUS","1000 Cleaning & Utility Ex Shelves","Opaco Reed Green","LL10CUS",1334,"1000 Cleaning & Utility Ex Shelves Opaco Reed Green"]
["@LK-OPR-LL6CU","600 Cleaning & Utility","Opaco Reed Green","LL6CU",786,"600 Cleaning & Utility Opaco Reed Green"]
["@LK-OPR-LL6EA","600 Easy Access Larder","Opaco Reed Green","LL6EA",836,"600 Easy Access Larder Opaco Reed Green"]
["@LK-OPR-LL8LS","800 Laundry Stacker Larder","Opaco Reed Green","LL8LS",1364,"800 Laundry Stacker Larder Opaco Reed Green"]
["@LK-OPR-LP3","300 Larder & TAL LARDER Pull Out","Opaco Reed Green","LP3",1450,"300 Larder & TAL LARDER Pull Out Opaco Reed Green"]
["@LK-OPR-LP5T","500 Larder & TAL GATE PRO Pull Out","Opaco Reed Green","LP5T",1915,"500 Larder & TAL GATE PRO Pull Out Opaco Reed Green"]
["@LK-OPR-LP5TS","500 Larder & TAL GATE Pull Out","Opaco Reed Green","LP5TS",1657,"500 Larder & TAL GATE Pull Out Opaco Reed Green"]
["@LK-OPR-LP6T","600 Larder & TAL GATE PRO Pull Out","Opaco Reed Green","LP6T",1980,"600 Larder & TAL GATE PRO Pull Out Opaco Reed Green"]
["@LK-OPR-LP6TS","600 Larder & TAL GATE Pull Out","Opaco Reed Green","LP6TS",1781,"600 Larder & TAL GATE Pull Out Opaco Reed Green"]
["@LK-OPR-LPN12D2DW","1000mm Pantry 2 Doors 2 Drawers","Opaco Reed Green","LPN12D2DW",1392,"1000mm Pantry 2 Doors 2 Drawers Opaco Reed Green"]
["@LK-OPR-LPN12D3DW","1000mm Pantry 2 Doors 3 Drawers","Opaco Reed Green","LPN12D3DW",1523,"1000mm Pantry 2 Doors 3 Drawers Opaco Reed Green"]
["@LK-OPR-LPN14D","1000mm Pantry 4 Doors","Opaco Reed Green","LPN14D",1124,"1000mm Pantry 4 Doors Opaco Reed Green"]
["@LK-OPR-LT3","300 Larder Tower","Opaco Reed Green","LT3",1764,"300 Larder Tower Opaco Reed Green"]
["@LK-OPR-LT5","500 Larder Tower","Opaco Reed Green","LT5",1892,"500 Larder Tower Opaco Reed Green"]
["@LK-OPR-LT6","600 Larder Tower","Opaco Reed Green","LT6",2029,"600 Larder Tower Opaco Reed Green"]
["@LK-OPR-TCH-MW","Tall Corner Compact Appliance Unit","Opaco Reed Green","TCH-MW",759,"Tall Corner Compact Appliance Unit Opaco Reed Green"]
["@LK-OPR-TCH-SO","Tall Corner Single Oven Housing Unit","Opaco Reed Green","TCH-SO",846,"Tall Corner Single Oven Housing Unit Opaco Reed Green"]
["@LK-OPR-TCH-ST","Tall Corner Storage Unit","Opaco Reed Green","TCH-ST",918,"Tall Corner Storage Unit Opaco Reed Green"]
["@LK-OPR-W100","1000 Wall Unit","Opaco Reed Green","W100",434,"1000 Wall Unit Opaco Reed Green"]
["@LK-OPR-W30","300 Wall Unit","Opaco Reed Green","W30",221,"300 Wall Unit Opaco Reed Green"]
["@LK-OPR-W35","350 Wall Cabinet","Opaco Reed Green","W35",227,"350 Wall Cabinet Opaco Reed Green"]
["@LK-OPR-W40","400 Wall Unit","Opaco Reed Green","W40",235,"400 Wall Unit Opaco Reed Green"]
["@LK-OPR-W45","450 Wall Unit","Opaco Reed Green","W45",252,"450 Wall Unit Opaco Reed Green"]
["@LK-OPR-W50","500 Wall Unit","Opaco Reed Green","W50",266,"500 Wall Unit Opaco Reed Green"]
["@LK-OPR-W60","600 Wall Unit","Opaco Reed Green","W60",290,"600 Wall Unit Opaco Reed Green"]
["@LK-OPR-W70","700 Wall Cabinet","Opaco Reed Green","W70",383,"700 Wall Cabinet Opaco Reed Green"]
["@LK-OPR-W80","800 Wall Unit","Opaco Reed Green","W80",389,"800 Wall Unit Opaco Reed Green"]
["@LK-OPR-W90","900 Wall Unit","Opaco Reed Green","W90",409,"900 Wall Unit Opaco Reed Green"]
["@LK-OPR-WB12","1000 Bridging Unit","Opaco Reed Green","WB12",338,"1000 Bridging Unit Opaco Reed Green"]
["@LK-OPR-WB62","600 Bridging Unit","Opaco Reed Green","WB62",237,"600 Bridging Unit Opaco Reed Green"]
["@LK-OPR-WB63","600 355mm Bridging Unit","Opaco Reed Green","WB63",295,"600 355mm Bridging Unit Opaco Reed Green"]
["@LK-OPR-WB82","800 Bridging Unit","Opaco Reed Green","WB82",295,"800 Bridging Unit Opaco Reed Green"]
["@LK-OPR-WB92","900 Bridging Unit","Opaco Reed Green","WB92",312,"900 Bridging Unit Opaco Reed Green"]
["@LK-OPR-WB93","900 355mm Bridging Unit","Opaco Reed Green","WB93",344,"900 355mm Bridging Unit Opaco Reed Green"]
["@LK-OPR-WBHU","600 Boiler Housing","Opaco Reed Green","WBHU",282,"600 Boiler Housing Opaco Reed Green"]
["@LK-OPR-WBI60","600 Bifold Unit","Opaco Reed Green","WBI60",663,"600 Bifold Unit Opaco Reed Green"]
["@LK-OPR-WBI90","900 Bifold Unit","Opaco Reed Green","WBI90",695,"900 Bifold Unit Opaco Reed Green"]
["@LK-OPR-WC6","600 Cnr Wall Unit","Opaco Reed Green","WC6",309,"600 Cnr Wall Unit Opaco Reed Green"]
["@LK-OPR-WC9","900 Cnr Wall Unit","Opaco Reed Green","WC9",371,"900 Cnr Wall Unit Opaco Reed Green"]
["@LK-OPR-WCL65","650 L Cnr Wall Unit","Opaco Reed Green","WCL65",553,"650 L Cnr Wall Unit Opaco Reed Green"]
["@LK-OPR-WGR5","Reeded Glass Wall Unit - 500mm","Opaco Reed Green","WGR5",434,"Reeded Glass Wall Unit - 500mm Opaco Reed Green"]
["@LK-OPR-WGR6","Reeded Glass Wall Unit - 600mm","Opaco Reed Green","WGR6",476,"Reeded Glass Wall Unit - 600mm Opaco Reed Green"]
["@LK-OPR-WGS5","Smoked Glass Wall Unit - 500mm","Opaco Reed Green","WGS5",434,"Smoked Glass Wall Unit - 500mm Opaco Reed Green"]
["@LK-OPR-WGS6","Smoked Glass Wall Unit - 600mm","Opaco Reed Green","WGS6",476,"Smoked Glass Wall Unit - 600mm Opaco Reed Green"]
["@LK-OPR-WM60","600 Wall Microwave Unit","Opaco Reed Green","WM60",361,"600 Wall Microwave Unit Opaco Reed Green"]
["LK-A-OPR-BLPEL","Modern Sq Bul Pelmet / Cornice","Opaco Reed Green","BLPEL",86,"Modern Sq Bul Pelmet / Cornice Opaco Reed Green"]
["LK-A-OPR-CPBC","Curved End post Cap Classic","Opaco Reed Green","CPBC",116,"Curved End post Cap Classic Opaco Reed Green"]
["LK-A-OPR-CPBM","Curved End post Cap Modern","Opaco Reed Green","CPBM",109,"Curved End post Cap Modern Opaco Reed Green"]
["LK-A-OPR-CVP","Curved End Post","Opaco Reed Green","CVP",123,"Curved End Post Opaco Reed Green"]
["LK-A-OPR-ESP","End Support / Plant on Base Panel","Opaco Reed Green","ESP",135,"End Support / Plant on Base Panel Opaco Reed Green"]
["LK-A-OPR-ET","22mm Edging - 10m","Opaco Reed Green","ET",37,"22mm Edging - 10m Opaco Reed Green"]
["LK-A-OPR-LUP","Large Universal Panel 2.4 x 900mm","Opaco Reed Green","LUP",391,"Large Universal Panel 2.4 x 900mm Opaco Reed Green"]
["LK-A-OPR-PL","Plinth","Opaco Reed Green","PL",90,"Plinth Opaco Reed Green"]
["LK-A-OPR-PTEP","Plant on Tall End Panel 2400x630","Opaco Reed Green","PTEP",305,"Plant on Tall End Panel 2400x630 Opaco Reed Green"]
["LK-A-OPR-PWEP20","2000 x 360 Plant on Wall End Panel","Opaco Reed Green","PWEP20",200,"2000 x 360 Plant on Wall End Panel Opaco Reed Green"]
["LK-A-OPR-PWEP72","720 x 360 Plant on Wall End Panel","Opaco Reed Green","PWEP72",92,"720 x 360 Plant on Wall End Panel Opaco Reed Green"]
["LK-A-OPR-SCCRN","Sculptured Cornice","Opaco Reed Green","SCCRN",113,"Sculptured Cornice Opaco Reed Green"]
["LK-A-OPR-WREP72","720 Wall Rep end Panel","Opaco Reed Green","WREP72",77,"720 Wall Rep end Panel Opaco Reed Green"]
["@LK-OPS-AD45I","450 Integrated Dishwasher Fascia","Opaco Sea Blue","AD45I",107,"450 Integrated Dishwasher Fascia Opaco Sea Blue"]
["@LK-OPS-AD60FD","600 Fridge/Dishwasher Fascia","Opaco Sea Blue","AD60FD",131,"600 Fridge/Dishwasher Fascia Opaco Sea Blue"]
["@LK-OPS-AD60ICH","600 Integrated Extractor Door","Opaco Sea Blue","AD60ICH",95,"600 Integrated Extractor Door Opaco Sea Blue"]
["@LK-OPS-AD60S","600 Semi Int Dishwasher Fascia","Opaco Sea Blue","AD60S",129,"600 Semi Int Dishwasher Fascia Opaco Sea Blue"]
["@LK-OPS-AH-CO","600 Compact / Microwave Housing","Opaco Sea Blue","AH-CO",823,"600 Compact / Microwave Housing Opaco Sea Blue"]
["@LK-OPS-AH-DMW","600 Double Oven & MW unit","Opaco Sea Blue","AH-DMW",927,"600 Double Oven & MW unit Opaco Sea Blue"]
["@LK-OPS-AH-DO","600 Dble Oven Housing","Opaco Sea Blue","AH-DO",731,"600 Dble Oven Housing Opaco Sea Blue"]
["@LK-OPS-AH-DO2D","600 Dble Oven & 2 Drws","Opaco Sea Blue","AH-DO2D",1058,"600 Dble Oven & 2 Drws Opaco Sea Blue"]
["@LK-OPS-AH-F55","600 50/50 FF Housing Unit","Opaco Sea Blue","AH-F55",735,"600 50/50 FF Housing Unit Opaco Sea Blue"]
["@LK-OPS-AH-F73","600 70/30 FF Housing Unit","Opaco Sea Blue","AH-F73",711,"600 70/30 FF Housing Unit Opaco Sea Blue"]
["@LK-OPS-AH-SM2D","600 Single Oven & MW 2 Drw unit","Opaco Sea Blue","AH-SM2D",1074,"600 Single Oven & MW 2 Drw unit Opaco Sea Blue"]
["@LK-OPS-AH-SMW","600 Sgle Oven & MW 2 Door unit","Opaco Sea Blue","AH-SMW",786,"600 Sgle Oven & MW 2 Door unit Opaco Sea Blue"]
["@LK-OPS-AH-SO","600 Single Oven Housing","Opaco Sea Blue","AH-SO",750,"600 Single Oven Housing Opaco Sea Blue"]
["@LK-OPS-AH-SO1D","600 Single Oven + 1 Drw Unit","Opaco Sea Blue","AH-SO1D",896,"600 Single Oven + 1 Drw Unit Opaco Sea Blue"]
["@LK-OPS-AH-SO2D","600 Single Oven + 2 Drws Unit","Opaco Sea Blue","AH-SO2D",1112,"600 Single Oven + 2 Drws Unit Opaco Sea Blue"]
["@LK-OPS-AH-SO3D","600 Single Oven + 3 Drws Unit","Opaco Sea Blue","AH-SO3D",1261,"600 Single Oven + 3 Drws Unit Opaco Sea Blue"]
["@LK-OPS-AH-SOT","600 Twin Single Oven Housing","Opaco Sea Blue","AH-SOT",876,"600 Twin Single Oven Housing Opaco Sea Blue"]
["@LK-OPS-BC145","1000 HL Cnr Base (450 Door)","Opaco Sea Blue","BC145",397,"1000 HL Cnr Base (450 Door) Opaco Sea Blue"]
["@LK-OPS-BC15","1000 HL Cnr Base (500 Door)","Opaco Sea Blue","BC15",405,"1000 HL Cnr Base (500 Door) Opaco Sea Blue"]
["@LK-OPS-BC16","1000 HL Cnr Base (600 Door)","Opaco Sea Blue","BC16",421,"1000 HL Cnr Base (600 Door) Opaco Sea Blue"]
["@LK-OPS-BC83","800 HL Cnr Base (300 Door)","Opaco Sea Blue","BC83",374,"800 HL Cnr Base (300 Door) Opaco Sea Blue"]
["@LK-OPS-BC84","800 HL Cnr Base Unit (400 Door)","Opaco Sea Blue","BC84",380,"800 HL Cnr Base Unit (400 Door) Opaco Sea Blue"]
["@LK-OPS-BC845","800 HL Cnr Base (450 Door)","Opaco Sea Blue","BC845",392,"800 HL Cnr Base (450 Door) Opaco Sea Blue"]
["@LK-OPS-BC945","900 HL Cnr Base (450 Door)","Opaco Sea Blue","BC945",390,"900 HL Cnr Base (450 Door) Opaco Sea Blue"]
["@LK-OPS-BCL15L","1000 Cnr Base CORNERSTONE LH - 500 door","Opaco Sea Blue","BCL15L",1270,"1000 Cnr Base CORNERSTONE LH - 500 door Opaco Sea Blue"]
["@LK-OPS-BCL15R","1000 Cnr Base CORNERSTONE RH - 500 door","Opaco Sea Blue","BCL15R",1270,"1000 Cnr Base CORNERSTONE RH - 500 door Opaco Sea Blue"]
["@LK-OPS-BCL16L","1000 Cnr Base CORNERSTONE LH - 600 door","Opaco Sea Blue","BCL16L",1349,"1000 Cnr Base CORNERSTONE LH - 600 door Opaco Sea Blue"]
["@LK-OPS-BCL16R","1000 Cnr Base CORNERSTONE RH - 600 door","Opaco Sea Blue","BCL16R",1349,"1000 Cnr Base CORNERSTONE RH - 600 door Opaco Sea Blue"]
["@LK-OPS-BCL9","950 HL Cnr L Base","Opaco Sea Blue","BCL9",618,"950 HL Cnr L Base Opaco Sea Blue"]
["@LK-OPS-BCO145","1000 Corner Base VS COR FLEX - 450 door","Opaco Sea Blue","BCO145",1407,"1000 Corner Base VS COR FLEX - 450 door Opaco Sea Blue"]
["@LK-OPS-BCO15","1000 Corner Base VS COR FLEX - 500 door","Opaco Sea Blue","BCO15",1415,"1000 Corner Base VS COR FLEX - 500 door Opaco Sea Blue"]
["@LK-OPS-BCO16","1000 Corner Base VS COR FLEX - 600 door","Opaco Sea Blue","BCO16",1431,"1000 Corner Base VS COR FLEX - 600 door Opaco Sea Blue"]
["@LK-OPS-BCO945","900 Corner Base VS COR FLEX - 450 door","Opaco Sea Blue","BCO945",1400,"900 Corner Base VS COR FLEX - 450 door Opaco Sea Blue"]
["@LK-OPS-BD13","1000 3 Drw Base Unit","Opaco Sea Blue","BD13",845,"1000 3 Drw Base Unit Opaco Sea Blue"]
["@LK-OPS-BD53","500 3 Drw Base Unit","Opaco Sea Blue","BD53",714,"500 3 Drw Base Unit Opaco Sea Blue"]
["@LK-OPS-BD54","500 4 Drw Base Unit","Opaco Sea Blue","BD54",846,"500 4 Drw Base Unit Opaco Sea Blue"]
["@LK-OPS-BD62","600 2 Pan Drw Unit","Opaco Sea Blue","BD62",683,"600 2 Pan Drw Unit Opaco Sea Blue"]
["@LK-OPS-BD62I","600 2 Pan Drw Unit + 1 Internal","Opaco Sea Blue","BD62I",859,"600 2 Pan Drw Unit + 1 Internal Opaco Sea Blue"]
["@LK-OPS-BD63","600 3 Drw Base Unit","Opaco Sea Blue","BD63",806,"600 3 Drw Base Unit Opaco Sea Blue"]
["@LK-OPS-BD635L","600 Low Single Drawer unit 360 high","Opaco Sea Blue","BD635L",384,"600 Low Single Drawer unit 360 high Opaco Sea Blue"]
["@LK-OPS-BD83","800 3 Drw Base Unit","Opaco Sea Blue","BD83",813,"800 3 Drw Base Unit Opaco Sea Blue"]
["@LK-OPS-BD92","900 2 Pan Drw Unit","Opaco Sea Blue","BD92",700,"900 2 Pan Drw Unit Opaco Sea Blue"]
["@LK-OPS-BD92I","900 2 Pan Drw Unit + 1 Internal","Opaco Sea Blue","BD92I",901,"900 2 Pan Drw Unit + 1 Internal Opaco Sea Blue"]
["@LK-OPS-BD93","900 3 Drw Base Unit","Opaco Sea Blue","BD93",828,"900 3 Drw Base Unit Opaco Sea Blue"]
["@LK-OPS-BH100","1000 HL Base Unit","Opaco Sea Blue","BH100",439,"1000 HL Base Unit Opaco Sea Blue"]
["@LK-OPS-BH10S","1000 HL Sink Base Unit (Inc Liner)","Opaco Sea Blue","BH10S",485,"1000 HL Sink Base Unit (Inc Liner) Opaco Sea Blue"]
["@LK-OPS-BH15","150 HL Base Unit","Opaco Sea Blue","BH15",228,"150 HL Base Unit Opaco Sea Blue"]
["@LK-OPS-BH30","300 HL Base Unit","Opaco Sea Blue","BH30",239,"300 HL Base Unit Opaco Sea Blue"]
["@LK-OPS-BH35","350 HL Base Unit","Opaco Sea Blue","BH35",245,"350 HL Base Unit Opaco Sea Blue"]
["@LK-OPS-BH3B","300 HL Base Unit & Bin","Opaco Sea Blue","BH3B",607,"300 HL Base Unit & Bin Opaco Sea Blue"]
["@LK-OPS-BH40","400 HL Base Unit","Opaco Sea Blue","BH40",249,"400 HL Base Unit Opaco Sea Blue"]
["@LK-OPS-BH45","450 HL Base Unit","Opaco Sea Blue","BH45",272,"450 HL Base Unit Opaco Sea Blue"]
["@LK-OPS-BH45B","450 HL Base Unit & Bin","Opaco Sea Blue","BH45B",710,"450 HL Base Unit & Bin Opaco Sea Blue"]
["@LK-OPS-BH4B","400 HL Base Unit & Bin","Opaco Sea Blue","BH4B",682,"400 HL Base Unit & Bin Opaco Sea Blue"]
["@LK-OPS-BH50","500 HL Base Unit","Opaco Sea Blue","BH50",283,"500 HL Base Unit Opaco Sea Blue"]
["@LK-OPS-BH50S","500 HL Sink Base Unit (Inc Liner)","Opaco Sea Blue","BH50S",313,"500 HL Sink Base Unit (Inc Liner) Opaco Sea Blue"]
["@LK-OPS-BH5B","500 HL Base Unit & Bin","Opaco Sea Blue","BH5B",727,"500 HL Base Unit & Bin Opaco Sea Blue"]
["@LK-OPS-BH60","600 HL Base Unit","Opaco Sea Blue","BH60",319,"600 HL Base Unit Opaco Sea Blue"]
["@LK-OPS-BH60S","600 HL Sink Base Unit (Inc Liner)","Opaco Sea Blue","BH60S",365,"600 HL Sink Base Unit (Inc Liner) Opaco Sea Blue"]
["@LK-OPS-BH6B2","600 HL Base Unit & Bin (2 Bins)","Opaco Sea Blue","BH6B2",800,"600 HL Base Unit & Bin (2 Bins) Opaco Sea Blue"]
["@LK-OPS-BH6B4","600 HL Base Unit & Bin (4 Bins)","Opaco Sea Blue","BH6B4",852,"600 HL Base Unit & Bin (4 Bins) Opaco Sea Blue"]
["@LK-OPS-BH70","700 HL Base Unit","Opaco Sea Blue","BH70",388,"700 HL Base Unit Opaco Sea Blue"]
["@LK-OPS-BH80","800 HL Base Unit","Opaco Sea Blue","BH80",394,"800 HL Base Unit Opaco Sea Blue"]
["@LK-OPS-BH80S","800 HL Sink Base Unit (Inc Liner)","Opaco Sea Blue","BH80S",440,"800 HL Sink Base Unit (Inc Liner) Opaco Sea Blue"]
["@LK-OPS-BH90","900 HL Base Unit","Opaco Sea Blue","BH90",418,"900 HL Base Unit Opaco Sea Blue"]
["@LK-OPS-BH90S","900 HL Sink Base Unit (Inc Liner)","Opaco Sea Blue","BH90S",464,"900 HL Sink Base Unit (Inc Liner) Opaco Sea Blue"]
["@LK-OPS-BHD3","300 Highline Drw Unit 1 Pan 2 Internal","Opaco Sea Blue","BHD3",628,"300 Highline Drw Unit 1 Pan 2 Internal Opaco Sea Blue"]
["@LK-OPS-BHD4","400 Highline Drw Unit 1 Pan 2 Internal","Opaco Sea Blue","BHD4",677,"400 Highline Drw Unit 1 Pan 2 Internal Opaco Sea Blue"]
["@LK-OPS-BHD5","500 Highline Drw Unit 1 Pan 2 Internal","Opaco Sea Blue","BHD5",740,"500 Highline Drw Unit 1 Pan 2 Internal Opaco Sea Blue"]
["@LK-OPS-BHD6","600 Highline Drw Unit 1 Pan 2 Internal","Opaco Sea Blue","BHD6",796,"600 Highline Drw Unit 1 Pan 2 Internal Opaco Sea Blue"]
["@LK-OPS-BLD9","900 Boiler Door","Opaco Sea Blue","BLD9",133,"900 Boiler Door Opaco Sea Blue"]
["@LK-OPS-BOH6","600 BU Oven Housing","Opaco Sea Blue","BOH6",199,"600 BU Oven Housing Opaco Sea Blue"]
["@LK-OPS-BOHD6","600 BU Oven Housing with drawer -18mm","Opaco Sea Blue","BOHD6",312,"600 BU Oven Housing with drawer -18mm Opaco Sea Blue"]
["@LK-OPS-BP15TY","150 HL Pull Out Base VS SUB","Opaco Sea Blue","BP15TY",408,"150 HL Pull Out Base VS SUB Opaco Sea Blue"]
["@LK-OPS-BP3TY","300 HL Pull Out Base VS SUB","Opaco Sea Blue","BP3TY",634,"300 HL Pull Out Base VS SUB Opaco Sea Blue"]
["@LK-OPS-BSU6450","600 Belfast Sink Unit (450mm High)","Opaco Sea Blue","BSU6450",283,"600 Belfast Sink Unit (450mm High) Opaco Sea Blue"]
["@LK-OPS-BSU6495","600 Belfast Sink Unit (495mm High)","Opaco Sea Blue","BSU6495",285,"600 Belfast Sink Unit (495mm High) Opaco Sea Blue"]
["@LK-OPS-CH-MW","Corner Compact Appliance Unit","Opaco Sea Blue","CH-MW",700,"Corner Compact Appliance Unit Opaco Sea Blue"]
["@LK-OPS-CH-SO","Corner Single Oven Housing Unit","Opaco Sea Blue","CH-SO",654,"Corner Single Oven Housing Unit Opaco Sea Blue"]
["@LK-OPS-CH-ST","Corner Storage Unit","Opaco Sea Blue","CH-ST",880,"Corner Storage Unit Opaco Sea Blue"]
["@LK-OPS-L3","300 Larder Unit","Opaco Sea Blue","L3",663,"300 Larder Unit Opaco Sea Blue"]
["@LK-OPS-L5","500 Larder Unit","Opaco Sea Blue","L5",723,"500 Larder Unit Opaco Sea Blue"]
["@LK-OPS-L6","600 Larder Unit","Opaco Sea Blue","L6",794,"600 Larder Unit Opaco Sea Blue"]
["@LK-OPS-LAC","Angled Corner Larder","Opaco Sea Blue","LAC",2084,"Angled Corner Larder Opaco Sea Blue"]
["@LK-OPS-LBC15","1000mm Blind Corner larder 500 door","Opaco Sea Blue","LBC15",944,"1000mm Blind Corner larder 500 door Opaco Sea Blue"]
["@LK-OPS-LBC16","1000mm Blind Corner larder 600 door","Opaco Sea Blue","LBC16",970,"1000mm Blind Corner larder 600 door Opaco Sea Blue"]
["@LK-OPS-LBCLM15L","1000 Cnr Larder CORNERSTONE LH 500 Dr","Opaco Sea Blue","LBCLM15L",2782,"1000 Cnr Larder CORNERSTONE LH 500 Dr Opaco Sea Blue"]
["@LK-OPS-LBCLM15R","1000 Cnr Larder CORNERSTONE RH 500 Dr","Opaco Sea Blue","LBCLM15R",2782,"1000 Cnr Larder CORNERSTONE RH 500 Dr Opaco Sea Blue"]
["@LK-OPS-LBCLM16L","1000 Cnr Larder CORNERSTONE LH 600 Dr","Opaco Sea Blue","LBCLM16L",2934,"1000 Cnr Larder CORNERSTONE LH 600 Dr Opaco Sea Blue"]
["@LK-OPS-LBCLM16R","1000 Cnr Larder CORNERSTONE RH 600 Dr","Opaco Sea Blue","LBCLM16R",2934,"1000 Cnr Larder CORNERSTONE RH 600 Dr Opaco Sea Blue"]
["@LK-OPS-LL10CB","1000 Combi","Opaco Sea Blue","LL10CB",1245,"1000 Combi Opaco Sea Blue"]
["@LK-OPS-LL10CU","1000 Cleaning & Utility","Opaco Sea Blue","LL10CU",1235,"1000 Cleaning & Utility Opaco Sea Blue"]
["@LK-OPS-LL10CUS","1000 Cleaning & Utility Ex Shelves","Opaco Sea Blue","LL10CUS",1334,"1000 Cleaning & Utility Ex Shelves Opaco Sea Blue"]
["@LK-OPS-LL6CU","600 Cleaning & Utility","Opaco Sea Blue","LL6CU",786,"600 Cleaning & Utility Opaco Sea Blue"]
["@LK-OPS-LL6EA","600 Easy Access Larder","Opaco Sea Blue","LL6EA",836,"600 Easy Access Larder Opaco Sea Blue"]
["@LK-OPS-LL8LS","800 Laundry Stacker Larder","Opaco Sea Blue","LL8LS",1364,"800 Laundry Stacker Larder Opaco Sea Blue"]
["@LK-OPS-LP3","300 Larder & TAL LARDER Pull Out","Opaco Sea Blue","LP3",1445,"300 Larder & TAL LARDER Pull Out Opaco Sea Blue"]
["@LK-OPS-LP5T","500 Larder & TAL GATE PRO Pull Out","Opaco Sea Blue","LP5T",1915,"500 Larder & TAL GATE PRO Pull Out Opaco Sea Blue"]
["@LK-OPS-LP5TS","500 Larder & TAL GATE Pull Out","Opaco Sea Blue","LP5TS",1657,"500 Larder & TAL GATE Pull Out Opaco Sea Blue"]
["@LK-OPS-LP6T","600 Larder & TAL GATE PRO Pull Out","Opaco Sea Blue","LP6T",1980,"600 Larder & TAL GATE PRO Pull Out Opaco Sea Blue"]
["@LK-OPS-LP6TS","600 Larder & TAL GATE Pull Out","Opaco Sea Blue","LP6TS",1781,"600 Larder & TAL GATE Pull Out Opaco Sea Blue"]
["@LK-OPS-LPN12D2DW","1000mm Pantry 2 Doors 2 Drawers","Opaco Sea Blue","LPN12D2DW",1392,"1000mm Pantry 2 Doors 2 Drawers Opaco Sea Blue"]
["@LK-OPS-LPN12D3DW","1000mm Pantry 2 Doors 3 Drawers","Opaco Sea Blue","LPN12D3DW",1523,"1000mm Pantry 2 Doors 3 Drawers Opaco Sea Blue"]
["@LK-OPS-LPN14D","1000mm Pantry 4 Doors","Opaco Sea Blue","LPN14D",1124,"1000mm Pantry 4 Doors Opaco Sea Blue"]
["@LK-OPS-LT3","300 Larder Tower","Opaco Sea Blue","LT3",1764,"300 Larder Tower Opaco Sea Blue"]
["@LK-OPS-LT5","500 Larder Tower","Opaco Sea Blue","LT5",1892,"500 Larder Tower Opaco Sea Blue"]
["@LK-OPS-LT6","600 Larder Tower","Opaco Sea Blue","LT6",2029,"600 Larder Tower Opaco Sea Blue"]
["@LK-OPS-TCH-MW","Tall Corner Compact Appliance Unit","Opaco Sea Blue","TCH-MW",759,"Tall Corner Compact Appliance Unit Opaco Sea Blue"]
["@LK-OPS-TCH-SO","Tall Corner Single Oven Housing Unit","Opaco Sea Blue","TCH-SO",846,"Tall Corner Single Oven Housing Unit Opaco Sea Blue"]
["@LK-OPS-TCH-ST","Tall Corner Storage Unit","Opaco Sea Blue","TCH-ST",918,"Tall Corner Storage Unit Opaco Sea Blue"]
["@LK-OPS-W100","1000 Wall Unit","Opaco Sea Blue","W100",434,"1000 Wall Unit Opaco Sea Blue"]
["@LK-OPS-W30","300 Wall Unit","Opaco Sea Blue","W30",221,"300 Wall Unit Opaco Sea Blue"]
["@LK-OPS-W35","350 Wall Cabinet","Opaco Sea Blue","W35",227,"350 Wall Cabinet Opaco Sea Blue"]
["@LK-OPS-W40","400 Wall Unit","Opaco Sea Blue","W40",235,"400 Wall Unit Opaco Sea Blue"]
["@LK-OPS-W45","450 Wall Unit","Opaco Sea Blue","W45",252,"450 Wall Unit Opaco Sea Blue"]
["@LK-OPS-W50","500 Wall Unit","Opaco Sea Blue","W50",266,"500 Wall Unit Opaco Sea Blue"]
["@LK-OPS-W60","600 Wall Unit","Opaco Sea Blue","W60",290,"600 Wall Unit Opaco Sea Blue"]
["@LK-OPS-W70","700 Wall Cabinet","Opaco Sea Blue","W70",383,"700 Wall Cabinet Opaco Sea Blue"]
["@LK-OPS-W80","800 Wall Unit","Opaco Sea Blue","W80",389,"800 Wall Unit Opaco Sea Blue"]
["@LK-OPS-W90","900 Wall Unit","Opaco Sea Blue","W90",409,"900 Wall Unit Opaco Sea Blue"]
["@LK-OPS-WB12","1000 Bridging Unit","Opaco Sea Blue","WB12",338,"1000 Bridging Unit Opaco Sea Blue"]
["@LK-OPS-WB62","600 Bridging Unit","Opaco Sea Blue","WB62",237,"600 Bridging Unit Opaco Sea Blue"]
["@LK-OPS-WB63","600 355mm Bridging Unit","Opaco Sea Blue","WB63",295,"600 355mm Bridging Unit Opaco Sea Blue"]
["@LK-OPS-WB82","800 Bridging Unit","Opaco Sea Blue","WB82",295,"800 Bridging Unit Opaco Sea Blue"]
["@LK-OPS-WB92","900 Bridging Unit","Opaco Sea Blue","WB92",312,"900 Bridging Unit Opaco Sea Blue"]
["@LK-OPS-WB93","900 355mm Bridging Unit","Opaco Sea Blue","WB93",344,"900 355mm Bridging Unit Opaco Sea Blue"]
["@LK-OPS-WBHU","600 Boiler Housing","Opaco Sea Blue","WBHU",282,"600 Boiler Housing Opaco Sea Blue"]
["@LK-OPS-WBI60","600 Bifold Unit","Opaco Sea Blue","WBI60",663,"600 Bifold Unit Opaco Sea Blue"]
["@LK-OPS-WBI90","900 Bifold Unit","Opaco Sea Blue","WBI90",695,"900 Bifold Unit Opaco Sea Blue"]
["@LK-OPS-WC6","600 Cnr Wall Unit","Opaco Sea Blue","WC6",309,"600 Cnr Wall Unit Opaco Sea Blue"]
["@LK-OPS-WC9","900 Cnr Wall Unit","Opaco Sea Blue","WC9",371,"900 Cnr Wall Unit Opaco Sea Blue"]
["@LK-OPS-WCL65","650 L Cnr Wall Unit","Opaco Sea Blue","WCL65",553,"650 L Cnr Wall Unit Opaco Sea Blue"]
["@LK-OPS-WGR5","Reeded Glass Wall Unit - 500mm","Opaco Sea Blue","WGR5",434,"Reeded Glass Wall Unit - 500mm Opaco Sea Blue"]
["@LK-OPS-WGR6","Reeded Glass Wall Unit - 600mm","Opaco Sea Blue","WGR6",476,"Reeded Glass Wall Unit - 600mm Opaco Sea Blue"]
["@LK-OPS-WGS5","Smoked Glass Wall Unit - 500mm","Opaco Sea Blue","WGS5",434,"Smoked Glass Wall Unit - 500mm Opaco Sea Blue"]
["@LK-OPS-WGS6","Smoked Glass Wall Unit - 600mm","Opaco Sea Blue","WGS6",476,"Smoked Glass Wall Unit - 600mm Opaco Sea Blue"]
["@LK-OPS-WM60","600 Wall Microwave Unit","Opaco Sea Blue","WM60",361,"600 Wall Microwave Unit Opaco Sea Blue"]
["LK-A-OPS-BLPEL","Modern Sq Bul Pelmet / Cornice","Opaco Sea Blue","BLPEL",86,"Modern Sq Bul Pelmet / Cornice Opaco Sea Blue"]
["LK-A-OPS-CPBC","Curved End post Cap Classic","Opaco Sea Blue","CPBC",116,"Curved End post Cap Classic Opaco Sea Blue"]
["LK-A-OPS-CPBM","Curved End post Cap Modern","Opaco Sea Blue","CPBM",109,"Curved End post Cap Modern Opaco Sea Blue"]
["LK-A-OPS-CVP","Curved End Post","Opaco Sea Blue","CVP",123,"Curved End Post Opaco Sea Blue"]
["LK-A-OPS-ESP","End Support / Plant on Base Panel","Opaco Sea Blue","ESP",135,"End Support / Plant on Base Panel Opaco Sea Blue"]
["LK-A-OPS-ET","22mm Edging - 10m","Opaco Sea Blue","ET",37,"22mm Edging - 10m Opaco Sea Blue"]
["LK-A-OPS-LUP","Large Universal Panel 2.4 x 900mm","Opaco Sea Blue","LUP",391,"Large Universal Panel 2.4 x 900mm Opaco Sea Blue"]
["LK-A-OPS-PL","Plinth","Opaco Sea Blue","PL",90,"Plinth Opaco Sea Blue"]
["LK-A-OPS-PTEP","Plant on Tall End Panel 2400x630","Opaco Sea Blue","PTEP",305,"Plant on Tall End Panel 2400x630 Opaco Sea Blue"]
["LK-A-OPS-PWEP20","2000 x 360 Plant on Wall End Panel","Opaco Sea Blue","PWEP20",200,"2000 x 360 Plant on Wall End Panel Opaco Sea Blue"]
["LK-A-OPS-PWEP72","720 x 360 Plant on Wall End Panel","Opaco Sea Blue","PWEP72",92,"720 x 360 Plant on Wall End Panel Opaco Sea Blue"]
["LK-A-OPS-SCCRN","Sculptured Cornice","Opaco Sea Blue","SCCRN",113,"Sculptured Cornice Opaco Sea Blue"]
["LK-A-OPS-WREP72","720 Wall Rep end Panel","Opaco Sea Blue","WREP72",77,"720 Wall Rep end Panel Opaco Sea Blue"]
["@LK-CSW-AD45I","450 Integrated Dishwasher Fascia","Grained Cashmere","AD45I",108,"450 Integrated Dishwasher Fascia Grained Cashmere"]
["@LK-CSW-AD60FD","600 Fridge/Dishwasher Fascia","Grained Cashmere","AD60FD",132,"600 Fridge/Dishwasher Fascia Grained Cashmere"]
["@LK-CSW-AD60ICH","600 Integrated Extractor Door","Grained Cashmere","AD60ICH",96,"600 Integrated Extractor Door Grained Cashmere"]
["@LK-CSW-AD60S","600 Semi Int Dishwasher Fascia","Grained Cashmere","AD60S",122,"600 Semi Int Dishwasher Fascia Grained Cashmere"]
["@LK-CSW-AH-CO","600 Compact / Microwave Housing","Grained Cashmere","AH-CO",835,"600 Compact / Microwave Housing Grained Cashmere"]
["@LK-CSW-AH-DMW","600 Double Oven & MW unit","Grained Cashmere","AH-DMW",945,"600 Double Oven & MW unit Grained Cashmere"]
["@LK-CSW-AH-DO","600 Dble Oven Housing","Grained Cashmere","AH-DO",723,"600 Dble Oven Housing Grained Cashmere"]
["@LK-CSW-AH-DO2D","600 Dble Oven & 2 Drws","Grained Cashmere","AH-DO2D",1061,"600 Dble Oven & 2 Drws Grained Cashmere"]
["@LK-CSW-AH-F55","600 50/50 FF Housing Unit","Grained Cashmere","AH-F55",743,"600 50/50 FF Housing Unit Grained Cashmere"]
["@LK-CSW-AH-F73","600 70/30 FF Housing Unit","Grained Cashmere","AH-F73",726,"600 70/30 FF Housing Unit Grained Cashmere"]
["@LK-CSW-AH-SM2D","600 Single Oven & MW 2 Drw unit","Grained Cashmere","AH-SM2D",1090,"600 Single Oven & MW 2 Drw unit Grained Cashmere"]
["@LK-CSW-AH-SMW","600 Sgle Oven & MW 2 Door unit","Grained Cashmere","AH-SMW",798,"600 Sgle Oven & MW 2 Door unit Grained Cashmere"]
["@LK-CSW-AH-SO","600 Single Oven Housing","Grained Cashmere","AH-SO",751,"600 Single Oven Housing Grained Cashmere"]
["@LK-CSW-AH-SO1D","600 Single Oven + 1 Drw Unit","Grained Cashmere","AH-SO1D",899,"600 Single Oven + 1 Drw Unit Grained Cashmere"]
["@LK-CSW-AH-SO2D","600 Single Oven + 2 Drws Unit","Grained Cashmere","AH-SO2D",1120,"600 Single Oven + 2 Drws Unit Grained Cashmere"]
["@LK-CSW-AH-SO3D","600 Single Oven + 3 Drws Unit","Grained Cashmere","AH-SO3D",1273,"600 Single Oven + 3 Drws Unit Grained Cashmere"]
["@LK-CSW-AH-SOT","600 Twin Single Oven Housing","Grained Cashmere","AH-SOT",889,"600 Twin Single Oven Housing Grained Cashmere"]
["@LK-CSW-BC145","1000 HL Cnr Base (450 Door)","Grained Cashmere","BC145",398,"1000 HL Cnr Base (450 Door) Grained Cashmere"]
["@LK-CSW-BC15","1000 HL Cnr Base (500 Door)","Grained Cashmere","BC15",406,"1000 HL Cnr Base (500 Door) Grained Cashmere"]
["@LK-CSW-BC16","1000 HL Cnr Base (600 Door)","Grained Cashmere","BC16",422,"1000 HL Cnr Base (600 Door) Grained Cashmere"]
["@LK-CSW-BC83","800 HL Cnr Base (300 Door)","Grained Cashmere","BC83",375,"800 HL Cnr Base (300 Door) Grained Cashmere"]
["@LK-CSW-BC84","800 HL Cnr Base Unit (400 Door)","Grained Cashmere","BC84",381,"800 HL Cnr Base Unit (400 Door) Grained Cashmere"]
["@LK-CSW-BC845","800 HL Cnr Base (450 Door)","Grained Cashmere","BC845",393,"800 HL Cnr Base (450 Door) Grained Cashmere"]
["@LK-CSW-BC945","900 HL Cnr Base (450 Door)","Grained Cashmere","BC945",393,"900 HL Cnr Base (450 Door) Grained Cashmere"]
["@LK-CSW-BCL15L","1000 Cnr Base CORNERSTONE LH - 500 door","Grained Cashmere","BCL15L",1271,"1000 Cnr Base CORNERSTONE LH - 500 door Grained Cashmere"]
["@LK-CSW-BCL15R","1000 Cnr Base CORNERSTONE RH - 500 door","Grained Cashmere","BCL15R",1271,"1000 Cnr Base CORNERSTONE RH - 500 door Grained Cashmere"]
["@LK-CSW-BCL16L","1000 Cnr Base CORNERSTONE LH - 600 door","Grained Cashmere","BCL16L",1350,"1000 Cnr Base CORNERSTONE LH - 600 door Grained Cashmere"]
["@LK-CSW-BCL16R","1000 Cnr Base CORNERSTONE RH - 600 door","Grained Cashmere","BCL16R",1350,"1000 Cnr Base CORNERSTONE RH - 600 door Grained Cashmere"]
["@LK-CSW-BCL9","950 HL Cnr L Base","Grained Cashmere","BCL9",622,"950 HL Cnr L Base Grained Cashmere"]
["@LK-CSW-BCO145","1000 Corner Base VS COR FLEX - 450 door","Grained Cashmere","BCO145",1408,"1000 Corner Base VS COR FLEX - 450 door Grained Cashmere"]
["@LK-CSW-BCO15","1000 Corner Base VS COR FLEX - 500 door","Grained Cashmere","BCO15",1416,"1000 Corner Base VS COR FLEX - 500 door Grained Cashmere"]
["@LK-CSW-BCO16","1000 Corner Base VS COR FLEX - 600 door","Grained Cashmere","BCO16",1432,"1000 Corner Base VS COR FLEX - 600 door Grained Cashmere"]
["@LK-CSW-BCO945","900 Corner Base VS COR FLEX - 450 door","Grained Cashmere","BCO945",1403,"900 Corner Base VS COR FLEX - 450 door Grained Cashmere"]
["@LK-CSW-BD13","1000 3 Drw Base Unit","Grained Cashmere","BD13",847,"1000 3 Drw Base Unit Grained Cashmere"]
["@LK-CSW-BD53","500 3 Drw Base Unit","Grained Cashmere","BD53",756,"500 3 Drw Base Unit Grained Cashmere"]
["@LK-CSW-BD54","500 4 Drw Base Unit","Grained Cashmere","BD54",867,"500 4 Drw Base Unit Grained Cashmere"]
["@LK-CSW-BD62","600 2 Pan Drw Unit","Grained Cashmere","BD62",693,"600 2 Pan Drw Unit Grained Cashmere"]
["@LK-CSW-BD62I","600 2 Pan Drw Unit + 1 Internal","Grained Cashmere","BD62I",869,"600 2 Pan Drw Unit + 1 Internal Grained Cashmere"]
["@LK-CSW-BD63","600 3 Drw Base Unit","Grained Cashmere","BD63",813,"600 3 Drw Base Unit Grained Cashmere"]
["@LK-CSW-BD635L","600 Low Single Drawer unit 360 high","Grained Cashmere","BD635L",389,"600 Low Single Drawer unit 360 high Grained Cashmere"]
["@LK-CSW-BD83","800 3 Drw Base Unit","Grained Cashmere","BD83",816,"800 3 Drw Base Unit Grained Cashmere"]
["@LK-CSW-BD92","900 2 Pan Drw Unit","Grained Cashmere","BD92",704,"900 2 Pan Drw Unit Grained Cashmere"]
["@LK-CSW-BD92I","900 2 Pan Drw Unit + 1 Internal","Grained Cashmere","BD92I",905,"900 2 Pan Drw Unit + 1 Internal Grained Cashmere"]
["@LK-CSW-BD93","900 3 Drw Base Unit","Grained Cashmere","BD93",831,"900 3 Drw Base Unit Grained Cashmere"]
["@LK-CSW-BDL10","1000 DL Base Unit","Grained Cashmere","BDL10",819,"1000 DL Base Unit Grained Cashmere"]
["@LK-CSW-BDL101DW","1000 DL Base Unit 1 Drawer 2 Doors","Grained Cashmere","BDL101DW",712,"1000 DL Base Unit 1 Drawer 2 Doors Grained Cashmere"]
["@LK-CSW-BDL3","300 DL Base Unit","Grained Cashmere","BDL3",415,"300 DL Base Unit Grained Cashmere"]
["@LK-CSW-BDL4","400 DL Base Unit","Grained Cashmere","BDL4",438,"400 DL Base Unit Grained Cashmere"]
["@LK-CSW-BDL5","500 DL Base Unit","Grained Cashmere","BDL5",473,"500 DL Base Unit Grained Cashmere"]
["@LK-CSW-BDL6","600 DL Base Unit","Grained Cashmere","BDL6",476,"600 DL Base Unit Grained Cashmere"]
["@LK-CSW-BDL8","800 DL Base Unit","Grained Cashmere","BDL8",772,"800 DL Base Unit Grained Cashmere"]
["@LK-CSW-BDL81DW","800 DL Base Unit 1 Drawer 2 Doors","Grained Cashmere","BDL81DW",654,"800 DL Base Unit 1 Drawer 2 Doors Grained Cashmere"]
["@LK-CSW-BDL91DW","900 DL Base Unit 1 Drawer 2 Doors","Grained Cashmere","BDL91DW",679,"900 DL Base Unit 1 Drawer 2 Doors Grained Cashmere"]
["@LK-CSW-BDLC15","1000 DL Cnr Base (500 Door)","Grained Cashmere","BDLC15",595,"1000 DL Cnr Base (500 Door) Grained Cashmere"]
["@LK-CSW-BDLC16","1000 DL Cnr Base (600 Door)","Grained Cashmere","BDLC16",578,"1000 DL Cnr Base (600 Door) Grained Cashmere"]
["@LK-CSW-BDLC83","800 DL Cnr Base (300 Door)","Grained Cashmere","BDLC83",550,"800 DL Cnr Base (300 Door) Grained Cashmere"]
["@LK-CSW-BDLC84","800 DL Cnr Base (400 Door)","Grained Cashmere","BDLC84",569,"800 DL Cnr Base (400 Door) Grained Cashmere"]
["@LK-CSW-BDLC85","800 DL Cnr Base (500 Door)","Grained Cashmere","BDLC85",590,"800 DL Cnr Base (500 Door) Grained Cashmere"]
["@LK-CSW-BH100","1000 HL Base Unit","Grained Cashmere","BH100",441,"1000 HL Base Unit Grained Cashmere"]
["@LK-CSW-BH10S","1000 HL Sink Base Unit (Inc Liner)","Grained Cashmere","BH10S",487,"1000 HL Sink Base Unit (Inc Liner) Grained Cashmere"]
["@LK-CSW-BH15","150 HL Base Unit","Grained Cashmere","BH15",230,"150 HL Base Unit Grained Cashmere"]
["@LK-CSW-BH30","300 HL Base Unit","Grained Cashmere","BH30",240,"300 HL Base Unit Grained Cashmere"]
["@LK-CSW-BH35","350 HL Base Unit","Grained Cashmere","BH35",247,"350 HL Base Unit Grained Cashmere"]
["@LK-CSW-BH3B","300 HL Base Unit & Bin","Grained Cashmere","BH3B",608,"300 HL Base Unit & Bin Grained Cashmere"]
["@LK-CSW-BH40","400 HL Base Unit","Grained Cashmere","BH40",250,"400 HL Base Unit Grained Cashmere"]
["@LK-CSW-BH45","450 HL Base Unit","Grained Cashmere","BH45",273,"450 HL Base Unit Grained Cashmere"]
["@LK-CSW-BH45B","450 HL Base Unit & Bin","Grained Cashmere","BH45B",711,"450 HL Base Unit & Bin Grained Cashmere"]
["@LK-CSW-BH4B","400 HL Base Unit & Bin","Grained Cashmere","BH4B",683,"400 HL Base Unit & Bin Grained Cashmere"]
["@LK-CSW-BH50","500 HL Base Unit","Grained Cashmere","BH50",284,"500 HL Base Unit Grained Cashmere"]
["@LK-CSW-BH50S","500 HL Sink Base Unit (Inc Liner)","Grained Cashmere","BH50S",314,"500 HL Sink Base Unit (Inc Liner) Grained Cashmere"]
["@LK-CSW-BH5B","500 HL Base Unit & Bin","Grained Cashmere","BH5B",728,"500 HL Base Unit & Bin Grained Cashmere"]
["@LK-CSW-BH60","600 HL Base Unit","Grained Cashmere","BH60",320,"600 HL Base Unit Grained Cashmere"]
["@LK-CSW-BH60S","600 HL Sink Base Unit (Inc Liner)","Grained Cashmere","BH60S",366,"600 HL Sink Base Unit (Inc Liner) Grained Cashmere"]
["@LK-CSW-BH6B2","600 HL Base Unit & Bin (2 Bins)","Grained Cashmere","BH6B2",801,"600 HL Base Unit & Bin (2 Bins) Grained Cashmere"]
["@LK-CSW-BH6B4","600 HL Base Unit & Bin (4 Bins)","Grained Cashmere","BH6B4",853,"600 HL Base Unit & Bin (4 Bins) Grained Cashmere"]
["@LK-CSW-BH70","700 HL Base Unit","Grained Cashmere","BH70",392,"700 HL Base Unit Grained Cashmere"]
["@LK-CSW-BH80","800 HL Base Unit","Grained Cashmere","BH80",396,"800 HL Base Unit Grained Cashmere"]
["@LK-CSW-BH80S","800 HL Sink Base Unit (Inc Liner)","Grained Cashmere","BH80S",442,"800 HL Sink Base Unit (Inc Liner) Grained Cashmere"]
["@LK-CSW-BH90","900 HL Base Unit","Grained Cashmere","BH90",420,"900 HL Base Unit Grained Cashmere"]
["@LK-CSW-BH90S","900 HL Sink Base Unit (Inc Liner)","Grained Cashmere","BH90S",466,"900 HL Sink Base Unit (Inc Liner) Grained Cashmere"]
["@LK-CSW-BHCV","Curved Base Unit","Grained Cashmere","BHCV",625,"Curved Base Unit Grained Cashmere"]
["@LK-CSW-BHD3","300 Highline Drw Unit 1 Pan 2 Internal","Grained Cashmere","BHD3",629,"300 Highline Drw Unit 1 Pan 2 Internal Grained Cashmere"]
["@LK-CSW-BHD4","400 Highline Drw Unit 1 Pan 2 Internal","Grained Cashmere","BHD4",678,"400 Highline Drw Unit 1 Pan 2 Internal Grained Cashmere"]
["@LK-CSW-BHD5","500 Highline Drw Unit 1 Pan 2 Internal","Grained Cashmere","BHD5",741,"500 Highline Drw Unit 1 Pan 2 Internal Grained Cashmere"]
["@LK-CSW-BHD6","600 Highline Drw Unit 1 Pan 2 Internal","Grained Cashmere","BHD6",797,"600 Highline Drw Unit 1 Pan 2 Internal Grained Cashmere"]
["@LK-CSW-BLD9","900 Boiler Door","Grained Cashmere","BLD9",148,"900 Boiler Door Grained Cashmere"]
["@LK-CSW-BOH6","600 BU Oven Housing","Grained Cashmere","BOH6",209,"600 BU Oven Housing Grained Cashmere"]
["@LK-CSW-BOHD6","600 BU Oven Housing with drawer -18mm","Grained Cashmere","BOHD6",322,"600 BU Oven Housing with drawer -18mm Grained Cashmere"]
["@LK-CSW-BP15TY","150 HL Pull Out Base VS SUB","Grained Cashmere","BP15TY",410,"150 HL Pull Out Base VS SUB Grained Cashmere"]
["@LK-CSW-BP3TY","300 HL Pull Out Base VS SUB","Grained Cashmere","BP3TY",635,"300 HL Pull Out Base VS SUB Grained Cashmere"]
["@LK-CSW-BSU6450","600 Belfast Sink Unit (450mm High)","Grained Cashmere","BSU6450",284,"600 Belfast Sink Unit (450mm High) Grained Cashmere"]
["@LK-CSW-BSU6495","600 Belfast Sink Unit (495mm High)","Grained Cashmere","BSU6495",284,"600 Belfast Sink Unit (495mm High) Grained Cashmere"]
["@LK-CSW-CH-MW","Corner Compact Appliance Unit","Grained Cashmere","CH-MW",705,"Corner Compact Appliance Unit Grained Cashmere"]
["@LK-CSW-CH-SO","Corner Single Oven Housing Unit","Grained Cashmere","CH-SO",656,"Corner Single Oven Housing Unit Grained Cashmere"]
["@LK-CSW-CH-ST","Corner Storage Unit","Grained Cashmere","CH-ST",897,"Corner Storage Unit Grained Cashmere"]
["@LK-CSW-L3","300 Larder Unit","Grained Cashmere","L3",678,"300 Larder Unit Grained Cashmere"]
["@LK-CSW-L4","400 Larder Unit","Grained Cashmere","L4",708,"400 Larder Unit Grained Cashmere"]
["@LK-CSW-L5","500 Larder Unit","Grained Cashmere","L5",737,"500 Larder Unit Grained Cashmere"]
["@LK-CSW-L6","600 Larder Unit","Grained Cashmere","L6",809,"600 Larder Unit Grained Cashmere"]
["@LK-CSW-LAC","Angled Corner Larder","Grained Cashmere","LAC",2099,"Angled Corner Larder Grained Cashmere"]
["@LK-CSW-LBC15","1000mm Blind Corner larder 500 door","Grained Cashmere","LBC15",958,"1000mm Blind Corner larder 500 door Grained Cashmere"]
["@LK-CSW-LBC16","1000mm Blind Corner larder 600 door","Grained Cashmere","LBC16",985,"1000mm Blind Corner larder 600 door Grained Cashmere"]
["@LK-CSW-LBCLM15L","1000 Cnr Larder CORNERSTONE LH 500 Dr","Grained Cashmere","LBCLM15L",2796,"1000 Cnr Larder CORNERSTONE LH 500 Dr Grained Cashmere"]
["@LK-CSW-LBCLM15R","1000 Cnr Larder CORNERSTONE RH 500 Dr","Grained Cashmere","LBCLM15R",2796,"1000 Cnr Larder CORNERSTONE RH 500 Dr Grained Cashmere"]
["@LK-CSW-LBCLM16L","1000 Cnr Larder CORNERSTONE LH 600 Dr","Grained Cashmere","LBCLM16L",2949,"1000 Cnr Larder CORNERSTONE LH 600 Dr Grained Cashmere"]
["@LK-CSW-LBCLM16R","1000 Cnr Larder CORNERSTONE RH 600 Dr","Grained Cashmere","LBCLM16R",2949,"1000 Cnr Larder CORNERSTONE RH 600 Dr Grained Cashmere"]
["@LK-CSW-LBP10","1000mm Butler's Pantry Unit","Grained Cashmere","LBP10",2169,"1000mm Butler's Pantry Unit Grained Cashmere"]
["@LK-CSW-LL10CB","1000 Combi","Grained Cashmere","LL10CB",1273,"1000 Combi Grained Cashmere"]
["@LK-CSW-LL10CU","1000 Cleaning & Utility","Grained Cashmere","LL10CU",1263,"1000 Cleaning & Utility Grained Cashmere"]
["@LK-CSW-LL10CUS","1000 Cleaning & Utility Ex Shelves","Grained Cashmere","LL10CUS",1362,"1000 Cleaning & Utility Ex Shelves Grained Cashmere"]
["@LK-CSW-LL6CU","600 Cleaning & Utility","Grained Cashmere","LL6CU",801,"600 Cleaning & Utility Grained Cashmere"]
["@LK-CSW-LL6EA","600 Easy Access Larder","Grained Cashmere","LL6EA",851,"600 Easy Access Larder Grained Cashmere"]
["@LK-CSW-LL8LS","800mm Laundry Stacker","Grained Cashmere","LL8LS",1402,"800mm Laundry Stacker Grained Cashmere"]
["@LK-CSW-LP3","300 Larder & TAL LARDER Pull Out","Grained Cashmere","LP3",1465,"300 Larder & TAL LARDER Pull Out Grained Cashmere"]
["@LK-CSW-LP4","400 Larder & TAL LARDER Pull Out","Grained Cashmere","LP4",1619,"400 Larder & TAL LARDER Pull Out Grained Cashmere"]
["@LK-CSW-LP5T","500 Larder & TAL GATE PRO Pull Out","Grained Cashmere","LP5T",1929,"500 Larder & TAL GATE PRO Pull Out Grained Cashmere"]
["@LK-CSW-LP5TS","500 Larder & TAL GATE Pull Out","Grained Cashmere","LP5TS",1671,"500 Larder & TAL GATE Pull Out Grained Cashmere"]
["@LK-CSW-LP6T","600 Larder & TAL GATE PRO Pull Out","Grained Cashmere","LP6T",1995,"600 Larder & TAL GATE PRO Pull Out Grained Cashmere"]
["@LK-CSW-LP6TS","600 Larder & TAL GATE Pull Out","Grained Cashmere","LP6TS",1796,"600 Larder & TAL GATE Pull Out Grained Cashmere"]
["@LK-CSW-LPN12D2DW","1000mm Pantry 2 Doors 2 Drawers","Grained Cashmere","LPN12D2DW",1414,"1000mm Pantry 2 Doors 2 Drawers Grained Cashmere"]
["@LK-CSW-LPN12D3DW","1000mm Pantry 2 Doors 3 Drawers","Grained Cashmere","LPN12D3DW",1551,"1000mm Pantry 2 Doors 3 Drawers Grained Cashmere"]
["@LK-CSW-LPN14D","1000mm Pantry 4 Doors","Grained Cashmere","LPN14D",1152,"1000mm Pantry 4 Doors Grained Cashmere"]
["@LK-CSW-LPN14D1DW","1000mm Pantry 4 Doors 1 Drawer","Grained Cashmere","LPN14D1DW",1410,"1000mm Pantry 4 Doors 1 Drawer Grained Cashmere"]
["@LK-CSW-LT3","300 Larder Tower","Grained Cashmere","LT3",1779,"300 Larder Tower Grained Cashmere"]
["@LK-CSW-LT5","500 Larder Tower","Grained Cashmere","LT5",1906,"500 Larder Tower Grained Cashmere"]
["@LK-CSW-LT6","600 Larder Tower","Grained Cashmere","LT6",2044,"600 Larder Tower Grained Cashmere"]
["@LK-CSW-MANTLE","Mantle Kit","Grained Cashmere","MANTLE",1910,"Mantle Kit Grained Cashmere"]
["@LK-CSW-TAH-CO","600 Tall Compact/Micro Unit","Grained Cashmere","TAH-CO",849,"600 Tall Compact/Micro Unit Grained Cashmere"]
["@LK-CSW-TAH-DO","600 Tall Dble Oven Housing","Grained Cashmere","TAH-DO",849,"600 Tall Dble Oven Housing Grained Cashmere"]
["@LK-CSW-TAH-DO2D","600 Tall Dble Oven & 2 Drws","Grained Cashmere","TAH-DO2D",1169,"600 Tall Dble Oven & 2 Drws Grained Cashmere"]
["@LK-CSW-TAH-F55","600 Tall 50/50 FF Hsing Unit","Grained Cashmere","TAH-F55",788,"600 Tall 50/50 FF Hsing Unit Grained Cashmere"]
["@LK-CSW-TAH-F73","600 Tall 70/30 FF Hsing unit","Grained Cashmere","TAH-F73",806,"600 Tall 70/30 FF Hsing unit Grained Cashmere"]
["@LK-CSW-TAH-SMW","600 Tall Sgle Oven & MW Unit","Grained Cashmere","TAH-SMW",843,"600 Tall Sgle Oven & MW Unit Grained Cashmere"]
["@LK-CSW-TAH-SO","600 Tall Sgle Oven Housing","Grained Cashmere","TAH-SO",854,"600 Tall Sgle Oven Housing Grained Cashmere"]
["@LK-CSW-TAH-SO2D","600 Tall Sgle Oven 2 Drw Unit","Grained Cashmere","TAH-SO2D",1228,"600 Tall Sgle Oven 2 Drw Unit Grained Cashmere"]
["@LK-CSW-TAH-SOT","600 Tall Twin Single Oven Housing","Grained Cashmere","TAH-SOT",716,"600 Tall Twin Single Oven Housing Grained Cashmere"]
["@LK-CSW-TCH-MW","Tall Corner Compact Appliance Unit","Grained Cashmere","TCH-MW",794,"Tall Corner Compact Appliance Unit Grained Cashmere"]
["@LK-CSW-TCH-SO","Tall Corner Single Oven Housing Unit","Grained Cashmere","TCH-SO",858,"Tall Corner Single Oven Housing Unit Grained Cashmere"]
["@LK-CSW-TCH-ST","Tall Corner Storage Unit","Grained Cashmere","TCH-ST",945,"Tall Corner Storage Unit Grained Cashmere"]
["@LK-CSW-TL3","300 Tall Larder Unit","Grained Cashmere","TL3",714,"300 Tall Larder Unit Grained Cashmere"]
["@LK-CSW-TL4","400 Tall Larder Unit","Grained Cashmere","TL4",745,"400 Tall Larder Unit Grained Cashmere"]
["@LK-CSW-TL5","500 Tall Larder Unit","Grained Cashmere","TL5",773,"500 Tall Larder Unit Grained Cashmere"]
["@LK-CSW-TL6","600 Tall Larder Unit","Grained Cashmere","TL6",828,"600 Tall Larder Unit Grained Cashmere"]
["@LK-CSW-TLAC","Tall Angled Corner Larder","Grained Cashmere","TLAC",2477,"Tall Angled Corner Larder Grained Cashmere"]
["@LK-CSW-TLBC15","1000 Tall Blind Corner larder 500 door","Grained Cashmere","TLBC15",1112,"1000 Tall Blind Corner larder 500 door Grained Cashmere"]
["@LK-CSW-TLBC16","1000 Tall Blind Corner larder 600 door","Grained Cashmere","TLBC16",1122,"1000 Tall Blind Corner larder 600 door Grained Cashmere"]
["@LK-CSW-TLBCLM15L","1000 Tall Cnr Lrdr CORNERSTONE LH 500 Dr","Grained Cashmere","TLBCLM15L",2950,"1000 Tall Cnr Lrdr CORNERSTONE LH 500 Dr Grained Cashmere"]
["@LK-CSW-TLBCLM15R","1000 Tall Cnr Lrdr CORNERSTONE RH 500 Dr","Grained Cashmere","TLBCLM15R",2950,"1000 Tall Cnr Lrdr CORNERSTONE RH 500 Dr Grained Cashmere"]
["@LK-CSW-TLBCLM16L","1000 Tall Cnr Lrdr CORNERSTONE LH 600 Dr","Grained Cashmere","TLBCLM16L",3086,"1000 Tall Cnr Lrdr CORNERSTONE LH 600 Dr Grained Cashmere"]
["@LK-CSW-TLBCLM16R","1000 Tall Cnr Lrdr CORNERSTONE RH 600 Dr","Grained Cashmere","TLBCLM16R",3086,"1000 Tall Cnr Lrdr CORNERSTONE RH 600 Dr Grained Cashmere"]
["@LK-CSW-TLBP10","1000mm Tall Butler's Pantry Unit","Grained Cashmere","TLBP10",2276,"1000mm Tall Butler's Pantry Unit Grained Cashmere"]
["@LK-CSW-TLL10CB","1000 Tall Combi","Grained Cashmere","TLL10CB",1444,"1000 Tall Combi Grained Cashmere"]
["@LK-CSW-TLL10CU","1000 Tall Cleaning & Utility","Grained Cashmere","TLL10CU",1434,"1000 Tall Cleaning & Utility Grained Cashmere"]
["@LK-CSW-TLL10CUS","1000 Tall Cleaning & Utility Ex Shelves","Grained Cashmere","TLL10CUS",1533,"1000 Tall Cleaning & Utility Ex Shelves Grained Cashmere"]
["@LK-CSW-TLL6CU","600 Tall Cleaning & Utility","Grained Cashmere","TLL6CU",896,"600 Tall Cleaning & Utility Grained Cashmere"]
["@LK-CSW-TLL6EA","600 Tall Easy Access Larder","Grained Cashmere","TLL6EA",946,"600 Tall Easy Access Larder Grained Cashmere"]
["@LK-CSW-TLL8LS","800mm Tall Laundry stacker","Grained Cashmere","TLL8LS",1575,"800mm Tall Laundry stacker Grained Cashmere"]
["@LK-CSW-TLP3","300 Tall Larder & TAL LARDER Pull Out","Grained Cashmere","TLP3",1501,"300 Tall Larder & TAL LARDER Pull Out Grained Cashmere"]
["@LK-CSW-TLP4","400 Tall Larder & TAL LARDER Pull Out","Grained Cashmere","TLP4",1656,"400 Tall Larder & TAL LARDER Pull Out Grained Cashmere"]
["@LK-CSW-TLP5T","500 Tall Larder & TAL GATE PRO Pull Out","Grained Cashmere","TLP5T",1965,"500 Tall Larder & TAL GATE PRO Pull Out Grained Cashmere"]
["@LK-CSW-TLP5TS","500 Tall Larder & TAL GATE Pull Out","Grained Cashmere","TLP5TS",1707,"500 Tall Larder & TAL GATE Pull Out Grained Cashmere"]
["@LK-CSW-TLP6T","600 Tall Larder & TAL GATE PRO Pull Out","Grained Cashmere","TLP6T",2014,"600 Tall Larder & TAL GATE PRO Pull Out Grained Cashmere"]
["@LK-CSW-TLP6TS","600 Tall Larder & TAL GATE Pull Out","Grained Cashmere","TLP6TS",1815,"600 Tall Larder & TAL GATE Pull Out Grained Cashmere"]
["@LK-CSW-TLPN14D","1000mm Tall Larder 4 Doors","Grained Cashmere","TLPN14D",1323,"1000mm Tall Larder 4 Doors Grained Cashmere"]
["@LK-CSW-TLT3","300 Tall Larder Tower","Grained Cashmere","TLT3",1815,"300 Tall Larder Tower Grained Cashmere"]
["@LK-CSW-TLT5","500 Tall Larder Tower","Grained Cashmere","TLT5",1942,"500 Tall Larder Tower Grained Cashmere"]
["@LK-CSW-TLT6","600 Tall Larder Tower","Grained Cashmere","TLT6",2063,"600 Tall Larder Tower Grained Cashmere"]
["@LK-CSW-TW100","1000 Tall Wall Unit","Grained Cashmere","TW100",502,"1000 Tall Wall Unit Grained Cashmere"]
["@LK-CSW-TW30","300 Tall Wall Unit","Grained Cashmere","TW30",272,"300 Tall Wall Unit Grained Cashmere"]
["@LK-CSW-TW40","400 Tall Wall Unit","Grained Cashmere","TW40",289,"400 Tall Wall Unit Grained Cashmere"]
["@LK-CSW-TW45","450 Tall Wall Unit","Grained Cashmere","TW45",300,"450 Tall Wall Unit Grained Cashmere"]
["@LK-CSW-TW50","500 Tall Wall Unit","Grained Cashmere","TW50",319,"500 Tall Wall Unit Grained Cashmere"]
["@LK-CSW-TW60","600 Tall Wall Unit","Grained Cashmere","TW60",327,"600 Tall Wall Unit Grained Cashmere"]
["@LK-CSW-TW80","800 Tall Wall Unit","Grained Cashmere","TW80",460,"800 Tall Wall Unit Grained Cashmere"]
["@LK-CSW-TW90","900 Tall Wall Unit","Grained Cashmere","TW90",474,"900 Tall Wall Unit Grained Cashmere"]
["@LK-CSW-TWC6","600 Tall Cnr Wall Unit","Grained Cashmere","TWC6",378,"600 Tall Cnr Wall Unit Grained Cashmere"]
["@LK-CSW-TWC9","900 Tall Cnr Wall Unit","Grained Cashmere","TWC9",422,"900 Tall Cnr Wall Unit Grained Cashmere"]
["@LK-CSW-W100","1000 Wall Unit","Grained Cashmere","W100",436,"1000 Wall Unit Grained Cashmere"]
["@LK-CSW-W157","1000 Wall Unit 575 High","Grained Cashmere","W157",486,"1000 Wall Unit 575 High Grained Cashmere"]
["@LK-CSW-W30","300 Wall Unit","Grained Cashmere","W30",222,"300 Wall Unit Grained Cashmere"]
["@LK-CSW-W35","350 Wall Unit","Grained Cashmere","W35",229,"350 Wall Unit Grained Cashmere"]
["@LK-CSW-W357","300 Wall Unit 575 High","Grained Cashmere","W357",249,"300 Wall Unit 575 High Grained Cashmere"]
["@LK-CSW-W40","400 Wall Unit","Grained Cashmere","W40",236,"400 Wall Unit Grained Cashmere"]
["@LK-CSW-W45","450 Wall Unit","Grained Cashmere","W45",253,"450 Wall Unit Grained Cashmere"]
["@LK-CSW-W4557","450 Wall Unit 575 High","Grained Cashmere","W4557",278,"450 Wall Unit 575 High Grained Cashmere"]
["@LK-CSW-W457","400 Wall Unit 575 High","Grained Cashmere","W457",263,"400 Wall Unit 575 High Grained Cashmere"]
["@LK-CSW-W50","500 Wall Unit","Grained Cashmere","W50",267,"500 Wall Unit Grained Cashmere"]
["@LK-CSW-W557","500 Wall Unit 575 High","Grained Cashmere","W557",292,"500 Wall Unit 575 High Grained Cashmere"]
["@LK-CSW-W60","600 Wall Unit","Grained Cashmere","W60",291,"600 Wall Unit Grained Cashmere"]
["@LK-CSW-W657","600 Wall Unit 575 High","Grained Cashmere","W657",281,"600 Wall Unit 575 High Grained Cashmere"]
["@LK-CSW-W70","700 Wall Unit","Grained Cashmere","W70",387,"700 Wall Unit Grained Cashmere"]
["@LK-CSW-W80","800 Wall Unit","Grained Cashmere","W80",391,"800 Wall Unit Grained Cashmere"]
["@LK-CSW-W857","800 Wall Unit 575 High","Grained Cashmere","W857",445,"800 Wall Unit 575 High Grained Cashmere"]
["@LK-CSW-W90","900 Wall Unit","Grained Cashmere","W90",411,"900 Wall Unit Grained Cashmere"]
["@LK-CSW-W957","900 Wall Unit 575 High","Grained Cashmere","W957",461,"900 Wall Unit 575 High Grained Cashmere"]
["@LK-CSW-WB12","1000 Bridging Unit","Grained Cashmere","WB12",329,"1000 Bridging Unit Grained Cashmere"]
["@LK-CSW-WB13","1000 355mm Bridging Unit","Grained Cashmere","WB13",353,"1000 355mm Bridging Unit Grained Cashmere"]
["@LK-CSW-WB62","600 Bridging Unit","Grained Cashmere","WB62",243,"600 Bridging Unit Grained Cashmere"]
["@LK-CSW-WB63","600 355mm Bridging Unit","Grained Cashmere","WB63",300,"600 355mm Bridging Unit Grained Cashmere"]
["@LK-CSW-WB82","800 Bridging Unit","Grained Cashmere","WB82",285,"800 Bridging Unit Grained Cashmere"]
["@LK-CSW-WB83","800 355mm Bridging Unit","Grained Cashmere","WB83",330,"800 355mm Bridging Unit Grained Cashmere"]
["@LK-CSW-WB92","900 Bridging Unit","Grained Cashmere","WB92",314,"900 Bridging Unit Grained Cashmere"]
["@LK-CSW-WB93","900 355mm Bridging Unit","Grained Cashmere","WB93",348,"900 355mm Bridging Unit Grained Cashmere"]
["@LK-CSW-WBHU","600 Boiler Housing","Grained Cashmere","WBHU",297,"600 Boiler Housing Grained Cashmere"]
["@LK-CSW-WBI60","600 Bifold Unit","Grained Cashmere","WBI60",673,"600 Bifold Unit Grained Cashmere"]
["@LK-CSW-WBI90","900 Bifold Unit","Grained Cashmere","WBI90",703,"900 Bifold Unit Grained Cashmere"]
["@LK-CSW-WC6","600 Cnr Wall Unit","Grained Cashmere","WC6",310,"600 Cnr Wall Unit Grained Cashmere"]
["@LK-CSW-WC657","600 Corner Wall Unit 575 High","Grained Cashmere","WC657",396,"600 Corner Wall Unit 575 High Grained Cashmere"]
["@LK-CSW-WC9","900 Cnr Wall Unit","Grained Cashmere","WC9",372,"900 Cnr Wall Unit Grained Cashmere"]
["@LK-CSW-WC957","900 Corner Wall Unit 575 High","Grained Cashmere","WC957",421,"900 Corner Wall Unit 575 High Grained Cashmere"]
["@LK-CSW-WCL65","650 L Cnr Wall Unit","Grained Cashmere","WCL65",547,"650 L Cnr Wall Unit Grained Cashmere"]
["@LK-CSW-WCV","Curved Wall Unit","Grained Cashmere","WCV",593,"Curved Wall Unit Grained Cashmere"]
["@LK-CSW-WDR50","500 Dresser Unit","Grained Cashmere","WDR50",624,"500 Dresser Unit Grained Cashmere"]
["@LK-CSW-WG5","500 Glass Wall Unit","Grained Cashmere","WG5",265,"500 Glass Wall Unit Grained Cashmere"]
["@LK-CSW-WM60","600 Wall Microwave Unit","Grained Cashmere","WM60",377,"600 Wall Microwave Unit Grained Cashmere"]
["LK-A-CSW-BLPEL","Modern Sq Bul Pelmet / Cornice","Grained Cashmere","BLPEL",86,"Modern Sq Bul Pelmet / Cornice Grained Cashmere"]
["LK-A-CSW-BPIL","Base / Wall Pilaster","Grained Cashmere","BPIL",231,"Base / Wall Pilaster Grained Cashmere"]
["LK-A-CSW-CPBC","Curved End post Cap Classic","Grained Cashmere","CPBC",116,"Curved End post Cap Classic Grained Cashmere"]
["LK-A-CSW-CPBM","Curved End post Cap Modern","Grained Cashmere","CPBM",116,"Curved End post Cap Modern Grained Cashmere"]
["LK-A-CSW-CSC","Curved Sculptured Cornice","Grained Cashmere","CSC",181,"Curved Sculptured Cornice Grained Cashmere"]
["LK-A-CSW-CVBUL","Curved modern Sq Bul Pelmet/Cornice","Grained Cashmere","CVBUL",180,"Curved modern Sq Bul Pelmet/Cornice Grained Cashmere"]
["LK-A-CSW-CVP","Curved End Post","Grained Cashmere","CVP",123,"Curved End Post Grained Cashmere"]
["LK-A-CSW-CVPL","Curved Plinth","Grained Cashmere","CVPL",181,"Curved Plinth Grained Cashmere"]
["LK-A-CSW-ESP","End Support / Plant on Base Panel","Grained Cashmere","ESP",123,"End Support / Plant on Base Panel Grained Cashmere"]
["LK-A-CSW-ET","22mm Edging - 10m","Grained Cashmere","ET",37,"22mm Edging - 10m Grained Cashmere"]
["LK-A-CSW-LUP","Large Universal Panel 2.4 x 900mm","Grained Cashmere","LUP",391,"Large Universal Panel 2.4 x 900mm Grained Cashmere"]
["LK-A-CSW-PL","Plinth","Grained Cashmere","PL",90,"Plinth Grained Cashmere"]
["LK-A-CSW-PTEP","Plant on Tall End Panel 2400x630","Grained Cashmere","PTEP",240,"Plant on Tall End Panel 2400x630 Grained Cashmere"]
["LK-A-CSW-PWEP20","2000 x 360 Plant on Wall End Panel","Grained Cashmere","PWEP20",200,"2000 x 360 Plant on Wall End Panel Grained Cashmere"]
["LK-A-CSW-PWEP72","720 x 360 Plant on Wall End Panel","Grained Cashmere","PWEP72",80,"720 x 360 Plant on Wall End Panel Grained Cashmere"]
["LK-A-CSW-SCCRN","Sculptured Cornice","Grained Cashmere","SCCRN",113,"Sculptured Cornice Grained Cashmere"]
["LK-A-CSW-WR72","150 x 720 Wine Rack","Grained Cashmere","WR72",200,"150 x 720 Wine Rack Grained Cashmere"]
["LK-A-CSW-WREP72","720 Wall Rep end Panel","Grained Cashmere","WREP72",77,"720 Wall Rep end Panel Grained Cashmere"]
["LK-C-CSW-57OU","500 x 720 Open Wall Unit","Grained Cashmere","57OU",188,"500 x 720 Open Wall Unit Grained Cashmere"]
["@LK-DGW-AD45I","450 Integrated Dishwasher Fascia","Grained Dove Grey","AD45I",108,"450 Integrated Dishwasher Fascia Grained Dove Grey"]
["@LK-DGW-AD60FD","600 Fridge/Dishwasher Fascia","Grained Dove Grey","AD60FD",132,"600 Fridge/Dishwasher Fascia Grained Dove Grey"]
["@LK-DGW-AD60ICH","600 Integrated Extractor Door","Grained Dove Grey","AD60ICH",96,"600 Integrated Extractor Door Grained Dove Grey"]
["@LK-DGW-AD60S","600 Semi Int Dishwasher Fascia","Grained Dove Grey","AD60S",122,"600 Semi Int Dishwasher Fascia Grained Dove Grey"]
["@LK-DGW-AH-CO","600 Compact / Microwave Housing","Grained Dove Grey","AH-CO",835,"600 Compact / Microwave Housing Grained Dove Grey"]
["@LK-DGW-AH-DMW","600 Double Oven & MW unit","Grained Dove Grey","AH-DMW",945,"600 Double Oven & MW unit Grained Dove Grey"]
["@LK-DGW-AH-DO","600 Dble Oven Housing","Grained Dove Grey","AH-DO",723,"600 Dble Oven Housing Grained Dove Grey"]
["@LK-DGW-AH-DO2D","600 Dble Oven & 2 Drws","Grained Dove Grey","AH-DO2D",1061,"600 Dble Oven & 2 Drws Grained Dove Grey"]
["@LK-DGW-AH-F55","600 50/50 FF Housing Unit","Grained Dove Grey","AH-F55",743,"600 50/50 FF Housing Unit Grained Dove Grey"]
["@LK-DGW-AH-F73","600 70/30 FF Housing Unit","Grained Dove Grey","AH-F73",726,"600 70/30 FF Housing Unit Grained Dove Grey"]
["@LK-DGW-AH-SM2D","600 Single Oven & MW 2 Drw unit","Grained Dove Grey","AH-SM2D",1090,"600 Single Oven & MW 2 Drw unit Grained Dove Grey"]
["@LK-DGW-AH-SMW","600 Sgle Oven & MW 2 Door unit","Grained Dove Grey","AH-SMW",798,"600 Sgle Oven & MW 2 Door unit Grained Dove Grey"]
["@LK-DGW-AH-SO","600 Single Oven Housing","Grained Dove Grey","AH-SO",751,"600 Single Oven Housing Grained Dove Grey"]
["@LK-DGW-AH-SO1D","600 Single Oven + 1 Drw Unit","Grained Dove Grey","AH-SO1D",899,"600 Single Oven + 1 Drw Unit Grained Dove Grey"]
["@LK-DGW-AH-SO2D","600 Single Oven + 2 Drws Unit","Grained Dove Grey","AH-SO2D",1120,"600 Single Oven + 2 Drws Unit Grained Dove Grey"]
["@LK-DGW-AH-SO3D","600 Single Oven + 3 Drws Unit","Grained Dove Grey","AH-SO3D",1273,"600 Single Oven + 3 Drws Unit Grained Dove Grey"]
["@LK-DGW-AH-SOT","600 Twin Single Oven Housing","Grained Dove Grey","AH-SOT",889,"600 Twin Single Oven Housing Grained Dove Grey"]
["@LK-DGW-BC145","1000 HL Cnr Base (450 Door)","Grained Dove Grey","BC145",398,"1000 HL Cnr Base (450 Door) Grained Dove Grey"]
["@LK-DGW-BC15","1000 HL Cnr Base (500 Door)","Grained Dove Grey","BC15",406,"1000 HL Cnr Base (500 Door) Grained Dove Grey"]
["@LK-DGW-BC16","1000 HL Cnr Base (600 Door)","Grained Dove Grey","BC16",422,"1000 HL Cnr Base (600 Door) Grained Dove Grey"]
["@LK-DGW-BC83","800 HL Cnr Base (300 Door)","Grained Dove Grey","BC83",375,"800 HL Cnr Base (300 Door) Grained Dove Grey"]
["@LK-DGW-BC84","800 HL Cnr Base Unit (400 Door)","Grained Dove Grey","BC84",381,"800 HL Cnr Base Unit (400 Door) Grained Dove Grey"]
["@LK-DGW-BC845","800 HL Cnr Base (450 Door)","Grained Dove Grey","BC845",393,"800 HL Cnr Base (450 Door) Grained Dove Grey"]
["@LK-DGW-BC945","900 HL Cnr Base (450 Door)","Grained Dove Grey","BC945",393,"900 HL Cnr Base (450 Door) Grained Dove Grey"]
["@LK-DGW-BCL15L","1000 Cnr Base CORNERSTONE LH - 500 door","Grained Dove Grey","BCL15L",1271,"1000 Cnr Base CORNERSTONE LH - 500 door Grained Dove Grey"]
["@LK-DGW-BCL15R","1000 Cnr Base CORNERSTONE RH - 500 door","Grained Dove Grey","BCL15R",1271,"1000 Cnr Base CORNERSTONE RH - 500 door Grained Dove Grey"]
["@LK-DGW-BCL16L","1000 Cnr Base CORNERSTONE LH - 600 door","Grained Dove Grey","BCL16L",1350,"1000 Cnr Base CORNERSTONE LH - 600 door Grained Dove Grey"]
["@LK-DGW-BCL16R","1000 Cnr Base CORNERSTONE RH - 600 door","Grained Dove Grey","BCL16R",1350,"1000 Cnr Base CORNERSTONE RH - 600 door Grained Dove Grey"]
["@LK-DGW-BCL9","950 HL Cnr L Base","Grained Dove Grey","BCL9",622,"950 HL Cnr L Base Grained Dove Grey"]
["@LK-DGW-BCO145","1000 Corner Base VS COR FLEX - 450 door","Grained Dove Grey","BCO145",1408,"1000 Corner Base VS COR FLEX - 450 door Grained Dove Grey"]
["@LK-DGW-BCO15","1000 Corner Base VS COR FLEX - 500 door","Grained Dove Grey","BCO15",1416,"1000 Corner Base VS COR FLEX - 500 door Grained Dove Grey"]
["@LK-DGW-BCO16","1000 Corner Base VS COR FLEX - 600 door","Grained Dove Grey","BCO16",1432,"1000 Corner Base VS COR FLEX - 600 door Grained Dove Grey"]
["@LK-DGW-BCO945","900 Corner Base VS COR FLEX - 450 door","Grained Dove Grey","BCO945",1403,"900 Corner Base VS COR FLEX - 450 door Grained Dove Grey"]
["@LK-DGW-BD13","1000 3 Drw Base Unit","Grained Dove Grey","BD13",847,"1000 3 Drw Base Unit Grained Dove Grey"]
["@LK-DGW-BD53","500 3 Drw Base Unit","Grained Dove Grey","BD53",756,"500 3 Drw Base Unit Grained Dove Grey"]
["@LK-DGW-BD54","500 4 Drw Base Unit","Grained Dove Grey","BD54",867,"500 4 Drw Base Unit Grained Dove Grey"]
["@LK-DGW-BD62","600 2 Pan Drw Unit","Grained Dove Grey","BD62",693,"600 2 Pan Drw Unit Grained Dove Grey"]
["@LK-DGW-BD62I","600 2 Pan Drw Unit + 1 Internal","Grained Dove Grey","BD62I",869,"600 2 Pan Drw Unit + 1 Internal Grained Dove Grey"]
["@LK-DGW-BD63","600 3 Drw Base Unit","Grained Dove Grey","BD63",813,"600 3 Drw Base Unit Grained Dove Grey"]
["@LK-DGW-BD635L","600 Low Single Drawer unit 360 high","Grained Dove Grey","BD635L",389,"600 Low Single Drawer unit 360 high Grained Dove Grey"]
["@LK-DGW-BD83","800 3 Drw Base Unit","Grained Dove Grey","BD83",816,"800 3 Drw Base Unit Grained Dove Grey"]
["@LK-DGW-BD92","900 2 Pan Drw Unit","Grained Dove Grey","BD92",704,"900 2 Pan Drw Unit Grained Dove Grey"]
["@LK-DGW-BD92I","900 2 Pan Drw Unit + 1 Internal","Grained Dove Grey","BD92I",905,"900 2 Pan Drw Unit + 1 Internal Grained Dove Grey"]
["@LK-DGW-BD93","900 3 Drw Base Unit","Grained Dove Grey","BD93",831,"900 3 Drw Base Unit Grained Dove Grey"]
["@LK-DGW-BDL10","1000 DL Base Unit","Grained Dove Grey","BDL10",819,"1000 DL Base Unit Grained Dove Grey"]
["@LK-DGW-BDL101DW","1000 DL Base Unit 1 Drawer 2 Doors","Grained Dove Grey","BDL101DW",712,"1000 DL Base Unit 1 Drawer 2 Doors Grained Dove Grey"]
["@LK-DGW-BDL3","300 DL Base Unit","Grained Dove Grey","BDL3",415,"300 DL Base Unit Grained Dove Grey"]
["@LK-DGW-BDL4","400 DL Base Unit","Grained Dove Grey","BDL4",438,"400 DL Base Unit Grained Dove Grey"]
["@LK-DGW-BDL5","500 DL Base Unit","Grained Dove Grey","BDL5",473,"500 DL Base Unit Grained Dove Grey"]
["@LK-DGW-BDL6","600 DL Base Unit","Grained Dove Grey","BDL6",476,"600 DL Base Unit Grained Dove Grey"]
["@LK-DGW-BDL8","800 DL Base Unit","Grained Dove Grey","BDL8",772,"800 DL Base Unit Grained Dove Grey"]
["@LK-DGW-BDL81DW","800 DL Base Unit 1 Drawer 2 Doors","Grained Dove Grey","BDL81DW",654,"800 DL Base Unit 1 Drawer 2 Doors Grained Dove Grey"]
["@LK-DGW-BDL91DW","900 DL Base Unit 1 Drawer 2 Doors","Grained Dove Grey","BDL91DW",679,"900 DL Base Unit 1 Drawer 2 Doors Grained Dove Grey"]
["@LK-DGW-BDLC15","1000 DL Cnr Base (500 Door)","Grained Dove Grey","BDLC15",595,"1000 DL Cnr Base (500 Door) Grained Dove Grey"]
["@LK-DGW-BDLC16","1000 DL Cnr Base (600 Door)","Grained Dove Grey","BDLC16",578,"1000 DL Cnr Base (600 Door) Grained Dove Grey"]
["@LK-DGW-BDLC83","800 DL Cnr Base (300 Door)","Grained Dove Grey","BDLC83",550,"800 DL Cnr Base (300 Door) Grained Dove Grey"]
["@LK-DGW-BDLC84","800 DL Cnr Base (400 Door)","Grained Dove Grey","BDLC84",569,"800 DL Cnr Base (400 Door) Grained Dove Grey"]
["@LK-DGW-BDLC85","800 DL Cnr Base (500 Door)","Grained Dove Grey","BDLC85",590,"800 DL Cnr Base (500 Door) Grained Dove Grey"]
["@LK-DGW-BH100","1000 HL Base Unit","Grained Dove Grey","BH100",441,"1000 HL Base Unit Grained Dove Grey"]
["@LK-DGW-BH10S","1000 HL Sink Base Unit (Inc Liner)","Grained Dove Grey","BH10S",487,"1000 HL Sink Base Unit (Inc Liner) Grained Dove Grey"]
["@LK-DGW-BH15","150 HL Base Unit","Grained Dove Grey","BH15",230,"150 HL Base Unit Grained Dove Grey"]
["@LK-DGW-BH30","300 HL Base Unit","Grained Dove Grey","BH30",240,"300 HL Base Unit Grained Dove Grey"]
["@LK-DGW-BH35","350 HL Base Unit","Grained Dove Grey","BH35",247,"350 HL Base Unit Grained Dove Grey"]
["@LK-DGW-BH3B","300 HL Base Unit & Bin","Grained Dove Grey","BH3B",608,"300 HL Base Unit & Bin Grained Dove Grey"]
["@LK-DGW-BH40","400 HL Base Unit","Grained Dove Grey","BH40",250,"400 HL Base Unit Grained Dove Grey"]
["@LK-DGW-BH45","450 HL Base Unit","Grained Dove Grey","BH45",273,"450 HL Base Unit Grained Dove Grey"]
["@LK-DGW-BH45B","450 HL Base Unit & Bin","Grained Dove Grey","BH45B",711,"450 HL Base Unit & Bin Grained Dove Grey"]
["@LK-DGW-BH4B","400 HL Base Unit & Bin","Grained Dove Grey","BH4B",683,"400 HL Base Unit & Bin Grained Dove Grey"]
["@LK-DGW-BH50","500 HL Base Unit","Grained Dove Grey","BH50",284,"500 HL Base Unit Grained Dove Grey"]
["@LK-DGW-BH50S","500 HL Sink Base Unit (Inc Liner)","Grained Dove Grey","BH50S",314,"500 HL Sink Base Unit (Inc Liner) Grained Dove Grey"]
["@LK-DGW-BH5B","500 HL Base Unit & Bin","Grained Dove Grey","BH5B",728,"500 HL Base Unit & Bin Grained Dove Grey"]
["@LK-DGW-BH60","600 HL Base Unit","Grained Dove Grey","BH60",320,"600 HL Base Unit Grained Dove Grey"]
["@LK-DGW-BH60S","600 HL Sink Base Unit (Inc Liner)","Grained Dove Grey","BH60S",366,"600 HL Sink Base Unit (Inc Liner) Grained Dove Grey"]
["@LK-DGW-BH6B2","600 HL Base Unit & Bin (2 Bins)","Grained Dove Grey","BH6B2",801,"600 HL Base Unit & Bin (2 Bins) Grained Dove Grey"]
["@LK-DGW-BH6B4","600 HL Base Unit & Bin (4 Bins)","Grained Dove Grey","BH6B4",853,"600 HL Base Unit & Bin (4 Bins) Grained Dove Grey"]
["@LK-DGW-BH70","700 HL Base Unit","Grained Dove Grey","BH70",392,"700 HL Base Unit Grained Dove Grey"]
["@LK-DGW-BH80","800 HL Base Unit","Grained Dove Grey","BH80",396,"800 HL Base Unit Grained Dove Grey"]
["@LK-DGW-BH80S","800 HL Sink Base Unit (Inc Liner)","Grained Dove Grey","BH80S",442,"800 HL Sink Base Unit (Inc Liner) Grained Dove Grey"]
["@LK-DGW-BH90","900 HL Base Unit","Grained Dove Grey","BH90",420,"900 HL Base Unit Grained Dove Grey"]
["@LK-DGW-BH90S","900 HL Sink Base Unit (Inc Liner)","Grained Dove Grey","BH90S",466,"900 HL Sink Base Unit (Inc Liner) Grained Dove Grey"]
["@LK-DGW-BHCV","Curved Base Unit","Grained Dove Grey","BHCV",625,"Curved Base Unit Grained Dove Grey"]
["@LK-DGW-BHD3","300 Highline Drw Unit 1 Pan 2 Internal","Grained Dove Grey","BHD3",629,"300 Highline Drw Unit 1 Pan 2 Internal Grained Dove Grey"]
["@LK-DGW-BHD4","400 Highline Drw Unit 1 Pan 2 Internal","Grained Dove Grey","BHD4",678,"400 Highline Drw Unit 1 Pan 2 Internal Grained Dove Grey"]
["@LK-DGW-BHD5","500 Highline Drw Unit 1 Pan 2 Internal","Grained Dove Grey","BHD5",741,"500 Highline Drw Unit 1 Pan 2 Internal Grained Dove Grey"]
["@LK-DGW-BHD6","600 Highline Drw Unit 1 Pan 2 Internal","Grained Dove Grey","BHD6",797,"600 Highline Drw Unit 1 Pan 2 Internal Grained Dove Grey"]
["@LK-DGW-BLD9","900 Boiler Door","Grained Dove Grey","BLD9",148,"900 Boiler Door Grained Dove Grey"]
["@LK-DGW-BOH6","600 BU Oven Housing","Grained Dove Grey","BOH6",209,"600 BU Oven Housing Grained Dove Grey"]
["@LK-DGW-BOHD6","600 BU Oven Housing with drawer -18mm","Grained Dove Grey","BOHD6",322,"600 BU Oven Housing with drawer -18mm Grained Dove Grey"]
["@LK-DGW-BP15TY","150 HL Pull Out Base VS SUB","Grained Dove Grey","BP15TY",410,"150 HL Pull Out Base VS SUB Grained Dove Grey"]
["@LK-DGW-BP3TY","300 HL Pull Out Base VS SUB","Grained Dove Grey","BP3TY",635,"300 HL Pull Out Base VS SUB Grained Dove Grey"]
["@LK-DGW-BSU6450","600 Belfast Sink Unit (450mm High)","Grained Dove Grey","BSU6450",284,"600 Belfast Sink Unit (450mm High) Grained Dove Grey"]
["@LK-DGW-BSU6495","600 Belfast Sink Unit (495mm High)","Grained Dove Grey","BSU6495",284,"600 Belfast Sink Unit (495mm High) Grained Dove Grey"]
["@LK-DGW-CH-MW","Corner Compact Appliance Unit","Grained Dove Grey","CH-MW",705,"Corner Compact Appliance Unit Grained Dove Grey"]
["@LK-DGW-CH-SO","Corner Single Oven Housing Unit","Grained Dove Grey","CH-SO",656,"Corner Single Oven Housing Unit Grained Dove Grey"]
["@LK-DGW-CH-ST","Corner Storage Unit","Grained Dove Grey","CH-ST",897,"Corner Storage Unit Grained Dove Grey"]
["@LK-DGW-L3","300 Larder Unit","Grained Dove Grey","L3",678,"300 Larder Unit Grained Dove Grey"]
["@LK-DGW-L4","400 Larder Unit","Grained Dove Grey","L4",708,"400 Larder Unit Grained Dove Grey"]
["@LK-DGW-L5","500 Larder Unit","Grained Dove Grey","L5",737,"500 Larder Unit Grained Dove Grey"]
["@LK-DGW-L6","600 Larder Unit","Grained Dove Grey","L6",809,"600 Larder Unit Grained Dove Grey"]
["@LK-DGW-LAC","Angled Corner Larder","Grained Dove Grey","LAC",2099,"Angled Corner Larder Grained Dove Grey"]
["@LK-DGW-LBC15","1000mm Blind Corner larder 500 door","Grained Dove Grey","LBC15",958,"1000mm Blind Corner larder 500 door Grained Dove Grey"]
["@LK-DGW-LBC16","1000mm Blind Corner larder 600 door","Grained Dove Grey","LBC16",985,"1000mm Blind Corner larder 600 door Grained Dove Grey"]
["@LK-DGW-LBCLM15L","1000 Cnr Larder CORNERSTONE LH 500 Dr","Grained Dove Grey","LBCLM15L",2796,"1000 Cnr Larder CORNERSTONE LH 500 Dr Grained Dove Grey"]
["@LK-DGW-LBCLM15R","1000 Cnr Larder CORNERSTONE RH 500 Dr","Grained Dove Grey","LBCLM15R",2796,"1000 Cnr Larder CORNERSTONE RH 500 Dr Grained Dove Grey"]
["@LK-DGW-LBCLM16L","1000 Cnr Larder CORNERSTONE LH 600 Dr","Grained Dove Grey","LBCLM16L",2949,"1000 Cnr Larder CORNERSTONE LH 600 Dr Grained Dove Grey"]
["@LK-DGW-LBCLM16R","1000 Cnr Larder CORNERSTONE RH 600 Dr","Grained Dove Grey","LBCLM16R",2949,"1000 Cnr Larder CORNERSTONE RH 600 Dr Grained Dove Grey"]
["@LK-DGW-LBP10","1000mm Butler's Pantry Unit","Grained Dove Grey","LBP10",2169,"1000mm Butler's Pantry Unit Grained Dove Grey"]
["@LK-DGW-LL10CB","1000 Combi","Grained Dove Grey","LL10CB",1273,"1000 Combi Grained Dove Grey"]
["@LK-DGW-LL10CU","1000 Cleaning & Utility","Grained Dove Grey","LL10CU",1263,"1000 Cleaning & Utility Grained Dove Grey"]
["@LK-DGW-LL10CUS","1000 Cleaning & Utility Ex Shelves","Grained Dove Grey","LL10CUS",1362,"1000 Cleaning & Utility Ex Shelves Grained Dove Grey"]
["@LK-DGW-LL6CU","600 Cleaning & Utility","Grained Dove Grey","LL6CU",801,"600 Cleaning & Utility Grained Dove Grey"]
["@LK-DGW-LL6EA","600 Easy Access Larder","Grained Dove Grey","LL6EA",851,"600 Easy Access Larder Grained Dove Grey"]
["@LK-DGW-LL8LS","800mm Laundry Stacker","Grained Dove Grey","LL8LS",1402,"800mm Laundry Stacker Grained Dove Grey"]
["@LK-DGW-LP3","300 Larder & TAL LARDER Pull Out","Grained Dove Grey","LP3",1465,"300 Larder & TAL LARDER Pull Out Grained Dove Grey"]
["@LK-DGW-LP4","400 Larder & TAL LARDER Pull Out","Grained Dove Grey","LP4",1619,"400 Larder & TAL LARDER Pull Out Grained Dove Grey"]
["@LK-DGW-LP5T","500 Larder & TAL GATE PRO Pull Out","Grained Dove Grey","LP5T",1929,"500 Larder & TAL GATE PRO Pull Out Grained Dove Grey"]
["@LK-DGW-LP5TS","500 Larder & TAL GATE Pull Out","Grained Dove Grey","LP5TS",1671,"500 Larder & TAL GATE Pull Out Grained Dove Grey"]
["@LK-DGW-LP6T","600 Larder & TAL GATE PRO Pull Out","Grained Dove Grey","LP6T",1995,"600 Larder & TAL GATE PRO Pull Out Grained Dove Grey"]
["@LK-DGW-LP6TS","600 Larder & TAL GATE Pull Out","Grained Dove Grey","LP6TS",1796,"600 Larder & TAL GATE Pull Out Grained Dove Grey"]
["@LK-DGW-LPN12D2DW","1000mm Pantry 2 Doors 2 Drawers","Grained Dove Grey","LPN12D2DW",1414,"1000mm Pantry 2 Doors 2 Drawers Grained Dove Grey"]
["@LK-DGW-LPN12D3DW","1000mm Pantry 2 Doors 3 Drawers","Grained Dove Grey","LPN12D3DW",1551,"1000mm Pantry 2 Doors 3 Drawers Grained Dove Grey"]
["@LK-DGW-LPN14D","1000mm Pantry 4 Doors","Grained Dove Grey","LPN14D",1152,"1000mm Pantry 4 Doors Grained Dove Grey"]
["@LK-DGW-LPN14D1DW","1000mm Pantry 4 Doors 1 Drawer","Grained Dove Grey","LPN14D1DW",1410,"1000mm Pantry 4 Doors 1 Drawer Grained Dove Grey"]
["@LK-DGW-LT3","300 Larder Tower","Grained Dove Grey","LT3",1779,"300 Larder Tower Grained Dove Grey"]
["@LK-DGW-LT5","500 Larder Tower","Grained Dove Grey","LT5",1906,"500 Larder Tower Grained Dove Grey"]
["@LK-DGW-LT6","600 Larder Tower","Grained Dove Grey","LT6",2044,"600 Larder Tower Grained Dove Grey"]
["@LK-DGW-MANTLE","Mantle Kit","Grained Dove Grey","MANTLE",1910,"Mantle Kit Grained Dove Grey"]
["@LK-DGW-TAH-CO","600 Tall Compact/Micro Unit","Grained Dove Grey","TAH-CO",849,"600 Tall Compact/Micro Unit Grained Dove Grey"]
["@LK-DGW-TAH-DO","600 Tall Dble Oven Housing","Grained Dove Grey","TAH-DO",849,"600 Tall Dble Oven Housing Grained Dove Grey"]
["@LK-DGW-TAH-DO2D","600 Tall Dble Oven & 2 Drws","Grained Dove Grey","TAH-DO2D",1169,"600 Tall Dble Oven & 2 Drws Grained Dove Grey"]
["@LK-DGW-TAH-F55","600 Tall 50/50 FF Hsing Unit","Grained Dove Grey","TAH-F55",788,"600 Tall 50/50 FF Hsing Unit Grained Dove Grey"]
["@LK-DGW-TAH-F73","600 Tall 70/30 FF Hsing unit","Grained Dove Grey","TAH-F73",806,"600 Tall 70/30 FF Hsing unit Grained Dove Grey"]
["@LK-DGW-TAH-SMW","600 Tall Sgle Oven & MW Unit","Grained Dove Grey","TAH-SMW",843,"600 Tall Sgle Oven & MW Unit Grained Dove Grey"]
["@LK-DGW-TAH-SO","600 Tall Sgle Oven Housing","Grained Dove Grey","TAH-SO",854,"600 Tall Sgle Oven Housing Grained Dove Grey"]
["@LK-DGW-TAH-SO2D","600 Tall Sgle Oven 2 Drw Unit","Grained Dove Grey","TAH-SO2D",1228,"600 Tall Sgle Oven 2 Drw Unit Grained Dove Grey"]
["@LK-DGW-TAH-SOT","600 Tall Twin Single Oven Housing","Grained Dove Grey","TAH-SOT",716,"600 Tall Twin Single Oven Housing Grained Dove Grey"]
["@LK-DGW-TCH-MW","Tall Corner Compact Appliance Unit","Grained Dove Grey","TCH-MW",794,"Tall Corner Compact Appliance Unit Grained Dove Grey"]
["@LK-DGW-TCH-SO","Tall Corner Single Oven Housing Unit","Grained Dove Grey","TCH-SO",858,"Tall Corner Single Oven Housing Unit Grained Dove Grey"]
["@LK-DGW-TCH-ST","Tall Corner Storage Unit","Grained Dove Grey","TCH-ST",945,"Tall Corner Storage Unit Grained Dove Grey"]
["@LK-DGW-TL3","300 Tall Larder Unit","Grained Dove Grey","TL3",714,"300 Tall Larder Unit Grained Dove Grey"]
["@LK-DGW-TL4","400 Tall Larder Unit","Grained Dove Grey","TL4",745,"400 Tall Larder Unit Grained Dove Grey"]
["@LK-DGW-TL5","500 Tall Larder Unit","Grained Dove Grey","TL5",773,"500 Tall Larder Unit Grained Dove Grey"]
["@LK-DGW-TL6","600 Tall Larder Unit","Grained Dove Grey","TL6",828,"600 Tall Larder Unit Grained Dove Grey"]
["@LK-DGW-TLAC","Tall Angled Corner Larder","Grained Dove Grey","TLAC",2477,"Tall Angled Corner Larder Grained Dove Grey"]
["@LK-DGW-TLBC15","1000 Tall Blind Corner larder 500 door","Grained Dove Grey","TLBC15",1112,"1000 Tall Blind Corner larder 500 door Grained Dove Grey"]
["@LK-DGW-TLBC16","1000 Tall Blind Corner larder 600 door","Grained Dove Grey","TLBC16",1122,"1000 Tall Blind Corner larder 600 door Grained Dove Grey"]
["@LK-DGW-TLBCLM15L","1000 Tall Cnr Lrdr CORNERSTONE LH 500 Dr","Grained Dove Grey","TLBCLM15L",2950,"1000 Tall Cnr Lrdr CORNERSTONE LH 500 Dr Grained Dove Grey"]
["@LK-DGW-TLBCLM15R","1000 Tall Cnr Lrdr CORNERSTONE RH 500 Dr","Grained Dove Grey","TLBCLM15R",2950,"1000 Tall Cnr Lrdr CORNERSTONE RH 500 Dr Grained Dove Grey"]
["@LK-DGW-TLBCLM16L","1000 Tall Cnr Lrdr CORNERSTONE LH 600 Dr","Grained Dove Grey","TLBCLM16L",3086,"1000 Tall Cnr Lrdr CORNERSTONE LH 600 Dr Grained Dove Grey"]
["@LK-DGW-TLBCLM16R","1000 Tall Cnr Lrdr CORNERSTONE RH 600 Dr","Grained Dove Grey","TLBCLM16R",3086,"1000 Tall Cnr Lrdr CORNERSTONE RH 600 Dr Grained Dove Grey"]
["@LK-DGW-TLBP10","1000mm Tall Butler's Pantry Unit","Grained Dove Grey","TLBP10",2276,"1000mm Tall Butler's Pantry Unit Grained Dove Grey"]
["@LK-DGW-TLL10CB","1000 Tall Combi","Grained Dove Grey","TLL10CB",1444,"1000 Tall Combi Grained Dove Grey"]
["@LK-DGW-TLL10CU","1000 Tall Cleaning & Utility","Grained Dove Grey","TLL10CU",1434,"1000 Tall Cleaning & Utility Grained Dove Grey"]
["@LK-DGW-TLL10CUS","1000 Tall Cleaning & Utility Ex Shelves","Grained Dove Grey","TLL10CUS",1533,"1000 Tall Cleaning & Utility Ex Shelves Grained Dove Grey"]
["@LK-DGW-TLL6CU","600 Tall Cleaning & Utility","Grained Dove Grey","TLL6CU",896,"600 Tall Cleaning & Utility Grained Dove Grey"]
["@LK-DGW-TLL6EA","600 Tall Easy Access Larder","Grained Dove Grey","TLL6EA",946,"600 Tall Easy Access Larder Grained Dove Grey"]
["@LK-DGW-TLL8LS","800mm Tall Laundry stacker","Grained Dove Grey","TLL8LS",1575,"800mm Tall Laundry stacker Grained Dove Grey"]
["@LK-DGW-TLP3","300 Tall Larder & TAL LARDER Pull Out","Grained Dove Grey","TLP3",1501,"300 Tall Larder & TAL LARDER Pull Out Grained Dove Grey"]
["@LK-DGW-TLP4","400 Tall Larder & TAL LARDER Pull Out","Grained Dove Grey","TLP4",1656,"400 Tall Larder & TAL LARDER Pull Out Grained Dove Grey"]
["@LK-DGW-TLP5T","500 Tall Larder & TAL GATE PRO Pull Out","Grained Dove Grey","TLP5T",1965,"500 Tall Larder & TAL GATE PRO Pull Out Grained Dove Grey"]
["@LK-DGW-TLP5TS","500 Tall Larder & TAL GATE Pull Out","Grained Dove Grey","TLP5TS",1707,"500 Tall Larder & TAL GATE Pull Out Grained Dove Grey"]
["@LK-DGW-TLP6T","600 Tall Larder & TAL GATE PRO Pull Out","Grained Dove Grey","TLP6T",2014,"600 Tall Larder & TAL GATE PRO Pull Out Grained Dove Grey"]
["@LK-DGW-TLP6TS","600 Tall Larder & TAL GATE Pull Out","Grained Dove Grey","TLP6TS",1815,"600 Tall Larder & TAL GATE Pull Out Grained Dove Grey"]
["@LK-DGW-TLPN14D","1000mm Tall Larder 4 Doors","Grained Dove Grey","TLPN14D",1323,"1000mm Tall Larder 4 Doors Grained Dove Grey"]
["@LK-DGW-TLT3","300 Tall Larder Tower","Grained Dove Grey","TLT3",1815,"300 Tall Larder Tower Grained Dove Grey"]
["@LK-DGW-TLT5","500 Tall Larder Tower","Grained Dove Grey","TLT5",1942,"500 Tall Larder Tower Grained Dove Grey"]
["@LK-DGW-TLT6","600 Tall Larder Tower","Grained Dove Grey","TLT6",2063,"600 Tall Larder Tower Grained Dove Grey"]
["@LK-DGW-TW100","1000 Tall Wall Unit","Grained Dove Grey","TW100",502,"1000 Tall Wall Unit Grained Dove Grey"]
["@LK-DGW-TW30","300 Tall Wall Unit","Grained Dove Grey","TW30",272,"300 Tall Wall Unit Grained Dove Grey"]
["@LK-DGW-TW40","400 Tall Wall Unit","Grained Dove Grey","TW40",289,"400 Tall Wall Unit Grained Dove Grey"]
["@LK-DGW-TW45","450 Tall Wall Unit","Grained Dove Grey","TW45",300,"450 Tall Wall Unit Grained Dove Grey"]
["@LK-DGW-TW50","500 Tall Wall Unit","Grained Dove Grey","TW50",319,"500 Tall Wall Unit Grained Dove Grey"]
["@LK-DGW-TW60","600 Tall Wall Unit","Grained Dove Grey","TW60",327,"600 Tall Wall Unit Grained Dove Grey"]
["@LK-DGW-TW80","800 Tall Wall Unit","Grained Dove Grey","TW80",460,"800 Tall Wall Unit Grained Dove Grey"]
["@LK-DGW-TW90","900 Tall Wall Unit","Grained Dove Grey","TW90",474,"900 Tall Wall Unit Grained Dove Grey"]
["@LK-DGW-TWC6","600 Tall Cnr Wall Unit","Grained Dove Grey","TWC6",378,"600 Tall Cnr Wall Unit Grained Dove Grey"]
["@LK-DGW-TWC9","900 Tall Cnr Wall Unit","Grained Dove Grey","TWC9",422,"900 Tall Cnr Wall Unit Grained Dove Grey"]
["@LK-DGW-W100","1000 Wall Unit","Grained Dove Grey","W100",436,"1000 Wall Unit Grained Dove Grey"]
["@LK-DGW-W157","1000 Wall Unit 575 High","Grained Dove Grey","W157",486,"1000 Wall Unit 575 High Grained Dove Grey"]
["@LK-DGW-W30","300 Wall Unit","Grained Dove Grey","W30",222,"300 Wall Unit Grained Dove Grey"]
["@LK-DGW-W35","350 Wall Unit","Grained Dove Grey","W35",229,"350 Wall Unit Grained Dove Grey"]
["@LK-DGW-W357","300 Wall Unit 575 High","Grained Dove Grey","W357",249,"300 Wall Unit 575 High Grained Dove Grey"]
["@LK-DGW-W40","400 Wall Unit","Grained Dove Grey","W40",236,"400 Wall Unit Grained Dove Grey"]
["@LK-DGW-W45","450 Wall Unit","Grained Dove Grey","W45",253,"450 Wall Unit Grained Dove Grey"]
["@LK-DGW-W4557","450 Wall Unit 575 High","Grained Dove Grey","W4557",278,"450 Wall Unit 575 High Grained Dove Grey"]
["@LK-DGW-W457","400 Wall Unit 575 High","Grained Dove Grey","W457",263,"400 Wall Unit 575 High Grained Dove Grey"]
["@LK-DGW-W50","500 Wall Unit","Grained Dove Grey","W50",267,"500 Wall Unit Grained Dove Grey"]
["@LK-DGW-W557","500 Wall Unit 575 High","Grained Dove Grey","W557",292,"500 Wall Unit 575 High Grained Dove Grey"]
["@LK-DGW-W60","600 Wall Unit","Grained Dove Grey","W60",291,"600 Wall Unit Grained Dove Grey"]
["@LK-DGW-W657","600 Wall Unit 575 High","Grained Dove Grey","W657",281,"600 Wall Unit 575 High Grained Dove Grey"]
["@LK-DGW-W70","700 Wall Unit","Grained Dove Grey","W70",387,"700 Wall Unit Grained Dove Grey"]
["@LK-DGW-W80","800 Wall Unit","Grained Dove Grey","W80",391,"800 Wall Unit Grained Dove Grey"]
["@LK-DGW-W857","800 Wall Unit 575 High","Grained Dove Grey","W857",445,"800 Wall Unit 575 High Grained Dove Grey"]
["@LK-DGW-W90","900 Wall Unit","Grained Dove Grey","W90",411,"900 Wall Unit Grained Dove Grey"]
["@LK-DGW-W957","900 Wall Unit 575 High","Grained Dove Grey","W957",461,"900 Wall Unit 575 High Grained Dove Grey"]
["@LK-DGW-WB12","1000 Bridging Unit","Grained Dove Grey","WB12",329,"1000 Bridging Unit Grained Dove Grey"]
["@LK-DGW-WB13","1000 355mm Bridging Unit","Grained Dove Grey","WB13",353,"1000 355mm Bridging Unit Grained Dove Grey"]
["@LK-DGW-WB62","600 Bridging Unit","Grained Dove Grey","WB62",243,"600 Bridging Unit Grained Dove Grey"]
["@LK-DGW-WB63","600 355mm Bridging Unit","Grained Dove Grey","WB63",300,"600 355mm Bridging Unit Grained Dove Grey"]
["@LK-DGW-WB82","800 Bridging Unit","Grained Dove Grey","WB82",285,"800 Bridging Unit Grained Dove Grey"]
["@LK-DGW-WB83","800 355mm Bridging Unit","Grained Dove Grey","WB83",330,"800 355mm Bridging Unit Grained Dove Grey"]
["@LK-DGW-WB92","900 Bridging Unit","Grained Dove Grey","WB92",314,"900 Bridging Unit Grained Dove Grey"]
["@LK-DGW-WB93","900 355mm Bridging Unit","Grained Dove Grey","WB93",348,"900 355mm Bridging Unit Grained Dove Grey"]
["@LK-DGW-WBHU","600 Boiler Housing","Grained Dove Grey","WBHU",297,"600 Boiler Housing Grained Dove Grey"]
["@LK-DGW-WBI60","600 Bifold Unit","Grained Dove Grey","WBI60",673,"600 Bifold Unit Grained Dove Grey"]
["@LK-DGW-WBI90","900 Bifold Unit","Grained Dove Grey","WBI90",703,"900 Bifold Unit Grained Dove Grey"]
["@LK-DGW-WC6","600 Cnr Wall Unit","Grained Dove Grey","WC6",310,"600 Cnr Wall Unit Grained Dove Grey"]
["@LK-DGW-WC657","600 Corner Wall Unit 575 High","Grained Dove Grey","WC657",396,"600 Corner Wall Unit 575 High Grained Dove Grey"]
["@LK-DGW-WC9","900 Cnr Wall Unit","Grained Dove Grey","WC9",372,"900 Cnr Wall Unit Grained Dove Grey"]
["@LK-DGW-WC957","900 Corner Wall Unit 575 High","Grained Dove Grey","WC957",421,"900 Corner Wall Unit 575 High Grained Dove Grey"]
["@LK-DGW-WCL65","650 L Cnr Wall Unit","Grained Dove Grey","WCL65",547,"650 L Cnr Wall Unit Grained Dove Grey"]
["@LK-DGW-WCV","Curved Wall Unit","Grained Dove Grey","WCV",593,"Curved Wall Unit Grained Dove Grey"]
["@LK-DGW-WDR50","500 Dresser Unit","Grained Dove Grey","WDR50",624,"500 Dresser Unit Grained Dove Grey"]
["@LK-DGW-WG5","500 Glass Wall Unit","Grained Dove Grey","WG5",265,"500 Glass Wall Unit Grained Dove Grey"]
["@LK-DGW-WM60","600 Wall Microwave Unit","Grained Dove Grey","WM60",377,"600 Wall Microwave Unit Grained Dove Grey"]
["LK-A-DGW-BLPEL","Modern Sq Bul Pelmet / Cornice","Grained Dove Grey","BLPEL",86,"Modern Sq Bul Pelmet / Cornice Grained Dove Grey"]
["LK-A-DGW-BPIL","Base / Wall Pilaster","Grained Dove Grey","BPIL",231,"Base / Wall Pilaster Grained Dove Grey"]
["LK-A-DGW-CPBC","Curved End post Cap Classic","Grained Dove Grey","CPBC",116,"Curved End post Cap Classic Grained Dove Grey"]
["LK-A-DGW-CPBM","Curved End post Cap Modern","Grained Dove Grey","CPBM",116,"Curved End post Cap Modern Grained Dove Grey"]
["LK-A-DGW-CSC","Curved Sculptured Cornice","Grained Dove Grey","CSC",181,"Curved Sculptured Cornice Grained Dove Grey"]
["LK-A-DGW-CVBUL","Curved modern Sq Bul Pelmet/Cornice","Grained Dove Grey","CVBUL",180,"Curved modern Sq Bul Pelmet/Cornice Grained Dove Grey"]
["LK-A-DGW-CVP","Curved End Post","Grained Dove Grey","CVP",123,"Curved End Post Grained Dove Grey"]
["LK-A-DGW-CVPL","Curved Plinth","Grained Dove Grey","CVPL",181,"Curved Plinth Grained Dove Grey"]
["LK-A-DGW-ESP","End Support / Plant on Base Panel","Grained Dove Grey","ESP",123,"End Support / Plant on Base Panel Grained Dove Grey"]
["LK-A-DGW-ET","22mm Edging - 10m","Grained Dove Grey","ET",37,"22mm Edging - 10m Grained Dove Grey"]
["LK-A-DGW-LUP","Large Universal Panel 2.4 x 900mm","Grained Dove Grey","LUP",391,"Large Universal Panel 2.4 x 900mm Grained Dove Grey"]
["LK-A-DGW-PL","Plinth","Grained Dove Grey","PL",90,"Plinth Grained Dove Grey"]
["LK-A-DGW-PTEP","Plant on Tall End Panel 2400x630","Grained Dove Grey","PTEP",240,"Plant on Tall End Panel 2400x630 Grained Dove Grey"]
["LK-A-DGW-PWEP20","2000 x 360 Plant on Wall End Panel","Grained Dove Grey","PWEP20",200,"2000 x 360 Plant on Wall End Panel Grained Dove Grey"]
["LK-A-DGW-PWEP72","720 x 360 Plant on Wall End Panel","Grained Dove Grey","PWEP72",80,"720 x 360 Plant on Wall End Panel Grained Dove Grey"]
["LK-A-DGW-SCCRN","Sculptured Cornice","Grained Dove Grey","SCCRN",113,"Sculptured Cornice Grained Dove Grey"]
["LK-A-DGW-WR72","150 x 720 Wine Rack","Grained Dove Grey","WR72",200,"150 x 720 Wine Rack Grained Dove Grey"]
["LK-A-DGW-WREP72","720 Wall Rep end Panel","Grained Dove Grey","WREP72",77,"720 Wall Rep end Panel Grained Dove Grey"]
["LK-C-DGW-57OU","500 x 720 Open Wall Unit","Grained Dove Grey","57OU",188,"500 x 720 Open Wall Unit Grained Dove Grey"]
["@LK-DYW-AD45I","450 Integrated Dishwasher Fascia","Grained Dust Grey","AD45I",108,"450 Integrated Dishwasher Fascia Grained Dust Grey"]
["@LK-DYW-AD60FD","600 Fridge/Dishwasher Fascia","Grained Dust Grey","AD60FD",132,"600 Fridge/Dishwasher Fascia Grained Dust Grey"]
["@LK-DYW-AD60ICH","600 Integrated Extractor Door","Grained Dust Grey","AD60ICH",96,"600 Integrated Extractor Door Grained Dust Grey"]
["@LK-DYW-AD60S","600 Semi Int Dishwasher Fascia","Grained Dust Grey","AD60S",122,"600 Semi Int Dishwasher Fascia Grained Dust Grey"]
["@LK-DYW-AH-CO","600 Compact / Microwave Housing","Grained Dust Grey","AH-CO",835,"600 Compact / Microwave Housing Grained Dust Grey"]
["@LK-DYW-AH-DMW","600 Double Oven & MW unit","Grained Dust Grey","AH-DMW",945,"600 Double Oven & MW unit Grained Dust Grey"]
["@LK-DYW-AH-DO","600 Dble Oven Housing","Grained Dust Grey","AH-DO",723,"600 Dble Oven Housing Grained Dust Grey"]
["@LK-DYW-AH-DO2D","600 Dble Oven & 2 Drws","Grained Dust Grey","AH-DO2D",1061,"600 Dble Oven & 2 Drws Grained Dust Grey"]
["@LK-DYW-AH-F55","600 50/50 FF Housing Unit","Grained Dust Grey","AH-F55",743,"600 50/50 FF Housing Unit Grained Dust Grey"]
["@LK-DYW-AH-F73","600 70/30 FF Housing Unit","Grained Dust Grey","AH-F73",726,"600 70/30 FF Housing Unit Grained Dust Grey"]
["@LK-DYW-AH-SM2D","600 Single Oven & MW 2 Drw unit","Grained Dust Grey","AH-SM2D",1090,"600 Single Oven & MW 2 Drw unit Grained Dust Grey"]
["@LK-DYW-AH-SMW","600 Sgle Oven & MW 2 Door unit","Grained Dust Grey","AH-SMW",798,"600 Sgle Oven & MW 2 Door unit Grained Dust Grey"]
["@LK-DYW-AH-SO","600 Single Oven Housing","Grained Dust Grey","AH-SO",751,"600 Single Oven Housing Grained Dust Grey"]
["@LK-DYW-AH-SO1D","600 Single Oven + 1 Drw Unit","Grained Dust Grey","AH-SO1D",899,"600 Single Oven + 1 Drw Unit Grained Dust Grey"]
["@LK-DYW-AH-SO2D","600 Single Oven + 2 Drws Unit","Grained Dust Grey","AH-SO2D",1120,"600 Single Oven + 2 Drws Unit Grained Dust Grey"]
["@LK-DYW-AH-SO3D","600 Single Oven + 3 Drws Unit","Grained Dust Grey","AH-SO3D",1273,"600 Single Oven + 3 Drws Unit Grained Dust Grey"]
["@LK-DYW-AH-SOT","600 Twin Single Oven Housing","Grained Dust Grey","AH-SOT",889,"600 Twin Single Oven Housing Grained Dust Grey"]
["@LK-DYW-BC145","1000 HL Cnr Base (450 Door)","Grained Dust Grey","BC145",398,"1000 HL Cnr Base (450 Door) Grained Dust Grey"]
["@LK-DYW-BC15","1000 HL Cnr Base (500 Door)","Grained Dust Grey","BC15",406,"1000 HL Cnr Base (500 Door) Grained Dust Grey"]
["@LK-DYW-BC16","1000 HL Cnr Base (600 Door)","Grained Dust Grey","BC16",422,"1000 HL Cnr Base (600 Door) Grained Dust Grey"]
["@LK-DYW-BC83","800 HL Cnr Base (300 Door)","Grained Dust Grey","BC83",375,"800 HL Cnr Base (300 Door) Grained Dust Grey"]
["@LK-DYW-BC84","800 HL Cnr Base Unit (400 Door)","Grained Dust Grey","BC84",381,"800 HL Cnr Base Unit (400 Door) Grained Dust Grey"]
["@LK-DYW-BC845","800 HL Cnr Base (450 Door)","Grained Dust Grey","BC845",393,"800 HL Cnr Base (450 Door) Grained Dust Grey"]
["@LK-DYW-BC945","900 HL Cnr Base (450 Door)","Grained Dust Grey","BC945",393,"900 HL Cnr Base (450 Door) Grained Dust Grey"]
["@LK-DYW-BCL15L","1000 Cnr Base CORNERSTONE LH - 500 door","Grained Dust Grey","BCL15L",1271,"1000 Cnr Base CORNERSTONE LH - 500 door Grained Dust Grey"]
["@LK-DYW-BCL15R","1000 Cnr Base CORNERSTONE RH - 500 door","Grained Dust Grey","BCL15R",1271,"1000 Cnr Base CORNERSTONE RH - 500 door Grained Dust Grey"]
["@LK-DYW-BCL16L","1000 Cnr Base CORNERSTONE LH - 600 door","Grained Dust Grey","BCL16L",1350,"1000 Cnr Base CORNERSTONE LH - 600 door Grained Dust Grey"]
["@LK-DYW-BCL16R","1000 Cnr Base CORNERSTONE RH - 600 door","Grained Dust Grey","BCL16R",1350,"1000 Cnr Base CORNERSTONE RH - 600 door Grained Dust Grey"]
["@LK-DYW-BCL9","950 HL Cnr L Base","Grained Dust Grey","BCL9",622,"950 HL Cnr L Base Grained Dust Grey"]
["@LK-DYW-BCO145","1000 Corner Base VS COR FLEX - 450 door","Grained Dust Grey","BCO145",1408,"1000 Corner Base VS COR FLEX - 450 door Grained Dust Grey"]
["@LK-DYW-BCO15","1000 Corner Base VS COR FLEX - 500 door","Grained Dust Grey","BCO15",1416,"1000 Corner Base VS COR FLEX - 500 door Grained Dust Grey"]
["@LK-DYW-BCO16","1000 Corner Base VS COR FLEX - 600 door","Grained Dust Grey","BCO16",1432,"1000 Corner Base VS COR FLEX - 600 door Grained Dust Grey"]
["@LK-DYW-TLP3","300 Tall Larder & TAL LARDER Pull Out","Grained Dust Grey","TLP3",1501,"300 Tall Larder & TAL LARDER Pull Out Grained Dust Grey"]
["LK-C-LAO-57OU","500 x 720 Open Wall Unit","Lancaster Oak","57OU",188,"500 x 720 Open Wall Unit Lancaster Oak"]
["LK-ST-CTOAKIDB8","Oak Cutlery Insert for 800 Internal Dovetail Drawer",null,null,280,"Oak Cutlery Insert for 800 Internal Dovetail Drawer "]
[null,null,null,null,null," "]
[null,null,null,null,null," "]
[null,null,null,null,null," "]
[null,null,null,null,null," "]
[null,null,null,null,null," "]
[null,null,null,null,null," "]
[null,null,null,null,null," "]
[null,null,null,null,null," "]
[null,null,null,null,null," "]
[null,null,null,null,null," "]
[null,null,null,null,null," "]
[null,null,null,null,null," "]
[null,null,null,null,null," "]
[null,null,null,null,null," "]
[null,null,null,null,null," "]
[null,null,null,null,null," "]
[null,null,null,null,null," "]
[null,null,null,null,null," "]
[null,null,null,null,null," "]
[null,null,null,null,null," "]
[null,null,null,null,null," "]
[null,null,null,null,null," "]
[null,null,null,null,null," "]
[null,null,null,null,null," "]
[null,null,null,null,null," "]
[null,null,null,null,null," "]
[null,null,null,null,null," "]
[null,null,null,null,null," "]
[null,null,null,null,null," "]
[null,null,null,null,null," "]
[null,null,null,null,null," "]
[null,null,null,null,null," "]
[null,null,null,null,null," "]
[null,null,null,null,null," "]
[null,null,null,null,null," "]
[null,null,null,null,null," "]
[null,null,null,null,null," "]
[null,null,null,null,null," "]
[null,null,null,null,null," "]
[null,null,null,null,null," "]
[null,null,null,null,null," "]
[null,null,null,null,null," "]
[null,null,null,null,null," "]
[null,null,null,null,null," "]
[null,null,null,null,null," "]
[null,null,null,null,null," "]
[null,null,null,null,null," "]
[null,null,null,null,null," "]
[null,null,null,null,null," "]
[null,null,null,null,null," "]
[null,null,null,null,null," "]
[null,null,null,null,null," "]
[null,null,null,null,null," "]
[null,null,null,null,null," "]
[null,null,null,null,null," "]
[null,null,null,null,null," "]
[null,null,null,null,null," "]
[null,null,null,null,null," "]
[null,null,null,null,null," "]
[null,null,null,null,null," "]
[null,null,null,null,null," "]
[null,null,null,null,null," "]
[null,null,null,null,null," "]
[null,null,null,null,null," "]
[null,null,null,null,null," "]
[null,null,null,null,null," "]
[null,null,null,null,null," "]
[null,null,null,null,null," "]
[null,null,null,null,null," "]
[null,null,null,null,null," "]
[null,null,null,null,null," "]
[null,null,null,null,null," "]
[null,null,null,null,null," "]
[null,null,null,null,null," "]
[null,null,null,null,null," "]
[null,null,null,null,null," "]
[null,null,null,null,null," "]
[null,null,null,null,null," "]
[null,null,null,null,null," "]
[null,null,null,null,null," "]
[null,null,null,null,null," "]
[null,null,null,null,null," "]
[null,null,null,null,null," "]
[null,null,null,null,null," "]
[null,null,null,null,null," "]
[null,null,null,null,null," "]
[null,null,null,null,null," "]
[null,null,null,null,null," "]
[null,null,null,null,null," "]
[null,null,null,null,null," "]
[null,null,null,null,null," "]
[null,null,null,null,null," "]
[null,null,null,null,null," "]
[null,null,null,null,null," "]
[null,null,null,null,null," "]
[null,null,null,null,null," "]
[null,null,null,null,null," "]
[null,null,null,null,null," "]
[null,null,null,null,null," "]
[null,null,null,null,null," "]
[null,null,null,null,null," "]
[null,null,null,null,null," "]
[null,null,null,null,null," "]
[null,null,null,null,null," "]
[null,null,null,null,null," "]
[null,null,null,null,null," "]
[null,null,null,null,null," "]
[null,null,null,null,null," "]
[null,null,null,null,null," "]
[null,null,null,null,null," "]
[null,null,null,null,null," "]
[null,null,null,null,null," "]
[null,null,null,null,null," "]
[null,null,null,null,null," "]
[null,null,null,null,null," "]
[null,null,null,null,null," "]
[null,null,null,null,null," "]
[null,null,null,null,null," "]
[null,null,null,null,null," "]
[null,null,null,null,null," "]
[null,null,null,null,null," "]
[null,null,null,null,null," "]
[null,null,null,null,null," "]
[null,null,null,null,null," "]
[null,null,null,null,null," "]
[null,null,null,null,null," "]
[null,null,null,null,null," "]
[null,null,null,null,null," "]
[null,null,null,null,null," "]
[null,null,null,null,null," "]
[null,null,null,null,null," "]
[null,null,null,null,null," "]
[null,null,null,null,null," "]
[null,null,null,null,null," "]
[null,null,null,null,null," "]
[null,null,null,null,null," "]
[null,null,null,null,null," "]
[null,null,null,null,null," "]
[null,null,null,null,null," "]
[null,null,null,null,null," "]
[null,null,null,null,null," "]
[null,null,null,null,null," "]
[null,null,null,null,null," "]
[null,null,null,null,null," "]
[null,null,null,null,null," "]
[null,null,null,null,null," "]
[null,null,null,null,null," "]
[null,null,null,null,null," "]
[null,null,null,null,null," "]
[null,null,null,null,null," "]
[null,null,null,null,null," "]
[null,null,null,null,null," "]
[null,null,null,null,null," "]
[null,null,null,null,null," "]
[null,null,null,null,null," "]
[null,null,null,null,null," "]
[null,null,null,null,null," "]
[null,null,null,null,null," "]
[null,null,null,null,null," "]
[null,null,null,null,null," "]
[null,null,null,null,null," "]
[null,null,null,null,null," "]
[null,null,null,null,null," "]
[null,null,null,null,null," "]
[null,null,null,null,null," "]
[null,null,null,null,null," "]
[null,null,null,null,null," "]
[null,null,null,null,null," "]
[null,null,null,null,null," "]
[null,null,null,null,null," "]
[null,null,null,null,null," "]
[null,null,null,null,null," "]
[null,null,null,null,null," "]
[null,null,null,null,null," "]
[null,null,null,null,null," "]
[null,null,null,null,null," "]
[null,null,null,null,null," "]
[null,null,null,null,null," "]
[null,null,null,null,null," "]
[null,null,null,null,null," "]
[null,null,null,null,null," "]
[null,null,null,null,null," "]
[null,null,null,null,null," "]
[null,null,null,null,null," "]
[null,null,null,null,null," "]
[null,null,null,null,null," "]
[null,null,null,null,null," "]
[null,null,null,null,null," "]
[null,null,null,null,null," "]
[null,null,null,null,null," "]
[null,null,null,null,null," "]
[null,null,null,null,null," "]
[null,null,null,null,null," "]
[null,null,null,null,null," "]
[null,null,null,null,null," "]
[null,null,null,null,null," "]
[null,null,null,null,null," "]
[null,null,null,null,null," "]
[null,null,null,null,null," "]
[null,null,null,null,null," "]
[null,null,null,null,null," "]
[null,null,null,null,null," "]
[null,null,null,null,null," "]
[null,null,null,null,null," "]
[null,null,null,null,null," "]
[null,null,null,null,null," "]
[null,null,null,null,null," "]
[null,null,null,null,null," "]
[null,null,null,null,null," "]
[null,null,null,null,null," "]
[null,null,null,null,null," "]
[null,null,null,null,null," "]
[null,null,null,null,null," "]
[null,null,null,null,null," "]
[null,null,null,null,null," "]
[null,null,null,null,null," "]
[null,null,null,null,null," "]
[null,null,null,null,null," "]
[null,null,null,null,null," "]
[null,null,null,null,null," "]
[null,null,null,null,null," "]
[null,null,null,null,null," "]
[null,null,null,null,null," "]
[null,null,null,null,null," "]
[null,null,null,null,null," "]
[null,null,null,null,null," "]
[null,null,null,null,null," "]
[null,null,null,null,null," "]
[null,null,null,null,null," "]
[null,null,null,null,null," "]
[null,null,null,null,null," "]
[null,null,null,null,null," "]
[null,null,null,null,null," "]
[null,null,null,null,null," "]
[null,null,null,null,null," "]
[null,null,null,null,null," "]
[null,null,null,null,null," "]
[null,null,null,null,null," "]
[null,null,null,null,null," "]
[null,null,null,null,null," "]
[null,null,null,null,null," "]
[null,null,null,null,null," "]
[null,null,null,null,null," "]
[null,null,null,null,null," "]
[null,null,null,null,null," "]
[null,null,null,null,null," "]
[null,null,null,null,null," "]
[null,null,null,null,null," "]
[null,null,null,null,null," "]
[null,null,null,null,null," "]
[null,null,null,null,null," "]
[null,null,null,null,null," "]
[null,null,null,null,null," "]
[null,null,null,null,null," "]
[null,null,null,null,null," "]
[null,null,null,null,null," "]
[null,null,null,null,null," "]
[null,null,null,null,null," "]
[null,null,null,null,null," "]
[null,null,null,null,null," "]
[null,null,null,null,null," "]
[null,null,null,null,null," "]
[null,null,null,null,null," "]
[null,null,null,null,null," "]
[null,null,null,null,null," "]
[null,null,null,null,null," "]
[null,null,null,null,null," "]
[null,null,null,null,null," "]
[null,null,null,null,null," "]
[null,null,null,null,null," "]
[null,null,null,null,null," "]
[null,null,null,null,null," "]
[null,null,null,null,null," "]
[null,null,null,null,null," "]
[null,null,null,null,null," "]
[null,null,null,null,null," "]
[null,null,null,null,null," "]
[null,null,null,null,null," "]
[null,null,null,null,null," "]
[null,null,null,null,null," "]
[null,null,null,null,null," "]
[null,null,null,null,null," "]
[null,null,null,null,null," "]
[null,null,null,null,null," "]
[null,null,null,null,null," "]
[null,null,null,null,null," "]
[null,null,null,null,null," "]
[null,null,null,null,null," "]
[null,null,null,null,null," "]
[null,null,null,null,null," "]
[null,null,null,null,null," "]
[null,null,null,null,null," "]
[null,null,null,null,null," "]
[null,null,null,null,null," "]
[null,null,null,null,null," "]
[null,null,null,null,null," "]
[null,null,null,null,null," "]
[null,null,null,null,null," "]
[null,null,null,null,null," "]
[null,null,null,null,null," "]
[null,null,null,null,null," "]
[null,null,null,null,null," "]
[null,null,null,null,null," "]
[null,null,null,null,null," "]
[null,null,null,null,null," "]
[null,null,null,null,null," "]
[null,null,null,null,null," "]
[null,null,null,null,null," "]
[null,null,null,null,null," "]
[null,null,null,null,null," "]
[null,null,null,null,null," "]
[null,null,null,null,null," "]
[null,null,null,null,null," "]
[null,null,null,null,null," "]
[null,null,null,null,null," "]
[null,null,null,null,null," "]
[null,null,null,null,null," "]
[null,null,null,null,null," "]
[null,null,null,null,null," "]
[null,null,null,null,null," "]
[null,null,null,null,null," "]
[null,null,null,null,null," "]
[null,null,null,null,null," "]
[null,null,null,null,null," "]
[null,null,null,null,null," "]
[null,null,null,null,null," "]
[null,null,null,null,null," "]
[null,null,null,null,null," "]
[null,null,null,null,null," "]
[null,null,null,null,null," "]
[null,null,null,null,null," "]
[null,null,null,null,null," "]
[null,null,null,null,null," "]
[null,null,null,null,null," "]
[null,null,null,null,null," "]
[null,null,null,null,null," "]
[null,null,null,null,null," "]
[null,null,null,null,null," "]
[null,null,null,null,null," "]
[null,null,null,null,null," "]
[null,null,null,null,null," "]
[null,null,null,null,null," "]
[null,null,null,null,null," "]
[null,null,null,null,null," "]
[null,null,null,null,null," "]
[null,null,null,null,null," "]
[null,null,null,null,null," "]
[null,null,null,null,null," "]
[null,null,null,null,null," "]
[null,null,null,null,null," "]
[null,null,null,null,null," "]
[null,null,null,null,null," "]
[null,null,null,null,null," "]
[null,null,null,null,null," "]
[null,null,null,null,null," "]
[null,null,null,null,null," "]
[null,null,null,null,null," "]
[null,null,null,null,null," "]
[null,null,null,null,null," "]
[null,null,null,null,null," "]
[null,null,null,null,null," "]
[null,null,null,null,null," "]
[null,null,null,null,null," "]
[null,null,null,null,null," "]
[null,null,null,null,null," "]
[null,null,null,null,null," "]
[null,null,null,null,null," "]
[null,null,null,null,null," "]
[null,null,null,null,null," "]
[null,null,null,null,null," "]
[null,null,null,null,null," "]
[null,null,null,null,null," "]
[null,null,null,null,null," "]
[null,null,null,null,null," "]
[null,null,null,null,null," "]
[null,null,null,null,null," "]
[null,null,null,null,null," "]
[null,null,null,null,null," "]
[null,null,null,null,null," "]
[null,null,null,null,null," "]
[null,null,null,null,null," "]
[null,null,null,null,null," "]
[null,null,null,null,null," "]
[null,null,null,null,null," "]
[null,null,null,null,null," "]
[null,null,null,null,null," "]
[null,null,null,null,null," "]
[null,null,null,null,null," "]
[null,null,null,null,null," "]
[null,null,null,null,null," "]
[null,null,null,null,null," "]
[null,null,null,null,null," "]
[null,null,null,null,null," "]
[null,null,null,null,null," "]
[null,null,null,null,null," "]
[null,null,null,null,null," "]
[null,null,null,null,null," "]
[null,null,null,null,null," "]
[null,null,null,null,null," "]
[null,null,null,null,null," "]
[null,null,null,null,null," "]
[null,null,null,null,null," "]
[null,null,null,null,null," "]
[null,null,null,null,null," "]
[null,null,null,null,null," "]
[null,null,null,null,null," "]
[null,null,null,null,null," "]
[null,null,null,null,null," "]
[null,null,null,null,null," "]
[null,null,null,null,null," "]
[null,null,null,null,null," "]
[null,null,null,null,null," "]
[null,null,null,null,null," "]
[null,null,null,null,null," "]
[null,null,null,null,null," "]
[null,null,null,null,null," "]
[null,null,null,null,null," "]
[null,null,null,null,null," "]
[null,null,null,null,null," "]
[null,null,null,null,null," "]
[null,null,null,null,null," "]
[null,null,null,null,null," "]
[null,null,null,null,null," "]
[null,null,null,null,null," "]
[null,null,null,null,null," "]
[null,null,null,null,null," "]
[null,null,null,null,null," "]
[null,null,null,null,null," "]
[null,null,null,null,null," "]
[null,null,null,null,null," "]
[null,null,null,null,null," "]
[null,null,null,null,null," "]
[null,null,null,null,null," "]
[null,null,null,null,null," "]
[null,null,null,null,null," "]
[null,null,null,null,null," "]
[null,null,null,null,null," "]
[null,null,null,null,null," "]
[null,null,null,null,null," "]
[null,null,null,null,null," "]
[null,null,null,null,null," "]
[null,null,null,null,null," "]
[null,null,null,null,null," "]
[null,null,null,null,null," "]
[null,null,null,null,null," "]
[null,null,null,null,null," "]
[null,null,null,null,null," "]
[null,null,null,null,null," "]
[null,null,null,null,null," "]
[null,null,null,null,null," "]
[null,null,null,null,null," "]
[null,null,null,null,null," "]
[null,null,null,null,null," "]
[null,null,null,null,null," "]
[null,null,null,null,null," "]
[null,null,null,null,null," "]
[null,null,null,null,null," "]
[null,null,null,null,null," "]
[null,null,null,null,null," "]
[null,null,null,null,null," "]
[null,null,null,null,null," "]
[null,null,null,null,null," "]
[null,null,null,null,null," "]
[null,null,null,null,null," "]
[null,null,null,null,null," "]
[null,null,null,null,null," "]
[null,null,null,null,null," "]
[null,null,null,null,null," "]
[null,null,null,null,null," "]
[null,null,null,null,null," "]
[null,null,null,null,null," "]
[null,null,null,null,null," "]
[null,null,null,null,null," "]
[null,null,null,null,null," "]
[null,null,null,null,null," "]
[null,null,null,null,null," "]
[null,null,null,null,null," "]
[null,null,null,null,null," "]
[null,null,null,null,null," "]
[null,null,null,null,null," "]
[null,null,null,null,null," "]
[null,null,null,null,null," "]
[null,null,null,null,null," "]
[null,null,null,null,null," "]
[null,null,null,null,null," "]
[null,null,null,null,null," "]
[null,null,null,null,null," "]
[null,null,null,null,null," "]
[null,null,null,null,null," "]
[null,null,null,null,null," "]
[null,null,null,null,null," "]
[null,null,null,null,null," "]
[null,null,null,null,null," "]
[null,null,null,null,null," "]
[null,null,null,null,null," "]
[null,null,null,null,null," "]
[null,null,null,null,null," "]
[null,null,null,null,null," "]
[null,null,null,null,null," "]
[null,null,null,null,null," "]
[null,null,null,null,null," "]
[null,null,null,null,null," "]
[null,null,null,null,null," "]
[null,null,null,null,null," "]
[null,null,null,null,null," "]
[null,null,null,null,null," "]
[null,null,null,null,null," "]
[null,null,null,null,null," "]
[null,null,null,null,null," "]
[null,null,null,null,null," "]
[null,null,null,null,null," "]
[null,null,null,null,null," "]
[null,null,null,null,null," "]
[null,null,null,null,null," "]
[null,null,null,null,null," "]
[null,null,null,null,null," "]
[null,null,null,null,null," "]
[null,null,null,null,null," "]
[null,null,null,null,null," "]
[null,null,null,null,null," "]
[null,null,null,null,null," "]
[null,null,null,null,null," "]
[null,null,null,null,null," "]
[null,null,null,null,null," "]
[null,null,null,null,null," "]
[null,null,null,null,null," "]
[null,null,null,null,null," "]
[null,null,null,null,null," "]
[null,null,null,null,null," "]
[null,null,null,null,null," "]
[null,null,null,null,null," "]
[null,null,null,null,null," "]
[null,null,null,null,null," "]
[null,null,null,null,null," "]
[null,null,null,null,null," "]
[null,null,null,null,null," "]
[null,null,null,null,null," "]
[null,null,null,null,null," "]
[null,null,null,null,null," "]
[null,null,null,null,null," "]
[null,null,null,null,null," "]
[null,null,null,null,null," "]
[null,null,null,null,null," "]
[null,null,null,null,null," "]
[null,null,null,null,null," "]
[null,null,null,null,null," "]
[null,null,null,null,null," "]
[null,null,null,null,null," "]
[null,null,null,null,null," "]
[null,null,null,null,null," "]
[null,null,null,null,null," "]
[null,null,null,null,null," "]
[null,null,null,null,null," "]
[null,null,null,null,null," "]
[null,null,null,null,null," "]
[null,null,null,null,null," "]
[null,null,null,null,null," "]
[null,null,null,null,null," "]
[null,null,null,null,null," "]
[null,null,null,null,null," "]
[null,null,null,null,null," "]
[null,null,null,null,null," "]
[null,null,null,null,null," "]
[null,null,null,null,null," "]
[null,null,null,null,null," "]
[null,null,null,null,null," "]
[null,null,null,null,null," "]
[null,null,null,null,null," "]
[null,null,null,null,null," "]
[null,null,null,null,null," "]
[null,null,null,null,null," "]
[null,null,null,null,null," "]
[null,null,null,null,null," "]
[null,null,null,null,null," "]
[null,null,null,null,null," "]
[null,null,null,null,null," "]
[null,null,null,null,null," "]
[null,null,null,null,null," "]
[null,null,null,null,null," "]
[null,null,null,null,null," "]
[null,null,null,null,null," "]
[null,null,null,null,null," "]
[null,null,null,null,null," "]
[null,null,null,null,null," "]
[null,null,null,null,null," "]
[null,null,null,null,null," "]
[null,null,null,null,null," "]
[null,null,null,null,null," "]
[null,null,null,null,null," "]
[null,null,null,null,null," "]
[null,null,null,null,null," "]
[null,null,null,null,null," "]
[null,null,null,null,null," "]
[null,null,null,null,null," "]
[null,null,null,null,null," "]
[null,null,null,null,null," "]
[null,null,null,null,null," "]
[null,null,null,null,null," "]
[null,null,null,null,null," "]
[null,null,null,null,null," "]
[null,null,null,null,null," "]
[null,null,null,null,null," "]
[null,null,null,null,null," "]
[null,null,null,null,null," "]
[null,null,null,null,null," "]
[null,null,null,null,null," "]
[null,null,null,null,null," "]
[null,null,null,null,null," "]
[null,null,null,null,null," "]
[null,null,null,null,null," "]
[null,null,null,null,null," "]
[null,null,null,null,null," "]
[null,null,null,null,null," "]
[null,null,null,null,null," "]
[null,null,null,null,null," "]
[null,null,null,null,null," "]
[null,null,null,null,null," "]
[null,null,null,null,null," "]
[null,null,null,null,null," "]
[null,null,null,null,null," "]
[null,null,null,null,null," "]
[null,null,null,null,null," "]
[null,null,null,null,null," "]
[null,null,null,null,null," "]
[null,null,null,null,null," "]
[null,null,null,null,null," "]
[null,null,null,null,null," "]
[null,null,null,null,null," "]
[null,null,null,null,null," "]
[null,null,null,null,null," "]
[null,null,null,null,null," "]
[null,null,null,null,null," "]
[null,null,null,null,null," "]
[null,null,null,null,null," "]
[null,null,null,null,null," "]
[null,null,null,null,null," "]
[null,null,null,null,null," "]
[null,null,null,null,null," "]
[null,null,null,null,null," "]
[null,null,null,null,null," "]
[null,null,null,null,null," "]
[null,null,null,null,null," "]
[null,null,null,null,null," "]
[null,null,null,null,null," "]
[null,null,null,null,null," "]
[null,null,null,null,null," "]
[null,null,null,null,null," "]
[null,null,null,null,null," "]
[null,null,null,null,null," "]
[null,null,null,null,null," "]
[null,null,null,null,null," "]
[null,null,null,null,null," "]
[null,null,null,null,null," "]
[null,null,null,null,null," "]
[null,null,null,null,null," "]
[null,null,null,null,null," "]
[null,null,null,null,null," "]
[null,null,null,null,null," "]
[null,null,null,null,null," "]
[null,null,null,null,null," "]
[null,null,null,null,null," "]
[null,null,null,null,null," "]
[null,null,null,null,null," "]
[null,null,null,null,null," "]
[null,null,null,null,null," "]
[null,null,null,null,null," "]
[null,null,null,null,null," "]
[null,null,null,null,null," "]
[null,null,null,null,null," "]
[null,null,null,null,null," "]
[null,null,null,null,null," "]
[null,null,null,null,null," "]
[null,null,null,null,null," "]
[null,null,null,null,null," "]
[null,null,null,null,null," "]
[null,null,null,null,null," "]
[null,null,null,null,null," "]
[null,null,null,null,null," "]
[null,null,null,null,null," "]
[null,null,null,null,null," "]
[null,null,null,null,null," "]
[null,null,null,null,null," "]
[null,null,null,null,null," "]
[null,null,null,null,null," "]
[null,null,null,null,null," "]
[null,null,null,null,null," "]
[null,null,null,null,null," "]
[null,null,null,null,null," "]
[null,null,null,null,null," "]
[null,null,null,null,null," "]
[null,null,null,null,null," "]
[null,null,null,null,null," "]
[null,null,null,null,null," "]
[null,null,null,null,null," "]
[null,null,null,null,null," "]
[null,null,null,null,null," "]
[null,null,null,null,null," "]
[null,null,null,null,null," "]
[null,null,null,null,null," "]
[null,null,null,null,null," "]
[null,null,null,null,null," "]
[null,null,null,null,null," "]
[null,null,null,null,null," "]
[null,null,null,null,null," "]
[null,null,null,null,null," "]
[null,null,null,null,null," "]
[null,null,null,null,null," "]
[null,null,null,null,null," "]
[null,null,null,null,null," "]
[null,null,null,null,null," "]
[null,null,null,null,null," "]
[null,null,null,null,null," "]
[null,null,null,null,null," "]
[null,null,null,null,null," "]
[null,null,null,null,null," "]
[null,null,null,null,null," "]
[null,null,null,null,null," "]
[null,null,null,null,null," "]
[null,null,null,null,null," "]
[null,null,null,null,null," "]
[null,null,null,null,null," "]
[null,null,null,null,null," "]
[null,null,null,null,null," "]
[null,null,null,null,null," "]
[null,null,null,null,null," "]
[null,null,null,null,null," "]
[null,null,null,null,null," "]
[null,null,null,null,null," "]
[null,null,null,null,null," "]
[null,null,null,null,null," "]
[null,null,null,null,null," "]
[null,null,null,null,null," "]
[null,null,null,null,null," "]
[null,null,null,null,null," "]
[null,null,null,null,null," "]
[null,null,null,null,null," "]
[null,null,null,null,null," "]
[null,null,null,null,null," "]
[null,null,null,null,null," "]
[null,null,null,null,null," "]
[null,null,null,null,null," "]
[null,null,null,null,null," "]
[null,null,null,null,null," "]
[null,null,null,null,null," "]
[null,null,null,null,null," "]
[null,null,null,null,null," "]
[null,null,null,null,null," "]
[null,null,null,null,null," "]
[null,null,null,null,null," "]
[null,null,null,null,null," "]
[null,null,null,null,null," "]
[null,null,null,null,null," "]
[null,null,null,null,null," "]
[null,null,null,null,null," "]
[null,null,null,null,null," "]
[null,null,null,null,null," "]
[null,null,null,null,null," "]
[null,null,null,null,null," "]
[null,null,null,null,null," "]
[null,null,null,null,null," "]
[null,null,null,null,null," "]
[null,null,null,null,null," "]
[null,null,null,null,null," "]
[null,null,null,null,null," "]
[null,null,null,null,null," "]
[null,null,null,null,null," "]
[null,null,null,null,null," "]
[null,null,null,null,null," "]
[null,null,null,null,null," "]
[null,null,null,null,null," "]
[null,null,null,null,null," "]
[null,null,null,null,null," "]
[null,null,null,null,null," "]
[null,null,null,null,null," "]
[null,null,null,null,null," "]
[null,null,null,null,null," "]
[null,null,null,null,null," "]
[null,null,null,null,null," "]
[null,null,null,null,null," "]
[null,null,null,null,null," "]
[null,null,null,null,null," "]
[null,null,null,null,null," "]
[null,null,null,null,null," "]
[null,null,null,null,null," "]
[null,null,null,null,null," "]
[null,null,null,null,null," "]
[null,null,null,null,null," "]
[null,null,null,null,null," "]
[null,null,null,null,null," "]
[null,null,null,null,null," "]
[null,null,null,null,null," "]
[null,null,null,null,null," "]
[null,null,null,null,null," "]
[null,null,null,null,null," "]
[null,null,null,null,null," "]
[null,null,null,null,null," "]
[null,null,null,null,null," "]
[null,null,null,null,null," "]
[null,null,null,null,null," "]
[null,null,null,null,null," "]
[null,null,null,null,null," "]
[null,null,null,null,null," "]
[null,null,null,null,null," "]
[null,null,null,null,null," "]
[null,null,null,null,null," "]
[null,null,null,null,null," "]
[null,null,null,null,null," "]
[null,null,null,null,null," "]
[null,null,null,null,null," "]
[null,null,null,null,null," "]
[null,null,null,null,null," "]
[null,null,null,null,null," "]
[null,null,null,null,null," "]
[null,null,null,null,null," "]
[null,null,null,null,null," "]
[null,null,null,null,null," "]
[null,null,null,null,null," "]
[null,null,null,null,null," "]
[null,null,null,null,null," "]
[null,null,null,null,null," "]
[null,null,null,null,null," "]
[null,null,null,null,null," "]
[null,null,null,null,null," "]
[null,null,null,null,null," "]
[null,null,null,null,null," "]
[null,null,null,null,null," "]
[null,null,null,null,null," "]
[null,null,null,null,null," "]
[null,null,null,null,null," "]
[null,null,null,null,null," "]
[null,null,null,null,null," "]
[null,null,null,null,null," "]
[null,null,null,null,null," "]
[null,null,null,null,null," "]
[null,null,null,null,null," "]
[null,null,null,null,null," "]
[null,null,null,null,null," "]
[null,null,null,null,null," "]
[null,null,null,null,null," "]
[null,null,null,null,null," "]
[null,null,null,null,null," "]
[null,null,null,null,null," "]
[null,null,null,null,null," "]
[null,null,null,null,null," "]
[null,null,null,null,null," "]
[null,null,null,null,null," "]
[null,null,null,null,null," "]
[null,null,null,null,null," "]
[null,null,null,null,null," "]
[null,null,null,null,null," "]
[null,null,null,null,null," "]
[null,null,null,null,null," "]
[null,null,null,null,null," "]
[null,null,null,null,null," "]
[null,null,null,null,null," "]
[null,null,null,null,null," "]
[null,null,null,null,null," "]
[null,null,null,null,null," "]
[null,null,null,null,null," "]
[null,null,null,null,null," "]
[null,null,null,null,null," "]
[null,null,null,null,null," "]
[null,null,null,null,null," "]
[null,null,null,null,null," "]
[null,null,null,null,null," "]
[null,null,null,null,null," "]
[null,null,null,null,null," "]
[null,null,null,null,null," "]
[null,null,null,null,null," "]
[null,null,null,null,null," "]
[null,null,null,null,null," "]
[null,null,null,null,null," "]
[null,null,null,null,null," "]
[null,null,null,null,null," "]
[null,null,null,null,null," "]
[null,null,null,null,null," "]
[null,null,null,null,null," "]
[null,null,null,null,null," "]
[null,null,null,null,null," "]
[null,null,null,null,null," "]
[null,null,null,null,null," "]
[null,null,null,null,null," "]
[null,null,null,null,null," "]
[null,null,null,null,null," "]
[null,null,null,null,null," "]
[null,null,null,null,null," "]
[null,null,null,null,null," "]
[null,null,null,null,null," "]
[null,null,null,null,null," "]
[null,null,null,null,null," "]
[null,null,null,null,null," "]
[null,null,null,null,null," "]
[null,null,null,null,null," "]
[null,null,null,null,null," "]
[null,null,null,null,null," "]
[null,null,null,null,null," "]
[null,null,null,null,null," "]
[null,null,null,null,null," "]
[null,null,null,null,null," "]
[null,null,null,null,null," "]
[null,null,null,null,null," "]
[null,null,null,null,null," "]
[null,null,null,null,null," "]
[null,null,null,null,null," "]
[null,null,null,null,null," "]
[null,null,null,null,null," "]
[null,null,null,null,null," "]
[null,null,null,null,null," "]
[null,null,null,null,null," "]
[null,null,null,null,null," "]
[null,null,null,null,null," "]
[null,null,null,null,null," "]
[null,null,null,null,null," "]
[null,null,null,null,null," "]
[null,null,null,null,null," "]
[null,null,null,null,null," "]
[null,null,null,null,null," "]
[null,null,null,null,null," "]
[null,null,null,null,null," "]
[null,null,null,null,null," "]
[null,null,null,null,null," "]
[null,null,null,null,null," "]
[null,null,null,null,null," "]
[null,null,null,null,null," "]
[null,null,null,null,null," "]
[null,null,null,null,null," "]
[null,null,null,null,null," "]
[null,null,null,null,null," "]
[null,null,null,null,null," "]
[null,null,null,null,null," "]
[null,null,null,null,null," "]
[null,null,null,null,null," "]
[null,null,null,null,null," "]
[null,null,null,null,null," "]
[null,null,null,null,null," "]
[null,null,null,null,null," "]
[null,null,null,null,null," "]
[null,null,null,null,null," "]
[null,null,null,null,null," "]
[null,null,null,null,null," "]
[null,null,null,null,null," "]
[null,null,null,null,null," "]
[null,null,null,null,null," "]
[null,null,null,null,null," "]
[null,null,null,null,null," "]
[null,null,null,null,null," "]
[null,null,null,null,null," "]
[null,null,null,null,null," "]
[null,null,null,null,null," "]
[null,null,null,null,null," "]
[null,null,null,null,null," "]
[null,null,null,null,null," "]
[null,null,null,null,null," "]
[null,null,null,null,null," "]
[null,null,null,null,null," "]
[null,null,null,null,null," "]
[null,null,null,null,null," "]
[null,null,null,null,null," "]
[null,null,null,null,null," "]
[null,null,null,null,null," "]
[null,null,null,null,null," "]
[null,null,null,null,null," "]
[null,null,null,null,null," "]
[null,null,null,null,null," "]
[null,null,null,null,null," "]
[null,null,null,null,null," "]
[null,null,null,null,null," "]
[null,null,null,null,null," "]
[null,null,null,null,null," "]
[null,null,null,null,null," "]
[null,null,null,null,null," "]
[null,null,null,null,null," "]
[null,null,null,null,null," "]
[null,null,null,null,null," "]
[null,null,null,null,null," "]
[null,null,null,null,null," "]
[null,null,null,null,null," "]
[null,null,null,null,null," "]
[null,null,null,null,null," "]
[null,null,null,null,null," "]
[null,null,null,null,null," "]
[null,null,null,null,null," "]
[null,null,null,null,null," "]
[null,null,null,null,null," "]
[null,null,null,null,null," "]
[null,null,null,null,null," "]
[null,null,null,null,null," "]
[null,null,null,null,null," "]
[null,null,null,null,null," "]
[null,null,null,null,null," "]
[null,null,null,null,null," "]
[null,null,null,null,null," "]
[null,null,null,null,null," "]
[null,null,null,null,null," "]
[null,null,null,null,null," "]
[null,null,null,null,null," "]
[null,null,null,null,null," "]
[null,null,null,null,null," "]
[null,null,null,null,null," "]
[null,null,null,null,null," "]
[null,null,null,null,null," "]
[null,null,null,null,null," "]
[null,null,null,null,null," "]
[null,null,null,null,null," "]
[null,null,null,null,null," "]
[null,null,null,null,null," "]
[null,null,null,null,null," "]
[null,null,null,null,null," "]
[null,null,null,null,null," "]
[null,null,null,null,null," "]
[null,null,null,null,null," "]
[null,null,null,null,null," "]
[null,null,null,null,null," "]
[null,null,null,null,null," "]
[null,null,null,null,null," "]
[null,null,null,null,null," "]
[null,null,null,null,null," "]
[null,null,null,null,null," "]
[null,null,null,null,null," "]
[null,null,null,null,null," "]
[null,null,null,null,null," "]
[null,null,null,null,null," "]
[null,null,null,null,null," "]
[null,null,null,null,null," "]
[null,null,null,null,null," "]
[null,null,null,null,null," "]
[null,null,null,null,null," "]
[null,null,null,null,null," "]
[null,null,null,null,null," "]
[null,null,null,null,null," "]
[null,null,null,null,null," "]
[null,null,null,null,null," "]
[null,null,null,null,null," "]
[null,null,null,null,null," "]
[null,null,null,null,null," "]
[null,null,null,null,null," "]
[null,null,null,null,null," "]
[null,null,null,null,null," "]
[null,null,null,null,null," "]
[null,null,null,null,null," "]
[null,null,null,null,null," "]
[null,null,null,null,null," "]
[null,null,null,null,null," "]
[null,null,null,null,null," "]
[null,null,null,null,null," "]
[null,null,null,null,null," "]
[null,null,null,null,null," "]
[null,null,null,null,null," "]
[null,null,null,null,null," "]
[null,null,null,null,null," "]
[null,null,null,null,null," "]
[null,null,null,null,null," "]
[null,null,null,null,null," "]
[null,null,null,null,null," "]
[null,null,null,null,null," "]
[null,null,null,null,null," "]
[null,null,null,null,null," "]
[null,null,null,null,null," "]
[null,null,null,null,null," "]
[null,null,null,null,null," "]
[null,null,null,null,null," "]
[null,null,null,null,null," "]
[null,null,null,null,null," "]
[null,null,null,null,null," "]
[null,null,null,null,null," "]
[null,null,null,null,null," "]
[null,null,null,null,null," "]
[null,null,null,null,null," "]
[null,null,null,null,null," "]
[null,null,null,null,null," "]
[null,null,null,null,null," "]
[null,null,null,null,null," "]
[null,null,null,null,null," "]
[null,null,null,null,null," "]
[null,null,null,null,null," "]
[null,null,null,null,null," "]
[null,null,null,null,null," "]
[null,null,null,null,null," "]
[null,null,null,null,null," "]
[null,null,null,null,null," "]
[null,null,null,null,null," "]
[null,null,null,null,null," "]
[null,null,null,null,null," "]
[null,null,null,null,null," "]
[null,null,null,null,null," "]
[null,null,null,null,null," "]
[null,null,null,null,null," "]
[null,null,null,null,null," "]
[null,null,null,null,null," "]
[null,null,null,null,null," "]
[null,null,null,null,null," "]
[null,null,null,null,null," "]
[null,null,null,null,null," "]
[null,null,null,null,null," "]
[null,null,null,null,null," "]
[null,null,null,null,null," "]
[null,null,null,null,null," "]
[null,null,null,null,null," "]
[null,null,null,null,null," "]
[null,null,null,null,null," "]
[null,null,null,null,null," "]
[null,null,null,null,null," "]
[null,null,null,null,null," "]
[null,null,null,null,null," "]
[null,null,null,null,null," "]
[null,null,null,null,null," "]
[null,null,null,null,null," "]
[null,null,null,null,null," "]
[null,null,null,null,null," "]
[null,null,null,null,null," "]
[null,null,null,null,null," "]
[null,null,null,null,null," "]
[null,null,null,null,null," "]
[null,null,null,null,null," "]
[null,null,null,null,null," "]
[null,null,null,null,null," "]
[null,null,null,null,null," "]
[null,null,null,null,null," "]
[null,null,null,null,null," "]
[null,null,null,null,null," "]
[null,null,null,null,null," "]
[null,null,null,null,null," "]
[null,null,null,null,null," "]
[null,null,null,null,null," "]
[null,null,null,null,null," "]
[null,null,null,null,null," "]
[null,null,null,null,null," "]
[null,null,null,null,null," "]
[null,null,null,null,null," "]
[null,null,null,null,null," "]
[null,null,null,null,null," "]
[null,null,null,null,null," "]
[null,null,null,null,null," "]
[null,null,null,null,null," "]
[null,null,null,null,null," "]
[null,null,null,null,null," "]
[null,null,null,null,null," "]
[null,null,null,null,null," "]
[null,null,null,null,null," "]
[null,null,null,null,null," "]
[null,null,null,null,null," "]
[null,null,null,null,null," "]
[null,null,null,null,null," "]
[null,null,null,null,null," "]
[null,null,null,null,null," "]
[null,null,null,null,null," "]
[null,null,null,null,null," "]
[null,null,null,null,null," "]
[null,null,null,null,null," "]
[null,null,null,null,null," "]
[null,null,null,null,null," "]
[null,null,null,null,null," "]
[null,null,null,null,null," "]
[null,null,null,null,null," "]
[null,null,null,null,null," "]
[null,null,null,null,null," "]
[null,null,null,null,null," "]
[null,null,null,null,null," "]
[null,null,null,null,null," "]
[null,null,null,null,null," "]
[null,null,null,null,null," "]
[null,null,null,null,null," "]
[null,null,null,null,null," "]
[null,null,null,null,null," "]
[null,null,null,null,null," "]
[null,null,null,null,null," "]
[null,null,null,null,null," "]
[null,null,null,null,null," "]
[null,null,null,null,null," "]
[null,null,null,null,null," "]
[null,null,null,null,null," "]
[null,null,null,null,null," "]
[null,null,null,null,null," "]
[null,null,null,null,null," "]
[null,null,null,null,null," "]
[null,null,null,null,null," "]
[null,null,null,null,null," "]
[null,null,null,null,null," "]
[null,null,null,null,null," "]
[null,null,null,null,null," "]
[null,null,null,null,null," "]
[null,null,null,null,null," "]
[null,null,null,null,null," "]
[null,null,null,null,null," "]
[null,null,null,null,null," "]
[null,null,null,null,null," "]
[null,null,null,null,null," "]
[null,null,null,null,null," "]
[null,null,null,null,null," "]
[null,null,null,null,null," "]
[null,null,null,null,null," "]
[null,null,null,null,null," "]
[null,null,null,null,null," "]
[null,null,null,null,null," "]
[null,null,null,null,null," "]
[null,null,null,null,null," "]
[null,null,null,null,null," "]
[null,null,null,null,null," "]
[null,null,null,null,null," "]
[null,null,null,null,null," "]
[null,null,null,null,null," "]
[null,null,null,null,null," "]
[null,null,null,null,null," "]
[null,null,null,null,null," "]
[null,null,null,null,null," "]
[null,null,null,null,null," "]
[null,null,null,null,null," "]
[null,null,null,null,null," "]
[null,null,null,null,null," "]
[null,null,null,null,null," "]
[null,null,null,null,null," "]
[null,null,null,null,null," "]
[null,null,null,null,null," "]
[null,null,null,null,null," "]
[null,null,null,null,null," "]
[null,null,null,null,null," "]
[null,null,null,null,null," "]
[null,null,null,null,null," "]
[null,null,null,null,null," "]
[null,null,null,null,null," "]
[null,null,null,null,null," "]
[null,null,null,null,null," "]
[null,null,null,null,null," "]
[null,null,null,null,null," "]
[null,null,null,null,null," "]
[null,null,null,null,null," "]
[null,null,null,null,null," "]
[null,null,null,null,null," "]
[null,null,null,null,null," "]
[null,null,null,null,null," "]
[null,null,null,null,null," "]
[null,null,null,null,null," "]
[null,null,null,null,null," "]
[null,null,null,null,null," "]
[null,null,null,null,null," "]
[null,null,null,null,null," "]
[null,null,null,null,null," "]
[null,null,null,null,null," "]
[null,null,null,null,null," "]
[null,null,null,null,null," "]
[null,null,null,null,null," "]
[null,null,null,null,null," "]
[null,null,null,null,null," "]
[null,null,null,null,null," "]
[null,null,null,null,null," "]
[null,null,null,null,null," "]
[null,null,null,null,null," "]
[null,null,null,null,null," "]
[null,null,null,null,null," "]
[null,null,null,null,null," "]
[null,null,null,null,null," "]
[null,null,null,null,null," "]
[null,null,null,null,null," "]
[null,null,null,null,null," "]
[null,null,null,null,null," "]
[null,null,null,null,null," "]
[null,null,null,null,null," "]
[null,null,null,null,null," "]
[null,null,null,null,null," "]
[null,null,null,null,null," "]
[null,null,null,null,null," "]
[null,null,null,null,null," "]
[null,null,null,null,null," "]
[null,null,null,null,null," "]
[null,null,null,null,null," "]
[null,null,null,null,null," "]
[null,null,null,null,null," "]
[null,null,null,null,null," "]
[null,null,null,null,null," "]
[null,null,null,null,null," "]
[null,null,null,null,null," "]
[null,null,null,null,null," "]
[null,null,null,null,null," "]
[null,null,null,null,null," "]
[null,null,null,null,null," "]
[null,null,null,null,null," "]
[null,null,null,null,null," "]
[null,null,null,null,null," "]
[null,null,null,null,null," "]
[null,null,null,null,null," "]
[null,null,null,null,null," "]
[null,null,null,null,null," "]
[null,null,null,null,null," "]
[null,null,null,null,null," "]
[null,null,null,null,null," "]
[null,null,null,null,null," "]
[null,null,null,null,null," "]
[null,null,null,null,null," "]
[null,null,null,null,null," "]
[null,null,null,null,null," "]
[null,null,null,null,null," "]
[null,null,null,null,null," "]
[null,null,null,null,null," "]
[null,null,null,null,null," "]
[null,null,null,null,null," "]
[null,null,null,null,null," "]
[null,null,null,null,null," "]
[null,null,null,null,null," "]
[null,null,null,null,null," "]
[null,null,null,null,null," "]
[null,null,null,null,null," "]
[null,null,null,null,null," "]
[null,null,null,null,null," "]
[null,null,null,null,null," "]
[null,null,null,null,null," "]
[null,null,null,null,null," "]
[null,null,null,null,null," "]
[null,null,null,null,null," "]
[null,null,null,null,null," "]
[null,null,null,null,null," "]
[null,null,null,null,null," "]
[null,null,null,null,null," "]
[null,null,null,null,null," "]
[null,null,null,null,null," "]
[null,null,null,null,null," "]
[null,null,null,null,null," "]
[null,null,null,null,null," "]
[null,null,null,null,null," "]
[null,null,null,null,null," "]
[null,null,null,null,null," "]
[null,null,null,null,null," "]
[null,null,null,null,null," "]
[null,null,null,null,null," "]
[null,null,null,null,null," "]
[null,null,null,null,null," "]
[null,null,null,null,null," "]
[null,null,null,null,null," "]
[null,null,null,null,null," "]
[null,null,null,null,null," "]
[null,null,null,null,null," "]
[null,null,null,null,null," "]
[null,null,null,null,null," "]
[null,null,null,null,null," "]
[null,null,null,null,null," "]
[null,null,null,null,null," "]
[null,null,null,null,null," "]
[null,null,null,null,null," "]
[null,null,null,null,null," "]
[null,null,null,null,null," "]
[null,null,null,null,null," "]
[null,null,null,null,null," "]
[null,null,null,null,null," "]
[null,null,null,null,null," "]
[null,null,null,null,null," "]
[null,null,null,null,null," "]
[null,null,null,null,null," "]
[null,null,null,null,null," "]
[null,null,null,null,null," "]
[null,null,null,null,null," "]
[null,null,null,null,null," "]
[null,null,null,null,null," "]
[null,null,null,null,null," "]
[null,null,null,null,null," "]
[null,null,null,null,null," "]
[null,null,null,null,null," "]
[null,null,null,null,null," "]
[null,null,null,null,null," "]
[null,null,null,null,null," "]
[null,null,null,null,null," "]
[null,null,null,null,null," "]
[null,null,null,null,null," "]
[null,null,null,null,null," "]
[null,null,null,null,null," "]
[null,null,null,null,null," "]
[null,null,null,null,null," "]
[null,null,null,null,null," "]
[null,null,null,null,null," "]
[null,null,null,null,null," "]
[null,null,null,null,null," "]
[null,null,null,null,null," "]
[null,null,null,null,null," "]
[null,null,null,null,null," "]
[null,null,null,null,null," "]
[null,null,null,null,null," "]
[null,null,null,null,null," "]
[null,null,null,null,null," "]
[null,null,null,null,null," "]
[null,null,null,null,null," "]
[null,null,null,null,null," "]
[null,null,null,null,null," "]
[null,null,null,null,null," "]
[null,null,null,null,null," "]
[null,null,null,null,null," "]
[null,null,null,null,null," "]
[null,null,null,null,null," "]
[null,null,null,null,null," "]
[null,null,null,null,null," "]
[null,null,null,null,null," "]
[null,null,null,null,null," "]
[null,null,null,null,null," "]
[null,null,null,null,null," "]
[null,null,null,null,null," "]
[null,null,null,null,null," "]
[null,null,null,null,null," "]
[null,null,null,null,null," "]
[null,null,null,null,null," "]
[null,null,null,null,null," "]
[null,null,null,null,null," "]
[null,null,null,null,null," "]
[null,null,null,null,null," "]
[null,null,null,null,null," "]
[null,null,null,null,null," "]
[null,null,null,null,null," "]
[null,null,null,null,null," "]
[null,null,null,null,null," "]
[null,null,null,null,null," "]
[null,null,null,null,null," "]
[null,null,null,null,null," "]
[null,null,null,null,null," "]
[null,null,null,null,null," "]
[null,null,null,null,null," "]
[null,null,null,null,null," "]
[null,null,null,null,null," "]
[null,null,null,null,null," "]
[null,null,null,null,null," "]
[null,null,null,null,null," "]
[null,null,null,null,null," "]
[null,null,null,null,null," "]
[null,null,null,null,null," "]
[null,null,null,null,null," "]
[null,null,null,null,null," "]
[null,null,null,null,null," "]
[null,null,null,null,null," "]
[null,null,null,null,null," "]
[null,null,null,null,null," "]
[null,null,null,null,null," "]
[null,null,null,null,null," "]
[null,null,null,null,null," "]
[null,null,null,null,null," "]
[null,null,null,null,null," "]
[null,null,null,null,null," "]
[null,null,null,null,null," "]
[null,null,null,null,null," "]
[null,null,null,null,null," "]
[null,null,null,null,null," "]
[null,null,null,null,null," "]
[null,null,null,null,null," "]
[null,null,null,null,null," "]
[null,null,null,null,null," "]
[null,null,null,null,null," "]
[null,null,null,null,null," "]
[null,null,null,null,null," "]
[null,null,null,null,null," "]
[null,null,null,null,null," "]
[null,null,null,null,null," "]
[null,null,null,null,null," "]
[null,null,null,null,null," "]
[null,null,null,null,null," "]
[null,null,null,null,null," "]
[null,null,null,null,null," "]
[null,null,null,null,null," "]
[null,null,null,null,null," "]
[null,null,null,null,null," "]
[null,null,null,null,null," "]
[null,null,null,null,null," "]
[null,null,null,null,null," "]
[null,null,null,null,null," "]
[null,null,null,null,null," "]
[null,null,null,null,null," "]
[null,null,null,null,null," "]
[null,null,null,null,null," "]
[null,null,null,null,null," "]
[null,null,null,null,null," "]
[null,null,null,null,null," "]
[null,null,null,null,null," "]
[null,null,null,null,null," "]
[null,null,null,null,null," "]
[null,null,null,null,null," "]
[null,null,null,null,null," "]
[null,null,null,null,null," "]
[null,null,null,null,null," "]
[null,null,null,null,null," "]
[null,null,null,null,null," "]
[null,null,null,null,null," "]
[null,null,null,null,null," "]
[null,null,null,null,null," "]
[null,null,null,null,null," "]
[null,null,null,null,null," "]
[null,null,null,null,null," "]
[null,null,null,null,null," "]
[null,null,null,null,null," "]
[null,null,null,null,null," "]
[null,null,null,null,null," "]
[null,null,null,null,null," "]
[null,null,null,null,null," "]
[null,null,null,null,null," "]
[null,null,null,null,null," "]
[null,null,null,null,null," "]
[null,null,null,null,null," "]
[null,null,null,null,null," "]
[null,null,null,null,null," "]
[null,null,null,null,null," "]
[null,null,null,null,null," "]
[null,null,null,null,null," "]
[null,null,null,null,null," "]
[null,null,null,null,null," "]
[null,null,null,null,null," "]
[null,null,null,null,null," "]
[null,null,null,null,null," "]
[null,null,null,null,null," "]
[null,null,null,null,null," "]
[null,null,null,null,null," "]
[null,null,null,null,null," "]
[null,null,null,null,null," "]
[null,null,null,null,null," "]
[null,null,null,null,null," "]
[null,null,null,null,null," "]
[null,null,null,null,null," "]
[null,null,null,null,null," "]
[null,null,null,null,null," "]
[null,null,null,null,null," "]
[null,null,null,null,null," "]
[null,null,null,null,null," "]
[null,null,null,null,null," "]
[null,null,null,null,null," "]
[null,null,null,null,null," "]
[null,null,null,null,null," "]
[null,null,null,null,null," "]
[null,null,null,null,null," "]
[null,null,null,null,null," "]
[null,null,null,null,null," "]
[null,null,null,null,null," "]
[null,null,null,null,null," "]
[null,null,null,null,null," "]
[null,null,null,null,null," "]
[null,null,null,null,null," "]
[null,null,null,null,null," "]
[null,null,null,null,null," "]
[null,null,null,null,null," "]
[null,null,null,null,null," "]
[null,null,null,null,null," "]
[null,null,null,null,null," "]
[null,null,null,null,null," "]
[null,null,null,null,null," "]
[null,null,null,null,null," "]
[null,null,null,null,null," "]
[null,null,null,null,null," "]
[null,null,null,null,null," "]
[null,null,null,null,null," "]
[null,null,null,null,null," "]
[null,null,null,null,null," "]
[null,null,null,null,null," "]
[null,null,null,null,null," "]
[null,null,null,null,null," "]
[null,null,null,null,null," "]
[null,null,null,null,null," "]
[null,null,null,null,null," "]
[null,null,null,null,null," "]
[null,null,null,null,null," "]
[null,null,null,null,null," "]
[null,null,null,null,null," "]
[null,null,null,null,null," "]
[null,null,null,null,null," "]
[null,null,null,null,null," "]
[null,null,null,null,null," "]
[null,null,null,null,null," "]
[null,null,null,null,null," "]
[null,null,null,null,null," "]
[null,null,null,null,null," "]
[null,null,null,null,null," "]
[null,null,null,null,null," "]
[null,null,null,null,null," "]
[null,null,null,null,null," "]
[null,null,null,null,null," "]
[null,null,null,null,null," "]
[null,null,null,null,null," "]
[null,null,null,null,null," "]
[null,null,null,null,null," "]
[null,null,null,null,null," "]
[null,null,null,null,null," "]
[null,null,null,null,null," "]
[null,null,null,null,null," "]
[null,null,null,null,null," "]
[null,null,null,null,null," "]
[null,null,null,null,null," "]
[null,null,null,null,null," "]
[null,null,null,null,null," "]
[null,null,null,null,null," "]
[null,null,null,null,null," "]
[null,null,null,null,null," "]
[null,null,null,null,null," "]
[null,null,null,null,null," "]
[null,null,null,null,null," "]
[null,null,null,null,null," "]
[null,null,null,null,null," "]
[null,null,null,null,null," "]
[null,null,null,null,null," "]
[null,null,null,null,null," "]
[null,null,null,null,null," "]
[null,null,null,null,null," "]
[null,null,null,null,null," "]
[null,null,null,null,null," "]
[null,null,null,null,null," "]
[null,null,null,null,null," "]
[null,null,null,null,null," "]
[null,null,null,null,null," "]
[null,null,null,null,null," "]
[null,null,null,null,null," "]
[null,null,null,null,null," "]
[null,null,null,null,null," "]
[null,null,null,null,null," "]
[null,null,null,null,null," "]
[null,null,null,null,null," "]
[null,null,null,null,null," "]
[null,null,null,null,null," "]
[null,null,null,null,null," "]
[null,null,null,null,null," "]
[null,null,null,null,null," "]
[null,null,null,null,null," "]
[null,null,null,null,null," "]
[null,null,null,null,null," "]
[null,null,null,null,null," "]
[null,null,null,null,null," "]
[null,null,null,null,null," "]
[null,null,null,null,null," "]
[null,null,null,null,null," "]
[null,null,null,null,null," "]
[null,null,null,null,null," "]
[null,null,null,null,null," "]
[null,null,null,null,null," "]
[null,null,null,null,null," "]
[null,null,null,null,null," "]
[null,null,null,null,null," "]
[null,null,null,null,null," "]
[null,null,null,null,null," "]
[null,null,null,null,null," "]
[null,null,null,null,null," "]
[null,null,null,null,null," "]
[null,null,null,null,null," "]
[null,null,null,null,null," "]
[null,null,null,null,null," "]
[null,null,null,null,null," "]
[null,null,null,null,null," "]
[null,null,null,null,null," "]
[null,null,null,null,null," "]
[null,null,null,null,null," "]
[null,null,null,null,null," "]
[null,null,null,null,null," "]
[null,null,null,null,null," "]
[null,null,null,null,null," "]
[null,null,null,null,null," "]
[null,null,null,null,null," "]
[null,null,null,null,null," "]
[null,null,null,null,null," "]
[null,null,null,null,null," "]
[null,null,null,null,null," "]
[null,null,null,null,null," "]
[null,null,null,null,null," "]
[null,null,null,null,null," "]
[null,null,null,null,null," "]
[null,null,null,null,null," "]
[null,null,null,null,null," "]
[null,null,null,null,null," "]
[null,null,null,null,null," "]
[null,null,null,null,null," "]
[null,null,null,null,null," "]
[null,null,null,null,null," "]
[null,null,null,null,null," "]
[null,null,null,null,null," "]
[null,null,null,null,null," "]
[null,null,null,null,null," "]
[null,null,null,null,null," "]
[null,null,null,null,null," "]
[null,null,null,null,null," "]
[null,null,null,null,null," "]
[null,null,null,null,null," "]
[null,null,null,null,null," "]
[null,null,null,null,null," "]
[null,null,null,null,null," "]
[null,null,null,null,null," "]
[null,null,null,null,null," "]
[null,null,null,null,null," "]
[null,null,null,null,null," "]
[null,null,null,null,null," "]
[null,null,null,null,null," "]
[null,null,null,null,null," "]
[null,null,null,null,null," "]
[null,null,null,null,null," "]
[null,null,null,null,null," "]
[null,null,null,null,null," "]
[null,null,null,null,null," "]
[null,null,null,null,null," "]
[null,null,null,null,null," "]
[null,null,null,null,null," "]
[null,null,null,null,null," "]
[null,null,null,null,null," "]
[null,null,null,null,null," "]
[null,null,null,null,null," "]
[null,null,null,null,null," "]
[null,null,null,null,null," "]
[null,null,null,null,null," "]
[null,null,null,null,null," "]
[null,null,null,null,null," "]
[null,null,null,null,null," "]
[null,null,null,null,null," "]
[null,null,null,null,null," "]
[null,null,null,null,null," "]
[null,null,null,null,null," "]
[null,null,null,null,null," "]
[null,null,null,null,null," "]
[null,null,null,null,null," "]
[null,null,null,null,null," "]
[null,null,null,null,null," "]
[null,null,null,null,null," "]
[null,null,null,null,null," "]
[null,null,null,null,null," "]
[null,null,null,null,null," "]
[null,null,null,null,null," "]
[null,null,null,null,null," "]
[null,null,null,null,null," "]
[null,null,null,null,null," "]
[null,null,null,null,null," "]
[null,null,null,null,null," "]
[null,null,null,null,null," "]
[null,null,null,null,null," "]
[null,null,null,null,null," "]
[null,null,null,null,null," "]
[null,null,null,null,null," "]
[null,null,null,null,null," "]
[null,null,null,null,null," "]
[null,null,null,null,null," "]
[null,null,null,null,null," "]
[null,null,null,null,null," "]
[null,null,null,null,null," "]
[null,null,null,null,null," "]
[null,null,null,null,null," "]
[null,null,null,null,null," "]
[null,null,null,null,null," "]
[null,null,null,null,null," "]
[null,null,null,null,null," "]
[null,null,null,null,null," "]
[null,null,null,null,null," "]
[null,null,null,null,null," "]
[null,null,null,null,null," "]
[null,null,null,null,null," "]
[null,null,null,null,null," "]
[null,null,null,null,null," "]
[null,null,null,null,null," "]
[null,null,null,null,null," "]
[null,null,null,null,null," "]
[null,null,null,null,null," "]
[null,null,null,null,null," "]
[null,null,null,null,null," "]
[null,null,null,null,null," "]
[null,null,null,null,null," "]
[null,null,null,null,null," "]
[null,null,null,null,null," "]
[null,null,null,null,null," "]
[null,null,null,null,null," "]
[null,null,null,null,null," "]
[null,null,null,null,null," "]
[null,null,null,null,null," "]
[null,null,null,null,null," "]
[null,null,null,null,null," "]
[null,null,null,null,null," "]
[null,null,null,null,null," "]
[null,null,null,null,null," "]
[null,null,null,null,null," "]
[null,null,null,null,null," "]
[null,null,null,null,null," "]
[null,null,null,null,null," "]
[null,null,null,null,null," "]
[null,null,null,null,null," "]
[null,null,null,null,null," "]
[null,null,null,null,null," "]
[null,null,null,null,null," "]
[null,null,null,null,null," "]
[null,null,null,null,null," "]
[null,null,null,null,null," "]
[null,null,null,null,null," "]
[null,null,null,null,null," "]
[null,null,null,null,null," "]
[null,null,null,null,null," "]
[null,null,null,null,null," "]
[null,null,null,null,null," "]
[null,null,null,null,null," "]
[null,null,null,null,null," "]
[null,null,null,null,null," "]
[null,null,null,null,null," "]
[null,null,null,null,null," "]
[null,null,null,null,null," "]
[null,null,null,null,null," "]
[null,null,null,null,null," "]
[null,null,null,null,null," "]
[null,null,null,null,null," "]
[null,null,null,null,null," "]
[null,null,null,null,null," "]
[null,null,null,null,null," "]
[null,null,null,null,null," "]
[null,null,null,null,null," "]
[null,null,null,null,null," "]
[null,null,null,null,null," "]
[null,null,null,null,null," "]
[null,null,null,null,null," "]
[null,null,null,null,null," "]
[null,null,null,null,null," "]
[null,null,null,null,null," "]
[null,null,null,null,null," "]
[null,null,null,null,null," "]
[null,null,null,null,null," "]
[null,null,null,null,null," "]
[null,null,null,null,null," "]
[null,null,null,null,null," "]
[null,null,null,null,null," "]
[null,null,null,null,null," "]
[null,null,null,null,null," "]
[null,null,null,null,null," "]
[null,null,null,null,null," "]
[null,null,null,null,null," "]
[null,null,null,null,null," "]
[null,null,null,null,null," "]
[null,null,null,null,null," "]
[null,null,null,null,null," "]
[null,null,null,null,null," "]
[null,null,null,null,null," "]
[null,null,null,null,null," "]
[null,null,null,null,null," "]
[null,null,null,null,null," "]
[null,null,null,null,null," "]
[null,null,null,null,null," "]
[null,null,null,null,null," "]
[null,null,null,null,null," "]
[null,null,null,null,null," "]
[null,null,null,null,null," "]
[null,null,null,null,null," "]
[null,null,null,null,null," "]
[null,null,null,null,null," "]
[null,null,null,null,null," "]
[null,null,null,null,null," "]
[null,null,null,null,null," "]
[null,null,null,null,null," "]
[null,null,null,null,null," "]
[null,null,null,null,null," "]
[null,null,null,null,null," "]
[null,null,null,null,null," "]
[null,null,null,null,null," "]
[null,null,null,null,null," "]
[null,null,null,null,null," "]
[null,null,null,null,null," "]
[null,null,null,null,null," "]
[null,null,null,null,null," "]
[null,null,null,null,null," "]
[null,null,null,null,null," "]
[null,null,null,null,null," "]
[null,null,null,null,null," "]
[null,null,null,null,null," "]
[null,null,null,null,null," "]
[null,null,null,null,null," "]
[null,null,null,null,null," "]
[null,null,null,null,null," "]
[null,null,null,null,null," "]
[null,null,null,null,null," "]
[null,null,null,null,null," "]
[null,null,null,null,null," "]
[null,null,null,null,null," "]
[null,null,null,null,null," "]
[null,null,null,null,null," "]
[null,null,null,null,null," "]
[null,null,null,null,null," "]
[null,null,null,null,null," "]
[null,null,null,null,null," "]
[null,null,null,null,null," "]
[null,null,null,null,null," "]
[null,null,null,null,null," "]
[null,null,null,null,null," "]
[null,null,null,null,null," "]
[null,null,null,null,null," "]
[null,null,null,null,null," "]
[null,null,null,null,null," "]
[null,null,null,null,null," "]
[null,null,null,null,null," "]
[null,null,null,null,null," "]
[null,null,null,null,null," "]
[null,null,null,null,null," "]
[null,null,null,null,null," "]
[null,null,null,null,null," "]
[null,null,null,null,null," "]
[null,null,null,null,null," "]
[null,null,null,null,null," "]
[null,null,null,null,null," "]
[null,null,null,null,null," "]
[null,null,null,null,null," "]
[null,null,null,null,null," "]
[null,null,null,null,null," "]
[null,null,null,null,null," "]
[null,null,null,null,null," "]
[null,null,null,null,null," "]
[null,null,null,null,null," "]
[null,null,null,null,null," "]
[null,null,null,null,null," "]
[null,null,null,null,null," "]
[null,null,null,null,null," "]
[null,null,null,null,null," "]
[null,null,null,null,null," "]
[null,null,null,null,null," "]
[null,null,null,null,null," "]
[null,null,null,null,null," "]
[null,null,null,null,null," "]
[null,null,null,null,null," "]
[null,null,null,null,null," "]
[null,null,null,null,null," "]
[null,null,null,null,null," "]
[null,null,null,null,null," "]
[null,null,null,null,null," "]
[null,null,null,null,null," "]
[null,null,null,null,null," "]
[null,null,null,null,null," "]
[null,null,null,null,null," "]
[null,null,null,null,null," "]
[null,null,null,null,null," "]
[null,null,null,null,null," "]
[null,null,null,null,null," "]
[null,null,null,null,null," "]
[null,null,null,null,null," "]
[null,null,null,null,null," "]
[null,null,null,null,null," "]
[null,null,null,null,null," "]
[null,null,null,null,null," "]
[null,null,null,null,null," "]
[null,null,null,null,null," "]
[null,null,null,null,null," "]
[null,null,null,null,null," "]
[null,null,null,null,null," "]
[null,null,null,null,null," "]
[null,null,null,null,null," "]
[null,null,null,null,null," "]
[null,null,null,null,null," "]
[null,null,null,null,null," "]
[null,null,null,null,null," "]
[null,null,null,null,null," "]
[null,null,null,null,null," "]
[null,null,null,null,null," "]
[null,null,null,null,null," "]
[null,null,null,null,null," "]
[null,null,null,null,null," "]
[null,null,null,null,null," "]
[null,null,null,null,null," "]
[null,null,null,null,null," "]
[null,null,null,null,null," "]
[null,null,null,null,null," "]
[null,null,null,null,null," "]
[null,null,null,null,null," "]
[null,null,null,null,null," "]
[null,null,null,null,null," "]
[null,null,null,null,null," "]
[null,null,null,null,null," "]
[null,null,null,null,null," "]
[null,null,null,null,null," "]
[null,null,null,null,null," "]
[null,null,null,null,null," "]
[null,null,null,null,null," "]
[null,null,null,null,null," "]
[null,null,null,null,null," "]
[null,null,null,null,null," "]
[null,null,null,null,null," "]
[null,null,null,null,null," "]
[null,null,null,null,null," "]
[null,null,null,null,null," "]
[null,null,null,null,null," "]
[null,null,null,null,null," "]
[null,null,null,null,null," "]
[null,null,null,null,null," "]
[null,null,null,null,null," "]
[null,null,null,null,null," "]
[null,null,null,null,null," "]
[null,null,null,null,null," "]
[null,null,null,null,null," "]
[null,null,null,null,null," "]
[null,null,null,null,null," "]
[null,null,null,null,null," "]
[null,null,null,null,null," "]
[null,null,null,null,null," "]
[null,null,null,null,null," "]
[null,null,null,null,null," "]
[null,null,null,null,null," "]
[null,null,null,null,null," "]
[null,null,null,null,null," "]
[null,null,null,null,null," "]
[null,null,null,null,null," "]
[null,null,null,null,null," "]
[null,null,null,null,null," "]
[null,null,null,null,null," "]
[null,null,null,null,null," "]
[null,null,null,null,null," "]
[null,null,null,null,null," "]
[null,null,null,null,null," "]
[null,null,null,null,null," "]
[null,null,null,null,null," "]
[null,null,null,null,null," "]
[null,null,null,null,null," "]
[null,null,null,null,null," "]
[null,null,null,null,null," "]
[null,null,null,null,null," "]
[null,null,null,null,null," "]
[null,null,null,null,null," "]
[null,null,null,null,null," "]
[null,null,null,null,null," "]
[null,null,null,null,null," "]
[null,null,null,null,null," "]
[null,null,null,null,null," "]
[null,null,null,null,null," "]
[null,null,null,null,null," "]
[null,null,null,null,null," "]
[null,null,null,null,null," "]
[null,null,null,null,null," "]
[null,null,null,null,null," "]
[null,null,null,null,null," "]
[null,null,null,null,null," "]
[null,null,null,null,null," "]
[null,null,null,null,null," "]
[null,null,null,null,null," "]
[null,null,null,null,null," "]
[null,null,null,null,null," "]
[null,null,null,null,null," "]
[null,null,null,null,null," "]
[null,null,null,null,null," "]
[null,null,null,null,null," "]
[null,null,null,null,null," "]
[null,null,null,null,null," "]
[null,null,null,null,null," "]
[null,null,null,null,null," "]
[null,null,null,null,null," "]
[null,null,null,null,null," "]
[null,null,null,null,null," "]
[null,null,null,null,null," "]
[null,null,null,null,null," "]
[null,null,null,null,null," "]
[null,null,null,null,null," "]
[null,null,null,null,null," "]
[null,null,null,null,null," "]
[null,null,null,null,null," "]
[null,null,null,null,null," "]
[null,null,null,null,null," "]
[null,null,null,null,null," "]
[null,null,null,null,null," "]
[null,null,null,null,null," "]
[null,null,null,null,null," "]
[null,null,null,null,null," "]
[null,null,null,null,null," "]
[null,null,null,null,null," "]
[null,null,null,null,null," "]
[null,null,null,null,null," "]
[null,null,null,null,null," "]
[null,null,null,null,null," "]
[null,null,null,null,null," "]
[null,null,null,null,null," "]
[null,null,null,null,null," "]
[null,null,null,null,null," "]
[null,null,null,null,null," "]
[null,null,null,null,null," "]
[null,null,null,null,null," "]
[null,null,null,null,null," "]
[null,null,null,null,null," "]
[null,null,null,null,null," "]
[null,null,null,null,null," "]
[null,null,null,null,null," "]
[null,null,null,null,null," "]
[null,null,null,null,null," "]
[null,null,null,null,null," "]
[null,null,null,null,null," "]
[null,null,null,null,null," "]
[null,null,null,null,null," "]
[null,null,null,null,null," "]
[null,null,null,null,null," "]
[null,null,null,null,null," "]
[null,null,null,null,null," "]
[null,null,null,null,null," "]
[null,null,null,null,null," "]
[null,null,null,null,null," "]
[null,null,null,null,null," "]
[null,null,null,null,null," "]
[null,null,null,null,null," "]
[null,null,null,null,null," "]
[null,null,null,null,null," "]
[null,null,null,null,null," "]
[null,null,null,null,null," "]
[null,null,null,null,null," "]
[null,null,null,null,null," "]
[null,null,null,null,null," "]
[null,null,null,null,null," "]
[null,null,null,null,null," "]
[null,null,null,null,null," "]
[null,null,null,null,null," "]
[null,null,null,null,null," "]
[null,null,null,null,null," "]
[null,null,null,null,null," "]
[null,null,null,null,null," "]
[null,null,null,null,null," "]
[null,null,null,null,null," "]
[null,null,null,null,null," "]
[null,null,null,null,null," "]
[null,null,null,null,null," "]
[null,null,null,null,null," "]
[null,null,null,null,null," "]
[null,null,null,null,null," "]
[null,null,null,null,null," "]
[null,null,null,null,null," "]
[null,null,null,null,null," "]
[null,null,null,null,null," "]
[null,null,null,null,null," "]
[null,null,null,null,null," "]
[null,null,null,null,null," "]
[null,null,null,null,null," "]
[null,null,null,null,null," "]
[null,null,null,null,null," "]
[null,null,null,null,null," "]
[null,null,null,null,null," "]
[null,null,null,null,null," "]
[null,null,null,null,null," "]
[null,null,null,null,null," "]
[null,null,null,null,null," "]
[null,null,null,null,null," "]
[null,null,null,null,null," "]
[null,null,null,null,null," "]
[null,null,null,null,null," "]
[null,null,null,null,null," "]
[null,null,null,null,null," "]
[null,null,null,null,null," "]
[null,null,null,null,null," "]
[null,null,null,null,null," "]
[null,null,null,null,null," "]
[null,null,null,null,null," "]
[null,null,null,null,null," "]
[null,null,null,null,null," "]
[null,null,null,null,null," "]
[null,null,null,null,null," "]
[null,null,null,null,null," "]
[null,null,null,null,null," "]
[null,null,null,null,null," "]
[null,null,null,null,null," "]
[null,null,null,null,null," "]
[null,null,null,null,null," "]
[null,null,null,null,null," "]
[null,null,null,null,null," "]
[null,null,null,null,null," "]
[null,null,null,null,null," "]
[null,null,null,null,null," "]
[null,null,null,null,null," "]
[null,null,null,null,null," "]
[null,null,null,null,null," "]
[null,null,null,null,null," "]
[null,null,null,null,null," "]
[null,null,null,null,null," "]
[null,null,null,null,null," "]
[null,null,null,null,null," "]
[null,null,null,null,null," "]
[null,null,null,null,null," "]
[null,null,null,null,null," "]
[null,null,null,null,null," "]
[null,null,null,null,null," "]
[null,null,null,null,null," "]
[null,null,null,null,null," "]
[null,null,null,null,null," "]
[null,null,null,null,null," "]
[null,null,null,null,null," "]
[null,null,null,null,null," "]
[null,null,null,null,null," "]
[null,null,null,null,null," "]
[null,null,null,null,null," "]
[null,null,null,null,null," "]
[null,null,null,null,null," "]
[null,null,null,null,null," "]
[null,null,null,null,null," "]
[null,null,null,null,null," "]
[null,null,null,null,null," "]
[null,null,null,null,null," "]
[null,null,null,null,null," "]
[null,null,null,null,null," "]
[null,null,null,null,null," "]
[null,null,null,null,null," "]
[null,null,null,null,null," "]
[null,null,null,null,null," "]
[null,null,null,null,null," "]
[null,null,null,null,null," "]
[null,null,null,null,null," "]
[null,null,null,null,null," "]
[null,null,null,null,null," "]
[null,null,null,null,null," "]
[null,null,null,null,null," "]
[null,null,null,null,null," "]
[null,null,null,null,null," "]
[null,null,null,null,null," "]
[null,null,null,null,null," "]
[null,null,null,null,null," "]
[null,null,null,null,null," "]
[null,null,null,null,null," "]
[null,null,null,null,null," "]
[null,null,null,null,null," "]
[null,null,null,null,null," "]
[null,null,null,null,null," "]
[null,null,null,null,null," "]
[null,null,null,null,null," "]
[null,null,null,null,null," "]
[null,null,null,null,null," "]
[null,null,null,null,null," "]
[null,null,null,null,null," "]
[null,null,null,null,null," "]
[null,null,null,null,null," "]
[null,null,null,null,null," "]
[null,null,null,null,null," "]
[null,null,null,null,null," "]
[null,null,null,null,null," "]
[null,null,null,null,null," "]
[null,null,null,null,null," "]
[null,null,null,null,null," "]
[null,null,null,null,null," "]
[null,null,null,null,null," "]
[null,null,null,null,null," "]
[null,null,null,null,null," "]
[null,null,null,null,null," "]
[null,null,null,null,null," "]
[null,null,null,null,null," "]
[null,null,null,null,null," "]
[null,null,null,null,null," "]
[null,null,null,null,null," "]
[null,null,null,null,null," "]
[null,null,null,null,null," "]
[null,null,null,null,null," "]
[null,null,null,null,null," "]
[null,null,null,null,null," "]
[null,null,null,null,null," "]
[null,null,null,null,null," "]
[null,null,null,null,null," "]
[null,null,null,null,null," "]
[null,null,null,null,null," "]
[null,null,null,null,null," "]
[null,null,null,null,null," "]
[null,null,null,null,null," "]
[null,null,null,null,null," "]
[null,null,null,null,null," "]
[null,null,null,null,null," "]
[null,null,null,null,null," "]
[null,null,null,null,null," "]
[null,null,null,null,null," "]
[null,null,null,null,null," "]
[null,null,null,null,null," "]
[null,null,null,null,null," "]
[null,null,null,null,null," "]
[null,null,null,null,null," "]
[null,null,null,null,null," "]
[null,null,null,null,null," "]
[null,null,null,null,null," "]
[null,null,null,null,null," "]
[null,null,null,null,null," "]
[null,null,null,null,null," "]
[null,null,null,null,null," "]
[null,null,null,null,null," "]
[null,null,null,null,null," "]
[null,null,null,null,null," "]
[null,null,null,null,null," "]
[null,null,null,null,null," "]
[null,null,null,null,null," "]
[null,null,null,null,null," "]
[null,null,null,null,null," "]
[null,null,null,null,null," "]
[null,null,null,null,null," "]
[null,null,null,null,null," "]
[null,null,null,null,null," "]
[null,null,null,null,null," "]
[null,null,null,null,null," "]
[null,null,null,null,null," "]
[null,null,null,null,null," "]
[null,null,null,null,null," "]
[null,null,null,null,null," "]
[null,null,null,null,null," "]
[null,null,null,null,null," "]
[null,null,null,null,null," "]
[null,null,null,null,null," "]
[null,null,null,null,null," "]
[null,null,null,null,null," "]
[null,null,null,null,null," "]
[null,null,null,null,null," "]
[null,null,null,null,null," "]
[null,null,null,null,null," "]
[null,null,null,null,null," "]
[null,null,null,null,null," "]
[null,null,null,null,null," "]
[null,null,null,null,null," "]
[null,null,null,null,null," "]
[null,null,null,null,null," "]
[null,null,null,null,null," "]
[null,null,null,null,null," "]
[null,null,null,null,null," "]
[null,null,null,null,null," "]
[null,null,null,null,null," "]
[null,null,null,null,null," "]
[null,null,null,null,null," "]
[null,null,null,null,null," "]
[null,null,null,null,null," "]
[null,null,null,null,null," "]
[null,null,null,null,null," "]
[null,null,null,null,null," "]
[null,null,null,null,null," "]
[null,null,null,null,null," "]
[null,null,null,null,null," "]
[null,null,null,null,null," "]
[null,null,null,null,null," "]
[null,null,null,null,null," "]
[null,null,null,null,null," "]
[null,null,null,null,null," "]
[null,null,null,null,null," "]
[null,null,null,null,null," "]
[null,null,null,null,null," "]
[null,null,null,null,null," "]
[null,null,null,null,null," "]
[null,null,null,null,null," "]
[null,null,null,null,null," "]
[null,null,null,null,null," "]
[null,null,null,null,null," "]
[null,null,null,null,null," "]
[null,null,null,null,null," "]
[null,null,null,null,null," "]
[null,null,null,null,null," "]
[null,null,null,null,null," "]
[null,null,null,null,null," "]
[null,null,null,null,null," "]
[null,null,null,null,null," "]
[null,null,null,null,null," "]
[null,null,null,null,null," "]
[null,null,null,null,null," "]
[null,null,null,null,null," "]
[null,null,null,null,null," "]
[null,null,null,null,null," "]
[null,null,null,null,null," "]
[null,null,null,null,null," "]
[null,null,null,null,null," "]
[null,null,null,null,null," "]
[null,null,null,null,null," "]
[null,null,null,null,null," "]
[null,null,null,null,null," "]
[null,null,null,null,null," "]
[null,null,null,null,null," "]
[null,null,null,null,null," "]
[null,null,null,null,null," "]
[null,null,null,null,null," "]
[null,null,null,null,null," "]
[null,null,null,null,null," "]
[null,null,null,null,null," "]
[null,null,null,null,null," "]
[null,null,null,null,null," "]
[null,null,null,null,null," "]
[null,null,null,null,null," "]
[null,null,null,null,null," "]
[null,null,null,null,null," "]
[null,null,null,null,null," "]
[null,null,null,null,null," "]
[null,null,null,null,null," "]
[null,null,null,null,null," "]
[null,null,null,null,null," "]
[null,null,null,null,null," "]
[null,null,null,null,null," "]
[null,null,null,null,null," "]
[null,null,null,null,null," "]
[null,null,null,null,null," "]
[null,null,null,null,null," "]
[null,null,null,null,null," "]
[null,null,null,null,null," "]
[null,null,null,null,null," "]
[null,null,null,null,null," "]
[null,null,null,null,null," "]
[null,null,null,null,null," "]
[null,null,null,null,null," "]
[null,null,null,null,null," "]
[null,null,null,null,null," "]
[null,null,null,null,null," "]
[null,null,null,null,null," "]
[null,null,null,null,null," "]
[null,null,null,null,null," "]
[null,null,null,null,null," "]
[null,null,null,null,null," "]
[null,null,null,null,null," "]
[null,null,null,null,null," "]
[null,null,null,null,null," "]
[null,null,null,null,null," "]
[null,null,null,null,null," "]
[null,null,null,null,null," "]
[null,null,null,null,null," "]
[null,null,null,null,null," "]
[null,null,null,null,null," "]
[null,null,null,null,null," "]
[null,null,null,null,null," "]
[null,null,null,null,null," "]
[null,null,null,null,null," "]
[null,null,null,null,null," "]
[null,null,null,null,null," "]
[null,null,null,null,null," "]
[null,null,null,null,null," "]
[null,null,null,null,null," "]
[null,null,null,null,null," "]
[null,null,null,null,null," "]
[null,null,null,null,null," "]
[null,null,null,null,null," "]
[null,null,null,null,null," "]
[null,null,null,null,null," "]
[null,null,null,null,null," "]
[null,null,null,null,null," "]
[null,null,null,null,null," "]
[null,null,null,null,null," "]
[null,null,null,null,null," "]
[null,null,null,null,null," "]
[null,null,null,null,null," "]
[null,null,null,null,null," "]
[null,null,null,null,null," "]
[null,null,null,null,null," "]
[null,null,null,null,null," "]
[null,null,null,null,null," "]
[null,null,null,null,null," "]
[null,null,null,null,null," "]
[null,null,null,null,null," "]
[null,null,null,null,null," "]
[null,null,null,null,null," "]
[null,null,null,null,null," "]
[null,null,null,null,null," "]
[null,null,null,null,null," "]
[null,null,null,null,null," "]
[null,null,null,null,null," "]
[null,null,null,null,null," "]
[null,null,null,null,null," "]
[null,null,null,null,null," "]
[null,null,null,null,null," "]
[null,null,null,null,null," "]
[null,null,null,null,null," "]
[null,null,null,null,null," "]
[null,null,null,null,null," "]
[null,null,null,null,null," "]
[null,null,null,null,null," "]
[null,null,null,null,null," "]
[null,null,null,null,null," "]
[null,null,null,null,null," "]
[null,null,null,null,null," "]
[null,null,null,null,null," "]
[null,null,null,null,null," "]
[null,null,null,null,null," "]
[null,null,null,null,null," "]
[null,null,null,null,null," "]
[null,null,null,null,null," "]
[null,null,null,null,null," "]
[null,null,null,null,null," "]
[null,null,null,null,null," "]
[null,null,null,null,null," "]
[null,null,null,null,null," "]
[null,null,null,null,null," "]
[null,null,null,null,null," "]
[null,null,null,null,null," "]
[null,null,null,null,null," "]
[null,null,null,null,null," "]
[null,null,null,null,null," "]
[null,null,null,null,null," "]
[null,null,null,null,null," "]
[null,null,null,null,null," "]
[null,null,null,null,null," "]
[null,null,null,null,null," "]
[null,null,null,null,null," "]
[null,null,null,null,null," "]
[null,null,null,null,null," "]
[null,null,null,null,null," "]
[null,null,null,null,null," "]
[null,null,null,null,null," "]
[null,null,null,null,null," "]
[null,null,null,null,null," "]
[null,null,null,null,null," "]
[null,null,null,null,null," "]
[null,null,null,null,null," "]
[null,null,null,null,null," "]
[null,null,null,null,null," "]
[null,null,null,null,null," "]
[null,null,null,null,null," "]
[null,null,null,null,null," "]
[null,null,null,null,null," "]
[null,null,null,null,null," "]
[null,null,null,null,null," "]
[null,null,null,null,null," "]
[null,null,null,null,null," "]
[null,null,null,null,null," "]
[null,null,null,null,null," "]
[null,null,null,null,null," "]
[null,null,null,null,null," "]
[null,null,null,null,null," "]
[null,null,null,null,null," "]
[null,null,null,null,null," "]
[null,null,null,null,null," "]
[null,null,null,null,null," "]
[null,null,null,null,null," "]
[null,null,null,null,null," "]
[null,null,null,null,null," "]
[null,null,null,null,null," "]
[null,null,null,null,null," "]
[null,null,null,null,null," "]
[null,null,null,null,null," "]
[null,null,null,null,null," "]
[null,null,null,null,null," "]
[null,null,null,null,null," "]
[null,null,null,null,null," "]
[null,null,null,null,null," "]
[null,null,null,null,null," "]
[null,null,null,null,null," "]
[null,null,null,null,null," "]

{"sheet":"Lighting Prices","index":5,"n_rows":98,"n_cols":6,"rows_kept":98,"cut":false,"hidden":true,"merged":[]}
[]
["@VL-K01-0171NW-3","Nova Mini 3 Light Kit NW",null,null,45.5,54.6]
["@VL-K01-0171NW-5","Nova Mini 5 Light Kit NW",null,null,73.5,88.2]
["@VL-K01-0171WW-3","Nova Mini 3 Light Kit WW",null,null,45.5,54.6]
["@VL-K01-0171WW-5","Nova Mini 5 Light Kit WW",null,null,73.5,88.2]
["VL-K01-0171NW","Nova Mini LED Ultra Thin Light NW",null,null,12.25,14.7]
["VL-K01-0171WW","Nova Mini LED Ultra Thin Light WW",null,null,12.25,14.7]
["@VL-K01-0120SSNW-3","Galaxy COB Triangular 3 Light Kit NW",null,null,42,50.4]
["@VL-K01-0120SSNW-5","Galaxy COB Triangular 5 Light Kit NW",null,null,67.668999999999997,81.202799999999996]
["@VL-K01-0120SSWW-3","Galaxy COB Triangular 3 Light Kit WW",null,null,42,50.4]
["@VL-K01-0120SSWW-5","Galaxy COB Triangular 5 Light Kit WW",null,null,67.668999999999997,81.202799999999996]
["VL-K01-0120SSNW","Galaxy COB LED Triangular Light NW",null,null,11.083333333333334,13.3]
["VL-K01-0120SSWW","Galaxy COB LED Triangular Light WW",null,null,11.083333333333334,13.3]
["@VL-K01-0102SSNW-3","Galaxy COB Round 3 Light Kit NW",null,null,38.5,46.199999999999996]
["@VL-K01-0102SSNW-5","Galaxy COB Round 5 Light Kit NW",null,null,61.830999999999996,74.197199999999995]
["@VL-K01-0102SSWW-3","Galaxy COB Round 3 Light Kit WW",null,null,38.5,46.199999999999996]
["@VL-K01-0102SSWW-5","Galaxy COB Round 5 Light Kit WW",null,null,61.830999999999996,74.197199999999995]
["VL-K01-0102SSNW","Galaxy COB LED Round Light NW",null,null,9.9166666666666661,11.899999999999999]
["VL-K01-0102SSWW","Galaxy COB LED Round Light WW",null,null,9.9166666666666661,11.899999999999999]
["@VL-K01-0190NW-3","Slim Square Panel 3 Light Kit NW",null,null,50.75,60.9]
["@VL-K01-0190NW-5","Slim Square Panel 5 Light Kit NW",null,null,76.418999999999997,91.702799999999996]
["@VL-K01-0190WW-3","Slim Square Panel 3 Light Kit WW",null,null,50.75,60.9]
["@VL-K01-0190WW-5","Slim Square Panel 5 Light Kit WW",null,null,76.418999999999997,91.702799999999996]
["VL-K01-0190SLNW","Slim Square Panel Light 100x100 NW",null,null,12.833333333333334,15.4]
["VL-K01-0190SLWW","Slim Square Panel Light 100x100 WW",null,null,12.833333333333334,15.4]
["@VL-K01-0191NW-3","Slim Rectangular Panel 3 Light Kit NW",null,null,66.5,79.8]
["@VL-K01-0191NW-5","Slim Rectangular Panel 5 Light Kit NW",null,null,98,117.6]
["@VL-K01-0191WW-3","Slim Rectangular Panel 3 Light Kit WW",null,null,66.5,79.8]
["@VL-K01-0191WW-5","Slim Rectangular Panel 5 Light Kit WW",null,null,98,117.6]
["VL-K01-0191SLNW","Slim Rectangular Panel Light 200x100 NW",null,null,15.749999999999998,18.899999999999999]
["VL-K01-0191SLWW","Slim Rectangular Panel Light 200x100 WW",null,null,15.749999999999998,18.899999999999999]
["VL-R90-0131","2 Metre Extension Cable",null,null,2.9166666666666665,3.4999999999999996]
["VL-K01-0030K4PCNW","Sola Round Plinth 4 Light Kit NW",null,null,22.75,27.3]
["VL-K01-0030K4PCWW","Sola Round Plinth 4 Light Kit WW",null,null,22.75,27.3]
["VL-K01-0030K8PCNW","Sola Round Plinth 8 Light Kit NW",null,null,42,50.4]
["VL-K01-0030K8PCWW","Sola Round Plinth 8 Light Kit WW",null,null,42,50.4]
["VL-K01-0030PNW","Sola Round Plinth Single Light NW",null,null,3.5,4.2]
["VL-K01-0030PWW","Sola Round Plinth Single Light WW",null,null,3.5,4.2]
["VL-K01-0040K4SSNW","Strata Square Plinth 4 Light Kit NW",null,null,25.083333333333332,30.099999999999998]
["VL-K01-0040K4SSWW","Strata Square Plinth 4 Light Kit WW",null,null,25.083333333333332,30.099999999999998]
["VL-K01-0040K8SSNW","Strata Square Plinth 8 Light Kit NW",null,null,42,50.4]
["VL-K01-0040K8SSWW","Strata Square Plinth 8 Light Kit WW",null,null,42,50.4]
["VL-K01-0040SSNW","Strata Square Plinth Single Light NW",null,null,4.0833333333333339,4.9000000000000004]
["VL-K01-0040SSWW","Strata Square Plinth Single Light WW",null,null,4.0833333333333339,4.9000000000000004]
["VL-K01-0200NW-462","Sabre Drawer Light 462mm Natural White",null,null,19.25,23.099999999999998]
["VL-K01-0200NW-562","Sabre Drawer Light 562mm Natural White",null,null,22.166666666666668,26.6]
["VL-K01-0200NW-762","Sabre Drawer Light 762mm Natural White",null,null,26.25,31.5]
["VL-K01-0200NW-862","Sabre Drawer Light 862mm Natural White",null,null,29.166666666666668,35]
["VL-K01-0200NW-962","Sabre Drawer Light 962mm Natural White",null,null,32.083333333333336,38.5]
["VL-K30-1270NW-1M","Dotless Frontview Tape IP65 1 Metre NW",null,null,19.25,23.099999999999998]
["VL-K30-1270NW-2M","Dotless Frontview Tape IP65 2 Metre NW",null,null,35,42]
["VL-K30-1270NW-3M","Dotless Frontview Tape IP65 3 Metre NW",null,null,49,58.8]
["VL-K30-1270WW-1M","Dotless Frontview Tape IP65 1 Metre WW",null,null,19.25,23.099999999999998]
["VL-K30-1270WW-2M","Dotless Frontview Tape IP65 2 Metre WW",null,null,35,42]
["VL-K30-1270WW-3M","Dotless Frontview Tape IP65 3 Metre WW",null,null,49,58.8]
["VL-K30-1260NW-2M","Dotless Sideview Tape IP65 2 Metre NW",null,null,35,42]
["VL-K30-1260NW-3M","Dotless Sideview Tape IP65 3 Metre NW",null,null,49,58.8]
["VL-K30-1260NW-5M","Dotless Sideview Tape IP65 5 Metre NW",null,null,78.75,94.5]
["VL-K30-1260WW-2M","Dotless Sideview Tape IP65 2 Metre WW",null,null,35,42]
["VL-K30-1260WW-3M","Dotless Sideview Tape IP65 3 Metre WW",null,null,49,58.8]
["VL-K30-1260WW-5M","Dotless Sideview Tape IP65 5 Metre WW",null,null,78.75,94.5]
["VL-K30-5720NW-1M","Callo LED Tape 60 LED 1 Metre NW",null,null,14,16.8]
["VL-K30-5720NW-2M","Callo LED Tape 60 LED 2 Metre NW",null,null,22.75,27.3]
["VL-K30-5720WW-1M","Callo LED Tape 60 LED 1 Metre WW",null,null,14,16.8]
["VL-K30-5720WW-2M","Callo LED Tape 60 LED 2 Metre WW",null,null,22.75,27.3]
["VL-K30-5730NW-1M","Bon LED Tape 120 LED 1 Metre NW",null,null,8.75,10.5]
["VL-K30-5730NW-2M","Bon LED Tape 120 LED 2 Metre NW",null,null,18.083333333333332,21.7]
["VL-K30-5730WW-1M","Bon LED Tape 120 LED 1 Metre WW",null,null,8.75,10.5]
["VL-K30-5730WW-2M","Bon LED Tape 120 LED 2 Metre WW",null,null,18.083333333333332,21.7]
["VL-K01-1035K1OP-WR","Smart Surface Profile for LED Tape 1m",null,null,12.25,14.7]
["VL-K01-1035K2OP-WR","Smart Surface Profile for LED Tape 2m",null,null,19.25,23.099999999999998]
["VL-K01-1037K1OP-WR","Smart Recessed Profile for LED Tape 1m",null,null,12.25,14.7]
["VL-K01-1037K2OP-WR","Smart Recessed Profile for LED Tape 2m",null,null,19.25,23.099999999999998]
["VL-K01-1060K1OP-WR","Smart Corner Profile for LED Tape 1m",null,null,16.916666666666668,20.3]
["VL-K01-1060K2OP-WR","Smart Corner Profile for LED Tape 2m",null,null,29.166666666666668,35]
["VL-K30-5725NW","Callo IP65 LED Tape 60 LED 5 Metre NW",null,null,39.083333333333336,46.9]
["VL-K30-5725WW","Callo IP65 LED Tape 60 LED 5 Metre WW",null,null,39.083333333333336,46.9]
["VL-K30-5800IPMP","2m Connector Lead for Callo IP65 Tape",null,null,2.9166666666666665,3.4999999999999996]
["VL-K30-5810IP","50mm Link Lead for Callo IP65 Tape",null,null,1.75,2.1]
["VL-K30-5812IP","1 Metre Link Lead for Callo IP65 Tape",null,null,1.75,2.1]
["VL-K30-5813IP","2 Metre Link Lead for Callo IP65 Tape",null,null,2.9166666666666665,3.4999999999999996]
["VL-K30-5815IP","Butt Connector for Callo IP65 Tape",null,null,1.75,2.1]
["VL-K30-2034Z","Single Colour LED Dimming Remote Control",null,null,44.916666666666664,53.9]
["VL-K30-2037ZU","Single Channel Remote Receiver",null,null,28,33.6]
["VL-K01-1200 UNI","8W 12V LED Uni Driver - Remote Control",null,null,8.75,10.5]
["VL-K10-1220 UNI","15W 12V LED Uni Driver - Remote Control",null,null,12.25,14.7]
["VL-K10-1230 UNI","30W 12V LED Uni Driver - Remote Control",null,null,19.25,23.099999999999998]
["VL-K10-1250 UNI","50W 12V LED Uni Driver - Remote Control",null,null,29.166666666666668,35]
["VL-N28-0005","Dimmer Touch Sensor Switch",null,null,8.75,10.5]
["VL-N28-0001D","Double Door IR Sensor Switch",null,null,19.25,23.099999999999998]
["VL-N28-0001","Single Door IR Sensor Switch",null,null,12.25,14.7]
["VL-N28-0004","Motion IR Sensor Switch",null,null,12.25,14.7]
["VL-K01-1200","8W 12V LED Driver 4 Ports",null,null,8.75,10.5]
["VL-K01-1220","15W 12V LED Driver 6 Ports",null,null,12.25,14.7]
["VL-K01-1230","30W 12V LED Driver 6 Ports",null,null,19.25,23.099999999999998]
["VL-K01-1250","50W 12V LED Driver 6 Ports",null,null,29.166666666666668,35]
["VL-R90-0133","Driver Extender Block - 4 Ports",null,null,2.9166666666666665,3.4999999999999996]
["VL-N00-0171SS","Pop Up Socket 13A - 3 Sockets 2 USB SS",null,null,54.833333333333336,65.8]

{"sheet":"Codes check","index":6,"n_rows":3367,"n_cols":3,"rows_kept":3367,"cut":false,"hidden":true,"merged":[]}
["All codes","In main price list","In lighting"]
[{"$f":"_xlfn.UNIQUE(_xlfn.VSTACK(Codes!D4:D933,Codes!E4:E933,Codes!F4:F933,Codes!G4:G933,Codes!H4:H933,Codes!I4:I933,Codes!J4:J933,Codes!K4:K933,Codes!L4:L933,Codes!M4:M933,Codes!N4:N933,Codes!O4:O933,Codes!P4:P933,Codes!Q4:Q933,Codes!R4:R933,Codes!S4:S933))","v":"@LK-EMD-BP15TY"},{"$f":"_xlfn.XLOOKUP(A2,'Prices Furniture'!A:A,'Prices Furniture'!E:E)","v":408},{"$f":"_xlfn.XLOOKUP(A2,'Lighting Prices'!A:A,'Lighting Prices'!E:E)","v":{"$error":"#N/A"}}]
["@LK-EMD-BP3TY",{"$f":"_xlfn.XLOOKUP(A3,'Prices Furniture'!A:A,'Prices Furniture'!E:E)","v":634},{"$f":"_xlfn.XLOOKUP(A3,'Lighting Prices'!A:A,'Lighting Prices'!E:E)","v":{"$error":"#N/A"}}]
["@LK-EMD-BH15",{"$f":"_xlfn.XLOOKUP(A4,'Prices Furniture'!A:A,'Prices Furniture'!E:E)","v":228},{"$f":"_xlfn.XLOOKUP(A4,'Lighting Prices'!A:A,'Lighting Prices'!E:E)","v":{"$error":"#N/A"}}]
["@LK-EMD-BH30",{"$f":"_xlfn.XLOOKUP(A5,'Prices Furniture'!A:A,'Prices Furniture'!E:E)","v":239},{"$f":"_xlfn.XLOOKUP(A5,'Lighting Prices'!A:A,'Lighting Prices'!E:E)","v":{"$error":"#N/A"}}]
["@LK-EMD-BH3B",{"$f":"_xlfn.XLOOKUP(A6,'Prices Furniture'!A:A,'Prices Furniture'!E:E)","v":607},{"$f":"_xlfn.XLOOKUP(A6,'Lighting Prices'!A:A,'Lighting Prices'!E:E)","v":{"$error":"#N/A"}}]
["@LK-EMD-BH35",{"$f":"_xlfn.XLOOKUP(A7,'Prices Furniture'!A:A,'Prices Furniture'!E:E)","v":245},{"$f":"_xlfn.XLOOKUP(A7,'Lighting Prices'!A:A,'Lighting Prices'!E:E)","v":{"$error":"#N/A"}}]
["@LK-EMD-BH40",{"$f":"_xlfn.XLOOKUP(A8,'Prices Furniture'!A:A,'Prices Furniture'!E:E)","v":249},{"$f":"_xlfn.XLOOKUP(A8,'Lighting Prices'!A:A,'Lighting Prices'!E:E)","v":{"$error":"#N/A"}}]
["@LK-EMD-BH4B",{"$f":"_xlfn.XLOOKUP(A9,'Prices Furniture'!A:A,'Prices Furniture'!E:E)","v":682},{"$f":"_xlfn.XLOOKUP(A9,'Lighting Prices'!A:A,'Lighting Prices'!E:E)","v":{"$error":"#N/A"}}]
["@LK-EMD-BH45",{"$f":"_xlfn.XLOOKUP(A10,'Prices Furniture'!A:A,'Prices Furniture'!E:E)","v":272},{"$f":"_xlfn.XLOOKUP(A10,'Lighting Prices'!A:A,'Lighting Prices'!E:E)","v":{"$error":"#N/A"}}]
["@LK-EMD-BH45B",{"$f":"_xlfn.XLOOKUP(A11,'Prices Furniture'!A:A,'Prices Furniture'!E:E)","v":710},{"$f":"_xlfn.XLOOKUP(A11,'Lighting Prices'!A:A,'Lighting Prices'!E:E)","v":{"$error":"#N/A"}}]
["@LK-EMD-BH50",{"$f":"_xlfn.XLOOKUP(A12,'Prices Furniture'!A:A,'Prices Furniture'!E:E)","v":283},{"$f":"_xlfn.XLOOKUP(A12,'Lighting Prices'!A:A,'Lighting Prices'!E:E)","v":{"$error":"#N/A"}}]
["@LK-EMD-BH5B",{"$f":"_xlfn.XLOOKUP(A13,'Prices Furniture'!A:A,'Prices Furniture'!E:E)","v":727},{"$f":"_xlfn.XLOOKUP(A13,'Lighting Prices'!A:A,'Lighting Prices'!E:E)","v":{"$error":"#N/A"}}]
["@LK-EMD-BH50S",{"$f":"_xlfn.XLOOKUP(A14,'Prices Furniture'!A:A,'Prices Furniture'!E:E)","v":313},{"$f":"_xlfn.XLOOKUP(A14,'Lighting Prices'!A:A,'Lighting Prices'!E:E)","v":{"$error":"#N/A"}}]
["@LK-EMD-BH60",{"$f":"_xlfn.XLOOKUP(A15,'Prices Furniture'!A:A,'Prices Furniture'!E:E)","v":319},{"$f":"_xlfn.XLOOKUP(A15,'Lighting Prices'!A:A,'Lighting Prices'!E:E)","v":{"$error":"#N/A"}}]
["@LK-EMD-BH6B4",{"$f":"_xlfn.XLOOKUP(A16,'Prices Furniture'!A:A,'Prices Furniture'!E:E)","v":852},{"$f":"_xlfn.XLOOKUP(A16,'Lighting Prices'!A:A,'Lighting Prices'!E:E)","v":{"$error":"#N/A"}}]
["@LK-EMD-BH6B2",{"$f":"_xlfn.XLOOKUP(A17,'Prices Furniture'!A:A,'Prices Furniture'!E:E)","v":800},{"$f":"_xlfn.XLOOKUP(A17,'Lighting Prices'!A:A,'Lighting Prices'!E:E)","v":{"$error":"#N/A"}}]
["@LK-EMD-BH60S",{"$f":"_xlfn.XLOOKUP(A18,'Prices Furniture'!A:A,'Prices Furniture'!E:E)","v":365},{"$f":"_xlfn.XLOOKUP(A18,'Lighting Prices'!A:A,'Lighting Prices'!E:E)","v":{"$error":"#N/A"}}]
["@LK-EMD-BH70",{"$f":"_xlfn.XLOOKUP(A19,'Prices Furniture'!A:A,'Prices Furniture'!E:E)","v":388},{"$f":"_xlfn.XLOOKUP(A19,'Lighting Prices'!A:A,'Lighting Prices'!E:E)","v":{"$error":"#N/A"}}]
["@LK-EMD-BH80",{"$f":"_xlfn.XLOOKUP(A20,'Prices Furniture'!A:A,'Prices Furniture'!E:E)","v":394},{"$f":"_xlfn.XLOOKUP(A20,'Lighting Prices'!A:A,'Lighting Prices'!E:E)","v":{"$error":"#N/A"}}]
["@LK-EMD-BH80S",{"$f":"_xlfn.XLOOKUP(A21,'Prices Furniture'!A:A,'Prices Furniture'!E:E)","v":440},{"$f":"_xlfn.XLOOKUP(A21,'Lighting Prices'!A:A,'Lighting Prices'!E:E)","v":{"$error":"#N/A"}}]
["@LK-EMD-BH90",{"$f":"_xlfn.XLOOKUP(A22,'Prices Furniture'!A:A,'Prices Furniture'!E:E)","v":418},{"$f":"_xlfn.XLOOKUP(A22,'Lighting Prices'!A:A,'Lighting Prices'!E:E)","v":{"$error":"#N/A"}}]
["@LK-EMD-BH90S",{"$f":"_xlfn.XLOOKUP(A23,'Prices Furniture'!A:A,'Prices Furniture'!E:E)","v":464},{"$f":"_xlfn.XLOOKUP(A23,'Lighting Prices'!A:A,'Lighting Prices'!E:E)","v":{"$error":"#N/A"}}]
["@LK-EMD-BH100",{"$f":"_xlfn.XLOOKUP(A24,'Prices Furniture'!A:A,'Prices Furniture'!E:E)","v":439},{"$f":"_xlfn.XLOOKUP(A24,'Lighting Prices'!A:A,'Lighting Prices'!E:E)","v":{"$error":"#N/A"}}]
["@LK-EMD-BH10S",{"$f":"_xlfn.XLOOKUP(A25,'Prices Furniture'!A:A,'Prices Furniture'!E:E)","v":485},{"$f":"_xlfn.XLOOKUP(A25,'Lighting Prices'!A:A,'Lighting Prices'!E:E)","v":{"$error":"#N/A"}}]
["@LK-EMD-BC83",{"$f":"_xlfn.XLOOKUP(A26,'Prices Furniture'!A:A,'Prices Furniture'!E:E)","v":374},{"$f":"_xlfn.XLOOKUP(A26,'Lighting Prices'!A:A,'Lighting Prices'!E:E)","v":{"$error":"#N/A"}}]
["@LK-EMD-BC84",{"$f":"_xlfn.XLOOKUP(A27,'Prices Furniture'!A:A,'Prices Furniture'!E:E)","v":380},{"$f":"_xlfn.XLOOKUP(A27,'Lighting Prices'!A:A,'Lighting Prices'!E:E)","v":{"$error":"#N/A"}}]
["@LK-EMD-BC845",{"$f":"_xlfn.XLOOKUP(A28,'Prices Furniture'!A:A,'Prices Furniture'!E:E)","v":392},{"$f":"_xlfn.XLOOKUP(A28,'Lighting Prices'!A:A,'Lighting Prices'!E:E)","v":{"$error":"#N/A"}}]
["@LK-EMD-BC945",{"$f":"_xlfn.XLOOKUP(A29,'Prices Furniture'!A:A,'Prices Furniture'!E:E)","v":392},{"$f":"_xlfn.XLOOKUP(A29,'Lighting Prices'!A:A,'Lighting Prices'!E:E)","v":{"$error":"#N/A"}}]
["@LK-EMD-BC145",{"$f":"_xlfn.XLOOKUP(A30,'Prices Furniture'!A:A,'Prices Furniture'!E:E)","v":397},{"$f":"_xlfn.XLOOKUP(A30,'Lighting Prices'!A:A,'Lighting Prices'!E:E)","v":{"$error":"#N/A"}}]
["@LK-EMD-BC15",{"$f":"_xlfn.XLOOKUP(A31,'Prices Furniture'!A:A,'Prices Furniture'!E:E)","v":405},{"$f":"_xlfn.XLOOKUP(A31,'Lighting Prices'!A:A,'Lighting Prices'!E:E)","v":{"$error":"#N/A"}}]
["@LK-EMD-BC16",{"$f":"_xlfn.XLOOKUP(A32,'Prices Furniture'!A:A,'Prices Furniture'!E:E)","v":421},{"$f":"_xlfn.XLOOKUP(A32,'Lighting Prices'!A:A,'Lighting Prices'!E:E)","v":{"$error":"#N/A"}}]
["@LK-EMD-BCL15L",{"$f":"_xlfn.XLOOKUP(A33,'Prices Furniture'!A:A,'Prices Furniture'!E:E)","v":1270},{"$f":"_xlfn.XLOOKUP(A33,'Lighting Prices'!A:A,'Lighting Prices'!E:E)","v":{"$error":"#N/A"}}]
["@LK-EMD-BCL15R",{"$f":"_xlfn.XLOOKUP(A34,'Prices Furniture'!A:A,'Prices Furniture'!E:E)","v":1270},{"$f":"_xlfn.XLOOKUP(A34,'Lighting Prices'!A:A,'Lighting Prices'!E:E)","v":{"$error":"#N/A"}}]
["@LK-EMD-BCL16L",{"$f":"_xlfn.XLOOKUP(A35,'Prices Furniture'!A:A,'Prices Furniture'!E:E)","v":1349},{"$f":"_xlfn.XLOOKUP(A35,'Lighting Prices'!A:A,'Lighting Prices'!E:E)","v":{"$error":"#N/A"}}]
["@LK-EMD-BCL16R",{"$f":"_xlfn.XLOOKUP(A36,'Prices Furniture'!A:A,'Prices Furniture'!E:E)","v":1349},{"$f":"_xlfn.XLOOKUP(A36,'Lighting Prices'!A:A,'Lighting Prices'!E:E)","v":{"$error":"#N/A"}}]
["@LK-EMD-BCO945",{"$f":"_xlfn.XLOOKUP(A37,'Prices Furniture'!A:A,'Prices Furniture'!E:E)","v":1402},{"$f":"_xlfn.XLOOKUP(A37,'Lighting Prices'!A:A,'Lighting Prices'!E:E)","v":{"$error":"#N/A"}}]
["@LK-EMD-BCO145",{"$f":"_xlfn.XLOOKUP(A38,'Prices Furniture'!A:A,'Prices Furniture'!E:E)","v":1407},{"$f":"_xlfn.XLOOKUP(A38,'Lighting Prices'!A:A,'Lighting Prices'!E:E)","v":{"$error":"#N/A"}}]
["@LK-EMD-BCO15",{"$f":"_xlfn.XLOOKUP(A39,'Prices Furniture'!A:A,'Prices Furniture'!E:E)","v":1415},{"$f":"_xlfn.XLOOKUP(A39,'Lighting Prices'!A:A,'Lighting Prices'!E:E)","v":{"$error":"#N/A"}}]
["@LK-EMD-BCO16",{"$f":"_xlfn.XLOOKUP(A40,'Prices Furniture'!A:A,'Prices Furniture'!E:E)","v":1431},{"$f":"_xlfn.XLOOKUP(A40,'Lighting Prices'!A:A,'Lighting Prices'!E:E)","v":{"$error":"#N/A"}}]
["@LK-EMD-BCL9",{"$f":"_xlfn.XLOOKUP(A41,'Prices Furniture'!A:A,'Prices Furniture'!E:E)","v":618},{"$f":"_xlfn.XLOOKUP(A41,'Lighting Prices'!A:A,'Lighting Prices'!E:E)","v":{"$error":"#N/A"}}]
["Not Available",{"$f":"_xlfn.XLOOKUP(A42,'Prices Furniture'!A:A,'Prices Furniture'!E:E)","v":{"$error":"#N/A"}},{"$f":"_xlfn.XLOOKUP(A42,'Lighting Prices'!A:A,'Lighting Prices'!E:E)","v":{"$error":"#N/A"}}]
["@LK-EMD-BSU6495",{"$f":"_xlfn.XLOOKUP(A43,'Prices Furniture'!A:A,'Prices Furniture'!E:E)","v":285},{"$f":"_xlfn.XLOOKUP(A43,'Lighting Prices'!A:A,'Lighting Prices'!E:E)","v":{"$error":"#N/A"}}]
["@LK-EMD-BSU6450",{"$f":"_xlfn.XLOOKUP(A44,'Prices Furniture'!A:A,'Prices Furniture'!E:E)","v":283},{"$f":"_xlfn.XLOOKUP(A44,'Lighting Prices'!A:A,'Lighting Prices'!E:E)","v":{"$error":"#N/A"}}]
["@LK-EMD-BD54",{"$f":"_xlfn.XLOOKUP(A45,'Prices Furniture'!A:A,'Prices Furniture'!E:E)","v":846},{"$f":"_xlfn.XLOOKUP(A45,'Lighting Prices'!A:A,'Lighting Prices'!E:E)","v":{"$error":"#N/A"}}]
["@LK-EMD-BD53",{"$f":"_xlfn.XLOOKUP(A46,'Prices Furniture'!A:A,'Prices Furniture'!E:E)","v":714},{"$f":"_xlfn.XLOOKUP(A46,'Lighting Prices'!A:A,'Lighting Prices'!E:E)","v":{"$error":"#N/A"}}]
["@LK-EMD-BD63",{"$f":"_xlfn.XLOOKUP(A47,'Prices Furniture'!A:A,'Prices Furniture'!E:E)","v":806},{"$f":"_xlfn.XLOOKUP(A47,'Lighting Prices'!A:A,'Lighting Prices'!E:E)","v":{"$error":"#N/A"}}]
["@LK-EMD-BD83",{"$f":"_xlfn.XLOOKUP(A48,'Prices Furniture'!A:A,'Prices Furniture'!E:E)","v":813},{"$f":"_xlfn.XLOOKUP(A48,'Lighting Prices'!A:A,'Lighting Prices'!E:E)","v":{"$error":"#N/A"}}]
["@LK-EMD-BD93",{"$f":"_xlfn.XLOOKUP(A49,'Prices Furniture'!A:A,'Prices Furniture'!E:E)","v":828},{"$f":"_xlfn.XLOOKUP(A49,'Lighting Prices'!A:A,'Lighting Prices'!E:E)","v":{"$error":"#N/A"}}]
["@LK-EMD-BD13",{"$f":"_xlfn.XLOOKUP(A50,'Prices Furniture'!A:A,'Prices Furniture'!E:E)","v":845},{"$f":"_xlfn.XLOOKUP(A50,'Lighting Prices'!A:A,'Lighting Prices'!E:E)","v":{"$error":"#N/A"}}]
["@LK-EMD-BD62",{"$f":"_xlfn.XLOOKUP(A51,'Prices Furniture'!A:A,'Prices Furniture'!E:E)","v":683},{"$f":"_xlfn.XLOOKUP(A51,'Lighting Prices'!A:A,'Lighting Prices'!E:E)","v":{"$error":"#N/A"}}]
["@LK-EMD-BD92",{"$f":"_xlfn.XLOOKUP(A52,'Prices Furniture'!A:A,'Prices Furniture'!E:E)","v":700},{"$f":"_xlfn.XLOOKUP(A52,'Lighting Prices'!A:A,'Lighting Prices'!E:E)","v":{"$error":"#N/A"}}]
["@LK-EMD-BD62I",{"$f":"_xlfn.XLOOKUP(A53,'Prices Furniture'!A:A,'Prices Furniture'!E:E)","v":859},{"$f":"_xlfn.XLOOKUP(A53,'Lighting Prices'!A:A,'Lighting Prices'!E:E)","v":{"$error":"#N/A"}}]
["@LK-EMD-BD92I",{"$f":"_xlfn.XLOOKUP(A54,'Prices Furniture'!A:A,'Prices Furniture'!E:E)","v":901},{"$f":"_xlfn.XLOOKUP(A54,'Lighting Prices'!A:A,'Lighting Prices'!E:E)","v":{"$error":"#N/A"}}]
["@LK-EMD-BD635L",{"$f":"_xlfn.XLOOKUP(A55,'Prices Furniture'!A:A,'Prices Furniture'!E:E)","v":384},{"$f":"_xlfn.XLOOKUP(A55,'Lighting Prices'!A:A,'Lighting Prices'!E:E)","v":{"$error":"#N/A"}}]
["@LK-EMD-W30",{"$f":"_xlfn.XLOOKUP(A56,'Prices Furniture'!A:A,'Prices Furniture'!E:E)","v":221},{"$f":"_xlfn.XLOOKUP(A56,'Lighting Prices'!A:A,'Lighting Prices'!E:E)","v":{"$error":"#N/A"}}]
["@LK-EMD-W35",{"$f":"_xlfn.XLOOKUP(A57,'Prices Furniture'!A:A,'Prices Furniture'!E:E)","v":227},{"$f":"_xlfn.XLOOKUP(A57,'Lighting Prices'!A:A,'Lighting Prices'!E:E)","v":{"$error":"#N/A"}}]
["@LK-EMD-W40",{"$f":"_xlfn.XLOOKUP(A58,'Prices Furniture'!A:A,'Prices Furniture'!E:E)","v":235},{"$f":"_xlfn.XLOOKUP(A58,'Lighting Prices'!A:A,'Lighting Prices'!E:E)","v":{"$error":"#N/A"}}]
["@LK-EMD-W45",{"$f":"_xlfn.XLOOKUP(A59,'Prices Furniture'!A:A,'Prices Furniture'!E:E)","v":252},{"$f":"_xlfn.XLOOKUP(A59,'Lighting Prices'!A:A,'Lighting Prices'!E:E)","v":{"$error":"#N/A"}}]
["@LK-EMD-W50",{"$f":"_xlfn.XLOOKUP(A60,'Prices Furniture'!A:A,'Prices Furniture'!E:E)","v":266},{"$f":"_xlfn.XLOOKUP(A60,'Lighting Prices'!A:A,'Lighting Prices'!E:E)","v":{"$error":"#N/A"}}]
["@LK-EMD-W60",{"$f":"_xlfn.XLOOKUP(A61,'Prices Furniture'!A:A,'Prices Furniture'!E:E)","v":290},{"$f":"_xlfn.XLOOKUP(A61,'Lighting Prices'!A:A,'Lighting Prices'!E:E)","v":{"$error":"#N/A"}}]
["@LK-EMD-W70",{"$f":"_xlfn.XLOOKUP(A62,'Prices Furniture'!A:A,'Prices Furniture'!E:E)","v":383},{"$f":"_xlfn.XLOOKUP(A62,'Lighting Prices'!A:A,'Lighting Prices'!E:E)","v":{"$error":"#N/A"}}]
["@LK-EMD-W80",{"$f":"_xlfn.XLOOKUP(A63,'Prices Furniture'!A:A,'Prices Furniture'!E:E)","v":389},{"$f":"_xlfn.XLOOKUP(A63,'Lighting Prices'!A:A,'Lighting Prices'!E:E)","v":{"$error":"#N/A"}}]
["@LK-EMD-W90",{"$f":"_xlfn.XLOOKUP(A64,'Prices Furniture'!A:A,'Prices Furniture'!E:E)","v":409},{"$f":"_xlfn.XLOOKUP(A64,'Lighting Prices'!A:A,'Lighting Prices'!E:E)","v":{"$error":"#N/A"}}]
["@LK-EMD-W100",{"$f":"_xlfn.XLOOKUP(A65,'Prices Furniture'!A:A,'Prices Furniture'!E:E)","v":434},{"$f":"_xlfn.XLOOKUP(A65,'Lighting Prices'!A:A,'Lighting Prices'!E:E)","v":{"$error":"#N/A"}}]
["@LK-EMD-WC6",{"$f":"_xlfn.XLOOKUP(A66,'Prices Furniture'!A:A,'Prices Furniture'!E:E)","v":309},{"$f":"_xlfn.XLOOKUP(A66,'Lighting Prices'!A:A,'Lighting Prices'!E:E)","v":{"$error":"#N/A"}}]
["@LK-EMD-WC9",{"$f":"_xlfn.XLOOKUP(A67,'Prices Furniture'!A:A,'Prices Furniture'!E:E)","v":371},{"$f":"_xlfn.XLOOKUP(A67,'Lighting Prices'!A:A,'Lighting Prices'!E:E)","v":{"$error":"#N/A"}}]
["@LK-EMD-WCL65",{"$f":"_xlfn.XLOOKUP(A68,'Prices Furniture'!A:A,'Prices Furniture'!E:E)","v":553},{"$f":"_xlfn.XLOOKUP(A68,'Lighting Prices'!A:A,'Lighting Prices'!E:E)","v":{"$error":"#N/A"}}]
["@LK-EMD-WM60",{"$f":"_xlfn.XLOOKUP(A69,'Prices Furniture'!A:A,'Prices Furniture'!E:E)","v":361},{"$f":"_xlfn.XLOOKUP(A69,'Lighting Prices'!A:A,'Lighting Prices'!E:E)","v":{"$error":"#N/A"}}]
["@LK-EMD-WBHU",{"$f":"_xlfn.XLOOKUP(A70,'Prices Furniture'!A:A,'Prices Furniture'!E:E)","v":282},{"$f":"_xlfn.XLOOKUP(A70,'Lighting Prices'!A:A,'Lighting Prices'!E:E)","v":{"$error":"#N/A"}}]
["@LK-EMD-WBI60",{"$f":"_xlfn.XLOOKUP(A71,'Prices Furniture'!A:A,'Prices Furniture'!E:E)","v":663},{"$f":"_xlfn.XLOOKUP(A71,'Lighting Prices'!A:A,'Lighting Prices'!E:E)","v":{"$error":"#N/A"}}]
["@LK-EMD-WBI90",{"$f":"_xlfn.XLOOKUP(A72,'Prices Furniture'!A:A,'Prices Furniture'!E:E)","v":695},{"$f":"_xlfn.XLOOKUP(A72,'Lighting Prices'!A:A,'Lighting Prices'!E:E)","v":{"$error":"#N/A"}}]
["@LK-EMD-WGS5",{"$f":"_xlfn.XLOOKUP(A73,'Prices Furniture'!A:A,'Prices Furniture'!E:E)","v":434},{"$f":"_xlfn.XLOOKUP(A73,'Lighting Prices'!A:A,'Lighting Prices'!E:E)","v":{"$error":"#N/A"}}]
["@LK-EMD-WGS6",{"$f":"_xlfn.XLOOKUP(A74,'Prices Furniture'!A:A,'Prices Furniture'!E:E)","v":476},{"$f":"_xlfn.XLOOKUP(A74,'Lighting Prices'!A:A,'Lighting Prices'!E:E)","v":{"$error":"#N/A"}}]
["@LK-EMD-WGR5",{"$f":"_xlfn.XLOOKUP(A75,'Prices Furniture'!A:A,'Prices Furniture'!E:E)","v":434},{"$f":"_xlfn.XLOOKUP(A75,'Lighting Prices'!A:A,'Lighting Prices'!E:E)","v":{"$error":"#N/A"}}]
["@LK-EMD-WGR6",{"$f":"_xlfn.XLOOKUP(A76,'Prices Furniture'!A:A,'Prices Furniture'!E:E)","v":476},{"$f":"_xlfn.XLOOKUP(A76,'Lighting Prices'!A:A,'Lighting Prices'!E:E)","v":{"$error":"#N/A"}}]
["@LK-EMD-WB62",{"$f":"_xlfn.XLOOKUP(A77,'Prices Furniture'!A:A,'Prices Furniture'!E:E)","v":237},{"$f":"_xlfn.XLOOKUP(A77,'Lighting Prices'!A:A,'Lighting Prices'!E:E)","v":{"$error":"#N/A"}}]
["@LK-EMD-WB82",{"$f":"_xlfn.XLOOKUP(A78,'Prices Furniture'!A:A,'Prices Furniture'!E:E)","v":295},{"$f":"_xlfn.XLOOKUP(A78,'Lighting Prices'!A:A,'Lighting Prices'!E:E)","v":{"$error":"#N/A"}}]
["@LK-EMD-WB92",{"$f":"_xlfn.XLOOKUP(A79,'Prices Furniture'!A:A,'Prices Furniture'!E:E)","v":312},{"$f":"_xlfn.XLOOKUP(A79,'Lighting Prices'!A:A,'Lighting Prices'!E:E)","v":{"$error":"#N/A"}}]
["@LK-EMD-WB12",{"$f":"_xlfn.XLOOKUP(A80,'Prices Furniture'!A:A,'Prices Furniture'!E:E)","v":338},{"$f":"_xlfn.XLOOKUP(A80,'Lighting Prices'!A:A,'Lighting Prices'!E:E)","v":{"$error":"#N/A"}}]
["@LK-EMD-WB63",{"$f":"_xlfn.XLOOKUP(A81,'Prices Furniture'!A:A,'Prices Furniture'!E:E)","v":295},{"$f":"_xlfn.XLOOKUP(A81,'Lighting Prices'!A:A,'Lighting Prices'!E:E)","v":{"$error":"#N/A"}}]
["@LK-EMD-WB93",{"$f":"_xlfn.XLOOKUP(A82,'Prices Furniture'!A:A,'Prices Furniture'!E:E)","v":344},{"$f":"_xlfn.XLOOKUP(A82,'Lighting Prices'!A:A,'Lighting Prices'!E:E)","v":{"$error":"#N/A"}}]
["@LK-EMD-AH-F55",{"$f":"_xlfn.XLOOKUP(A83,'Prices Furniture'!A:A,'Prices Furniture'!E:E)","v":735},{"$f":"_xlfn.XLOOKUP(A83,'Lighting Prices'!A:A,'Lighting Prices'!E:E)","v":{"$error":"#N/A"}}]
["@LK-EMD-AH-F73",{"$f":"_xlfn.XLOOKUP(A84,'Prices Furniture'!A:A,'Prices Furniture'!E:E)","v":711},{"$f":"_xlfn.XLOOKUP(A84,'Lighting Prices'!A:A,'Lighting Prices'!E:E)","v":{"$error":"#N/A"}}]
["@LK-EMD-AH-DO",{"$f":"_xlfn.XLOOKUP(A85,'Prices Furniture'!A:A,'Prices Furniture'!E:E)","v":731},{"$f":"_xlfn.XLOOKUP(A85,'Lighting Prices'!A:A,'Lighting Prices'!E:E)","v":{"$error":"#N/A"}}]
["@LK-EMD-AH-DO2D",{"$f":"_xlfn.XLOOKUP(A86,'Prices Furniture'!A:A,'Prices Furniture'!E:E)","v":1058},{"$f":"_xlfn.XLOOKUP(A86,'Lighting Prices'!A:A,'Lighting Prices'!E:E)","v":{"$error":"#N/A"}}]
["@LK-EMD-AH-DMW",{"$f":"_xlfn.XLOOKUP(A87,'Prices Furniture'!A:A,'Prices Furniture'!E:E)","v":927},{"$f":"_xlfn.XLOOKUP(A87,'Lighting Prices'!A:A,'Lighting Prices'!E:E)","v":{"$error":"#N/A"}}]
["@LK-EMD-AH-SO",{"$f":"_xlfn.XLOOKUP(A88,'Prices Furniture'!A:A,'Prices Furniture'!E:E)","v":750},{"$f":"_xlfn.XLOOKUP(A88,'Lighting Prices'!A:A,'Lighting Prices'!E:E)","v":{"$error":"#N/A"}}]
["@LK-EMD-AH-SO1D",{"$f":"_xlfn.XLOOKUP(A89,'Prices Furniture'!A:A,'Prices Furniture'!E:E)","v":896},{"$f":"_xlfn.XLOOKUP(A89,'Lighting Prices'!A:A,'Lighting Prices'!E:E)","v":{"$error":"#N/A"}}]
["@LK-EMD-AH-SO2D",{"$f":"_xlfn.XLOOKUP(A90,'Prices Furniture'!A:A,'Prices Furniture'!E:E)","v":1112},{"$f":"_xlfn.XLOOKUP(A90,'Lighting Prices'!A:A,'Lighting Prices'!E:E)","v":{"$error":"#N/A"}}]
["@LK-EMD-AH-SO3D",{"$f":"_xlfn.XLOOKUP(A91,'Prices Furniture'!A:A,'Prices Furniture'!E:E)","v":1261},{"$f":"_xlfn.XLOOKUP(A91,'Lighting Prices'!A:A,'Lighting Prices'!E:E)","v":{"$error":"#N/A"}}]
["@LK-EMD-AH-SMW",{"$f":"_xlfn.XLOOKUP(A92,'Prices Furniture'!A:A,'Prices Furniture'!E:E)","v":786},{"$f":"_xlfn.XLOOKUP(A92,'Lighting Prices'!A:A,'Lighting Prices'!E:E)","v":{"$error":"#N/A"}}]
["@LK-EMD-AH-SM2D",{"$f":"_xlfn.XLOOKUP(A93,'Prices Furniture'!A:A,'Prices Furniture'!E:E)","v":1074},{"$f":"_xlfn.XLOOKUP(A93,'Lighting Prices'!A:A,'Lighting Prices'!E:E)","v":{"$error":"#N/A"}}]
["@LK-EMD-AH-CO",{"$f":"_xlfn.XLOOKUP(A94,'Prices Furniture'!A:A,'Prices Furniture'!E:E)","v":823},{"$f":"_xlfn.XLOOKUP(A94,'Lighting Prices'!A:A,'Lighting Prices'!E:E)","v":{"$error":"#N/A"}}]
["@LK-EMD-BOH6",{"$f":"_xlfn.XLOOKUP(A95,'Prices Furniture'!A:A,'Prices Furniture'!E:E)","v":199},{"$f":"_xlfn.XLOOKUP(A95,'Lighting Prices'!A:A,'Lighting Prices'!E:E)","v":{"$error":"#N/A"}}]
["@LK-EMD-BOHD6",{"$f":"_xlfn.XLOOKUP(A96,'Prices Furniture'!A:A,'Prices Furniture'!E:E)","v":312},{"$f":"_xlfn.XLOOKUP(A96,'Lighting Prices'!A:A,'Lighting Prices'!E:E)","v":{"$error":"#N/A"}}]
["@LK-EMD-L3",{"$f":"_xlfn.XLOOKUP(A97,'Prices Furniture'!A:A,'Prices Furniture'!E:E)","v":663},{"$f":"_xlfn.XLOOKUP(A97,'Lighting Prices'!A:A,'Lighting Prices'!E:E)","v":{"$error":"#N/A"}}]
["@LK-EMD-L5",{"$f":"_xlfn.XLOOKUP(A98,'Prices Furniture'!A:A,'Prices Furniture'!E:E)","v":723},{"$f":"_xlfn.XLOOKUP(A98,'Lighting Prices'!A:A,'Lighting Prices'!E:E)","v":{"$error":"#N/A"}}]
["@LK-EMD-L6",{"$f":"_xlfn.XLOOKUP(A99,'Prices Furniture'!A:A,'Prices Furniture'!E:E)","v":794},{"$f":"_xlfn.XLOOKUP(A99,'Lighting Prices'!A:A,'Lighting Prices'!E:E)","v":{"$error":"#N/A"}}]
["@LK-EMD-LP3",{"$f":"_xlfn.XLOOKUP(A100,'Prices Furniture'!A:A,'Prices Furniture'!E:E)","v":1445},{"$f":"_xlfn.XLOOKUP(A100,'Lighting Prices'!A:A,'Lighting Prices'!E:E)","v":{"$error":"#N/A"}}]
["@LK-EMD-LT3",{"$f":"_xlfn.XLOOKUP(A101,'Prices Furniture'!A:A,'Prices Furniture'!E:E)","v":1764},{"$f":"_xlfn.XLOOKUP(A101,'Lighting Prices'!A:A,'Lighting Prices'!E:E)","v":{"$error":"#N/A"}}]
["@LK-EMD-LT5",{"$f":"_xlfn.XLOOKUP(A102,'Prices Furniture'!A:A,'Prices Furniture'!E:E)","v":1892},{"$f":"_xlfn.XLOOKUP(A102,'Lighting Prices'!A:A,'Lighting Prices'!E:E)","v":{"$error":"#N/A"}}]
["@LK-EMD-LT6",{"$f":"_xlfn.XLOOKUP(A103,'Prices Furniture'!A:A,'Prices Furniture'!E:E)","v":2029},{"$f":"_xlfn.XLOOKUP(A103,'Lighting Prices'!A:A,'Lighting Prices'!E:E)","v":{"$error":"#N/A"}}]
["@LK-EMD-LP6T",{"$f":"_xlfn.XLOOKUP(A104,'Prices Furniture'!A:A,'Prices Furniture'!E:E)","v":1980},{"$f":"_xlfn.XLOOKUP(A104,'Lighting Prices'!A:A,'Lighting Prices'!E:E)","v":{"$error":"#N/A"}}]
["@LK-EMD-LP5TS",{"$f":"_xlfn.XLOOKUP(A105,'Prices Furniture'!A:A,'Prices Furniture'!E:E)","v":1657},{"$f":"_xlfn.XLOOKUP(A105,'Lighting Prices'!A:A,'Lighting Prices'!E:E)","v":{"$error":"#N/A"}}]
["@LK-EMD-LP6TS",{"$f":"_xlfn.XLOOKUP(A106,'Prices Furniture'!A:A,'Prices Furniture'!E:E)","v":1781},{"$f":"_xlfn.XLOOKUP(A106,'Lighting Prices'!A:A,'Lighting Prices'!E:E)","v":{"$error":"#N/A"}}]
["@LK-EMD-LAC",{"$f":"_xlfn.XLOOKUP(A107,'Prices Furniture'!A:A,'Prices Furniture'!E:E)","v":2084},{"$f":"_xlfn.XLOOKUP(A107,'Lighting Prices'!A:A,'Lighting Prices'!E:E)","v":{"$error":"#N/A"}}]
["@LK-EMD-LPN14D",{"$f":"_xlfn.XLOOKUP(A108,'Prices Furniture'!A:A,'Prices Furniture'!E:E)","v":1124},{"$f":"_xlfn.XLOOKUP(A108,'Lighting Prices'!A:A,'Lighting Prices'!E:E)","v":{"$error":"#N/A"}}]
["@LK-EMD-LPN12D3DW",{"$f":"_xlfn.XLOOKUP(A109,'Prices Furniture'!A:A,'Prices Furniture'!E:E)","v":1523},{"$f":"_xlfn.XLOOKUP(A109,'Lighting Prices'!A:A,'Lighting Prices'!E:E)","v":{"$error":"#N/A"}}]
["@LK-EMD-LPN12D2DW",{"$f":"_xlfn.XLOOKUP(A110,'Prices Furniture'!A:A,'Prices Furniture'!E:E)","v":1392},{"$f":"_xlfn.XLOOKUP(A110,'Lighting Prices'!A:A,'Lighting Prices'!E:E)","v":{"$error":"#N/A"}}]
["@LK-EMD-LBC15",{"$f":"_xlfn.XLOOKUP(A111,'Prices Furniture'!A:A,'Prices Furniture'!E:E)","v":944},{"$f":"_xlfn.XLOOKUP(A111,'Lighting Prices'!A:A,'Lighting Prices'!E:E)","v":{"$error":"#N/A"}}]
["@LK-EMD-LBC16",{"$f":"_xlfn.XLOOKUP(A112,'Prices Furniture'!A:A,'Prices Furniture'!E:E)","v":970},{"$f":"_xlfn.XLOOKUP(A112,'Lighting Prices'!A:A,'Lighting Prices'!E:E)","v":{"$error":"#N/A"}}]
["@LK-EMD-LBCLM15L",{"$f":"_xlfn.XLOOKUP(A113,'Prices Furniture'!A:A,'Prices Furniture'!E:E)","v":2782},{"$f":"_xlfn.XLOOKUP(A113,'Lighting Prices'!A:A,'Lighting Prices'!E:E)","v":{"$error":"#N/A"}}]
["@LK-EMD-LBCLM15R",{"$f":"_xlfn.XLOOKUP(A114,'Prices Furniture'!A:A,'Prices Furniture'!E:E)","v":2782},{"$f":"_xlfn.XLOOKUP(A114,'Lighting Prices'!A:A,'Lighting Prices'!E:E)","v":{"$error":"#N/A"}}]
["@LK-EMD-LBCLM16L",{"$f":"_xlfn.XLOOKUP(A115,'Prices Furniture'!A:A,'Prices Furniture'!E:E)","v":2934},{"$f":"_xlfn.XLOOKUP(A115,'Lighting Prices'!A:A,'Lighting Prices'!E:E)","v":{"$error":"#N/A"}}]
["@LK-EMD-LBCLM16R",{"$f":"_xlfn.XLOOKUP(A116,'Prices Furniture'!A:A,'Prices Furniture'!E:E)","v":2934},{"$f":"_xlfn.XLOOKUP(A116,'Lighting Prices'!A:A,'Lighting Prices'!E:E)","v":{"$error":"#N/A"}}]
["@LK-EMD-LL6EA",{"$f":"_xlfn.XLOOKUP(A117,'Prices Furniture'!A:A,'Prices Furniture'!E:E)","v":836},{"$f":"_xlfn.XLOOKUP(A117,'Lighting Prices'!A:A,'Lighting Prices'!E:E)","v":{"$error":"#N/A"}}]
["@LK-EMD-LL6CU",{"$f":"_xlfn.XLOOKUP(A118,'Prices Furniture'!A:A,'Prices Furniture'!E:E)","v":786},{"$f":"_xlfn.XLOOKUP(A118,'Lighting Prices'!A:A,'Lighting Prices'!E:E)","v":{"$error":"#N/A"}}]
["@LK-EMD-LL10CU",{"$f":"_xlfn.XLOOKUP(A119,'Prices Furniture'!A:A,'Prices Furniture'!E:E)","v":1235},{"$f":"_xlfn.XLOOKUP(A119,'Lighting Prices'!A:A,'Lighting Prices'!E:E)","v":{"$error":"#N/A"}}]
["@LK-EMD-LL10CUS",{"$f":"_xlfn.XLOOKUP(A120,'Prices Furniture'!A:A,'Prices Furniture'!E:E)","v":1334},{"$f":"_xlfn.XLOOKUP(A120,'Lighting Prices'!A:A,'Lighting Prices'!E:E)","v":{"$error":"#N/A"}}]
["@LK-EMD-LL10CB",{"$f":"_xlfn.XLOOKUP(A121,'Prices Furniture'!A:A,'Prices Furniture'!E:E)","v":1245},{"$f":"_xlfn.XLOOKUP(A121,'Lighting Prices'!A:A,'Lighting Prices'!E:E)","v":{"$error":"#N/A"}}]
["@LK-EMD-AD60ICH",{"$f":"_xlfn.XLOOKUP(A122,'Prices Furniture'!A:A,'Prices Furniture'!E:E)","v":95},{"$f":"_xlfn.XLOOKUP(A122,'Lighting Prices'!A:A,'Lighting Prices'!E:E)","v":{"$error":"#N/A"}}]
["@LK-EMD-AD60FD",{"$f":"_xlfn.XLOOKUP(A123,'Prices Furniture'!A:A,'Prices Furniture'!E:E)","v":131},{"$f":"_xlfn.XLOOKUP(A123,'Lighting Prices'!A:A,'Lighting Prices'!E:E)","v":{"$error":"#N/A"}}]
["@LK-EMD-AD45I",{"$f":"_xlfn.XLOOKUP(A124,'Prices Furniture'!A:A,'Prices Furniture'!E:E)","v":107},{"$f":"_xlfn.XLOOKUP(A124,'Lighting Prices'!A:A,'Lighting Prices'!E:E)","v":{"$error":"#N/A"}}]
["@LK-EMD-AD60S",{"$f":"_xlfn.XLOOKUP(A125,'Prices Furniture'!A:A,'Prices Furniture'!E:E)","v":129},{"$f":"_xlfn.XLOOKUP(A125,'Lighting Prices'!A:A,'Lighting Prices'!E:E)","v":{"$error":"#N/A"}}]
["@LK-EMD-BLD9",{"$f":"_xlfn.XLOOKUP(A126,'Prices Furniture'!A:A,'Prices Furniture'!E:E)","v":133},{"$f":"_xlfn.XLOOKUP(A126,'Lighting Prices'!A:A,'Lighting Prices'!E:E)","v":{"$error":"#N/A"}}]
["@LK-EMD-CH-SO",{"$f":"_xlfn.XLOOKUP(A127,'Prices Furniture'!A:A,'Prices Furniture'!E:E)","v":654},{"$f":"_xlfn.XLOOKUP(A127,'Lighting Prices'!A:A,'Lighting Prices'!E:E)","v":{"$error":"#N/A"}}]
["@LK-EMD-CH-MW",{"$f":"_xlfn.XLOOKUP(A128,'Prices Furniture'!A:A,'Prices Furniture'!E:E)","v":700},{"$f":"_xlfn.XLOOKUP(A128,'Lighting Prices'!A:A,'Lighting Prices'!E:E)","v":{"$error":"#N/A"}}]
["@LK-EMD-CH-ST",{"$f":"_xlfn.XLOOKUP(A129,'Prices Furniture'!A:A,'Prices Furniture'!E:E)","v":880},{"$f":"_xlfn.XLOOKUP(A129,'Lighting Prices'!A:A,'Lighting Prices'!E:E)","v":{"$error":"#N/A"}}]
["@LK-EMD-TCH-SO",{"$f":"_xlfn.XLOOKUP(A130,'Prices Furniture'!A:A,'Prices Furniture'!E:E)","v":846},{"$f":"_xlfn.XLOOKUP(A130,'Lighting Prices'!A:A,'Lighting Prices'!E:E)","v":{"$error":"#N/A"}}]
["@LK-EMD-TCH-MW",{"$f":"_xlfn.XLOOKUP(A131,'Prices Furniture'!A:A,'Prices Furniture'!E:E)","v":759},{"$f":"_xlfn.XLOOKUP(A131,'Lighting Prices'!A:A,'Lighting Prices'!E:E)","v":{"$error":"#N/A"}}]
["@LK-EMD-TCH-ST",{"$f":"_xlfn.XLOOKUP(A132,'Prices Furniture'!A:A,'Prices Furniture'!E:E)","v":918},{"$f":"_xlfn.XLOOKUP(A132,'Lighting Prices'!A:A,'Lighting Prices'!E:E)","v":{"$error":"#N/A"}}]
["@LK-EMD-AH-SOT",{"$f":"_xlfn.XLOOKUP(A133,'Prices Furniture'!A:A,'Prices Furniture'!E:E)","v":876},{"$f":"_xlfn.XLOOKUP(A133,'Lighting Prices'!A:A,'Lighting Prices'!E:E)","v":{"$error":"#N/A"}}]
["@LK-EMD-LP5T",{"$f":"_xlfn.XLOOKUP(A134,'Prices Furniture'!A:A,'Prices Furniture'!E:E)","v":1915},{"$f":"_xlfn.XLOOKUP(A134,'Lighting Prices'!A:A,'Lighting Prices'!E:E)","v":{"$error":"#N/A"}}]
["@LK-EMD-LL8LS",{"$f":"_xlfn.XLOOKUP(A135,'Prices Furniture'!A:A,'Prices Furniture'!E:E)","v":1364},{"$f":"_xlfn.XLOOKUP(A135,'Lighting Prices'!A:A,'Lighting Prices'!E:E)","v":{"$error":"#N/A"}}]
["@LK-EMD-BHD3",{"$f":"_xlfn.XLOOKUP(A136,'Prices Furniture'!A:A,'Prices Furniture'!E:E)","v":628},{"$f":"_xlfn.XLOOKUP(A136,'Lighting Prices'!A:A,'Lighting Prices'!E:E)","v":{"$error":"#N/A"}}]
["@LK-EMD-BHD4",{"$f":"_xlfn.XLOOKUP(A137,'Prices Furniture'!A:A,'Prices Furniture'!E:E)","v":677},{"$f":"_xlfn.XLOOKUP(A137,'Lighting Prices'!A:A,'Lighting Prices'!E:E)","v":{"$error":"#N/A"}}]
["@LK-EMD-BHD5",{"$f":"_xlfn.XLOOKUP(A138,'Prices Furniture'!A:A,'Prices Furniture'!E:E)","v":740},{"$f":"_xlfn.XLOOKUP(A138,'Lighting Prices'!A:A,'Lighting Prices'!E:E)","v":{"$error":"#N/A"}}]
["@LK-EMD-BHD6",{"$f":"_xlfn.XLOOKUP(A139,'Prices Furniture'!A:A,'Prices Furniture'!E:E)","v":796},{"$f":"_xlfn.XLOOKUP(A139,'Lighting Prices'!A:A,'Lighting Prices'!E:E)","v":{"$error":"#N/A"}}]
[0,{"$f":"_xlfn.XLOOKUP(A140,'Prices Furniture'!A:A,'Prices Furniture'!E:E)","v":{"$error":"#N/A"}},{"$f":"_xlfn.XLOOKUP(A140,'Lighting Prices'!A:A,'Lighting Prices'!E:E)","v":{"$error":"#N/A"}}]
["RIGID BUILD",{"$f":"_xlfn.XLOOKUP(A141,'Prices Furniture'!A:A,'Prices Furniture'!E:E)","v":18},{"$f":"_xlfn.XLOOKUP(A141,'Lighting Prices'!A:A,'Lighting Prices'!E:E)","v":{"$error":"#N/A"}}]
["TALL RIGID BUILD",{"$f":"_xlfn.XLOOKUP(A142,'Prices Furniture'!A:A,'Prices Furniture'!E:E)","v":36},{"$f":"_xlfn.XLOOKUP(A142,'Lighting Prices'!A:A,'Lighting Prices'!E:E)","v":{"$error":"#N/A"}}]
["Oak Std Upgrade",{"$f":"_xlfn.XLOOKUP(A143,'Prices Furniture'!A:A,'Prices Furniture'!E:E)","v":110},{"$f":"_xlfn.XLOOKUP(A143,'Lighting Prices'!A:A,'Lighting Prices'!E:E)","v":{"$error":"#N/A"}}]
["Oak Pan Upgrade",{"$f":"_xlfn.XLOOKUP(A144,'Prices Furniture'!A:A,'Prices Furniture'!E:E)","v":150},{"$f":"_xlfn.XLOOKUP(A144,'Lighting Prices'!A:A,'Lighting Prices'!E:E)","v":{"$error":"#N/A"}}]
["Oak Low Drw Upgrade",{"$f":"_xlfn.XLOOKUP(A145,'Prices Furniture'!A:A,'Prices Furniture'!E:E)","v":150},{"$f":"_xlfn.XLOOKUP(A145,'Lighting Prices'!A:A,'Lighting Prices'!E:E)","v":{"$error":"#N/A"}}]
["Legrabox Std Upgrade",{"$f":"_xlfn.XLOOKUP(A146,'Prices Furniture'!A:A,'Prices Furniture'!E:E)","v":100},{"$f":"_xlfn.XLOOKUP(A146,'Lighting Prices'!A:A,'Lighting Prices'!E:E)","v":{"$error":"#N/A"}}]
["Legrabox Pan Upgrade",{"$f":"_xlfn.XLOOKUP(A147,'Prices Furniture'!A:A,'Prices Furniture'!E:E)","v":140},{"$f":"_xlfn.XLOOKUP(A147,'Lighting Prices'!A:A,'Lighting Prices'!E:E)","v":{"$error":"#N/A"}}]
["Legrabox Low Drw Upgrade",{"$f":"_xlfn.XLOOKUP(A148,'Prices Furniture'!A:A,'Prices Furniture'!E:E)","v":140},{"$f":"_xlfn.XLOOKUP(A148,'Lighting Prices'!A:A,'Lighting Prices'!E:E)","v":{"$error":"#N/A"}}]
["LK-A-ALN-LSCUBE4",{"$f":"_xlfn.XLOOKUP(A149,'Prices Furniture'!A:A,'Prices Furniture'!E:E)","v":121},{"$f":"_xlfn.XLOOKUP(A149,'Lighting Prices'!A:A,'Lighting Prices'!E:E)","v":{"$error":"#N/A"}}]
["LK-A-GLN-LSCUBE4",{"$f":"_xlfn.XLOOKUP(A150,'Prices Furniture'!A:A,'Prices Furniture'!E:E)","v":121},{"$f":"_xlfn.XLOOKUP(A150,'Lighting Prices'!A:A,'Lighting Prices'!E:E)","v":{"$error":"#N/A"}}]
["LK-A-LISW-LSCUBE4",{"$f":"_xlfn.XLOOKUP(A151,'Prices Furniture'!A:A,'Prices Furniture'!E:E)","v":121},{"$f":"_xlfn.XLOOKUP(A151,'Lighting Prices'!A:A,'Lighting Prices'!E:E)","v":{"$error":"#N/A"}}]
["LK-A-STG-LSCUBE4",{"$f":"_xlfn.XLOOKUP(A152,'Prices Furniture'!A:A,'Prices Furniture'!E:E)","v":121},{"$f":"_xlfn.XLOOKUP(A152,'Lighting Prices'!A:A,'Lighting Prices'!E:E)","v":{"$error":"#N/A"}}]
["LK-A-WHT-LSCUBE4",{"$f":"_xlfn.XLOOKUP(A153,'Prices Furniture'!A:A,'Prices Furniture'!E:E)","v":121},{"$f":"_xlfn.XLOOKUP(A153,'Lighting Prices'!A:A,'Lighting Prices'!E:E)","v":{"$error":"#N/A"}}]
["LK-A-WAL-LSCUBE4",{"$f":"_xlfn.XLOOKUP(A154,'Prices Furniture'!A:A,'Prices Furniture'!E:E)","v":121},{"$f":"_xlfn.XLOOKUP(A154,'Lighting Prices'!A:A,'Lighting Prices'!E:E)","v":{"$error":"#N/A"}}]
["LK-A-ALN-LSCUBE5",{"$f":"_xlfn.XLOOKUP(A155,'Prices Furniture'!A:A,'Prices Furniture'!E:E)","v":140},{"$f":"_xlfn.XLOOKUP(A155,'Lighting Prices'!A:A,'Lighting Prices'!E:E)","v":{"$error":"#N/A"}}]
["LK-A-GLN-LSCUBE5",{"$f":"_xlfn.XLOOKUP(A156,'Prices Furniture'!A:A,'Prices Furniture'!E:E)","v":140},{"$f":"_xlfn.XLOOKUP(A156,'Lighting Prices'!A:A,'Lighting Prices'!E:E)","v":{"$error":"#N/A"}}]
["LK-A-LISW-LSCUBE5",{"$f":"_xlfn.XLOOKUP(A157,'Prices Furniture'!A:A,'Prices Furniture'!E:E)","v":140},{"$f":"_xlfn.XLOOKUP(A157,'Lighting Prices'!A:A,'Lighting Prices'!E:E)","v":{"$error":"#N/A"}}]
["LK-A-STG-LSCUBE5",{"$f":"_xlfn.XLOOKUP(A158,'Prices Furniture'!A:A,'Prices Furniture'!E:E)","v":140},{"$f":"_xlfn.XLOOKUP(A158,'Lighting Prices'!A:A,'Lighting Prices'!E:E)","v":{"$error":"#N/A"}}]
["LK-A-WHT-LSCUBE5",{"$f":"_xlfn.XLOOKUP(A159,'Prices Furniture'!A:A,'Prices Furniture'!E:E)","v":140},{"$f":"_xlfn.XLOOKUP(A159,'Lighting Prices'!A:A,'Lighting Prices'!E:E)","v":{"$error":"#N/A"}}]
["LK-A-WAL-LSCUBE5",{"$f":"_xlfn.XLOOKUP(A160,'Prices Furniture'!A:A,'Prices Furniture'!E:E)","v":140},{"$f":"_xlfn.XLOOKUP(A160,'Lighting Prices'!A:A,'Lighting Prices'!E:E)","v":{"$error":"#N/A"}}]
["LK-A-EMD-WREP72",{"$f":"_xlfn.XLOOKUP(A161,'Prices Furniture'!A:A,'Prices Furniture'!E:E)","v":77},{"$f":"_xlfn.XLOOKUP(A161,'Lighting Prices'!A:A,'Lighting Prices'!E:E)","v":{"$error":"#N/A"}}]
["LK-A-EMD-PWEP72",{"$f":"_xlfn.XLOOKUP(A162,'Prices Furniture'!A:A,'Prices Furniture'!E:E)","v":92},{"$f":"_xlfn.XLOOKUP(A162,'Lighting Prices'!A:A,'Lighting Prices'!E:E)","v":{"$error":"#N/A"}}]
["LK-A-EMD-PWEP20",{"$f":"_xlfn.XLOOKUP(A163,'Prices Furniture'!A:A,'Prices Furniture'!E:E)","v":200},{"$f":"_xlfn.XLOOKUP(A163,'Lighting Prices'!A:A,'Lighting Prices'!E:E)","v":{"$error":"#N/A"}}]
["LK-A-EMD-ESP",{"$f":"_xlfn.XLOOKUP(A164,'Prices Furniture'!A:A,'Prices Furniture'!E:E)","v":135},{"$f":"_xlfn.XLOOKUP(A164,'Lighting Prices'!A:A,'Lighting Prices'!E:E)","v":{"$error":"#N/A"}}]
["LK-A-EMD-LUP",{"$f":"_xlfn.XLOOKUP(A165,'Prices Furniture'!A:A,'Prices Furniture'!E:E)","v":391},{"$f":"_xlfn.XLOOKUP(A165,'Lighting Prices'!A:A,'Lighting Prices'!E:E)","v":{"$error":"#N/A"}}]
["LK-A-EMD-PTEP",{"$f":"_xlfn.XLOOKUP(A166,'Prices Furniture'!A:A,'Prices Furniture'!E:E)","v":305},{"$f":"_xlfn.XLOOKUP(A166,'Lighting Prices'!A:A,'Lighting Prices'!E:E)","v":{"$error":"#N/A"}}]
["LK-A-EMD-PL",{"$f":"_xlfn.XLOOKUP(A167,'Prices Furniture'!A:A,'Prices Furniture'!E:E)","v":90},{"$f":"_xlfn.XLOOKUP(A167,'Lighting Prices'!A:A,'Lighting Prices'!E:E)","v":{"$error":"#N/A"}}]
["LK-A-EMD-SCCRN",{"$f":"_xlfn.XLOOKUP(A168,'Prices Furniture'!A:A,'Prices Furniture'!E:E)","v":113},{"$f":"_xlfn.XLOOKUP(A168,'Lighting Prices'!A:A,'Lighting Prices'!E:E)","v":{"$error":"#N/A"}}]
["LK-A-EMD-BLPEL",{"$f":"_xlfn.XLOOKUP(A169,'Prices Furniture'!A:A,'Prices Furniture'!E:E)","v":86},{"$f":"_xlfn.XLOOKUP(A169,'Lighting Prices'!A:A,'Lighting Prices'!E:E)","v":{"$error":"#N/A"}}]
["LK-A-EMD-CVP",{"$f":"_xlfn.XLOOKUP(A170,'Prices Furniture'!A:A,'Prices Furniture'!E:E)","v":123},{"$f":"_xlfn.XLOOKUP(A170,'Lighting Prices'!A:A,'Lighting Prices'!E:E)","v":{"$error":"#N/A"}}]
["LK-A-EMD-CPBM",{"$f":"_xlfn.XLOOKUP(A171,'Prices Furniture'!A:A,'Prices Furniture'!E:E)","v":109},{"$f":"_xlfn.XLOOKUP(A171,'Lighting Prices'!A:A,'Lighting Prices'!E:E)","v":{"$error":"#N/A"}}]
["LK-A-EMD-CPBC",{"$f":"_xlfn.XLOOKUP(A172,'Prices Furniture'!A:A,'Prices Furniture'!E:E)","v":116},{"$f":"_xlfn.XLOOKUP(A172,'Lighting Prices'!A:A,'Lighting Prices'!E:E)","v":{"$error":"#N/A"}}]
["LK-A-EMD-ET",{"$f":"_xlfn.XLOOKUP(A173,'Prices Furniture'!A:A,'Prices Furniture'!E:E)","v":37},{"$f":"_xlfn.XLOOKUP(A173,'Lighting Prices'!A:A,'Lighting Prices'!E:E)","v":{"$error":"#N/A"}}]
["LK-HD-003",{"$f":"_xlfn.XLOOKUP(A174,'Prices Furniture'!A:A,'Prices Furniture'!E:E)","v":11},{"$f":"_xlfn.XLOOKUP(A174,'Lighting Prices'!A:A,'Lighting Prices'!E:E)","v":{"$error":"#N/A"}}]
["LK-HD-018",{"$f":"_xlfn.XLOOKUP(A175,'Prices Furniture'!A:A,'Prices Furniture'!E:E)","v":{"$error":"#N/A"}},{"$f":"_xlfn.XLOOKUP(A175,'Lighting Prices'!A:A,'Lighting Prices'!E:E)","v":{"$error":"#N/A"}}]
["LK-HD-022",{"$f":"_xlfn.XLOOKUP(A176,'Prices Furniture'!A:A,'Prices Furniture'!E:E)","v":{"$error":"#N/A"}},{"$f":"_xlfn.XLOOKUP(A176,'Lighting Prices'!A:A,'Lighting Prices'!E:E)","v":{"$error":"#N/A"}}]
["LK-HD-1002",{"$f":"_xlfn.XLOOKUP(A177,'Prices Furniture'!A:A,'Prices Furniture'!E:E)","v":{"$error":"#N/A"}},{"$f":"_xlfn.XLOOKUP(A177,'Lighting Prices'!A:A,'Lighting Prices'!E:E)","v":{"$error":"#N/A"}}]
["LK-HD-1003",{"$f":"_xlfn.XLOOKUP(A178,'Prices Furniture'!A:A,'Prices Furniture'!E:E)","v":15},{"$f":"_xlfn.XLOOKUP(A178,'Lighting Prices'!A:A,'Lighting Prices'!E:E)","v":{"$error":"#N/A"}}]
["LK-HD-1004",{"$f":"_xlfn.XLOOKUP(A179,'Prices Furniture'!A:A,'Prices Furniture'!E:E)","v":{"$error":"#N/A"}},{"$f":"_xlfn.XLOOKUP(A179,'Lighting Prices'!A:A,'Lighting Prices'!E:E)","v":{"$error":"#N/A"}}]
["LK-HD-1005",{"$f":"_xlfn.XLOOKUP(A180,'Prices Furniture'!A:A,'Prices Furniture'!E:E)","v":{"$error":"#N/A"}},{"$f":"_xlfn.XLOOKUP(A180,'Lighting Prices'!A:A,'Lighting Prices'!E:E)","v":{"$error":"#N/A"}}]
["LK-HD-1006",{"$f":"_xlfn.XLOOKUP(A181,'Prices Furniture'!A:A,'Prices Furniture'!E:E)","v":{"$error":"#N/A"}},{"$f":"_xlfn.XLOOKUP(A181,'Lighting Prices'!A:A,'Lighting Prices'!E:E)","v":{"$error":"#N/A"}}]
["LK-HD-1007",{"$f":"_xlfn.XLOOKUP(A182,'Prices Furniture'!A:A,'Prices Furniture'!E:E)","v":18},{"$f":"_xlfn.XLOOKUP(A182,'Lighting Prices'!A:A,'Lighting Prices'!E:E)","v":{"$error":"#N/A"}}]
["LK-HD-1008",{"$f":"_xlfn.XLOOKUP(A183,'Prices Furniture'!A:A,'Prices Furniture'!E:E)","v":{"$error":"#N/A"}},{"$f":"_xlfn.XLOOKUP(A183,'Lighting Prices'!A:A,'Lighting Prices'!E:E)","v":{"$error":"#N/A"}}]
["LK-HD-1009",{"$f":"_xlfn.XLOOKUP(A184,'Prices Furniture'!A:A,'Prices Furniture'!E:E)","v":10},{"$f":"_xlfn.XLOOKUP(A184,'Lighting Prices'!A:A,'Lighting Prices'!E:E)","v":{"$error":"#N/A"}}]
["LK-HD-1010",{"$f":"_xlfn.XLOOKUP(A185,'Prices Furniture'!A:A,'Prices Furniture'!E:E)","v":{"$error":"#N/A"}},{"$f":"_xlfn.XLOOKUP(A185,'Lighting Prices'!A:A,'Lighting Prices'!E:E)","v":{"$error":"#N/A"}}]
["LK-HD-1011",{"$f":"_xlfn.XLOOKUP(A186,'Prices Furniture'!A:A,'Prices Furniture'!E:E)","v":16},{"$f":"_xlfn.XLOOKUP(A186,'Lighting Prices'!A:A,'Lighting Prices'!E:E)","v":{"$error":"#N/A"}}]
["LK-HD-1013",{"$f":"_xlfn.XLOOKUP(A187,'Prices Furniture'!A:A,'Prices Furniture'!E:E)","v":16},{"$f":"_xlfn.XLOOKUP(A187,'Lighting Prices'!A:A,'Lighting Prices'!E:E)","v":{"$error":"#N/A"}}]
["LK-HD-1015",{"$f":"_xlfn.XLOOKUP(A188,'Prices Furniture'!A:A,'Prices Furniture'!E:E)","v":16},{"$f":"_xlfn.XLOOKUP(A188,'Lighting Prices'!A:A,'Lighting Prices'!E:E)","v":{"$error":"#N/A"}}]
["LK-HD-1017",{"$f":"_xlfn.XLOOKUP(A189,'Prices Furniture'!A:A,'Prices Furniture'!E:E)","v":{"$error":"#N/A"}},{"$f":"_xlfn.XLOOKUP(A189,'Lighting Prices'!A:A,'Lighting Prices'!E:E)","v":{"$error":"#N/A"}}]
["LK-HD-1018",{"$f":"_xlfn.XLOOKUP(A190,'Prices Furniture'!A:A,'Prices Furniture'!E:E)","v":32},{"$f":"_xlfn.XLOOKUP(A190,'Lighting Prices'!A:A,'Lighting Prices'!E:E)","v":{"$error":"#N/A"}}]
["LK-HD-1019",{"$f":"_xlfn.XLOOKUP(A191,'Prices Furniture'!A:A,'Prices Furniture'!E:E)","v":30},{"$f":"_xlfn.XLOOKUP(A191,'Lighting Prices'!A:A,'Lighting Prices'!E:E)","v":{"$error":"#N/A"}}]
["LK-HD-1020",{"$f":"_xlfn.XLOOKUP(A192,'Prices Furniture'!A:A,'Prices Furniture'!E:E)","v":23},{"$f":"_xlfn.XLOOKUP(A192,'Lighting Prices'!A:A,'Lighting Prices'!E:E)","v":{"$error":"#N/A"}}]
["LK-HD-1022",{"$f":"_xlfn.XLOOKUP(A193,'Prices Furniture'!A:A,'Prices Furniture'!E:E)","v":13},{"$f":"_xlfn.XLOOKUP(A193,'Lighting Prices'!A:A,'Lighting Prices'!E:E)","v":{"$error":"#N/A"}}]
["LK-HD-1023",{"$f":"_xlfn.XLOOKUP(A194,'Prices Furniture'!A:A,'Prices Furniture'!E:E)","v":{"$error":"#N/A"}},{"$f":"_xlfn.XLOOKUP(A194,'Lighting Prices'!A:A,'Lighting Prices'!E:E)","v":{"$error":"#N/A"}}]
["LK-HD-1024",{"$f":"_xlfn.XLOOKUP(A195,'Prices Furniture'!A:A,'Prices Furniture'!E:E)","v":13},{"$f":"_xlfn.XLOOKUP(A195,'Lighting Prices'!A:A,'Lighting Prices'!E:E)","v":{"$error":"#N/A"}}]
["LK-HD-1025",{"$f":"_xlfn.XLOOKUP(A196,'Prices Furniture'!A:A,'Prices Furniture'!E:E)","v":17},{"$f":"_xlfn.XLOOKUP(A196,'Lighting Prices'!A:A,'Lighting Prices'!E:E)","v":{"$error":"#N/A"}}]
["LK-HD-1026",{"$f":"_xlfn.XLOOKUP(A197,'Prices Furniture'!A:A,'Prices Furniture'!E:E)","v":17},{"$f":"_xlfn.XLOOKUP(A197,'Lighting Prices'!A:A,'Lighting Prices'!E:E)","v":{"$error":"#N/A"}}]
["LK-HD-1027",{"$f":"_xlfn.XLOOKUP(A198,'Prices Furniture'!A:A,'Prices Furniture'!E:E)","v":17},{"$f":"_xlfn.XLOOKUP(A198,'Lighting Prices'!A:A,'Lighting Prices'!E:E)","v":{"$error":"#N/A"}}]
["LK-HD-1028",{"$f":"_xlfn.XLOOKUP(A199,'Prices Furniture'!A:A,'Prices Furniture'!E:E)","v":18},{"$f":"_xlfn.XLOOKUP(A199,'Lighting Prices'!A:A,'Lighting Prices'!E:E)","v":{"$error":"#N/A"}}]
["LK-HD-1029",{"$f":"_xlfn.XLOOKUP(A200,'Prices Furniture'!A:A,'Prices Furniture'!E:E)","v":{"$error":"#N/A"}},{"$f":"_xlfn.XLOOKUP(A200,'Lighting Prices'!A:A,'Lighting Prices'!E:E)","v":{"$error":"#N/A"}}]
["LK-HD-1030",{"$f":"_xlfn.XLOOKUP(A201,'Prices Furniture'!A:A,'Prices Furniture'!E:E)","v":17},{"$f":"_xlfn.XLOOKUP(A201,'Lighting Prices'!A:A,'Lighting Prices'!E:E)","v":{"$error":"#N/A"}}]
["LK-HD-1031",{"$f":"_xlfn.XLOOKUP(A202,'Prices Furniture'!A:A,'Prices Furniture'!E:E)","v":17},{"$f":"_xlfn.XLOOKUP(A202,'Lighting Prices'!A:A,'Lighting Prices'!E:E)","v":{"$error":"#N/A"}}]
["LK-HD-146",{"$f":"_xlfn.XLOOKUP(A203,'Prices Furniture'!A:A,'Prices Furniture'!E:E)","v":13},{"$f":"_xlfn.XLOOKUP(A203,'Lighting Prices'!A:A,'Lighting Prices'!E:E)","v":{"$error":"#N/A"}}]
["LK-HD-149",{"$f":"_xlfn.XLOOKUP(A204,'Prices Furniture'!A:A,'Prices Furniture'!E:E)","v":13},{"$f":"_xlfn.XLOOKUP(A204,'Lighting Prices'!A:A,'Lighting Prices'!E:E)","v":{"$error":"#N/A"}}]
["LK-HD-150",{"$f":"_xlfn.XLOOKUP(A205,'Prices Furniture'!A:A,'Prices Furniture'!E:E)","v":13},{"$f":"_xlfn.XLOOKUP(A205,'Lighting Prices'!A:A,'Lighting Prices'!E:E)","v":{"$error":"#N/A"}}]
["LK-HD-222",{"$f":"_xlfn.XLOOKUP(A206,'Prices Furniture'!A:A,'Prices Furniture'!E:E)","v":14},{"$f":"_xlfn.XLOOKUP(A206,'Lighting Prices'!A:A,'Lighting Prices'!E:E)","v":{"$error":"#N/A"}}]
["LK-HD-264",{"$f":"_xlfn.XLOOKUP(A207,'Prices Furniture'!A:A,'Prices Furniture'!E:E)","v":14},{"$f":"_xlfn.XLOOKUP(A207,'Lighting Prices'!A:A,'Lighting Prices'!E:E)","v":{"$error":"#N/A"}}]
["LK-HD-318",{"$f":"_xlfn.XLOOKUP(A208,'Prices Furniture'!A:A,'Prices Furniture'!E:E)","v":15},{"$f":"_xlfn.XLOOKUP(A208,'Lighting Prices'!A:A,'Lighting Prices'!E:E)","v":{"$error":"#N/A"}}]
["LK-HD-363",{"$f":"_xlfn.XLOOKUP(A209,'Prices Furniture'!A:A,'Prices Furniture'!E:E)","v":13},{"$f":"_xlfn.XLOOKUP(A209,'Lighting Prices'!A:A,'Lighting Prices'!E:E)","v":{"$error":"#N/A"}}]
["LK-HD-504",{"$f":"_xlfn.XLOOKUP(A210,'Prices Furniture'!A:A,'Prices Furniture'!E:E)","v":13},{"$f":"_xlfn.XLOOKUP(A210,'Lighting Prices'!A:A,'Lighting Prices'!E:E)","v":{"$error":"#N/A"}}]
["LK-HD-820",{"$f":"_xlfn.XLOOKUP(A211,'Prices Furniture'!A:A,'Prices Furniture'!E:E)","v":14},{"$f":"_xlfn.XLOOKUP(A211,'Lighting Prices'!A:A,'Lighting Prices'!E:E)","v":{"$error":"#N/A"}}]
["LK-HD-916",{"$f":"_xlfn.XLOOKUP(A212,'Prices Furniture'!A:A,'Prices Furniture'!E:E)","v":{"$error":"#N/A"}},{"$f":"_xlfn.XLOOKUP(A212,'Lighting Prices'!A:A,'Lighting Prices'!E:E)","v":{"$error":"#N/A"}}]
["LK-HD-917",{"$f":"_xlfn.XLOOKUP(A213,'Prices Furniture'!A:A,'Prices Furniture'!E:E)","v":13},{"$f":"_xlfn.XLOOKUP(A213,'Lighting Prices'!A:A,'Lighting Prices'!E:E)","v":{"$error":"#N/A"}}]
["LK-HD-918",{"$f":"_xlfn.XLOOKUP(A214,'Prices Furniture'!A:A,'Prices Furniture'!E:E)","v":10},{"$f":"_xlfn.XLOOKUP(A214,'Lighting Prices'!A:A,'Lighting Prices'!E:E)","v":{"$error":"#N/A"}}]
["LK-HD-919",{"$f":"_xlfn.XLOOKUP(A215,'Prices Furniture'!A:A,'Prices Furniture'!E:E)","v":{"$error":"#N/A"}},{"$f":"_xlfn.XLOOKUP(A215,'Lighting Prices'!A:A,'Lighting Prices'!E:E)","v":{"$error":"#N/A"}}]
["LK-HD-931",{"$f":"_xlfn.XLOOKUP(A216,'Prices Furniture'!A:A,'Prices Furniture'!E:E)","v":16},{"$f":"_xlfn.XLOOKUP(A216,'Lighting Prices'!A:A,'Lighting Prices'!E:E)","v":{"$error":"#N/A"}}]
["LK-HD-932",{"$f":"_xlfn.XLOOKUP(A217,'Prices Furniture'!A:A,'Prices Furniture'!E:E)","v":10},{"$f":"_xlfn.XLOOKUP(A217,'Lighting Prices'!A:A,'Lighting Prices'!E:E)","v":{"$error":"#N/A"}}]
["LK-HD-933",{"$f":"_xlfn.XLOOKUP(A218,'Prices Furniture'!A:A,'Prices Furniture'!E:E)","v":13},{"$f":"_xlfn.XLOOKUP(A218,'Lighting Prices'!A:A,'Lighting Prices'!E:E)","v":{"$error":"#N/A"}}]
["LK-HD-941",{"$f":"_xlfn.XLOOKUP(A219,'Prices Furniture'!A:A,'Prices Furniture'!E:E)","v":16},{"$f":"_xlfn.XLOOKUP(A219,'Lighting Prices'!A:A,'Lighting Prices'!E:E)","v":{"$error":"#N/A"}}]
["LK-HD-942",{"$f":"_xlfn.XLOOKUP(A220,'Prices Furniture'!A:A,'Prices Furniture'!E:E)","v":10},{"$f":"_xlfn.XLOOKUP(A220,'Lighting Prices'!A:A,'Lighting Prices'!E:E)","v":{"$error":"#N/A"}}]
["LK-HD-943",{"$f":"_xlfn.XLOOKUP(A221,'Prices Furniture'!A:A,'Prices Furniture'!E:E)","v":10},{"$f":"_xlfn.XLOOKUP(A221,'Lighting Prices'!A:A,'Lighting Prices'!E:E)","v":{"$error":"#N/A"}}]
["LK-HD-947",{"$f":"_xlfn.XLOOKUP(A222,'Prices Furniture'!A:A,'Prices Furniture'!E:E)","v":17},{"$f":"_xlfn.XLOOKUP(A222,'Lighting Prices'!A:A,'Lighting Prices'!E:E)","v":{"$error":"#N/A"}}]
["LK-HD-962",{"$f":"_xlfn.XLOOKUP(A223,'Prices Furniture'!A:A,'Prices Furniture'!E:E)","v":24},{"$f":"_xlfn.XLOOKUP(A223,'Lighting Prices'!A:A,'Lighting Prices'!E:E)","v":{"$error":"#N/A"}}]
["LK-HD-1032",{"$f":"_xlfn.XLOOKUP(A224,'Prices Furniture'!A:A,'Prices Furniture'!E:E)","v":23},{"$f":"_xlfn.XLOOKUP(A224,'Lighting Prices'!A:A,'Lighting Prices'!E:E)","v":{"$error":"#N/A"}}]
["LK-HD-1033",{"$f":"_xlfn.XLOOKUP(A225,'Prices Furniture'!A:A,'Prices Furniture'!E:E)","v":16},{"$f":"_xlfn.XLOOKUP(A225,'Lighting Prices'!A:A,'Lighting Prices'!E:E)","v":{"$error":"#N/A"}}]
["LK-HD-1034",{"$f":"_xlfn.XLOOKUP(A226,'Prices Furniture'!A:A,'Prices Furniture'!E:E)","v":{"$error":"#N/A"}},{"$f":"_xlfn.XLOOKUP(A226,'Lighting Prices'!A:A,'Lighting Prices'!E:E)","v":{"$error":"#N/A"}}]
["LK-HD-1035",{"$f":"_xlfn.XLOOKUP(A227,'Prices Furniture'!A:A,'Prices Furniture'!E:E)","v":{"$error":"#N/A"}},{"$f":"_xlfn.XLOOKUP(A227,'Lighting Prices'!A:A,'Lighting Prices'!E:E)","v":{"$error":"#N/A"}}]
["LK-HD-1036",{"$f":"_xlfn.XLOOKUP(A228,'Prices Furniture'!A:A,'Prices Furniture'!E:E)","v":{"$error":"#N/A"}},{"$f":"_xlfn.XLOOKUP(A228,'Lighting Prices'!A:A,'Lighting Prices'!E:E)","v":{"$error":"#N/A"}}]
["LK-HD-1037",{"$f":"_xlfn.XLOOKUP(A229,'Prices Furniture'!A:A,'Prices Furniture'!E:E)","v":{"$error":"#N/A"}},{"$f":"_xlfn.XLOOKUP(A229,'Lighting Prices'!A:A,'Lighting Prices'!E:E)","v":{"$error":"#N/A"}}]
["LK-HD-1038",{"$f":"_xlfn.XLOOKUP(A230,'Prices Furniture'!A:A,'Prices Furniture'!E:E)","v":23},{"$f":"_xlfn.XLOOKUP(A230,'Lighting Prices'!A:A,'Lighting Prices'!E:E)","v":{"$error":"#N/A"}}]
["LK-HD-1039",{"$f":"_xlfn.XLOOKUP(A231,'Prices Furniture'!A:A,'Prices Furniture'!E:E)","v":23},{"$f":"_xlfn.XLOOKUP(A231,'Lighting Prices'!A:A,'Lighting Prices'!E:E)","v":{"$error":"#N/A"}}]
["LK-HD-1040",{"$f":"_xlfn.XLOOKUP(A232,'Prices Furniture'!A:A,'Prices Furniture'!E:E)","v":23},{"$f":"_xlfn.XLOOKUP(A232,'Lighting Prices'!A:A,'Lighting Prices'!E:E)","v":{"$error":"#N/A"}}]
["LK-HD-1041",{"$f":"_xlfn.XLOOKUP(A233,'Prices Furniture'!A:A,'Prices Furniture'!E:E)","v":{"$error":"#N/A"}},{"$f":"_xlfn.XLOOKUP(A233,'Lighting Prices'!A:A,'Lighting Prices'!E:E)","v":{"$error":"#N/A"}}]
["LK-HD-1042",{"$f":"_xlfn.XLOOKUP(A234,'Prices Furniture'!A:A,'Prices Furniture'!E:E)","v":{"$error":"#N/A"}},{"$f":"_xlfn.XLOOKUP(A234,'Lighting Prices'!A:A,'Lighting Prices'!E:E)","v":{"$error":"#N/A"}}]
["LK-HD-1043",{"$f":"_xlfn.XLOOKUP(A235,'Prices Furniture'!A:A,'Prices Furniture'!E:E)","v":15},{"$f":"_xlfn.XLOOKUP(A235,'Lighting Prices'!A:A,'Lighting Prices'!E:E)","v":{"$error":"#N/A"}}]
["LK-HD-1044",{"$f":"_xlfn.XLOOKUP(A236,'Prices Furniture'!A:A,'Prices Furniture'!E:E)","v":17},{"$f":"_xlfn.XLOOKUP(A236,'Lighting Prices'!A:A,'Lighting Prices'!E:E)","v":{"$error":"#N/A"}}]
["LK-HD-1045",{"$f":"_xlfn.XLOOKUP(A237,'Prices Furniture'!A:A,'Prices Furniture'!E:E)","v":23},{"$f":"_xlfn.XLOOKUP(A237,'Lighting Prices'!A:A,'Lighting Prices'!E:E)","v":{"$error":"#N/A"}}]
["LK-HD-1046",{"$f":"_xlfn.XLOOKUP(A238,'Prices Furniture'!A:A,'Prices Furniture'!E:E)","v":17},{"$f":"_xlfn.XLOOKUP(A238,'Lighting Prices'!A:A,'Lighting Prices'!E:E)","v":{"$error":"#N/A"}}]
["LK-HD-1047",{"$f":"_xlfn.XLOOKUP(A239,'Prices Furniture'!A:A,'Prices Furniture'!E:E)","v":26},{"$f":"_xlfn.XLOOKUP(A239,'Lighting Prices'!A:A,'Lighting Prices'!E:E)","v":{"$error":"#N/A"}}]
["LK-HD-1048",{"$f":"_xlfn.XLOOKUP(A240,'Prices Furniture'!A:A,'Prices Furniture'!E:E)","v":18},{"$f":"_xlfn.XLOOKUP(A240,'Lighting Prices'!A:A,'Lighting Prices'!E:E)","v":{"$error":"#N/A"}}]
["LK-HD-1049",{"$f":"_xlfn.XLOOKUP(A241,'Prices Furniture'!A:A,'Prices Furniture'!E:E)","v":23},{"$f":"_xlfn.XLOOKUP(A241,'Lighting Prices'!A:A,'Lighting Prices'!E:E)","v":{"$error":"#N/A"}}]
["LK-HD-1050",{"$f":"_xlfn.XLOOKUP(A242,'Prices Furniture'!A:A,'Prices Furniture'!E:E)","v":17},{"$f":"_xlfn.XLOOKUP(A242,'Lighting Prices'!A:A,'Lighting Prices'!E:E)","v":{"$error":"#N/A"}}]
["LK-HD-1051",{"$f":"_xlfn.XLOOKUP(A243,'Prices Furniture'!A:A,'Prices Furniture'!E:E)","v":24},{"$f":"_xlfn.XLOOKUP(A243,'Lighting Prices'!A:A,'Lighting Prices'!E:E)","v":{"$error":"#N/A"}}]
["LK-HD-1052",{"$f":"_xlfn.XLOOKUP(A244,'Prices Furniture'!A:A,'Prices Furniture'!E:E)","v":18},{"$f":"_xlfn.XLOOKUP(A244,'Lighting Prices'!A:A,'Lighting Prices'!E:E)","v":{"$error":"#N/A"}}]
["LK-HD-1053",{"$f":"_xlfn.XLOOKUP(A245,'Prices Furniture'!A:A,'Prices Furniture'!E:E)","v":37},{"$f":"_xlfn.XLOOKUP(A245,'Lighting Prices'!A:A,'Lighting Prices'!E:E)","v":{"$error":"#N/A"}}]
["LK-HD-1054",{"$f":"_xlfn.XLOOKUP(A246,'Prices Furniture'!A:A,'Prices Furniture'!E:E)","v":27},{"$f":"_xlfn.XLOOKUP(A246,'Lighting Prices'!A:A,'Lighting Prices'!E:E)","v":{"$error":"#N/A"}}]
["LK-HD-1055",{"$f":"_xlfn.XLOOKUP(A247,'Prices Furniture'!A:A,'Prices Furniture'!E:E)","v":36},{"$f":"_xlfn.XLOOKUP(A247,'Lighting Prices'!A:A,'Lighting Prices'!E:E)","v":{"$error":"#N/A"}}]
["LK-HD-1056",{"$f":"_xlfn.XLOOKUP(A248,'Prices Furniture'!A:A,'Prices Furniture'!E:E)","v":28},{"$f":"_xlfn.XLOOKUP(A248,'Lighting Prices'!A:A,'Lighting Prices'!E:E)","v":{"$error":"#N/A"}}]
["LK-HD-1057",{"$f":"_xlfn.XLOOKUP(A249,'Prices Furniture'!A:A,'Prices Furniture'!E:E)","v":35},{"$f":"_xlfn.XLOOKUP(A249,'Lighting Prices'!A:A,'Lighting Prices'!E:E)","v":{"$error":"#N/A"}}]
["LK-HD-1058",{"$f":"_xlfn.XLOOKUP(A250,'Prices Furniture'!A:A,'Prices Furniture'!E:E)","v":27},{"$f":"_xlfn.XLOOKUP(A250,'Lighting Prices'!A:A,'Lighting Prices'!E:E)","v":{"$error":"#N/A"}}]
["LK-HD-1059",{"$f":"_xlfn.XLOOKUP(A251,'Prices Furniture'!A:A,'Prices Furniture'!E:E)","v":19},{"$f":"_xlfn.XLOOKUP(A251,'Lighting Prices'!A:A,'Lighting Prices'!E:E)","v":{"$error":"#N/A"}}]
["LK-HD-1060",{"$f":"_xlfn.XLOOKUP(A252,'Prices Furniture'!A:A,'Prices Furniture'!E:E)","v":16},{"$f":"_xlfn.XLOOKUP(A252,'Lighting Prices'!A:A,'Lighting Prices'!E:E)","v":{"$error":"#N/A"}}]
["LK-HD-1061",{"$f":"_xlfn.XLOOKUP(A253,'Prices Furniture'!A:A,'Prices Furniture'!E:E)","v":19},{"$f":"_xlfn.XLOOKUP(A253,'Lighting Prices'!A:A,'Lighting Prices'!E:E)","v":{"$error":"#N/A"}}]
["LK-HD-1062",{"$f":"_xlfn.XLOOKUP(A254,'Prices Furniture'!A:A,'Prices Furniture'!E:E)","v":16},{"$f":"_xlfn.XLOOKUP(A254,'Lighting Prices'!A:A,'Lighting Prices'!E:E)","v":{"$error":"#N/A"}}]
["LK-HD-1063",{"$f":"_xlfn.XLOOKUP(A255,'Prices Furniture'!A:A,'Prices Furniture'!E:E)","v":16},{"$f":"_xlfn.XLOOKUP(A255,'Lighting Prices'!A:A,'Lighting Prices'!E:E)","v":{"$error":"#N/A"}}]
["LK-HD-1064",{"$f":"_xlfn.XLOOKUP(A256,'Prices Furniture'!A:A,'Prices Furniture'!E:E)","v":15},{"$f":"_xlfn.XLOOKUP(A256,'Lighting Prices'!A:A,'Lighting Prices'!E:E)","v":{"$error":"#N/A"}}]
["LK-HD-1065",{"$f":"_xlfn.XLOOKUP(A257,'Prices Furniture'!A:A,'Prices Furniture'!E:E)","v":14},{"$f":"_xlfn.XLOOKUP(A257,'Lighting Prices'!A:A,'Lighting Prices'!E:E)","v":{"$error":"#N/A"}}]
["LK-HD-1066",{"$f":"_xlfn.XLOOKUP(A258,'Prices Furniture'!A:A,'Prices Furniture'!E:E)","v":15},{"$f":"_xlfn.XLOOKUP(A258,'Lighting Prices'!A:A,'Lighting Prices'!E:E)","v":{"$error":"#N/A"}}]
["LK-HD-1067",{"$f":"_xlfn.XLOOKUP(A259,'Prices Furniture'!A:A,'Prices Furniture'!E:E)","v":15},{"$f":"_xlfn.XLOOKUP(A259,'Lighting Prices'!A:A,'Lighting Prices'!E:E)","v":{"$error":"#N/A"}}]
["LK-HD-1070",{"$f":"_xlfn.XLOOKUP(A260,'Prices Furniture'!A:A,'Prices Furniture'!E:E)","v":11},{"$f":"_xlfn.XLOOKUP(A260,'Lighting Prices'!A:A,'Lighting Prices'!E:E)","v":{"$error":"#N/A"}}]
["LK-HD-1071",{"$f":"_xlfn.XLOOKUP(A261,'Prices Furniture'!A:A,'Prices Furniture'!E:E)","v":13},{"$f":"_xlfn.XLOOKUP(A261,'Lighting Prices'!A:A,'Lighting Prices'!E:E)","v":{"$error":"#N/A"}}]
["LK-HD-1072",{"$f":"_xlfn.XLOOKUP(A262,'Prices Furniture'!A:A,'Prices Furniture'!E:E)","v":11},{"$f":"_xlfn.XLOOKUP(A262,'Lighting Prices'!A:A,'Lighting Prices'!E:E)","v":{"$error":"#N/A"}}]
["LK-HD-1073",{"$f":"_xlfn.XLOOKUP(A263,'Prices Furniture'!A:A,'Prices Furniture'!E:E)","v":13},{"$f":"_xlfn.XLOOKUP(A263,'Lighting Prices'!A:A,'Lighting Prices'!E:E)","v":{"$error":"#N/A"}}]
["LK-HD-1074",{"$f":"_xlfn.XLOOKUP(A264,'Prices Furniture'!A:A,'Prices Furniture'!E:E)","v":15},{"$f":"_xlfn.XLOOKUP(A264,'Lighting Prices'!A:A,'Lighting Prices'!E:E)","v":{"$error":"#N/A"}}]
["LK-HD-1075",{"$f":"_xlfn.XLOOKUP(A265,'Prices Furniture'!A:A,'Prices Furniture'!E:E)","v":15},{"$f":"_xlfn.XLOOKUP(A265,'Lighting Prices'!A:A,'Lighting Prices'!E:E)","v":{"$error":"#N/A"}}]
["LK-HD-1076",{"$f":"_xlfn.XLOOKUP(A266,'Prices Furniture'!A:A,'Prices Furniture'!E:E)","v":10},{"$f":"_xlfn.XLOOKUP(A266,'Lighting Prices'!A:A,'Lighting Prices'!E:E)","v":{"$error":"#N/A"}}]
["LK-HD-1077",{"$f":"_xlfn.XLOOKUP(A267,'Prices Furniture'!A:A,'Prices Furniture'!E:E)","v":14},{"$f":"_xlfn.XLOOKUP(A267,'Lighting Prices'!A:A,'Lighting Prices'!E:E)","v":{"$error":"#N/A"}}]
["LK-HD-1078",{"$f":"_xlfn.XLOOKUP(A268,'Prices Furniture'!A:A,'Prices Furniture'!E:E)","v":10},{"$f":"_xlfn.XLOOKUP(A268,'Lighting Prices'!A:A,'Lighting Prices'!E:E)","v":{"$error":"#N/A"}}]
["LK-HD-1079",{"$f":"_xlfn.XLOOKUP(A269,'Prices Furniture'!A:A,'Prices Furniture'!E:E)","v":14},{"$f":"_xlfn.XLOOKUP(A269,'Lighting Prices'!A:A,'Lighting Prices'!E:E)","v":{"$error":"#N/A"}}]
["LK-HD-1080",{"$f":"_xlfn.XLOOKUP(A270,'Prices Furniture'!A:A,'Prices Furniture'!E:E)","v":13},{"$f":"_xlfn.XLOOKUP(A270,'Lighting Prices'!A:A,'Lighting Prices'!E:E)","v":{"$error":"#N/A"}}]
["LK-HD-1081",{"$f":"_xlfn.XLOOKUP(A271,'Prices Furniture'!A:A,'Prices Furniture'!E:E)","v":13},{"$f":"_xlfn.XLOOKUP(A271,'Lighting Prices'!A:A,'Lighting Prices'!E:E)","v":{"$error":"#N/A"}}]
["LK-HD-1082",{"$f":"_xlfn.XLOOKUP(A272,'Prices Furniture'!A:A,'Prices Furniture'!E:E)","v":35},{"$f":"_xlfn.XLOOKUP(A272,'Lighting Prices'!A:A,'Lighting Prices'!E:E)","v":{"$error":"#N/A"}}]
["LK-HD-1083",{"$f":"_xlfn.XLOOKUP(A273,'Prices Furniture'!A:A,'Prices Furniture'!E:E)","v":30},{"$f":"_xlfn.XLOOKUP(A273,'Lighting Prices'!A:A,'Lighting Prices'!E:E)","v":{"$error":"#N/A"}}]
["LK-HD-1084",{"$f":"_xlfn.XLOOKUP(A274,'Prices Furniture'!A:A,'Prices Furniture'!E:E)","v":19},{"$f":"_xlfn.XLOOKUP(A274,'Lighting Prices'!A:A,'Lighting Prices'!E:E)","v":{"$error":"#N/A"}}]
["LK-HD-1085",{"$f":"_xlfn.XLOOKUP(A275,'Prices Furniture'!A:A,'Prices Furniture'!E:E)","v":26},{"$f":"_xlfn.XLOOKUP(A275,'Lighting Prices'!A:A,'Lighting Prices'!E:E)","v":{"$error":"#N/A"}}]
["LK-HD-1086",{"$f":"_xlfn.XLOOKUP(A276,'Prices Furniture'!A:A,'Prices Furniture'!E:E)","v":26},{"$f":"_xlfn.XLOOKUP(A276,'Lighting Prices'!A:A,'Lighting Prices'!E:E)","v":{"$error":"#N/A"}}]
["LK-HD-1087",{"$f":"_xlfn.XLOOKUP(A277,'Prices Furniture'!A:A,'Prices Furniture'!E:E)","v":35},{"$f":"_xlfn.XLOOKUP(A277,'Lighting Prices'!A:A,'Lighting Prices'!E:E)","v":{"$error":"#N/A"}}]
["LK-HD-1088",{"$f":"_xlfn.XLOOKUP(A278,'Prices Furniture'!A:A,'Prices Furniture'!E:E)","v":30},{"$f":"_xlfn.XLOOKUP(A278,'Lighting Prices'!A:A,'Lighting Prices'!E:E)","v":{"$error":"#N/A"}}]
["LK-HD-1089",{"$f":"_xlfn.XLOOKUP(A279,'Prices Furniture'!A:A,'Prices Furniture'!E:E)","v":19},{"$f":"_xlfn.XLOOKUP(A279,'Lighting Prices'!A:A,'Lighting Prices'!E:E)","v":{"$error":"#N/A"}}]
["LK-HD-1090",{"$f":"_xlfn.XLOOKUP(A280,'Prices Furniture'!A:A,'Prices Furniture'!E:E)","v":26},{"$f":"_xlfn.XLOOKUP(A280,'Lighting Prices'!A:A,'Lighting Prices'!E:E)","v":{"$error":"#N/A"}}]
["LK-HD-1091",{"$f":"_xlfn.XLOOKUP(A281,'Prices Furniture'!A:A,'Prices Furniture'!E:E)","v":26},{"$f":"_xlfn.XLOOKUP(A281,'Lighting Prices'!A:A,'Lighting Prices'!E:E)","v":{"$error":"#N/A"}}]
["LK-HD-1092",{"$f":"_xlfn.XLOOKUP(A282,'Prices Furniture'!A:A,'Prices Furniture'!E:E)","v":35},{"$f":"_xlfn.XLOOKUP(A282,'Lighting Prices'!A:A,'Lighting Prices'!E:E)","v":{"$error":"#N/A"}}]
["LK-HD-1093",{"$f":"_xlfn.XLOOKUP(A283,'Prices Furniture'!A:A,'Prices Furniture'!E:E)","v":30},{"$f":"_xlfn.XLOOKUP(A283,'Lighting Prices'!A:A,'Lighting Prices'!E:E)","v":{"$error":"#N/A"}}]
["LK-HD-1094",{"$f":"_xlfn.XLOOKUP(A284,'Prices Furniture'!A:A,'Prices Furniture'!E:E)","v":19},{"$f":"_xlfn.XLOOKUP(A284,'Lighting Prices'!A:A,'Lighting Prices'!E:E)","v":{"$error":"#N/A"}}]
["LK-HD-1095",{"$f":"_xlfn.XLOOKUP(A285,'Prices Furniture'!A:A,'Prices Furniture'!E:E)","v":17},{"$f":"_xlfn.XLOOKUP(A285,'Lighting Prices'!A:A,'Lighting Prices'!E:E)","v":{"$error":"#N/A"}}]
["LK-HD-1096",{"$f":"_xlfn.XLOOKUP(A286,'Prices Furniture'!A:A,'Prices Furniture'!E:E)","v":30},{"$f":"_xlfn.XLOOKUP(A286,'Lighting Prices'!A:A,'Lighting Prices'!E:E)","v":{"$error":"#N/A"}}]
["LK-HD-1097",{"$f":"_xlfn.XLOOKUP(A287,'Prices Furniture'!A:A,'Prices Furniture'!E:E)","v":17},{"$f":"_xlfn.XLOOKUP(A287,'Lighting Prices'!A:A,'Lighting Prices'!E:E)","v":{"$error":"#N/A"}}]
["LK-HD-1098",{"$f":"_xlfn.XLOOKUP(A288,'Prices Furniture'!A:A,'Prices Furniture'!E:E)","v":30},{"$f":"_xlfn.XLOOKUP(A288,'Lighting Prices'!A:A,'Lighting Prices'!E:E)","v":{"$error":"#N/A"}}]
["LK-HD-1099",{"$f":"_xlfn.XLOOKUP(A289,'Prices Furniture'!A:A,'Prices Furniture'!E:E)","v":17},{"$f":"_xlfn.XLOOKUP(A289,'Lighting Prices'!A:A,'Lighting Prices'!E:E)","v":{"$error":"#N/A"}}]
["LK-HD-1100",{"$f":"_xlfn.XLOOKUP(A290,'Prices Furniture'!A:A,'Prices Furniture'!E:E)","v":30},{"$f":"_xlfn.XLOOKUP(A290,'Lighting Prices'!A:A,'Lighting Prices'!E:E)","v":{"$error":"#N/A"}}]
["@LK-HD-1082B",{"$f":"_xlfn.XLOOKUP(A291,'Prices Furniture'!A:A,'Prices Furniture'!E:E)","v":49},{"$f":"_xlfn.XLOOKUP(A291,'Lighting Prices'!A:A,'Lighting Prices'!E:E)","v":{"$error":"#N/A"}}]
["@LK-HD-1084B",{"$f":"_xlfn.XLOOKUP(A292,'Prices Furniture'!A:A,'Prices Furniture'!E:E)","v":28},{"$f":"_xlfn.XLOOKUP(A292,'Lighting Prices'!A:A,'Lighting Prices'!E:E)","v":{"$error":"#N/A"}}]
["@LK-HD-1087B",{"$f":"_xlfn.XLOOKUP(A293,'Prices Furniture'!A:A,'Prices Furniture'!E:E)","v":49},{"$f":"_xlfn.XLOOKUP(A293,'Lighting Prices'!A:A,'Lighting Prices'!E:E)","v":{"$error":"#N/A"}}]
["@LK-HD-1089B",{"$f":"_xlfn.XLOOKUP(A294,'Prices Furniture'!A:A,'Prices Furniture'!E:E)","v":28},{"$f":"_xlfn.XLOOKUP(A294,'Lighting Prices'!A:A,'Lighting Prices'!E:E)","v":{"$error":"#N/A"}}]
["@LK-HD-1092B",{"$f":"_xlfn.XLOOKUP(A295,'Prices Furniture'!A:A,'Prices Furniture'!E:E)","v":49},{"$f":"_xlfn.XLOOKUP(A295,'Lighting Prices'!A:A,'Lighting Prices'!E:E)","v":{"$error":"#N/A"}}]
["@LK-HD-1094B",{"$f":"_xlfn.XLOOKUP(A296,'Prices Furniture'!A:A,'Prices Furniture'!E:E)","v":28},{"$f":"_xlfn.XLOOKUP(A296,'Lighting Prices'!A:A,'Lighting Prices'!E:E)","v":{"$error":"#N/A"}}]
["LK-HD-H1101",{"$f":"_xlfn.XLOOKUP(A297,'Prices Furniture'!A:A,'Prices Furniture'!E:E)","v":18},{"$f":"_xlfn.XLOOKUP(A297,'Lighting Prices'!A:A,'Lighting Prices'!E:E)","v":{"$error":"#N/A"}}]
["LK-HD-H1102",{"$f":"_xlfn.XLOOKUP(A298,'Prices Furniture'!A:A,'Prices Furniture'!E:E)","v":32},{"$f":"_xlfn.XLOOKUP(A298,'Lighting Prices'!A:A,'Lighting Prices'!E:E)","v":{"$error":"#N/A"}}]
["LK-HD-H1103",{"$f":"_xlfn.XLOOKUP(A299,'Prices Furniture'!A:A,'Prices Furniture'!E:E)","v":18},{"$f":"_xlfn.XLOOKUP(A299,'Lighting Prices'!A:A,'Lighting Prices'!E:E)","v":{"$error":"#N/A"}}]
["LK-HD-H1104",{"$f":"_xlfn.XLOOKUP(A300,'Prices Furniture'!A:A,'Prices Furniture'!E:E)","v":32},{"$f":"_xlfn.XLOOKUP(A300,'Lighting Prices'!A:A,'Lighting Prices'!E:E)","v":{"$error":"#N/A"}}]
["LK-HD-H1105",{"$f":"_xlfn.XLOOKUP(A301,'Prices Furniture'!A:A,'Prices Furniture'!E:E)","v":12},{"$f":"_xlfn.XLOOKUP(A301,'Lighting Prices'!A:A,'Lighting Prices'!E:E)","v":{"$error":"#N/A"}}]
["LK-HD-H1106",{"$f":"_xlfn.XLOOKUP(A302,'Prices Furniture'!A:A,'Prices Furniture'!E:E)","v":18},{"$f":"_xlfn.XLOOKUP(A302,'Lighting Prices'!A:A,'Lighting Prices'!E:E)","v":{"$error":"#N/A"}}]
["LK-HD-H1107",{"$f":"_xlfn.XLOOKUP(A303,'Prices Furniture'!A:A,'Prices Furniture'!E:E)","v":12},{"$f":"_xlfn.XLOOKUP(A303,'Lighting Prices'!A:A,'Lighting Prices'!E:E)","v":{"$error":"#N/A"}}]
["LK-HD-H1108",{"$f":"_xlfn.XLOOKUP(A304,'Prices Furniture'!A:A,'Prices Furniture'!E:E)","v":18},{"$f":"_xlfn.XLOOKUP(A304,'Lighting Prices'!A:A,'Lighting Prices'!E:E)","v":{"$error":"#N/A"}}]
["LK-ST-BIN30",{"$f":"_xlfn.XLOOKUP(A305,'Prices Furniture'!A:A,'Prices Furniture'!E:E)","v":365},{"$f":"_xlfn.XLOOKUP(A305,'Lighting Prices'!A:A,'Lighting Prices'!E:E)","v":{"$error":"#N/A"}}]
["LK-ST-BIN40",{"$f":"_xlfn.XLOOKUP(A306,'Prices Furniture'!A:A,'Prices Furniture'!E:E)","v":427},{"$f":"_xlfn.XLOOKUP(A306,'Lighting Prices'!A:A,'Lighting Prices'!E:E)","v":{"$error":"#N/A"}}]
["LK-ST-BIN45",{"$f":"_xlfn.XLOOKUP(A307,'Prices Furniture'!A:A,'Prices Furniture'!E:E)","v":432},{"$f":"_xlfn.XLOOKUP(A307,'Lighting Prices'!A:A,'Lighting Prices'!E:E)","v":{"$error":"#N/A"}}]
["LK-ST-BIN50",{"$f":"_xlfn.XLOOKUP(A308,'Prices Furniture'!A:A,'Prices Furniture'!E:E)","v":438},{"$f":"_xlfn.XLOOKUP(A308,'Lighting Prices'!A:A,'Lighting Prices'!E:E)","v":{"$error":"#N/A"}}]
["LK-ST-BIN60-4",{"$f":"_xlfn.XLOOKUP(A309,'Prices Furniture'!A:A,'Prices Furniture'!E:E)","v":522},{"$f":"_xlfn.XLOOKUP(A309,'Lighting Prices'!A:A,'Lighting Prices'!E:E)","v":{"$error":"#N/A"}}]
["LK-ST-BIN60-2",{"$f":"_xlfn.XLOOKUP(A310,'Prices Furniture'!A:A,'Prices Furniture'!E:E)","v":473},{"$f":"_xlfn.XLOOKUP(A310,'Lighting Prices'!A:A,'Lighting Prices'!E:E)","v":{"$error":"#N/A"}}]
["@LK-DB-OAK3",{"$f":"_xlfn.XLOOKUP(A311,'Prices Furniture'!A:A,'Prices Furniture'!E:E)","v":{"$error":"#N/A"}},{"$f":"_xlfn.XLOOKUP(A311,'Lighting Prices'!A:A,'Lighting Prices'!E:E)","v":{"$error":"#N/A"}}]
["@LK-DB-OAK4",{"$f":"_xlfn.XLOOKUP(A312,'Prices Furniture'!A:A,'Prices Furniture'!E:E)","v":{"$error":"#N/A"}},{"$f":"_xlfn.XLOOKUP(A312,'Lighting Prices'!A:A,'Lighting Prices'!E:E)","v":{"$error":"#N/A"}}]
["@LK-DB-OAK45",{"$f":"_xlfn.XLOOKUP(A313,'Prices Furniture'!A:A,'Prices Furniture'!E:E)","v":{"$error":"#N/A"}},{"$f":"_xlfn.XLOOKUP(A313,'Lighting Prices'!A:A,'Lighting Prices'!E:E)","v":{"$error":"#N/A"}}]
["@LK-DB-OAK5",{"$f":"_xlfn.XLOOKUP(A314,'Prices Furniture'!A:A,'Prices Furniture'!E:E)","v":{"$error":"#N/A"}},{"$f":"_xlfn.XLOOKUP(A314,'Lighting Prices'!A:A,'Lighting Prices'!E:E)","v":{"$error":"#N/A"}}]
["@LK-DB-OAK5PD",{"$f":"_xlfn.XLOOKUP(A315,'Prices Furniture'!A:A,'Prices Furniture'!E:E)","v":{"$error":"#N/A"}},{"$f":"_xlfn.XLOOKUP(A315,'Lighting Prices'!A:A,'Lighting Prices'!E:E)","v":{"$error":"#N/A"}}]
["@LK-DB-OAK5D",{"$f":"_xlfn.XLOOKUP(A316,'Prices Furniture'!A:A,'Prices Furniture'!E:E)","v":{"$error":"#N/A"}},{"$f":"_xlfn.XLOOKUP(A316,'Lighting Prices'!A:A,'Lighting Prices'!E:E)","v":{"$error":"#N/A"}}]
["@LK-DB-OAK6",{"$f":"_xlfn.XLOOKUP(A317,'Prices Furniture'!A:A,'Prices Furniture'!E:E)","v":{"$error":"#N/A"}},{"$f":"_xlfn.XLOOKUP(A317,'Lighting Prices'!A:A,'Lighting Prices'!E:E)","v":{"$error":"#N/A"}}]
["@LK-DB-OAK6PD",{"$f":"_xlfn.XLOOKUP(A318,'Prices Furniture'!A:A,'Prices Furniture'!E:E)","v":{"$error":"#N/A"}},{"$f":"_xlfn.XLOOKUP(A318,'Lighting Prices'!A:A,'Lighting Prices'!E:E)","v":{"$error":"#N/A"}}]
["@LK-DB-OAK8",{"$f":"_xlfn.XLOOKUP(A319,'Prices Furniture'!A:A,'Prices Furniture'!E:E)","v":{"$error":"#N/A"}},{"$f":"_xlfn.XLOOKUP(A319,'Lighting Prices'!A:A,'Lighting Prices'!E:E)","v":{"$error":"#N/A"}}]
["@LK-DB-OAK8PD",{"$f":"_xlfn.XLOOKUP(A320,'Prices Furniture'!A:A,'Prices Furniture'!E:E)","v":{"$error":"#N/A"}},{"$f":"_xlfn.XLOOKUP(A320,'Lighting Prices'!A:A,'Lighting Prices'!E:E)","v":{"$error":"#N/A"}}]
["@LK-DB-OAK9",{"$f":"_xlfn.XLOOKUP(A321,'Prices Furniture'!A:A,'Prices Furniture'!E:E)","v":{"$error":"#N/A"}},{"$f":"_xlfn.XLOOKUP(A321,'Lighting Prices'!A:A,'Lighting Prices'!E:E)","v":{"$error":"#N/A"}}]
["@LK-DB-OAK9PD",{"$f":"_xlfn.XLOOKUP(A322,'Prices Furniture'!A:A,'Prices Furniture'!E:E)","v":{"$error":"#N/A"}},{"$f":"_xlfn.XLOOKUP(A322,'Lighting Prices'!A:A,'Lighting Prices'!E:E)","v":{"$error":"#N/A"}}]
["@LK-DB-OAK10",{"$f":"_xlfn.XLOOKUP(A323,'Prices Furniture'!A:A,'Prices Furniture'!E:E)","v":{"$error":"#N/A"}},{"$f":"_xlfn.XLOOKUP(A323,'Lighting Prices'!A:A,'Lighting Prices'!E:E)","v":{"$error":"#N/A"}}]
["@LK-DB-OAK10PD",{"$f":"_xlfn.XLOOKUP(A324,'Prices Furniture'!A:A,'Prices Furniture'!E:E)","v":{"$error":"#N/A"}},{"$f":"_xlfn.XLOOKUP(A324,'Lighting Prices'!A:A,'Lighting Prices'!E:E)","v":{"$error":"#N/A"}}]
["@LK-ST-IDBEX3",{"$f":"_xlfn.XLOOKUP(A325,'Prices Furniture'!A:A,'Prices Furniture'!E:E)","v":143},{"$f":"_xlfn.XLOOKUP(A325,'Lighting Prices'!A:A,'Lighting Prices'!E:E)","v":{"$error":"#N/A"}}]
["@LK-ST-IDBEX4",{"$f":"_xlfn.XLOOKUP(A326,'Prices Furniture'!A:A,'Prices Furniture'!E:E)","v":155},{"$f":"_xlfn.XLOOKUP(A326,'Lighting Prices'!A:A,'Lighting Prices'!E:E)","v":{"$error":"#N/A"}}]
["@LK-ST-IDBEX5",{"$f":"_xlfn.XLOOKUP(A327,'Prices Furniture'!A:A,'Prices Furniture'!E:E)","v":168},{"$f":"_xlfn.XLOOKUP(A327,'Lighting Prices'!A:A,'Lighting Prices'!E:E)","v":{"$error":"#N/A"}}]
["@LK-ST-IDBEX6",{"$f":"_xlfn.XLOOKUP(A328,'Prices Furniture'!A:A,'Prices Furniture'!E:E)","v":176},{"$f":"_xlfn.XLOOKUP(A328,'Lighting Prices'!A:A,'Lighting Prices'!E:E)","v":{"$error":"#N/A"}}]
["@LK-ST-IDBEX8",{"$f":"_xlfn.XLOOKUP(A329,'Prices Furniture'!A:A,'Prices Furniture'!E:E)","v":193},{"$f":"_xlfn.XLOOKUP(A329,'Lighting Prices'!A:A,'Lighting Prices'!E:E)","v":{"$error":"#N/A"}}]
["@LK-ST-IDBEX9",{"$f":"_xlfn.XLOOKUP(A330,'Prices Furniture'!A:A,'Prices Furniture'!E:E)","v":201},{"$f":"_xlfn.XLOOKUP(A330,'Lighting Prices'!A:A,'Lighting Prices'!E:E)","v":{"$error":"#N/A"}}]
["@LK-ST-IDBEX10",{"$f":"_xlfn.XLOOKUP(A331,'Prices Furniture'!A:A,'Prices Furniture'!E:E)","v":206},{"$f":"_xlfn.XLOOKUP(A331,'Lighting Prices'!A:A,'Lighting Prices'!E:E)","v":{"$error":"#N/A"}}]
["@LK-ST-IDBEX3PD",{"$f":"_xlfn.XLOOKUP(A332,'Prices Furniture'!A:A,'Prices Furniture'!E:E)","v":157},{"$f":"_xlfn.XLOOKUP(A332,'Lighting Prices'!A:A,'Lighting Prices'!E:E)","v":{"$error":"#N/A"}}]
["@LK-ST-IDBEX5PD",{"$f":"_xlfn.XLOOKUP(A333,'Prices Furniture'!A:A,'Prices Furniture'!E:E)","v":183},{"$f":"_xlfn.XLOOKUP(A333,'Lighting Prices'!A:A,'Lighting Prices'!E:E)","v":{"$error":"#N/A"}}]
["@LK-ST-IDBEX6PD",{"$f":"_xlfn.XLOOKUP(A334,'Prices Furniture'!A:A,'Prices Furniture'!E:E)","v":196},{"$f":"_xlfn.XLOOKUP(A334,'Lighting Prices'!A:A,'Lighting Prices'!E:E)","v":{"$error":"#N/A"}}]
["LK-DB-EXPG3",{"$f":"_xlfn.XLOOKUP(A335,'Prices Furniture'!A:A,'Prices Furniture'!E:E)","v":203},{"$f":"_xlfn.XLOOKUP(A335,'Lighting Prices'!A:A,'Lighting Prices'!E:E)","v":{"$error":"#N/A"}}]
["LK-DB-EXPG4",{"$f":"_xlfn.XLOOKUP(A336,'Prices Furniture'!A:A,'Prices Furniture'!E:E)","v":219},{"$f":"_xlfn.XLOOKUP(A336,'Lighting Prices'!A:A,'Lighting Prices'!E:E)","v":{"$error":"#N/A"}}]
["LK-DB-EXPG5",{"$f":"_xlfn.XLOOKUP(A337,'Prices Furniture'!A:A,'Prices Furniture'!E:E)","v":219},{"$f":"_xlfn.XLOOKUP(A337,'Lighting Prices'!A:A,'Lighting Prices'!E:E)","v":{"$error":"#N/A"}}]
["LK-DB-EXPG6",{"$f":"_xlfn.XLOOKUP(A338,'Prices Furniture'!A:A,'Prices Furniture'!E:E)","v":238},{"$f":"_xlfn.XLOOKUP(A338,'Lighting Prices'!A:A,'Lighting Prices'!E:E)","v":{"$error":"#N/A"}}]
["LK-DB-EXPG8",{"$f":"_xlfn.XLOOKUP(A339,'Prices Furniture'!A:A,'Prices Furniture'!E:E)","v":286},{"$f":"_xlfn.XLOOKUP(A339,'Lighting Prices'!A:A,'Lighting Prices'!E:E)","v":{"$error":"#N/A"}}]
["LK-DB-EXPG9",{"$f":"_xlfn.XLOOKUP(A340,'Prices Furniture'!A:A,'Prices Furniture'!E:E)","v":286},{"$f":"_xlfn.XLOOKUP(A340,'Lighting Prices'!A:A,'Lighting Prices'!E:E)","v":{"$error":"#N/A"}}]
["LK-DB-EXPG10",{"$f":"_xlfn.XLOOKUP(A341,'Prices Furniture'!A:A,'Prices Furniture'!E:E)","v":304},{"$f":"_xlfn.XLOOKUP(A341,'Lighting Prices'!A:A,'Lighting Prices'!E:E)","v":{"$error":"#N/A"}}]
["LK-DB-EXPG3PD",{"$f":"_xlfn.XLOOKUP(A342,'Prices Furniture'!A:A,'Prices Furniture'!E:E)","v":320},{"$f":"_xlfn.XLOOKUP(A342,'Lighting Prices'!A:A,'Lighting Prices'!E:E)","v":{"$error":"#N/A"}}]
["LK-DB-EXPG4PD",{"$f":"_xlfn.XLOOKUP(A343,'Prices Furniture'!A:A,'Prices Furniture'!E:E)","v":338},{"$f":"_xlfn.XLOOKUP(A343,'Lighting Prices'!A:A,'Lighting Prices'!E:E)","v":{"$error":"#N/A"}}]
["LK-DB-EXPG5PD",{"$f":"_xlfn.XLOOKUP(A344,'Prices Furniture'!A:A,'Prices Furniture'!E:E)","v":338},{"$f":"_xlfn.XLOOKUP(A344,'Lighting Prices'!A:A,'Lighting Prices'!E:E)","v":{"$error":"#N/A"}}]
["LK-DB-EXPG6PD",{"$f":"_xlfn.XLOOKUP(A345,'Prices Furniture'!A:A,'Prices Furniture'!E:E)","v":352},{"$f":"_xlfn.XLOOKUP(A345,'Lighting Prices'!A:A,'Lighting Prices'!E:E)","v":{"$error":"#N/A"}}]
["LK-DB-EXPG8PD",{"$f":"_xlfn.XLOOKUP(A346,'Prices Furniture'!A:A,'Prices Furniture'!E:E)","v":405},{"$f":"_xlfn.XLOOKUP(A346,'Lighting Prices'!A:A,'Lighting Prices'!E:E)","v":{"$error":"#N/A"}}]
["LK-DB-EXPG9PD",{"$f":"_xlfn.XLOOKUP(A347,'Prices Furniture'!A:A,'Prices Furniture'!E:E)","v":422},{"$f":"_xlfn.XLOOKUP(A347,'Lighting Prices'!A:A,'Lighting Prices'!E:E)","v":{"$error":"#N/A"}}]
["LK-DB-EXPG10PD",{"$f":"_xlfn.XLOOKUP(A348,'Prices Furniture'!A:A,'Prices Furniture'!E:E)","v":438},{"$f":"_xlfn.XLOOKUP(A348,'Lighting Prices'!A:A,'Lighting Prices'!E:E)","v":{"$error":"#N/A"}}]
["@LK-IDB-OAK6",{"$f":"_xlfn.XLOOKUP(A349,'Prices Furniture'!A:A,'Prices Furniture'!E:E)","v":290},{"$f":"_xlfn.XLOOKUP(A349,'Lighting Prices'!A:A,'Lighting Prices'!E:E)","v":{"$error":"#N/A"}}]
["@LK-IDB-OAK6PD",{"$f":"_xlfn.XLOOKUP(A350,'Prices Furniture'!A:A,'Prices Furniture'!E:E)","v":338},{"$f":"_xlfn.XLOOKUP(A350,'Lighting Prices'!A:A,'Lighting Prices'!E:E)","v":{"$error":"#N/A"}}]
["@LK-IDB-OAK8",{"$f":"_xlfn.XLOOKUP(A351,'Prices Furniture'!A:A,'Prices Furniture'!E:E)","v":308},{"$f":"_xlfn.XLOOKUP(A351,'Lighting Prices'!A:A,'Lighting Prices'!E:E)","v":{"$error":"#N/A"}}]
["@LK-IDB-OAK8PD",{"$f":"_xlfn.XLOOKUP(A352,'Prices Furniture'!A:A,'Prices Furniture'!E:E)","v":357},{"$f":"_xlfn.XLOOKUP(A352,'Lighting Prices'!A:A,'Lighting Prices'!E:E)","v":{"$error":"#N/A"}}]
["@LK-IDB-OAK9",{"$f":"_xlfn.XLOOKUP(A353,'Prices Furniture'!A:A,'Prices Furniture'!E:E)","v":316},{"$f":"_xlfn.XLOOKUP(A353,'Lighting Prices'!A:A,'Lighting Prices'!E:E)","v":{"$error":"#N/A"}}]
["@LK-IDB-OAK9PD",{"$f":"_xlfn.XLOOKUP(A354,'Prices Furniture'!A:A,'Prices Furniture'!E:E)","v":370},{"$f":"_xlfn.XLOOKUP(A354,'Lighting Prices'!A:A,'Lighting Prices'!E:E)","v":{"$error":"#N/A"}}]
["@LK-IDB-OAK10",{"$f":"_xlfn.XLOOKUP(A355,'Prices Furniture'!A:A,'Prices Furniture'!E:E)","v":323},{"$f":"_xlfn.XLOOKUP(A355,'Lighting Prices'!A:A,'Lighting Prices'!E:E)","v":{"$error":"#N/A"}}]
["@LK-IDB-OAK10PD",{"$f":"_xlfn.XLOOKUP(A356,'Prices Furniture'!A:A,'Prices Furniture'!E:E)","v":375},{"$f":"_xlfn.XLOOKUP(A356,'Lighting Prices'!A:A,'Lighting Prices'!E:E)","v":{"$error":"#N/A"}}]
["@LK-DB-LRCG3",{"$f":"_xlfn.XLOOKUP(A357,'Prices Furniture'!A:A,'Prices Furniture'!E:E)","v":309},{"$f":"_xlfn.XLOOKUP(A357,'Lighting Prices'!A:A,'Lighting Prices'!E:E)","v":{"$error":"#N/A"}}]
["@LK-DB-LRCG4",{"$f":"_xlfn.XLOOKUP(A358,'Prices Furniture'!A:A,'Prices Furniture'!E:E)","v":325},{"$f":"_xlfn.XLOOKUP(A358,'Lighting Prices'!A:A,'Lighting Prices'!E:E)","v":{"$error":"#N/A"}}]
["@LK-DB-LRCG5",{"$f":"_xlfn.XLOOKUP(A359,'Prices Furniture'!A:A,'Prices Furniture'!E:E)","v":325},{"$f":"_xlfn.XLOOKUP(A359,'Lighting Prices'!A:A,'Lighting Prices'!E:E)","v":{"$error":"#N/A"}}]
["@LK-DB-LRCG6",{"$f":"_xlfn.XLOOKUP(A360,'Prices Furniture'!A:A,'Prices Furniture'!E:E)","v":344},{"$f":"_xlfn.XLOOKUP(A360,'Lighting Prices'!A:A,'Lighting Prices'!E:E)","v":{"$error":"#N/A"}}]
["@LK-DB-LRCG8",{"$f":"_xlfn.XLOOKUP(A361,'Prices Furniture'!A:A,'Prices Furniture'!E:E)","v":392},{"$f":"_xlfn.XLOOKUP(A361,'Lighting Prices'!A:A,'Lighting Prices'!E:E)","v":{"$error":"#N/A"}}]
["@LK-DB-LRCG9",{"$f":"_xlfn.XLOOKUP(A362,'Prices Furniture'!A:A,'Prices Furniture'!E:E)","v":392},{"$f":"_xlfn.XLOOKUP(A362,'Lighting Prices'!A:A,'Lighting Prices'!E:E)","v":{"$error":"#N/A"}}]
["@LK-DB-LRCG10",{"$f":"_xlfn.XLOOKUP(A363,'Prices Furniture'!A:A,'Prices Furniture'!E:E)","v":410},{"$f":"_xlfn.XLOOKUP(A363,'Lighting Prices'!A:A,'Lighting Prices'!E:E)","v":{"$error":"#N/A"}}]
["@LK-DB-LRCG3PD",{"$f":"_xlfn.XLOOKUP(A364,'Prices Furniture'!A:A,'Prices Furniture'!E:E)","v":468},{"$f":"_xlfn.XLOOKUP(A364,'Lighting Prices'!A:A,'Lighting Prices'!E:E)","v":{"$error":"#N/A"}}]
["@LK-DB-LRCG4PD",{"$f":"_xlfn.XLOOKUP(A365,'Prices Furniture'!A:A,'Prices Furniture'!E:E)","v":486},{"$f":"_xlfn.XLOOKUP(A365,'Lighting Prices'!A:A,'Lighting Prices'!E:E)","v":{"$error":"#N/A"}}]
["@LK-DB-LRCG5PD",{"$f":"_xlfn.XLOOKUP(A366,'Prices Furniture'!A:A,'Prices Furniture'!E:E)","v":486},{"$f":"_xlfn.XLOOKUP(A366,'Lighting Prices'!A:A,'Lighting Prices'!E:E)","v":{"$error":"#N/A"}}]
["@LK-DB-LRCG6PD",{"$f":"_xlfn.XLOOKUP(A367,'Prices Furniture'!A:A,'Prices Furniture'!E:E)","v":500},{"$f":"_xlfn.XLOOKUP(A367,'Lighting Prices'!A:A,'Lighting Prices'!E:E)","v":{"$error":"#N/A"}}]
["@LK-DB-LRCG8PD",{"$f":"_xlfn.XLOOKUP(A368,'Prices Furniture'!A:A,'Prices Furniture'!E:E)","v":553},{"$f":"_xlfn.XLOOKUP(A368,'Lighting Prices'!A:A,'Lighting Prices'!E:E)","v":{"$error":"#N/A"}}]
["@LK-DB-LRCG9PD",{"$f":"_xlfn.XLOOKUP(A369,'Prices Furniture'!A:A,'Prices Furniture'!E:E)","v":570},{"$f":"_xlfn.XLOOKUP(A369,'Lighting Prices'!A:A,'Lighting Prices'!E:E)","v":{"$error":"#N/A"}}]
["@LK-DB-LRCG10PD",{"$f":"_xlfn.XLOOKUP(A370,'Prices Furniture'!A:A,'Prices Furniture'!E:E)","v":586},{"$f":"_xlfn.XLOOKUP(A370,'Lighting Prices'!A:A,'Lighting Prices'!E:E)","v":{"$error":"#N/A"}}]
["@LK-IDB-LRC3",{"$f":"_xlfn.XLOOKUP(A371,'Prices Furniture'!A:A,'Prices Furniture'!E:E)","v":214},{"$f":"_xlfn.XLOOKUP(A371,'Lighting Prices'!A:A,'Lighting Prices'!E:E)","v":{"$error":"#N/A"}}]
["@LK-IDB-LRC4",{"$f":"_xlfn.XLOOKUP(A372,'Prices Furniture'!A:A,'Prices Furniture'!E:E)","v":222},{"$f":"_xlfn.XLOOKUP(A372,'Lighting Prices'!A:A,'Lighting Prices'!E:E)","v":{"$error":"#N/A"}}]
["@LK-IDB-LRC5",{"$f":"_xlfn.XLOOKUP(A373,'Prices Furniture'!A:A,'Prices Furniture'!E:E)","v":222},{"$f":"_xlfn.XLOOKUP(A373,'Lighting Prices'!A:A,'Lighting Prices'!E:E)","v":{"$error":"#N/A"}}]
["@LK-IDB-LRC6",{"$f":"_xlfn.XLOOKUP(A374,'Prices Furniture'!A:A,'Prices Furniture'!E:E)","v":223},{"$f":"_xlfn.XLOOKUP(A374,'Lighting Prices'!A:A,'Lighting Prices'!E:E)","v":{"$error":"#N/A"}}]
["@LK-IDB-LRC8",{"$f":"_xlfn.XLOOKUP(A375,'Prices Furniture'!A:A,'Prices Furniture'!E:E)","v":225},{"$f":"_xlfn.XLOOKUP(A375,'Lighting Prices'!A:A,'Lighting Prices'!E:E)","v":{"$error":"#N/A"}}]
["@LK-IDB-LRC9",{"$f":"_xlfn.XLOOKUP(A376,'Prices Furniture'!A:A,'Prices Furniture'!E:E)","v":230},{"$f":"_xlfn.XLOOKUP(A376,'Lighting Prices'!A:A,'Lighting Prices'!E:E)","v":{"$error":"#N/A"}}]
["@LK-IDB-LRC10",{"$f":"_xlfn.XLOOKUP(A377,'Prices Furniture'!A:A,'Prices Furniture'!E:E)","v":231},{"$f":"_xlfn.XLOOKUP(A377,'Lighting Prices'!A:A,'Lighting Prices'!E:E)","v":{"$error":"#N/A"}}]
["@LK-IDB-LRC3PD",{"$f":"_xlfn.XLOOKUP(A378,'Prices Furniture'!A:A,'Prices Furniture'!E:E)","v":267},{"$f":"_xlfn.XLOOKUP(A378,'Lighting Prices'!A:A,'Lighting Prices'!E:E)","v":{"$error":"#N/A"}}]
["@LK-IDB-LRC4PD",{"$f":"_xlfn.XLOOKUP(A379,'Prices Furniture'!A:A,'Prices Furniture'!E:E)","v":282},{"$f":"_xlfn.XLOOKUP(A379,'Lighting Prices'!A:A,'Lighting Prices'!E:E)","v":{"$error":"#N/A"}}]
["@LK-IDB-LRC5PD",{"$f":"_xlfn.XLOOKUP(A380,'Prices Furniture'!A:A,'Prices Furniture'!E:E)","v":285},{"$f":"_xlfn.XLOOKUP(A380,'Lighting Prices'!A:A,'Lighting Prices'!E:E)","v":{"$error":"#N/A"}}]
["@LK-IDB-LRC6LD",{"$f":"_xlfn.XLOOKUP(A381,'Prices Furniture'!A:A,'Prices Furniture'!E:E)","v":289},{"$f":"_xlfn.XLOOKUP(A381,'Lighting Prices'!A:A,'Lighting Prices'!E:E)","v":{"$error":"#N/A"}}]
["@LK-IDB-LRC6PD",{"$f":"_xlfn.XLOOKUP(A382,'Prices Furniture'!A:A,'Prices Furniture'!E:E)","v":289},{"$f":"_xlfn.XLOOKUP(A382,'Lighting Prices'!A:A,'Lighting Prices'!E:E)","v":{"$error":"#N/A"}}]
["@LK-IDB-LRC8PD",{"$f":"_xlfn.XLOOKUP(A383,'Prices Furniture'!A:A,'Prices Furniture'!E:E)","v":289},{"$f":"_xlfn.XLOOKUP(A383,'Lighting Prices'!A:A,'Lighting Prices'!E:E)","v":{"$error":"#N/A"}}]
["@LK-IDB-LRC10PD",{"$f":"_xlfn.XLOOKUP(A384,'Prices Furniture'!A:A,'Prices Furniture'!E:E)","v":291},{"$f":"_xlfn.XLOOKUP(A384,'Lighting Prices'!A:A,'Lighting Prices'!E:E)","v":{"$error":"#N/A"}}]
["LK-ST-CTOAK6",{"$f":"_xlfn.XLOOKUP(A385,'Prices Furniture'!A:A,'Prices Furniture'!E:E)","v":173},{"$f":"_xlfn.XLOOKUP(A385,'Lighting Prices'!A:A,'Lighting Prices'!E:E)","v":{"$error":"#N/A"}}]
["LK-ST-CTOAK8",{"$f":"_xlfn.XLOOKUP(A386,'Prices Furniture'!A:A,'Prices Furniture'!E:E)","v":189},{"$f":"_xlfn.XLOOKUP(A386,'Lighting Prices'!A:A,'Lighting Prices'!E:E)","v":{"$error":"#N/A"}}]
["LK-ST-CTOAK9",{"$f":"_xlfn.XLOOKUP(A387,'Prices Furniture'!A:A,'Prices Furniture'!E:E)","v":217},{"$f":"_xlfn.XLOOKUP(A387,'Lighting Prices'!A:A,'Lighting Prices'!E:E)","v":{"$error":"#N/A"}}]
["LK-ST-CTOAK10",{"$f":"_xlfn.XLOOKUP(A388,'Prices Furniture'!A:A,'Prices Furniture'!E:E)","v":217},{"$f":"_xlfn.XLOOKUP(A388,'Lighting Prices'!A:A,'Lighting Prices'!E:E)","v":{"$error":"#N/A"}}]
["LK-ST-CTOAKIDB6",{"$f":"_xlfn.XLOOKUP(A389,'Prices Furniture'!A:A,'Prices Furniture'!E:E)","v":256},{"$f":"_xlfn.XLOOKUP(A389,'Lighting Prices'!A:A,'Lighting Prices'!E:E)","v":{"$error":"#N/A"}}]
["LK-ST-CTOAKIDB8",{"$f":"_xlfn.XLOOKUP(A390,'Prices Furniture'!A:A,'Prices Furniture'!E:E)","v":280},{"$f":"_xlfn.XLOOKUP(A390,'Lighting Prices'!A:A,'Lighting Prices'!E:E)","v":{"$error":"#N/A"}}]
["LK-ST-CTOAKIDB9",{"$f":"_xlfn.XLOOKUP(A391,'Prices Furniture'!A:A,'Prices Furniture'!E:E)","v":280},{"$f":"_xlfn.XLOOKUP(A391,'Lighting Prices'!A:A,'Lighting Prices'!E:E)","v":{"$error":"#N/A"}}]
["LK-ST-CTOAKIDB10",{"$f":"_xlfn.XLOOKUP(A392,'Prices Furniture'!A:A,'Prices Furniture'!E:E)","v":286},{"$f":"_xlfn.XLOOKUP(A392,'Lighting Prices'!A:A,'Lighting Prices'!E:E)","v":{"$error":"#N/A"}}]
["LK-ST-CTEX4-6",{"$f":"_xlfn.XLOOKUP(A393,'Prices Furniture'!A:A,'Prices Furniture'!E:E)","v":122},{"$f":"_xlfn.XLOOKUP(A393,'Lighting Prices'!A:A,'Lighting Prices'!E:E)","v":{"$error":"#N/A"}}]
["LK-ST-CTEX8-10",{"$f":"_xlfn.XLOOKUP(A394,'Prices Furniture'!A:A,'Prices Furniture'!E:E)","v":152},{"$f":"_xlfn.XLOOKUP(A394,'Lighting Prices'!A:A,'Lighting Prices'!E:E)","v":{"$error":"#N/A"}}]
["LK-ST-CTIFILM",{"$f":"_xlfn.XLOOKUP(A395,'Prices Furniture'!A:A,'Prices Furniture'!E:E)","v":101},{"$f":"_xlfn.XLOOKUP(A395,'Lighting Prices'!A:A,'Lighting Prices'!E:E)","v":{"$error":"#N/A"}}]
["LK-ST-CTIKNIFE",{"$f":"_xlfn.XLOOKUP(A396,'Prices Furniture'!A:A,'Prices Furniture'!E:E)","v":101},{"$f":"_xlfn.XLOOKUP(A396,'Lighting Prices'!A:A,'Lighting Prices'!E:E)","v":{"$error":"#N/A"}}]
["LK-ST-CTISPICE",{"$f":"_xlfn.XLOOKUP(A397,'Prices Furniture'!A:A,'Prices Furniture'!E:E)","v":101},{"$f":"_xlfn.XLOOKUP(A397,'Lighting Prices'!A:A,'Lighting Prices'!E:E)","v":{"$error":"#N/A"}}]
["LK-ST-CTICHOP",{"$f":"_xlfn.XLOOKUP(A398,'Prices Furniture'!A:A,'Prices Furniture'!E:E)","v":101},{"$f":"_xlfn.XLOOKUP(A398,'Lighting Prices'!A:A,'Lighting Prices'!E:E)","v":{"$error":"#N/A"}}]
["LK-ST-CT4-GG",{"$f":"_xlfn.XLOOKUP(A399,'Prices Furniture'!A:A,'Prices Furniture'!E:E)","v":37},{"$f":"_xlfn.XLOOKUP(A399,'Lighting Prices'!A:A,'Lighting Prices'!E:E)","v":{"$error":"#N/A"}}]
["LK-ST-CT5-GG",{"$f":"_xlfn.XLOOKUP(A400,'Prices Furniture'!A:A,'Prices Furniture'!E:E)","v":37},{"$f":"_xlfn.XLOOKUP(A400,'Lighting Prices'!A:A,'Lighting Prices'!E:E)","v":{"$error":"#N/A"}}]
["LK-ST-CT6-GG",{"$f":"_xlfn.XLOOKUP(A401,'Prices Furniture'!A:A,'Prices Furniture'!E:E)","v":37},{"$f":"_xlfn.XLOOKUP(A401,'Lighting Prices'!A:A,'Lighting Prices'!E:E)","v":{"$error":"#N/A"}}]
["LK-ST-CT8-GG",{"$f":"_xlfn.XLOOKUP(A402,'Prices Furniture'!A:A,'Prices Furniture'!E:E)","v":37},{"$f":"_xlfn.XLOOKUP(A402,'Lighting Prices'!A:A,'Lighting Prices'!E:E)","v":{"$error":"#N/A"}}]
["LK-ST-CT9-GG",{"$f":"_xlfn.XLOOKUP(A403,'Prices Furniture'!A:A,'Prices Furniture'!E:E)","v":37},{"$f":"_xlfn.XLOOKUP(A403,'Lighting Prices'!A:A,'Lighting Prices'!E:E)","v":{"$error":"#N/A"}}]
["LK-ST-CT10-GG",{"$f":"_xlfn.XLOOKUP(A404,'Prices Furniture'!A:A,'Prices Furniture'!E:E)","v":37},{"$f":"_xlfn.XLOOKUP(A404,'Lighting Prices'!A:A,'Lighting Prices'!E:E)","v":{"$error":"#N/A"}}]
["LK-ST-CT5-BH",{"$f":"_xlfn.XLOOKUP(A405,'Prices Furniture'!A:A,'Prices Furniture'!E:E)","v":180},{"$f":"_xlfn.XLOOKUP(A405,'Lighting Prices'!A:A,'Lighting Prices'!E:E)","v":{"$error":"#N/A"}}]
["LK-ST-CT6-BH",{"$f":"_xlfn.XLOOKUP(A406,'Prices Furniture'!A:A,'Prices Furniture'!E:E)","v":205},{"$f":"_xlfn.XLOOKUP(A406,'Lighting Prices'!A:A,'Lighting Prices'!E:E)","v":{"$error":"#N/A"}}]
["LK-ST-CT8-BH",{"$f":"_xlfn.XLOOKUP(A407,'Prices Furniture'!A:A,'Prices Furniture'!E:E)","v":246},{"$f":"_xlfn.XLOOKUP(A407,'Lighting Prices'!A:A,'Lighting Prices'!E:E)","v":{"$error":"#N/A"}}]
["LK-ST-CT9-BH",{"$f":"_xlfn.XLOOKUP(A408,'Prices Furniture'!A:A,'Prices Furniture'!E:E)","v":266},{"$f":"_xlfn.XLOOKUP(A408,'Lighting Prices'!A:A,'Lighting Prices'!E:E)","v":{"$error":"#N/A"}}]
["LK-ST-CT10-BH",{"$f":"_xlfn.XLOOKUP(A409,'Prices Furniture'!A:A,'Prices Furniture'!E:E)","v":297},{"$f":"_xlfn.XLOOKUP(A409,'Lighting Prices'!A:A,'Lighting Prices'!E:E)","v":{"$error":"#N/A"}}]
["LK-ST-CT5-BHI",{"$f":"_xlfn.XLOOKUP(A410,'Prices Furniture'!A:A,'Prices Furniture'!E:E)","v":180},{"$f":"_xlfn.XLOOKUP(A410,'Lighting Prices'!A:A,'Lighting Prices'!E:E)","v":{"$error":"#N/A"}}]
["LK-ST-CT6-BHI",{"$f":"_xlfn.XLOOKUP(A411,'Prices Furniture'!A:A,'Prices Furniture'!E:E)","v":205},{"$f":"_xlfn.XLOOKUP(A411,'Lighting Prices'!A:A,'Lighting Prices'!E:E)","v":{"$error":"#N/A"}}]
["LK-ST-CT8-BHI",{"$f":"_xlfn.XLOOKUP(A412,'Prices Furniture'!A:A,'Prices Furniture'!E:E)","v":246},{"$f":"_xlfn.XLOOKUP(A412,'Lighting Prices'!A:A,'Lighting Prices'!E:E)","v":{"$error":"#N/A"}}]
["LK-ST-CT9-BHI",{"$f":"_xlfn.XLOOKUP(A413,'Prices Furniture'!A:A,'Prices Furniture'!E:E)","v":266},{"$f":"_xlfn.XLOOKUP(A413,'Lighting Prices'!A:A,'Lighting Prices'!E:E)","v":{"$error":"#N/A"}}]
["LK-ST-CT10-BHI",{"$f":"_xlfn.XLOOKUP(A414,'Prices Furniture'!A:A,'Prices Furniture'!E:E)","v":297},{"$f":"_xlfn.XLOOKUP(A414,'Lighting Prices'!A:A,'Lighting Prices'!E:E)","v":{"$error":"#N/A"}}]
["LK-ST-CT5-BHPI",{"$f":"_xlfn.XLOOKUP(A415,'Prices Furniture'!A:A,'Prices Furniture'!E:E)","v":180},{"$f":"_xlfn.XLOOKUP(A415,'Lighting Prices'!A:A,'Lighting Prices'!E:E)","v":{"$error":"#N/A"}}]
["LK-ST-CT6-BHPI",{"$f":"_xlfn.XLOOKUP(A416,'Prices Furniture'!A:A,'Prices Furniture'!E:E)","v":205},{"$f":"_xlfn.XLOOKUP(A416,'Lighting Prices'!A:A,'Lighting Prices'!E:E)","v":{"$error":"#N/A"}}]
["LK-ST-CT8-BHPI",{"$f":"_xlfn.XLOOKUP(A417,'Prices Furniture'!A:A,'Prices Furniture'!E:E)","v":246},{"$f":"_xlfn.XLOOKUP(A417,'Lighting Prices'!A:A,'Lighting Prices'!E:E)","v":{"$error":"#N/A"}}]
["LK-ST-CT9-BHPI",{"$f":"_xlfn.XLOOKUP(A418,'Prices Furniture'!A:A,'Prices Furniture'!E:E)","v":266},{"$f":"_xlfn.XLOOKUP(A418,'Lighting Prices'!A:A,'Lighting Prices'!E:E)","v":{"$error":"#N/A"}}]
["LK-ST-CT10-BHPI",{"$f":"_xlfn.XLOOKUP(A419,'Prices Furniture'!A:A,'Prices Furniture'!E:E)","v":297},{"$f":"_xlfn.XLOOKUP(A419,'Lighting Prices'!A:A,'Lighting Prices'!E:E)","v":{"$error":"#N/A"}}]
["LK-ST-EXGPDS",{"$f":"_xlfn.XLOOKUP(A420,'Prices Furniture'!A:A,'Prices Furniture'!E:E)","v":65},{"$f":"_xlfn.XLOOKUP(A420,'Lighting Prices'!A:A,'Lighting Prices'!E:E)","v":{"$error":"#N/A"}}]
["LK-ST-PR6-BH",{"$f":"_xlfn.XLOOKUP(A421,'Prices Furniture'!A:A,'Prices Furniture'!E:E)","v":195},{"$f":"_xlfn.XLOOKUP(A421,'Lighting Prices'!A:A,'Lighting Prices'!E:E)","v":{"$error":"#N/A"}}]
["LK-ST-PR8-BH",{"$f":"_xlfn.XLOOKUP(A422,'Prices Furniture'!A:A,'Prices Furniture'!E:E)","v":230},{"$f":"_xlfn.XLOOKUP(A422,'Lighting Prices'!A:A,'Lighting Prices'!E:E)","v":{"$error":"#N/A"}}]
["LK-ST-PR9-BH",{"$f":"_xlfn.XLOOKUP(A423,'Prices Furniture'!A:A,'Prices Furniture'!E:E)","v":257},{"$f":"_xlfn.XLOOKUP(A423,'Lighting Prices'!A:A,'Lighting Prices'!E:E)","v":{"$error":"#N/A"}}]
["LK-ST-PR10BH",{"$f":"_xlfn.XLOOKUP(A424,'Prices Furniture'!A:A,'Prices Furniture'!E:E)","v":282},{"$f":"_xlfn.XLOOKUP(A424,'Lighting Prices'!A:A,'Lighting Prices'!E:E)","v":{"$error":"#N/A"}}]
["LK-ST-PS6-BH",{"$f":"_xlfn.XLOOKUP(A425,'Prices Furniture'!A:A,'Prices Furniture'!E:E)","v":246},{"$f":"_xlfn.XLOOKUP(A425,'Lighting Prices'!A:A,'Lighting Prices'!E:E)","v":{"$error":"#N/A"}}]
["LK-ST-PS8-BH",{"$f":"_xlfn.XLOOKUP(A426,'Prices Furniture'!A:A,'Prices Furniture'!E:E)","v":286},{"$f":"_xlfn.XLOOKUP(A426,'Lighting Prices'!A:A,'Lighting Prices'!E:E)","v":{"$error":"#N/A"}}]
["LK-ST-PS9-BH",{"$f":"_xlfn.XLOOKUP(A427,'Prices Furniture'!A:A,'Prices Furniture'!E:E)","v":317},{"$f":"_xlfn.XLOOKUP(A427,'Lighting Prices'!A:A,'Lighting Prices'!E:E)","v":{"$error":"#N/A"}}]
["LK-ST-PS10BH",{"$f":"_xlfn.XLOOKUP(A428,'Prices Furniture'!A:A,'Prices Furniture'!E:E)","v":347},{"$f":"_xlfn.XLOOKUP(A428,'Lighting Prices'!A:A,'Lighting Prices'!E:E)","v":{"$error":"#N/A"}}]
["LK-ST-50PODB",{"$f":"_xlfn.XLOOKUP(A429,'Prices Furniture'!A:A,'Prices Furniture'!E:E)","v":75},{"$f":"_xlfn.XLOOKUP(A429,'Lighting Prices'!A:A,'Lighting Prices'!E:E)","v":{"$error":"#N/A"}}]
["LK-ST-60PODB",{"$f":"_xlfn.XLOOKUP(A430,'Prices Furniture'!A:A,'Prices Furniture'!E:E)","v":75},{"$f":"_xlfn.XLOOKUP(A430,'Lighting Prices'!A:A,'Lighting Prices'!E:E)","v":{"$error":"#N/A"}}]
["LK-ST-FBXS6",{"$f":"_xlfn.XLOOKUP(A431,'Prices Furniture'!A:A,'Prices Furniture'!E:E)","v":297},{"$f":"_xlfn.XLOOKUP(A431,'Lighting Prices'!A:A,'Lighting Prices'!E:E)","v":{"$error":"#N/A"}}]
["LK-ST-FBXS9",{"$f":"_xlfn.XLOOKUP(A432,'Prices Furniture'!A:A,'Prices Furniture'!E:E)","v":311},{"$f":"_xlfn.XLOOKUP(A432,'Lighting Prices'!A:A,'Lighting Prices'!E:E)","v":{"$error":"#N/A"}}]
["LK-ST-F4WC",{"$f":"_xlfn.XLOOKUP(A433,'Prices Furniture'!A:A,'Prices Furniture'!E:E)","v":77},{"$f":"_xlfn.XLOOKUP(A433,'Lighting Prices'!A:A,'Lighting Prices'!E:E)","v":{"$error":"#N/A"}}]
["LK-ST-F5WC",{"$f":"_xlfn.XLOOKUP(A434,'Prices Furniture'!A:A,'Prices Furniture'!E:E)","v":55},{"$f":"_xlfn.XLOOKUP(A434,'Lighting Prices'!A:A,'Lighting Prices'!E:E)","v":{"$error":"#N/A"}}]
["LK-FC-BBS720",{"$f":"_xlfn.XLOOKUP(A435,'Prices Furniture'!A:A,'Prices Furniture'!E:E)","v":249},{"$f":"_xlfn.XLOOKUP(A435,'Lighting Prices'!A:A,'Lighting Prices'!E:E)","v":{"$error":"#N/A"}}]
["LK-FC-BBS870",{"$f":"_xlfn.XLOOKUP(A436,'Prices Furniture'!A:A,'Prices Furniture'!E:E)","v":249},{"$f":"_xlfn.XLOOKUP(A436,'Lighting Prices'!A:A,'Lighting Prices'!E:E)","v":{"$error":"#N/A"}}]
["LK-FC-GLSHF",{"$f":"_xlfn.XLOOKUP(A437,'Prices Furniture'!A:A,'Prices Furniture'!E:E)","v":56},{"$f":"_xlfn.XLOOKUP(A437,'Lighting Prices'!A:A,'Lighting Prices'!E:E)","v":{"$error":"#N/A"}}]
["LK-FC-GLSHLF5",{"$f":"_xlfn.XLOOKUP(A438,'Prices Furniture'!A:A,'Prices Furniture'!E:E)","v":70},{"$f":"_xlfn.XLOOKUP(A438,'Lighting Prices'!A:A,'Lighting Prices'!E:E)","v":{"$error":"#N/A"}}]
["LK-FC-GLSHLF6",{"$f":"_xlfn.XLOOKUP(A439,'Prices Furniture'!A:A,'Prices Furniture'!E:E)","v":70},{"$f":"_xlfn.XLOOKUP(A439,'Lighting Prices'!A:A,'Lighting Prices'!E:E)","v":{"$error":"#N/A"}}]
["LK-FC-GLSHLF10",{"$f":"_xlfn.XLOOKUP(A440,'Prices Furniture'!A:A,'Prices Furniture'!E:E)","v":107},{"$f":"_xlfn.XLOOKUP(A440,'Lighting Prices'!A:A,'Lighting Prices'!E:E)","v":{"$error":"#N/A"}}]
["LK-ST-TTR",{"$f":"_xlfn.XLOOKUP(A441,'Prices Furniture'!A:A,'Prices Furniture'!E:E)","v":38},{"$f":"_xlfn.XLOOKUP(A441,'Lighting Prices'!A:A,'Lighting Prices'!E:E)","v":{"$error":"#N/A"}}]
["LK-FC-BUL5",{"$f":"_xlfn.XLOOKUP(A442,'Prices Furniture'!A:A,'Prices Furniture'!E:E)","v":30},{"$f":"_xlfn.XLOOKUP(A442,'Lighting Prices'!A:A,'Lighting Prices'!E:E)","v":{"$error":"#N/A"}}]
["LK-FC-SBUL6",{"$f":"_xlfn.XLOOKUP(A443,'Prices Furniture'!A:A,'Prices Furniture'!E:E)","v":46},{"$f":"_xlfn.XLOOKUP(A443,'Lighting Prices'!A:A,'Lighting Prices'!E:E)","v":{"$error":"#N/A"}}]
["LK-FC-SBUL8",{"$f":"_xlfn.XLOOKUP(A444,'Prices Furniture'!A:A,'Prices Furniture'!E:E)","v":46},{"$f":"_xlfn.XLOOKUP(A444,'Lighting Prices'!A:A,'Lighting Prices'!E:E)","v":{"$error":"#N/A"}}]
["LK-FC-SBUL9",{"$f":"_xlfn.XLOOKUP(A445,'Prices Furniture'!A:A,'Prices Furniture'!E:E)","v":46},{"$f":"_xlfn.XLOOKUP(A445,'Lighting Prices'!A:A,'Lighting Prices'!E:E)","v":{"$error":"#N/A"}}]
["LK-FC-SBUL10",{"$f":"_xlfn.XLOOKUP(A446,'Prices Furniture'!A:A,'Prices Furniture'!E:E)","v":46},{"$f":"_xlfn.XLOOKUP(A446,'Lighting Prices'!A:A,'Lighting Prices'!E:E)","v":{"$error":"#N/A"}}]
["LK-FC-CPBBL",{"$f":"_xlfn.XLOOKUP(A447,'Prices Furniture'!A:A,'Prices Furniture'!E:E)","v":68},{"$f":"_xlfn.XLOOKUP(A447,'Lighting Prices'!A:A,'Lighting Prices'!E:E)","v":{"$error":"#N/A"}}]
["@LK-BFM-AVENT-H",{"$f":"_xlfn.XLOOKUP(A448,'Prices Furniture'!A:A,'Prices Furniture'!E:E)","v":{"$error":"#N/A"}},{"$f":"_xlfn.XLOOKUP(A448,'Lighting Prices'!A:A,'Lighting Prices'!E:E)","v":{"$error":"#N/A"}}]
["@LK-BFM-AVENT-L",{"$f":"_xlfn.XLOOKUP(A449,'Prices Furniture'!A:A,'Prices Furniture'!E:E)","v":{"$error":"#N/A"}},{"$f":"_xlfn.XLOOKUP(A449,'Lighting Prices'!A:A,'Lighting Prices'!E:E)","v":{"$error":"#N/A"}}]
["@LK-BFM-AVENT-M",{"$f":"_xlfn.XLOOKUP(A450,'Prices Furniture'!A:A,'Prices Furniture'!E:E)","v":{"$error":"#N/A"}},{"$f":"_xlfn.XLOOKUP(A450,'Lighting Prices'!A:A,'Lighting Prices'!E:E)","v":{"$error":"#N/A"}}]
["LK-FC-STCC35",{"$f":"_xlfn.XLOOKUP(A451,'Prices Furniture'!A:A,'Prices Furniture'!E:E)","v":9},{"$f":"_xlfn.XLOOKUP(A451,'Lighting Prices'!A:A,'Lighting Prices'!E:E)","v":{"$error":"#N/A"}}]
["LK-FC-STCC5",{"$f":"_xlfn.XLOOKUP(A452,'Prices Furniture'!A:A,'Prices Furniture'!E:E)","v":9},{"$f":"_xlfn.XLOOKUP(A452,'Lighting Prices'!A:A,'Lighting Prices'!E:E)","v":{"$error":"#N/A"}}]
["LK-FC-WHCC35",{"$f":"_xlfn.XLOOKUP(A453,'Prices Furniture'!A:A,'Prices Furniture'!E:E)","v":9},{"$f":"_xlfn.XLOOKUP(A453,'Lighting Prices'!A:A,'Lighting Prices'!E:E)","v":{"$error":"#N/A"}}]
["LK-FC-WNCC5",{"$f":"_xlfn.XLOOKUP(A454,'Prices Furniture'!A:A,'Prices Furniture'!E:E)","v":9},{"$f":"_xlfn.XLOOKUP(A454,'Lighting Prices'!A:A,'Lighting Prices'!E:E)","v":{"$error":"#N/A"}}]
["LK-FC-WHCC5",{"$f":"_xlfn.XLOOKUP(A455,'Prices Furniture'!A:A,'Prices Furniture'!E:E)","v":9},{"$f":"_xlfn.XLOOKUP(A455,'Lighting Prices'!A:A,'Lighting Prices'!E:E)","v":{"$error":"#N/A"}}]
["LK-FC-NOCC35",{"$f":"_xlfn.XLOOKUP(A456,'Prices Furniture'!A:A,'Prices Furniture'!E:E)","v":9},{"$f":"_xlfn.XLOOKUP(A456,'Lighting Prices'!A:A,'Lighting Prices'!E:E)","v":{"$error":"#N/A"}}]
["LK-FC-NOCC5",{"$f":"_xlfn.XLOOKUP(A457,'Prices Furniture'!A:A,'Prices Furniture'!E:E)","v":9},{"$f":"_xlfn.XLOOKUP(A457,'Lighting Prices'!A:A,'Lighting Prices'!E:E)","v":{"$error":"#N/A"}}]
["LK-FC-NOST25",{"$f":"_xlfn.XLOOKUP(A458,'Prices Furniture'!A:A,'Prices Furniture'!E:E)","v":9},{"$f":"_xlfn.XLOOKUP(A458,'Lighting Prices'!A:A,'Lighting Prices'!E:E)","v":{"$error":"#N/A"}}]
["LK-FC-WNST25",{"$f":"_xlfn.XLOOKUP(A459,'Prices Furniture'!A:A,'Prices Furniture'!E:E)","v":9},{"$f":"_xlfn.XLOOKUP(A459,'Lighting Prices'!A:A,'Lighting Prices'!E:E)","v":{"$error":"#N/A"}}]
["LK-FC-WHST25",{"$f":"_xlfn.XLOOKUP(A460,'Prices Furniture'!A:A,'Prices Furniture'!E:E)","v":9},{"$f":"_xlfn.XLOOKUP(A460,'Lighting Prices'!A:A,'Lighting Prices'!E:E)","v":{"$error":"#N/A"}}]
["LK-FC-SGST25",{"$f":"_xlfn.XLOOKUP(A461,'Prices Furniture'!A:A,'Prices Furniture'!E:E)","v":9},{"$f":"_xlfn.XLOOKUP(A461,'Lighting Prices'!A:A,'Lighting Prices'!E:E)","v":{"$error":"#N/A"}}]
["LK-FC-GLST25",{"$f":"_xlfn.XLOOKUP(A462,'Prices Furniture'!A:A,'Prices Furniture'!E:E)","v":9},{"$f":"_xlfn.XLOOKUP(A462,'Lighting Prices'!A:A,'Lighting Prices'!E:E)","v":{"$error":"#N/A"}}]
["LK-A-ALN-FP",{"$f":"_xlfn.XLOOKUP(A463,'Prices Furniture'!A:A,'Prices Furniture'!E:E)","v":132},{"$f":"_xlfn.XLOOKUP(A463,'Lighting Prices'!A:A,'Lighting Prices'!E:E)","v":{"$error":"#N/A"}}]
["LK-A-GLN-FP",{"$f":"_xlfn.XLOOKUP(A464,'Prices Furniture'!A:A,'Prices Furniture'!E:E)","v":132},{"$f":"_xlfn.XLOOKUP(A464,'Lighting Prices'!A:A,'Lighting Prices'!E:E)","v":{"$error":"#N/A"}}]
["LK-A-STG-FP",{"$f":"_xlfn.XLOOKUP(A465,'Prices Furniture'!A:A,'Prices Furniture'!E:E)","v":132},{"$f":"_xlfn.XLOOKUP(A465,'Lighting Prices'!A:A,'Lighting Prices'!E:E)","v":{"$error":"#N/A"}}]
["LK-A-LISW-FP",{"$f":"_xlfn.XLOOKUP(A466,'Prices Furniture'!A:A,'Prices Furniture'!E:E)","v":132},{"$f":"_xlfn.XLOOKUP(A466,'Lighting Prices'!A:A,'Lighting Prices'!E:E)","v":{"$error":"#N/A"}}]
["LK-A-WHT-FP",{"$f":"_xlfn.XLOOKUP(A467,'Prices Furniture'!A:A,'Prices Furniture'!E:E)","v":132},{"$f":"_xlfn.XLOOKUP(A467,'Lighting Prices'!A:A,'Lighting Prices'!E:E)","v":{"$error":"#N/A"}}]
["LK-A-WAL-FP",{"$f":"_xlfn.XLOOKUP(A468,'Prices Furniture'!A:A,'Prices Furniture'!E:E)","v":132},{"$f":"_xlfn.XLOOKUP(A468,'Lighting Prices'!A:A,'Lighting Prices'!E:E)","v":{"$error":"#N/A"}}]
["LK-ST-ILWB",{"$f":"_xlfn.XLOOKUP(A469,'Prices Furniture'!A:A,'Prices Furniture'!E:E)","v":83},{"$f":"_xlfn.XLOOKUP(A469,'Lighting Prices'!A:A,'Lighting Prices'!E:E)","v":{"$error":"#N/A"}}]
["@LK-ST-SR2",{"$f":"_xlfn.XLOOKUP(A470,'Prices Furniture'!A:A,'Prices Furniture'!E:E)","v":570},{"$f":"_xlfn.XLOOKUP(A470,'Lighting Prices'!A:A,'Lighting Prices'!E:E)","v":{"$error":"#N/A"}}]
["LK-FC-PLSL",{"$f":"_xlfn.XLOOKUP(A471,'Prices Furniture'!A:A,'Prices Furniture'!E:E)","v":15},{"$f":"_xlfn.XLOOKUP(A471,'Lighting Prices'!A:A,'Lighting Prices'!E:E)","v":{"$error":"#N/A"}}]
["LK-FC-BL110",{"$f":"_xlfn.XLOOKUP(A472,'Prices Furniture'!A:A,'Prices Furniture'!E:E)","v":8},{"$f":"_xlfn.XLOOKUP(A472,'Lighting Prices'!A:A,'Lighting Prices'!E:E)","v":{"$error":"#N/A"}}]
["LK-FC-BL155",{"$f":"_xlfn.XLOOKUP(A473,'Prices Furniture'!A:A,'Prices Furniture'!E:E)","v":19},{"$f":"_xlfn.XLOOKUP(A473,'Lighting Prices'!A:A,'Lighting Prices'!E:E)","v":{"$error":"#N/A"}}]
["LK-FC-XK109",{"$f":"_xlfn.XLOOKUP(A474,'Prices Furniture'!A:A,'Prices Furniture'!E:E)","v":12},{"$f":"_xlfn.XLOOKUP(A474,'Lighting Prices'!A:A,'Lighting Prices'!E:E)","v":{"$error":"#N/A"}}]
["LK-FC-PC16",{"$f":"_xlfn.XLOOKUP(A475,'Prices Furniture'!A:A,'Prices Furniture'!E:E)","v":34},{"$f":"_xlfn.XLOOKUP(A475,'Lighting Prices'!A:A,'Lighting Prices'!E:E)","v":{"$error":"#N/A"}}]
["LK-FC-PC18",{"$f":"_xlfn.XLOOKUP(A476,'Prices Furniture'!A:A,'Prices Furniture'!E:E)","v":34},{"$f":"_xlfn.XLOOKUP(A476,'Lighting Prices'!A:A,'Lighting Prices'!E:E)","v":{"$error":"#N/A"}}]
["LK-FC-PC19",{"$f":"_xlfn.XLOOKUP(A477,'Prices Furniture'!A:A,'Prices Furniture'!E:E)","v":34},{"$f":"_xlfn.XLOOKUP(A477,'Lighting Prices'!A:A,'Lighting Prices'!E:E)","v":{"$error":"#N/A"}}]
["LK-FC-SKFAB",{"$f":"_xlfn.XLOOKUP(A478,'Prices Furniture'!A:A,'Prices Furniture'!E:E)","v":29},{"$f":"_xlfn.XLOOKUP(A478,'Lighting Prices'!A:A,'Lighting Prices'!E:E)","v":{"$error":"#N/A"}}]
["LK-FC-SKFBR",{"$f":"_xlfn.XLOOKUP(A479,'Prices Furniture'!A:A,'Prices Furniture'!E:E)","v":29},{"$f":"_xlfn.XLOOKUP(A479,'Lighting Prices'!A:A,'Lighting Prices'!E:E)","v":{"$error":"#N/A"}}]
["LK-FC-SKFPW",{"$f":"_xlfn.XLOOKUP(A480,'Prices Furniture'!A:A,'Prices Furniture'!E:E)","v":29},{"$f":"_xlfn.XLOOKUP(A480,'Lighting Prices'!A:A,'Lighting Prices'!E:E)","v":{"$error":"#N/A"}}]
["LK-FC-JP43",{"$f":"_xlfn.XLOOKUP(A481,'Prices Furniture'!A:A,'Prices Furniture'!E:E)","v":5},{"$f":"_xlfn.XLOOKUP(A481,'Lighting Prices'!A:A,'Lighting Prices'!E:E)","v":{"$error":"#N/A"}}]
["LK-FC-JP105",{"$f":"_xlfn.XLOOKUP(A482,'Prices Furniture'!A:A,'Prices Furniture'!E:E)","v":5},{"$f":"_xlfn.XLOOKUP(A482,'Lighting Prices'!A:A,'Lighting Prices'!E:E)","v":{"$error":"#N/A"}}]
["VS-ST-150SSPO",{"$f":"_xlfn.XLOOKUP(A483,'Prices Furniture'!A:A,'Prices Furniture'!E:E)","v":196},{"$f":"_xlfn.XLOOKUP(A483,'Lighting Prices'!A:A,'Lighting Prices'!E:E)","v":{"$error":"#N/A"}}]
["VS-ST-300SSPO",{"$f":"_xlfn.XLOOKUP(A484,'Prices Furniture'!A:A,'Prices Furniture'!E:E)","v":411},{"$f":"_xlfn.XLOOKUP(A484,'Lighting Prices'!A:A,'Lighting Prices'!E:E)","v":{"$error":"#N/A"}}]
["VS-ST-500CMPOLH",{"$f":"_xlfn.XLOOKUP(A485,'Prices Furniture'!A:A,'Prices Furniture'!E:E)","v":865},{"$f":"_xlfn.XLOOKUP(A485,'Lighting Prices'!A:A,'Lighting Prices'!E:E)","v":{"$error":"#N/A"}}]
["VS-ST-500CMPORH",{"$f":"_xlfn.XLOOKUP(A486,'Prices Furniture'!A:A,'Prices Furniture'!E:E)","v":865},{"$f":"_xlfn.XLOOKUP(A486,'Lighting Prices'!A:A,'Lighting Prices'!E:E)","v":{"$error":"#N/A"}}]
["VS-ST-600CMPOLH",{"$f":"_xlfn.XLOOKUP(A487,'Prices Furniture'!A:A,'Prices Furniture'!E:E)","v":928},{"$f":"_xlfn.XLOOKUP(A487,'Lighting Prices'!A:A,'Lighting Prices'!E:E)","v":{"$error":"#N/A"}}]
["VS-ST-600CMPORH",{"$f":"_xlfn.XLOOKUP(A488,'Prices Furniture'!A:A,'Prices Furniture'!E:E)","v":928},{"$f":"_xlfn.XLOOKUP(A488,'Lighting Prices'!A:A,'Lighting Prices'!E:E)","v":{"$error":"#N/A"}}]
["VS-ST-CMEXTPO",{"$f":"_xlfn.XLOOKUP(A489,'Prices Furniture'!A:A,'Prices Furniture'!E:E)","v":108},{"$f":"_xlfn.XLOOKUP(A489,'Lighting Prices'!A:A,'Lighting Prices'!E:E)","v":{"$error":"#N/A"}}]
["VS-ST-450CFPO",{"$f":"_xlfn.XLOOKUP(A490,'Prices Furniture'!A:A,'Prices Furniture'!E:E)","v":1010},{"$f":"_xlfn.XLOOKUP(A490,'Lighting Prices'!A:A,'Lighting Prices'!E:E)","v":{"$error":"#N/A"}}]
["VS-ST-500CFPO",{"$f":"_xlfn.XLOOKUP(A491,'Prices Furniture'!A:A,'Prices Furniture'!E:E)","v":1010},{"$f":"_xlfn.XLOOKUP(A491,'Lighting Prices'!A:A,'Lighting Prices'!E:E)","v":{"$error":"#N/A"}}]
["VS-ST-300TLPO",{"$f":"_xlfn.XLOOKUP(A492,'Prices Furniture'!A:A,'Prices Furniture'!E:E)","v":827},{"$f":"_xlfn.XLOOKUP(A492,'Lighting Prices'!A:A,'Lighting Prices'!E:E)","v":{"$error":"#N/A"}}]
["VS-ST-400TLPO",{"$f":"_xlfn.XLOOKUP(A493,'Prices Furniture'!A:A,'Prices Furniture'!E:E)","v":951},{"$f":"_xlfn.XLOOKUP(A493,'Lighting Prices'!A:A,'Lighting Prices'!E:E)","v":{"$error":"#N/A"}}]
["VS-ST-500TGPO",{"$f":"_xlfn.XLOOKUP(A494,'Prices Furniture'!A:A,'Prices Furniture'!E:E)","v":934},{"$f":"_xlfn.XLOOKUP(A494,'Lighting Prices'!A:A,'Lighting Prices'!E:E)","v":{"$error":"#N/A"}}]
["VS-ST-600TGPO",{"$f":"_xlfn.XLOOKUP(A495,'Prices Furniture'!A:A,'Prices Furniture'!E:E)","v":987},{"$f":"_xlfn.XLOOKUP(A495,'Lighting Prices'!A:A,'Lighting Prices'!E:E)","v":{"$error":"#N/A"}}]
["VS-ST-500TGPRPO",{"$f":"_xlfn.XLOOKUP(A496,'Prices Furniture'!A:A,'Prices Furniture'!E:E)","v":1192},{"$f":"_xlfn.XLOOKUP(A496,'Lighting Prices'!A:A,'Lighting Prices'!E:E)","v":{"$error":"#N/A"}}]
["VS-ST-600TGPRPO",{"$f":"_xlfn.XLOOKUP(A497,'Prices Furniture'!A:A,'Prices Furniture'!E:E)","v":1186},{"$f":"_xlfn.XLOOKUP(A497,'Lighting Prices'!A:A,'Lighting Prices'!E:E)","v":{"$error":"#N/A"}}]
["@LK-ST-BAMC46",{"$f":"_xlfn.XLOOKUP(A498,'Prices Furniture'!A:A,'Prices Furniture'!E:E)","v":185},{"$f":"_xlfn.XLOOKUP(A498,'Lighting Prices'!A:A,'Lighting Prices'!E:E)","v":{"$error":"#N/A"}}]
["@LK-ST-BAMC68",{"$f":"_xlfn.XLOOKUP(A499,'Prices Furniture'!A:A,'Prices Furniture'!E:E)","v":237},{"$f":"_xlfn.XLOOKUP(A499,'Lighting Prices'!A:A,'Lighting Prices'!E:E)","v":{"$error":"#N/A"}}]
["@LK-ST-BAMC810",{"$f":"_xlfn.XLOOKUP(A500,'Prices Furniture'!A:A,'Prices Furniture'!E:E)","v":314},{"$f":"_xlfn.XLOOKUP(A500,'Lighting Prices'!A:A,'Lighting Prices'!E:E)","v":{"$error":"#N/A"}}]
["@LK-ST-BAMF46",{"$f":"_xlfn.XLOOKUP(A501,'Prices Furniture'!A:A,'Prices Furniture'!E:E)","v":110},{"$f":"_xlfn.XLOOKUP(A501,'Lighting Prices'!A:A,'Lighting Prices'!E:E)","v":{"$error":"#N/A"}}]
["@LK-ST-BAMF68",{"$f":"_xlfn.XLOOKUP(A502,'Prices Furniture'!A:A,'Prices Furniture'!E:E)","v":220},{"$f":"_xlfn.XLOOKUP(A502,'Lighting Prices'!A:A,'Lighting Prices'!E:E)","v":{"$error":"#N/A"}}]
["@LK-ST-BAMF810",{"$f":"_xlfn.XLOOKUP(A503,'Prices Furniture'!A:A,'Prices Furniture'!E:E)","v":220},{"$f":"_xlfn.XLOOKUP(A503,'Lighting Prices'!A:A,'Lighting Prices'!E:E)","v":{"$error":"#N/A"}}]
["@LK-ST-BAMU46",{"$f":"_xlfn.XLOOKUP(A504,'Prices Furniture'!A:A,'Prices Furniture'!E:E)","v":115},{"$f":"_xlfn.XLOOKUP(A504,'Lighting Prices'!A:A,'Lighting Prices'!E:E)","v":{"$error":"#N/A"}}]
["@LK-ST-BAMU68",{"$f":"_xlfn.XLOOKUP(A505,'Prices Furniture'!A:A,'Prices Furniture'!E:E)","v":166},{"$f":"_xlfn.XLOOKUP(A505,'Lighting Prices'!A:A,'Lighting Prices'!E:E)","v":{"$error":"#N/A"}}]
["@LK-ST-BAMU810",{"$f":"_xlfn.XLOOKUP(A506,'Prices Furniture'!A:A,'Prices Furniture'!E:E)","v":166},{"$f":"_xlfn.XLOOKUP(A506,'Lighting Prices'!A:A,'Lighting Prices'!E:E)","v":{"$error":"#N/A"}}]
["LK-ST-BAMC46",{"$f":"_xlfn.XLOOKUP(A507,'Prices Furniture'!A:A,'Prices Furniture'!E:E)","v":185},{"$f":"_xlfn.XLOOKUP(A507,'Lighting Prices'!A:A,'Lighting Prices'!E:E)","v":{"$error":"#N/A"}}]
["LK-ST-BAMNF",{"$f":"_xlfn.XLOOKUP(A508,'Prices Furniture'!A:A,'Prices Furniture'!E:E)","v":52},{"$f":"_xlfn.XLOOKUP(A508,'Lighting Prices'!A:A,'Lighting Prices'!E:E)","v":{"$error":"#N/A"}}]
["LK-ST-BAMWF",{"$f":"_xlfn.XLOOKUP(A509,'Prices Furniture'!A:A,'Prices Furniture'!E:E)","v":63},{"$f":"_xlfn.XLOOKUP(A509,'Lighting Prices'!A:A,'Lighting Prices'!E:E)","v":{"$error":"#N/A"}}]
["LK-ST-BAMKH",{"$f":"_xlfn.XLOOKUP(A510,'Prices Furniture'!A:A,'Prices Furniture'!E:E)","v":66},{"$f":"_xlfn.XLOOKUP(A510,'Lighting Prices'!A:A,'Lighting Prices'!E:E)","v":{"$error":"#N/A"}}]
["LK-ST-BAMSH",{"$f":"_xlfn.XLOOKUP(A511,'Prices Furniture'!A:A,'Prices Furniture'!E:E)","v":98},{"$f":"_xlfn.XLOOKUP(A511,'Lighting Prices'!A:A,'Lighting Prices'!E:E)","v":{"$error":"#N/A"}}]
["LK-ST-BAMFFD",{"$f":"_xlfn.XLOOKUP(A512,'Prices Furniture'!A:A,'Prices Furniture'!E:E)","v":157},{"$f":"_xlfn.XLOOKUP(A512,'Lighting Prices'!A:A,'Lighting Prices'!E:E)","v":{"$error":"#N/A"}}]
["LK-ST-BAMHF",{"$f":"_xlfn.XLOOKUP(A513,'Prices Furniture'!A:A,'Prices Furniture'!E:E)","v":110},{"$f":"_xlfn.XLOOKUP(A513,'Lighting Prices'!A:A,'Lighting Prices'!E:E)","v":{"$error":"#N/A"}}]
["@LK-ST-BAMDV46",{"$f":"_xlfn.XLOOKUP(A514,'Prices Furniture'!A:A,'Prices Furniture'!E:E)","v":24},{"$f":"_xlfn.XLOOKUP(A514,'Lighting Prices'!A:A,'Lighting Prices'!E:E)","v":{"$error":"#N/A"}}]
["@LK-ST-BAMDV610",{"$f":"_xlfn.XLOOKUP(A515,'Prices Furniture'!A:A,'Prices Furniture'!E:E)","v":34},{"$f":"_xlfn.XLOOKUP(A515,'Lighting Prices'!A:A,'Lighting Prices'!E:E)","v":{"$error":"#N/A"}}]
["@VL-K01-0171NW-3",{"$f":"_xlfn.XLOOKUP(A516,'Prices Furniture'!A:A,'Prices Furniture'!E:E)","v":{"$error":"#N/A"}},{"$f":"_xlfn.XLOOKUP(A516,'Lighting Prices'!A:A,'Lighting Prices'!E:E)","v":45.5}]
["@VL-K01-0171NW-5",{"$f":"_xlfn.XLOOKUP(A517,'Prices Furniture'!A:A,'Prices Furniture'!E:E)","v":{"$error":"#N/A"}},{"$f":"_xlfn.XLOOKUP(A517,'Lighting Prices'!A:A,'Lighting Prices'!E:E)","v":73.5}]
["@VL-K01-0171WW-3",{"$f":"_xlfn.XLOOKUP(A518,'Prices Furniture'!A:A,'Prices Furniture'!E:E)","v":{"$error":"#N/A"}},{"$f":"_xlfn.XLOOKUP(A518,'Lighting Prices'!A:A,'Lighting Prices'!E:E)","v":45.5}]
["@VL-K01-0171WW-5",{"$f":"_xlfn.XLOOKUP(A519,'Prices Furniture'!A:A,'Prices Furniture'!E:E)","v":{"$error":"#N/A"}},{"$f":"_xlfn.XLOOKUP(A519,'Lighting Prices'!A:A,'Lighting Prices'!E:E)","v":73.5}]
["VL-K01-0171NW",{"$f":"_xlfn.XLOOKUP(A520,'Prices Furniture'!A:A,'Prices Furniture'!E:E)","v":{"$error":"#N/A"}},{"$f":"_xlfn.XLOOKUP(A520,'Lighting Prices'!A:A,'Lighting Prices'!E:E)","v":12.25}]
["VL-K01-0171WW",{"$f":"_xlfn.XLOOKUP(A521,'Prices Furniture'!A:A,'Prices Furniture'!E:E)","v":{"$error":"#N/A"}},{"$f":"_xlfn.XLOOKUP(A521,'Lighting Prices'!A:A,'Lighting Prices'!E:E)","v":12.25}]
["@VL-K01-0120SSNW-3",{"$f":"_xlfn.XLOOKUP(A522,'Prices Furniture'!A:A,'Prices Furniture'!E:E)","v":{"$error":"#N/A"}},{"$f":"_xlfn.XLOOKUP(A522,'Lighting Prices'!A:A,'Lighting Prices'!E:E)","v":42}]
["@VL-K01-0120SSNW-5",{"$f":"_xlfn.XLOOKUP(A523,'Prices Furniture'!A:A,'Prices Furniture'!E:E)","v":{"$error":"#N/A"}},{"$f":"_xlfn.XLOOKUP(A523,'Lighting Prices'!A:A,'Lighting Prices'!E:E)","v":67.668999999999997}]
["@VL-K01-0120SSWW-3",{"$f":"_xlfn.XLOOKUP(A524,'Prices Furniture'!A:A,'Prices Furniture'!E:E)","v":{"$error":"#N/A"}},{"$f":"_xlfn.XLOOKUP(A524,'Lighting Prices'!A:A,'Lighting Prices'!E:E)","v":42}]
["@VL-K01-0120SSWW-5",{"$f":"_xlfn.XLOOKUP(A525,'Prices Furniture'!A:A,'Prices Furniture'!E:E)","v":{"$error":"#N/A"}},{"$f":"_xlfn.XLOOKUP(A525,'Lighting Prices'!A:A,'Lighting Prices'!E:E)","v":67.668999999999997}]
["VL-K01-0120SSNW",{"$f":"_xlfn.XLOOKUP(A526,'Prices Furniture'!A:A,'Prices Furniture'!E:E)","v":{"$error":"#N/A"}},{"$f":"_xlfn.XLOOKUP(A526,'Lighting Prices'!A:A,'Lighting Prices'!E:E)","v":11.083333333333334}]
["VL-K01-0120SSWW",{"$f":"_xlfn.XLOOKUP(A527,'Prices Furniture'!A:A,'Prices Furniture'!E:E)","v":{"$error":"#N/A"}},{"$f":"_xlfn.XLOOKUP(A527,'Lighting Prices'!A:A,'Lighting Prices'!E:E)","v":11.083333333333334}]
["@VL-K01-0102SSNW-3",{"$f":"_xlfn.XLOOKUP(A528,'Prices Furniture'!A:A,'Prices Furniture'!E:E)","v":{"$error":"#N/A"}},{"$f":"_xlfn.XLOOKUP(A528,'Lighting Prices'!A:A,'Lighting Prices'!E:E)","v":38.5}]
["@VL-K01-0102SSNW-5",{"$f":"_xlfn.XLOOKUP(A529,'Prices Furniture'!A:A,'Prices Furniture'!E:E)","v":{"$error":"#N/A"}},{"$f":"_xlfn.XLOOKUP(A529,'Lighting Prices'!A:A,'Lighting Prices'!E:E)","v":61.830999999999996}]
["@VL-K01-0102SSWW-3",{"$f":"_xlfn.XLOOKUP(A530,'Prices Furniture'!A:A,'Prices Furniture'!E:E)","v":{"$error":"#N/A"}},{"$f":"_xlfn.XLOOKUP(A530,'Lighting Prices'!A:A,'Lighting Prices'!E:E)","v":38.5}]
["@VL-K01-0102SSWW-5",{"$f":"_xlfn.XLOOKUP(A531,'Prices Furniture'!A:A,'Prices Furniture'!E:E)","v":{"$error":"#N/A"}},{"$f":"_xlfn.XLOOKUP(A531,'Lighting Prices'!A:A,'Lighting Prices'!E:E)","v":61.830999999999996}]
["VL-K01-0102SSNW",{"$f":"_xlfn.XLOOKUP(A532,'Prices Furniture'!A:A,'Prices Furniture'!E:E)","v":{"$error":"#N/A"}},{"$f":"_xlfn.XLOOKUP(A532,'Lighting Prices'!A:A,'Lighting Prices'!E:E)","v":9.9166666666666661}]
["VL-K01-0102SSWW",{"$f":"_xlfn.XLOOKUP(A533,'Prices Furniture'!A:A,'Prices Furniture'!E:E)","v":{"$error":"#N/A"}},{"$f":"_xlfn.XLOOKUP(A533,'Lighting Prices'!A:A,'Lighting Prices'!E:E)","v":9.9166666666666661}]
["@VL-K01-0190NW-3",{"$f":"_xlfn.XLOOKUP(A534,'Prices Furniture'!A:A,'Prices Furniture'!E:E)","v":{"$error":"#N/A"}},{"$f":"_xlfn.XLOOKUP(A534,'Lighting Prices'!A:A,'Lighting Prices'!E:E)","v":50.75}]
["@VL-K01-0190NW-5",{"$f":"_xlfn.XLOOKUP(A535,'Prices Furniture'!A:A,'Prices Furniture'!E:E)","v":{"$error":"#N/A"}},{"$f":"_xlfn.XLOOKUP(A535,'Lighting Prices'!A:A,'Lighting Prices'!E:E)","v":76.418999999999997}]
["@VL-K01-0190WW-3",{"$f":"_xlfn.XLOOKUP(A536,'Prices Furniture'!A:A,'Prices Furniture'!E:E)","v":{"$error":"#N/A"}},{"$f":"_xlfn.XLOOKUP(A536,'Lighting Prices'!A:A,'Lighting Prices'!E:E)","v":50.75}]
["@VL-K01-0190WW-5",{"$f":"_xlfn.XLOOKUP(A537,'Prices Furniture'!A:A,'Prices Furniture'!E:E)","v":{"$error":"#N/A"}},{"$f":"_xlfn.XLOOKUP(A537,'Lighting Prices'!A:A,'Lighting Prices'!E:E)","v":76.418999999999997}]
["VL-K01-0190SLNW",{"$f":"_xlfn.XLOOKUP(A538,'Prices Furniture'!A:A,'Prices Furniture'!E:E)","v":{"$error":"#N/A"}},{"$f":"_xlfn.XLOOKUP(A538,'Lighting Prices'!A:A,'Lighting Prices'!E:E)","v":12.833333333333334}]
["VL-K01-0190SLWW",{"$f":"_xlfn.XLOOKUP(A539,'Prices Furniture'!A:A,'Prices Furniture'!E:E)","v":{"$error":"#N/A"}},{"$f":"_xlfn.XLOOKUP(A539,'Lighting Prices'!A:A,'Lighting Prices'!E:E)","v":12.833333333333334}]
["@VL-K01-0191NW-3",{"$f":"_xlfn.XLOOKUP(A540,'Prices Furniture'!A:A,'Prices Furniture'!E:E)","v":{"$error":"#N/A"}},{"$f":"_xlfn.XLOOKUP(A540,'Lighting Prices'!A:A,'Lighting Prices'!E:E)","v":66.5}]
["@VL-K01-0191NW-5",{"$f":"_xlfn.XLOOKUP(A541,'Prices Furniture'!A:A,'Prices Furniture'!E:E)","v":{"$error":"#N/A"}},{"$f":"_xlfn.XLOOKUP(A541,'Lighting Prices'!A:A,'Lighting Prices'!E:E)","v":98}]
["@VL-K01-0191WW-3",{"$f":"_xlfn.XLOOKUP(A542,'Prices Furniture'!A:A,'Prices Furniture'!E:E)","v":{"$error":"#N/A"}},{"$f":"_xlfn.XLOOKUP(A542,'Lighting Prices'!A:A,'Lighting Prices'!E:E)","v":66.5}]
["@VL-K01-0191WW-5",{"$f":"_xlfn.XLOOKUP(A543,'Prices Furniture'!A:A,'Prices Furniture'!E:E)","v":{"$error":"#N/A"}},{"$f":"_xlfn.XLOOKUP(A543,'Lighting Prices'!A:A,'Lighting Prices'!E:E)","v":98}]
["VL-K01-0191SLNW",{"$f":"_xlfn.XLOOKUP(A544,'Prices Furniture'!A:A,'Prices Furniture'!E:E)","v":{"$error":"#N/A"}},{"$f":"_xlfn.XLOOKUP(A544,'Lighting Prices'!A:A,'Lighting Prices'!E:E)","v":15.749999999999998}]
["VL-K01-0191SLWW",{"$f":"_xlfn.XLOOKUP(A545,'Prices Furniture'!A:A,'Prices Furniture'!E:E)","v":{"$error":"#N/A"}},{"$f":"_xlfn.XLOOKUP(A545,'Lighting Prices'!A:A,'Lighting Prices'!E:E)","v":15.749999999999998}]
["VL-R90-0131",{"$f":"_xlfn.XLOOKUP(A546,'Prices Furniture'!A:A,'Prices Furniture'!E:E)","v":{"$error":"#N/A"}},{"$f":"_xlfn.XLOOKUP(A546,'Lighting Prices'!A:A,'Lighting Prices'!E:E)","v":2.9166666666666665}]
["VL-K01-0030K4PCNW",{"$f":"_xlfn.XLOOKUP(A547,'Prices Furniture'!A:A,'Prices Furniture'!E:E)","v":{"$error":"#N/A"}},{"$f":"_xlfn.XLOOKUP(A547,'Lighting Prices'!A:A,'Lighting Prices'!E:E)","v":22.75}]
["VL-K01-0030K4PCWW",{"$f":"_xlfn.XLOOKUP(A548,'Prices Furniture'!A:A,'Prices Furniture'!E:E)","v":{"$error":"#N/A"}},{"$f":"_xlfn.XLOOKUP(A548,'Lighting Prices'!A:A,'Lighting Prices'!E:E)","v":22.75}]
["VL-K01-0030K8PCNW",{"$f":"_xlfn.XLOOKUP(A549,'Prices Furniture'!A:A,'Prices Furniture'!E:E)","v":{"$error":"#N/A"}},{"$f":"_xlfn.XLOOKUP(A549,'Lighting Prices'!A:A,'Lighting Prices'!E:E)","v":42}]
["VL-K01-0030K8PCWW",{"$f":"_xlfn.XLOOKUP(A550,'Prices Furniture'!A:A,'Prices Furniture'!E:E)","v":{"$error":"#N/A"}},{"$f":"_xlfn.XLOOKUP(A550,'Lighting Prices'!A:A,'Lighting Prices'!E:E)","v":42}]
["VL-K01-0030PNW",{"$f":"_xlfn.XLOOKUP(A551,'Prices Furniture'!A:A,'Prices Furniture'!E:E)","v":{"$error":"#N/A"}},{"$f":"_xlfn.XLOOKUP(A551,'Lighting Prices'!A:A,'Lighting Prices'!E:E)","v":3.5}]
["VL-K01-0030PWW",{"$f":"_xlfn.XLOOKUP(A552,'Prices Furniture'!A:A,'Prices Furniture'!E:E)","v":{"$error":"#N/A"}},{"$f":"_xlfn.XLOOKUP(A552,'Lighting Prices'!A:A,'Lighting Prices'!E:E)","v":3.5}]
["VL-K01-0040K4SSNW",{"$f":"_xlfn.XLOOKUP(A553,'Prices Furniture'!A:A,'Prices Furniture'!E:E)","v":{"$error":"#N/A"}},{"$f":"_xlfn.XLOOKUP(A553,'Lighting Prices'!A:A,'Lighting Prices'!E:E)","v":25.083333333333332}]
["VL-K01-0040K4SSWW",{"$f":"_xlfn.XLOOKUP(A554,'Prices Furniture'!A:A,'Prices Furniture'!E:E)","v":{"$error":"#N/A"}},{"$f":"_xlfn.XLOOKUP(A554,'Lighting Prices'!A:A,'Lighting Prices'!E:E)","v":25.083333333333332}]
["VL-K01-0040K8SSNW",{"$f":"_xlfn.XLOOKUP(A555,'Prices Furniture'!A:A,'Prices Furniture'!E:E)","v":{"$error":"#N/A"}},{"$f":"_xlfn.XLOOKUP(A555,'Lighting Prices'!A:A,'Lighting Prices'!E:E)","v":42}]
["VL-K01-0040K8SSWW",{"$f":"_xlfn.XLOOKUP(A556,'Prices Furniture'!A:A,'Prices Furniture'!E:E)","v":{"$error":"#N/A"}},{"$f":"_xlfn.XLOOKUP(A556,'Lighting Prices'!A:A,'Lighting Prices'!E:E)","v":42}]
["VL-K01-0040SSNW",{"$f":"_xlfn.XLOOKUP(A557,'Prices Furniture'!A:A,'Prices Furniture'!E:E)","v":{"$error":"#N/A"}},{"$f":"_xlfn.XLOOKUP(A557,'Lighting Prices'!A:A,'Lighting Prices'!E:E)","v":4.0833333333333339}]
["VL-K01-0040SSWW",{"$f":"_xlfn.XLOOKUP(A558,'Prices Furniture'!A:A,'Prices Furniture'!E:E)","v":{"$error":"#N/A"}},{"$f":"_xlfn.XLOOKUP(A558,'Lighting Prices'!A:A,'Lighting Prices'!E:E)","v":4.0833333333333339}]
["VL-K01-0200NW-462",{"$f":"_xlfn.XLOOKUP(A559,'Prices Furniture'!A:A,'Prices Furniture'!E:E)","v":{"$error":"#N/A"}},{"$f":"_xlfn.XLOOKUP(A559,'Lighting Prices'!A:A,'Lighting Prices'!E:E)","v":19.25}]
["VL-K01-0200NW-562",{"$f":"_xlfn.XLOOKUP(A560,'Prices Furniture'!A:A,'Prices Furniture'!E:E)","v":{"$error":"#N/A"}},{"$f":"_xlfn.XLOOKUP(A560,'Lighting Prices'!A:A,'Lighting Prices'!E:E)","v":22.166666666666668}]
["VL-K01-0200NW-762",{"$f":"_xlfn.XLOOKUP(A561,'Prices Furniture'!A:A,'Prices Furniture'!E:E)","v":{"$error":"#N/A"}},{"$f":"_xlfn.XLOOKUP(A561,'Lighting Prices'!A:A,'Lighting Prices'!E:E)","v":26.25}]
["VL-K01-0200NW-862",{"$f":"_xlfn.XLOOKUP(A562,'Prices Furniture'!A:A,'Prices Furniture'!E:E)","v":{"$error":"#N/A"}},{"$f":"_xlfn.XLOOKUP(A562,'Lighting Prices'!A:A,'Lighting Prices'!E:E)","v":29.166666666666668}]
["VL-K01-0200NW-962",{"$f":"_xlfn.XLOOKUP(A563,'Prices Furniture'!A:A,'Prices Furniture'!E:E)","v":{"$error":"#N/A"}},{"$f":"_xlfn.XLOOKUP(A563,'Lighting Prices'!A:A,'Lighting Prices'!E:E)","v":32.083333333333336}]
["VL-K30-1270NW-1M",{"$f":"_xlfn.XLOOKUP(A564,'Prices Furniture'!A:A,'Prices Furniture'!E:E)","v":{"$error":"#N/A"}},{"$f":"_xlfn.XLOOKUP(A564,'Lighting Prices'!A:A,'Lighting Prices'!E:E)","v":19.25}]
["VL-K30-1270NW-2M",{"$f":"_xlfn.XLOOKUP(A565,'Prices Furniture'!A:A,'Prices Furniture'!E:E)","v":{"$error":"#N/A"}},{"$f":"_xlfn.XLOOKUP(A565,'Lighting Prices'!A:A,'Lighting Prices'!E:E)","v":35}]
["VL-K30-1270NW-3M",{"$f":"_xlfn.XLOOKUP(A566,'Prices Furniture'!A:A,'Prices Furniture'!E:E)","v":{"$error":"#N/A"}},{"$f":"_xlfn.XLOOKUP(A566,'Lighting Prices'!A:A,'Lighting Prices'!E:E)","v":49}]
["VL-K30-1270WW-1M",{"$f":"_xlfn.XLOOKUP(A567,'Prices Furniture'!A:A,'Prices Furniture'!E:E)","v":{"$error":"#N/A"}},{"$f":"_xlfn.XLOOKUP(A567,'Lighting Prices'!A:A,'Lighting Prices'!E:E)","v":19.25}]
["VL-K30-1270WW-2M",{"$f":"_xlfn.XLOOKUP(A568,'Prices Furniture'!A:A,'Prices Furniture'!E:E)","v":{"$error":"#N/A"}},{"$f":"_xlfn.XLOOKUP(A568,'Lighting Prices'!A:A,'Lighting Prices'!E:E)","v":35}]
["VL-K30-1270WW-3M",{"$f":"_xlfn.XLOOKUP(A569,'Prices Furniture'!A:A,'Prices Furniture'!E:E)","v":{"$error":"#N/A"}},{"$f":"_xlfn.XLOOKUP(A569,'Lighting Prices'!A:A,'Lighting Prices'!E:E)","v":49}]
["VL-K30-1260NW-2M",{"$f":"_xlfn.XLOOKUP(A570,'Prices Furniture'!A:A,'Prices Furniture'!E:E)","v":{"$error":"#N/A"}},{"$f":"_xlfn.XLOOKUP(A570,'Lighting Prices'!A:A,'Lighting Prices'!E:E)","v":35}]
["VL-K30-1260NW-3M",{"$f":"_xlfn.XLOOKUP(A571,'Prices Furniture'!A:A,'Prices Furniture'!E:E)","v":{"$error":"#N/A"}},{"$f":"_xlfn.XLOOKUP(A571,'Lighting Prices'!A:A,'Lighting Prices'!E:E)","v":49}]
["VL-K30-1260NW-5M",{"$f":"_xlfn.XLOOKUP(A572,'Prices Furniture'!A:A,'Prices Furniture'!E:E)","v":{"$error":"#N/A"}},{"$f":"_xlfn.XLOOKUP(A572,'Lighting Prices'!A:A,'Lighting Prices'!E:E)","v":78.75}]
["VL-K30-1260WW-2M",{"$f":"_xlfn.XLOOKUP(A573,'Prices Furniture'!A:A,'Prices Furniture'!E:E)","v":{"$error":"#N/A"}},{"$f":"_xlfn.XLOOKUP(A573,'Lighting Prices'!A:A,'Lighting Prices'!E:E)","v":35}]
["VL-K30-1260WW-3M",{"$f":"_xlfn.XLOOKUP(A574,'Prices Furniture'!A:A,'Prices Furniture'!E:E)","v":{"$error":"#N/A"}},{"$f":"_xlfn.XLOOKUP(A574,'Lighting Prices'!A:A,'Lighting Prices'!E:E)","v":49}]
["VL-K30-1260WW-5M",{"$f":"_xlfn.XLOOKUP(A575,'Prices Furniture'!A:A,'Prices Furniture'!E:E)","v":{"$error":"#N/A"}},{"$f":"_xlfn.XLOOKUP(A575,'Lighting Prices'!A:A,'Lighting Prices'!E:E)","v":78.75}]
["VL-K30-5720NW-1M",{"$f":"_xlfn.XLOOKUP(A576,'Prices Furniture'!A:A,'Prices Furniture'!E:E)","v":{"$error":"#N/A"}},{"$f":"_xlfn.XLOOKUP(A576,'Lighting Prices'!A:A,'Lighting Prices'!E:E)","v":14}]
["VL-K30-5720NW-2M",{"$f":"_xlfn.XLOOKUP(A577,'Prices Furniture'!A:A,'Prices Furniture'!E:E)","v":{"$error":"#N/A"}},{"$f":"_xlfn.XLOOKUP(A577,'Lighting Prices'!A:A,'Lighting Prices'!E:E)","v":22.75}]
["VL-K30-5720WW-1M",{"$f":"_xlfn.XLOOKUP(A578,'Prices Furniture'!A:A,'Prices Furniture'!E:E)","v":{"$error":"#N/A"}},{"$f":"_xlfn.XLOOKUP(A578,'Lighting Prices'!A:A,'Lighting Prices'!E:E)","v":14}]
["VL-K30-5720WW-2M",{"$f":"_xlfn.XLOOKUP(A579,'Prices Furniture'!A:A,'Prices Furniture'!E:E)","v":{"$error":"#N/A"}},{"$f":"_xlfn.XLOOKUP(A579,'Lighting Prices'!A:A,'Lighting Prices'!E:E)","v":22.75}]
["VL-K30-5730NW-1M",{"$f":"_xlfn.XLOOKUP(A580,'Prices Furniture'!A:A,'Prices Furniture'!E:E)","v":{"$error":"#N/A"}},{"$f":"_xlfn.XLOOKUP(A580,'Lighting Prices'!A:A,'Lighting Prices'!E:E)","v":8.75}]
["VL-K30-5730NW-2M",{"$f":"_xlfn.XLOOKUP(A581,'Prices Furniture'!A:A,'Prices Furniture'!E:E)","v":{"$error":"#N/A"}},{"$f":"_xlfn.XLOOKUP(A581,'Lighting Prices'!A:A,'Lighting Prices'!E:E)","v":18.083333333333332}]
["VL-K30-5730WW-1M",{"$f":"_xlfn.XLOOKUP(A582,'Prices Furniture'!A:A,'Prices Furniture'!E:E)","v":{"$error":"#N/A"}},{"$f":"_xlfn.XLOOKUP(A582,'Lighting Prices'!A:A,'Lighting Prices'!E:E)","v":8.75}]
["VL-K30-5730WW-2M",{"$f":"_xlfn.XLOOKUP(A583,'Prices Furniture'!A:A,'Prices Furniture'!E:E)","v":{"$error":"#N/A"}},{"$f":"_xlfn.XLOOKUP(A583,'Lighting Prices'!A:A,'Lighting Prices'!E:E)","v":18.083333333333332}]
["VL-K01-1035K1OP-WR",{"$f":"_xlfn.XLOOKUP(A584,'Prices Furniture'!A:A,'Prices Furniture'!E:E)","v":{"$error":"#N/A"}},{"$f":"_xlfn.XLOOKUP(A584,'Lighting Prices'!A:A,'Lighting Prices'!E:E)","v":12.25}]
["VL-K01-1035K2OP-WR",{"$f":"_xlfn.XLOOKUP(A585,'Prices Furniture'!A:A,'Prices Furniture'!E:E)","v":{"$error":"#N/A"}},{"$f":"_xlfn.XLOOKUP(A585,'Lighting Prices'!A:A,'Lighting Prices'!E:E)","v":19.25}]
["VL-K01-1037K1OP-WR",{"$f":"_xlfn.XLOOKUP(A586,'Prices Furniture'!A:A,'Prices Furniture'!E:E)","v":{"$error":"#N/A"}},{"$f":"_xlfn.XLOOKUP(A586,'Lighting Prices'!A:A,'Lighting Prices'!E:E)","v":12.25}]
["VL-K01-1037K2OP-WR",{"$f":"_xlfn.XLOOKUP(A587,'Prices Furniture'!A:A,'Prices Furniture'!E:E)","v":{"$error":"#N/A"}},{"$f":"_xlfn.XLOOKUP(A587,'Lighting Prices'!A:A,'Lighting Prices'!E:E)","v":19.25}]
["VL-K01-1060K1OP-WR",{"$f":"_xlfn.XLOOKUP(A588,'Prices Furniture'!A:A,'Prices Furniture'!E:E)","v":{"$error":"#N/A"}},{"$f":"_xlfn.XLOOKUP(A588,'Lighting Prices'!A:A,'Lighting Prices'!E:E)","v":16.916666666666668}]
["VL-K01-1060K2OP-WR",{"$f":"_xlfn.XLOOKUP(A589,'Prices Furniture'!A:A,'Prices Furniture'!E:E)","v":{"$error":"#N/A"}},{"$f":"_xlfn.XLOOKUP(A589,'Lighting Prices'!A:A,'Lighting Prices'!E:E)","v":29.166666666666668}]
["VL-K30-5725NW",{"$f":"_xlfn.XLOOKUP(A590,'Prices Furniture'!A:A,'Prices Furniture'!E:E)","v":{"$error":"#N/A"}},{"$f":"_xlfn.XLOOKUP(A590,'Lighting Prices'!A:A,'Lighting Prices'!E:E)","v":39.083333333333336}]
["VL-K30-5725WW",{"$f":"_xlfn.XLOOKUP(A591,'Prices Furniture'!A:A,'Prices Furniture'!E:E)","v":{"$error":"#N/A"}},{"$f":"_xlfn.XLOOKUP(A591,'Lighting Prices'!A:A,'Lighting Prices'!E:E)","v":39.083333333333336}]
["VL-K30-5800IPMP",{"$f":"_xlfn.XLOOKUP(A592,'Prices Furniture'!A:A,'Prices Furniture'!E:E)","v":{"$error":"#N/A"}},{"$f":"_xlfn.XLOOKUP(A592,'Lighting Prices'!A:A,'Lighting Prices'!E:E)","v":2.9166666666666665}]
["VL-K30-5810IP",{"$f":"_xlfn.XLOOKUP(A593,'Prices Furniture'!A:A,'Prices Furniture'!E:E)","v":{"$error":"#N/A"}},{"$f":"_xlfn.XLOOKUP(A593,'Lighting Prices'!A:A,'Lighting Prices'!E:E)","v":1.75}]
["VL-K30-5812IP",{"$f":"_xlfn.XLOOKUP(A594,'Prices Furniture'!A:A,'Prices Furniture'!E:E)","v":{"$error":"#N/A"}},{"$f":"_xlfn.XLOOKUP(A594,'Lighting Prices'!A:A,'Lighting Prices'!E:E)","v":1.75}]
["VL-K30-5813IP",{"$f":"_xlfn.XLOOKUP(A595,'Prices Furniture'!A:A,'Prices Furniture'!E:E)","v":{"$error":"#N/A"}},{"$f":"_xlfn.XLOOKUP(A595,'Lighting Prices'!A:A,'Lighting Prices'!E:E)","v":2.9166666666666665}]
["VL-K30-5815IP",{"$f":"_xlfn.XLOOKUP(A596,'Prices Furniture'!A:A,'Prices Furniture'!E:E)","v":{"$error":"#N/A"}},{"$f":"_xlfn.XLOOKUP(A596,'Lighting Prices'!A:A,'Lighting Prices'!E:E)","v":1.75}]
["VL-K30-2034Z",{"$f":"_xlfn.XLOOKUP(A597,'Prices Furniture'!A:A,'Prices Furniture'!E:E)","v":{"$error":"#N/A"}},{"$f":"_xlfn.XLOOKUP(A597,'Lighting Prices'!A:A,'Lighting Prices'!E:E)","v":44.916666666666664}]
["VL-K30-2037ZU",{"$f":"_xlfn.XLOOKUP(A598,'Prices Furniture'!A:A,'Prices Furniture'!E:E)","v":{"$error":"#N/A"}},{"$f":"_xlfn.XLOOKUP(A598,'Lighting Prices'!A:A,'Lighting Prices'!E:E)","v":28}]
["VL-K01-1200 UNI",{"$f":"_xlfn.XLOOKUP(A599,'Prices Furniture'!A:A,'Prices Furniture'!E:E)","v":{"$error":"#N/A"}},{"$f":"_xlfn.XLOOKUP(A599,'Lighting Prices'!A:A,'Lighting Prices'!E:E)","v":8.75}]
["VL-K10-1220 UNI",{"$f":"_xlfn.XLOOKUP(A600,'Prices Furniture'!A:A,'Prices Furniture'!E:E)","v":{"$error":"#N/A"}},{"$f":"_xlfn.XLOOKUP(A600,'Lighting Prices'!A:A,'Lighting Prices'!E:E)","v":12.25}]
["VL-K10-1230 UNI",{"$f":"_xlfn.XLOOKUP(A601,'Prices Furniture'!A:A,'Prices Furniture'!E:E)","v":{"$error":"#N/A"}},{"$f":"_xlfn.XLOOKUP(A601,'Lighting Prices'!A:A,'Lighting Prices'!E:E)","v":19.25}]
["VL-K10-1250 UNI",{"$f":"_xlfn.XLOOKUP(A602,'Prices Furniture'!A:A,'Prices Furniture'!E:E)","v":{"$error":"#N/A"}},{"$f":"_xlfn.XLOOKUP(A602,'Lighting Prices'!A:A,'Lighting Prices'!E:E)","v":29.166666666666668}]
["VL-N28-0005",{"$f":"_xlfn.XLOOKUP(A603,'Prices Furniture'!A:A,'Prices Furniture'!E:E)","v":{"$error":"#N/A"}},{"$f":"_xlfn.XLOOKUP(A603,'Lighting Prices'!A:A,'Lighting Prices'!E:E)","v":8.75}]
["VL-N28-0001D",{"$f":"_xlfn.XLOOKUP(A604,'Prices Furniture'!A:A,'Prices Furniture'!E:E)","v":{"$error":"#N/A"}},{"$f":"_xlfn.XLOOKUP(A604,'Lighting Prices'!A:A,'Lighting Prices'!E:E)","v":19.25}]
["VL-N28-0001",{"$f":"_xlfn.XLOOKUP(A605,'Prices Furniture'!A:A,'Prices Furniture'!E:E)","v":{"$error":"#N/A"}},{"$f":"_xlfn.XLOOKUP(A605,'Lighting Prices'!A:A,'Lighting Prices'!E:E)","v":12.25}]
["VL-N28-0004",{"$f":"_xlfn.XLOOKUP(A606,'Prices Furniture'!A:A,'Prices Furniture'!E:E)","v":{"$error":"#N/A"}},{"$f":"_xlfn.XLOOKUP(A606,'Lighting Prices'!A:A,'Lighting Prices'!E:E)","v":12.25}]
["VL-K01-1200",{"$f":"_xlfn.XLOOKUP(A607,'Prices Furniture'!A:A,'Prices Furniture'!E:E)","v":{"$error":"#N/A"}},{"$f":"_xlfn.XLOOKUP(A607,'Lighting Prices'!A:A,'Lighting Prices'!E:E)","v":8.75}]
["VL-K01-1220",{"$f":"_xlfn.XLOOKUP(A608,'Prices Furniture'!A:A,'Prices Furniture'!E:E)","v":{"$error":"#N/A"}},{"$f":"_xlfn.XLOOKUP(A608,'Lighting Prices'!A:A,'Lighting Prices'!E:E)","v":12.25}]
["VL-K01-1230",{"$f":"_xlfn.XLOOKUP(A609,'Prices Furniture'!A:A,'Prices Furniture'!E:E)","v":{"$error":"#N/A"}},{"$f":"_xlfn.XLOOKUP(A609,'Lighting Prices'!A:A,'Lighting Prices'!E:E)","v":19.25}]
["VL-K01-1250",{"$f":"_xlfn.XLOOKUP(A610,'Prices Furniture'!A:A,'Prices Furniture'!E:E)","v":{"$error":"#N/A"}},{"$f":"_xlfn.XLOOKUP(A610,'Lighting Prices'!A:A,'Lighting Prices'!E:E)","v":29.166666666666668}]
["VL-R90-0133",{"$f":"_xlfn.XLOOKUP(A611,'Prices Furniture'!A:A,'Prices Furniture'!E:E)","v":{"$error":"#N/A"}},{"$f":"_xlfn.XLOOKUP(A611,'Lighting Prices'!A:A,'Lighting Prices'!E:E)","v":2.9166666666666665}]
["VL-N00-0171SS",{"$f":"_xlfn.XLOOKUP(A612,'Prices Furniture'!A:A,'Prices Furniture'!E:E)","v":{"$error":"#N/A"}},{"$f":"_xlfn.XLOOKUP(A612,'Lighting Prices'!A:A,'Lighting Prices'!E:E)","v":54.833333333333336}]
["LK-SLA-HNO-ESP",{"$f":"_xlfn.XLOOKUP(A613,'Prices Furniture'!A:A,'Prices Furniture'!E:E)","v":91},{"$f":"_xlfn.XLOOKUP(A613,'Lighting Prices'!A:A,'Lighting Prices'!E:E)","v":{"$error":"#N/A"}}]
["LK-SLA-HNO-LUP",{"$f":"_xlfn.XLOOKUP(A614,'Prices Furniture'!A:A,'Prices Furniture'!E:E)","v":280},{"$f":"_xlfn.XLOOKUP(A614,'Lighting Prices'!A:A,'Lighting Prices'!E:E)","v":{"$error":"#N/A"}}]
["LK-SLA-HNO-ET",{"$f":"_xlfn.XLOOKUP(A615,'Prices Furniture'!A:A,'Prices Furniture'!E:E)","v":33},{"$f":"_xlfn.XLOOKUP(A615,'Lighting Prices'!A:A,'Lighting Prices'!E:E)","v":{"$error":"#N/A"}}]
["LK-SLA-HTO-ESP",{"$f":"_xlfn.XLOOKUP(A616,'Prices Furniture'!A:A,'Prices Furniture'!E:E)","v":91},{"$f":"_xlfn.XLOOKUP(A616,'Lighting Prices'!A:A,'Lighting Prices'!E:E)","v":{"$error":"#N/A"}}]
["LK-SLA-HTO-LUP",{"$f":"_xlfn.XLOOKUP(A617,'Prices Furniture'!A:A,'Prices Furniture'!E:E)","v":280},{"$f":"_xlfn.XLOOKUP(A617,'Lighting Prices'!A:A,'Lighting Prices'!E:E)","v":{"$error":"#N/A"}}]
["LK-SLA-HTO-ET",{"$f":"_xlfn.XLOOKUP(A618,'Prices Furniture'!A:A,'Prices Furniture'!E:E)","v":33},{"$f":"_xlfn.XLOOKUP(A618,'Lighting Prices'!A:A,'Lighting Prices'!E:E)","v":{"$error":"#N/A"}}]
["LK-SLA-BCN-ESP",{"$f":"_xlfn.XLOOKUP(A619,'Prices Furniture'!A:A,'Prices Furniture'!E:E)","v":{"$error":"#N/A"}},{"$f":"_xlfn.XLOOKUP(A619,'Lighting Prices'!A:A,'Lighting Prices'!E:E)","v":{"$error":"#N/A"}}]
["LK-SLA-BCN-LUP",{"$f":"_xlfn.XLOOKUP(A620,'Prices Furniture'!A:A,'Prices Furniture'!E:E)","v":{"$error":"#N/A"}},{"$f":"_xlfn.XLOOKUP(A620,'Lighting Prices'!A:A,'Lighting Prices'!E:E)","v":{"$error":"#N/A"}}]
["LK-SLA-BCN-ET",{"$f":"_xlfn.XLOOKUP(A621,'Prices Furniture'!A:A,'Prices Furniture'!E:E)","v":{"$error":"#N/A"}},{"$f":"_xlfn.XLOOKUP(A621,'Lighting Prices'!A:A,'Lighting Prices'!E:E)","v":{"$error":"#N/A"}}]
["LK-SLA-HWO-ESP",{"$f":"_xlfn.XLOOKUP(A622,'Prices Furniture'!A:A,'Prices Furniture'!E:E)","v":91},{"$f":"_xlfn.XLOOKUP(A622,'Lighting Prices'!A:A,'Lighting Prices'!E:E)","v":{"$error":"#N/A"}}]
["LK-SLA-HWO-LUP",{"$f":"_xlfn.XLOOKUP(A623,'Prices Furniture'!A:A,'Prices Furniture'!E:E)","v":280},{"$f":"_xlfn.XLOOKUP(A623,'Lighting Prices'!A:A,'Lighting Prices'!E:E)","v":{"$error":"#N/A"}}]
["HOME DEL CHARGE",{"$f":"_xlfn.XLOOKUP(A624,'Prices Furniture'!A:A,'Prices Furniture'!E:E)","v":90},{"$f":"_xlfn.XLOOKUP(A624,'Lighting Prices'!A:A,'Lighting Prices'!E:E)","v":{"$error":"#N/A"}}]
["@LK-EMY-BP15TY",{"$f":"_xlfn.XLOOKUP(A625,'Prices Furniture'!A:A,'Prices Furniture'!E:E)","v":408},{"$f":"_xlfn.XLOOKUP(A625,'Lighting Prices'!A:A,'Lighting Prices'!E:E)","v":{"$error":"#N/A"}}]
["@LK-EMY-BP3TY",{"$f":"_xlfn.XLOOKUP(A626,'Prices Furniture'!A:A,'Prices Furniture'!E:E)","v":634},{"$f":"_xlfn.XLOOKUP(A626,'Lighting Prices'!A:A,'Lighting Prices'!E:E)","v":{"$error":"#N/A"}}]
["@LK-EMY-BH15",{"$f":"_xlfn.XLOOKUP(A627,'Prices Furniture'!A:A,'Prices Furniture'!E:E)","v":228},{"$f":"_xlfn.XLOOKUP(A627,'Lighting Prices'!A:A,'Lighting Prices'!E:E)","v":{"$error":"#N/A"}}]
["@LK-EMY-BH30",{"$f":"_xlfn.XLOOKUP(A628,'Prices Furniture'!A:A,'Prices Furniture'!E:E)","v":239},{"$f":"_xlfn.XLOOKUP(A628,'Lighting Prices'!A:A,'Lighting Prices'!E:E)","v":{"$error":"#N/A"}}]
["@LK-EMY-BH3B",{"$f":"_xlfn.XLOOKUP(A629,'Prices Furniture'!A:A,'Prices Furniture'!E:E)","v":607},{"$f":"_xlfn.XLOOKUP(A629,'Lighting Prices'!A:A,'Lighting Prices'!E:E)","v":{"$error":"#N/A"}}]
["@LK-EMY-BH35",{"$f":"_xlfn.XLOOKUP(A630,'Prices Furniture'!A:A,'Prices Furniture'!E:E)","v":245},{"$f":"_xlfn.XLOOKUP(A630,'Lighting Prices'!A:A,'Lighting Prices'!E:E)","v":{"$error":"#N/A"}}]
["@LK-EMY-BH40",{"$f":"_xlfn.XLOOKUP(A631,'Prices Furniture'!A:A,'Prices Furniture'!E:E)","v":249},{"$f":"_xlfn.XLOOKUP(A631,'Lighting Prices'!A:A,'Lighting Prices'!E:E)","v":{"$error":"#N/A"}}]
["@LK-EMY-BH4B",{"$f":"_xlfn.XLOOKUP(A632,'Prices Furniture'!A:A,'Prices Furniture'!E:E)","v":682},{"$f":"_xlfn.XLOOKUP(A632,'Lighting Prices'!A:A,'Lighting Prices'!E:E)","v":{"$error":"#N/A"}}]
["@LK-EMY-BH45",{"$f":"_xlfn.XLOOKUP(A633,'Prices Furniture'!A:A,'Prices Furniture'!E:E)","v":272},{"$f":"_xlfn.XLOOKUP(A633,'Lighting Prices'!A:A,'Lighting Prices'!E:E)","v":{"$error":"#N/A"}}]
["@LK-EMY-BH45B",{"$f":"_xlfn.XLOOKUP(A634,'Prices Furniture'!A:A,'Prices Furniture'!E:E)","v":710},{"$f":"_xlfn.XLOOKUP(A634,'Lighting Prices'!A:A,'Lighting Prices'!E:E)","v":{"$error":"#N/A"}}]
["@LK-EMY-BH50",{"$f":"_xlfn.XLOOKUP(A635,'Prices Furniture'!A:A,'Prices Furniture'!E:E)","v":283},{"$f":"_xlfn.XLOOKUP(A635,'Lighting Prices'!A:A,'Lighting Prices'!E:E)","v":{"$error":"#N/A"}}]
["@LK-EMY-BH5B",{"$f":"_xlfn.XLOOKUP(A636,'Prices Furniture'!A:A,'Prices Furniture'!E:E)","v":727},{"$f":"_xlfn.XLOOKUP(A636,'Lighting Prices'!A:A,'Lighting Prices'!E:E)","v":{"$error":"#N/A"}}]
["@LK-EMY-BH50S",{"$f":"_xlfn.XLOOKUP(A637,'Prices Furniture'!A:A,'Prices Furniture'!E:E)","v":313},{"$f":"_xlfn.XLOOKUP(A637,'Lighting Prices'!A:A,'Lighting Prices'!E:E)","v":{"$error":"#N/A"}}]
["@LK-EMY-BH60",{"$f":"_xlfn.XLOOKUP(A638,'Prices Furniture'!A:A,'Prices Furniture'!E:E)","v":319},{"$f":"_xlfn.XLOOKUP(A638,'Lighting Prices'!A:A,'Lighting Prices'!E:E)","v":{"$error":"#N/A"}}]
["@LK-EMY-BH6B4",{"$f":"_xlfn.XLOOKUP(A639,'Prices Furniture'!A:A,'Prices Furniture'!E:E)","v":852},{"$f":"_xlfn.XLOOKUP(A639,'Lighting Prices'!A:A,'Lighting Prices'!E:E)","v":{"$error":"#N/A"}}]
["@LK-EMY-BH6B2",{"$f":"_xlfn.XLOOKUP(A640,'Prices Furniture'!A:A,'Prices Furniture'!E:E)","v":800},{"$f":"_xlfn.XLOOKUP(A640,'Lighting Prices'!A:A,'Lighting Prices'!E:E)","v":{"$error":"#N/A"}}]
["@LK-EMY-BH60S",{"$f":"_xlfn.XLOOKUP(A641,'Prices Furniture'!A:A,'Prices Furniture'!E:E)","v":365},{"$f":"_xlfn.XLOOKUP(A641,'Lighting Prices'!A:A,'Lighting Prices'!E:E)","v":{"$error":"#N/A"}}]
["@LK-EMY-BH70",{"$f":"_xlfn.XLOOKUP(A642,'Prices Furniture'!A:A,'Prices Furniture'!E:E)","v":388},{"$f":"_xlfn.XLOOKUP(A642,'Lighting Prices'!A:A,'Lighting Prices'!E:E)","v":{"$error":"#N/A"}}]
["@LK-EMY-BH80",{"$f":"_xlfn.XLOOKUP(A643,'Prices Furniture'!A:A,'Prices Furniture'!E:E)","v":394},{"$f":"_xlfn.XLOOKUP(A643,'Lighting Prices'!A:A,'Lighting Prices'!E:E)","v":{"$error":"#N/A"}}]
["@LK-EMY-BH80S",{"$f":"_xlfn.XLOOKUP(A644,'Prices Furniture'!A:A,'Prices Furniture'!E:E)","v":440},{"$f":"_xlfn.XLOOKUP(A644,'Lighting Prices'!A:A,'Lighting Prices'!E:E)","v":{"$error":"#N/A"}}]
["@LK-EMY-BH90",{"$f":"_xlfn.XLOOKUP(A645,'Prices Furniture'!A:A,'Prices Furniture'!E:E)","v":418},{"$f":"_xlfn.XLOOKUP(A645,'Lighting Prices'!A:A,'Lighting Prices'!E:E)","v":{"$error":"#N/A"}}]
["@LK-EMY-BH90S",{"$f":"_xlfn.XLOOKUP(A646,'Prices Furniture'!A:A,'Prices Furniture'!E:E)","v":464},{"$f":"_xlfn.XLOOKUP(A646,'Lighting Prices'!A:A,'Lighting Prices'!E:E)","v":{"$error":"#N/A"}}]
["@LK-EMY-BH100",{"$f":"_xlfn.XLOOKUP(A647,'Prices Furniture'!A:A,'Prices Furniture'!E:E)","v":439},{"$f":"_xlfn.XLOOKUP(A647,'Lighting Prices'!A:A,'Lighting Prices'!E:E)","v":{"$error":"#N/A"}}]
["@LK-EMY-BH10S",{"$f":"_xlfn.XLOOKUP(A648,'Prices Furniture'!A:A,'Prices Furniture'!E:E)","v":485},{"$f":"_xlfn.XLOOKUP(A648,'Lighting Prices'!A:A,'Lighting Prices'!E:E)","v":{"$error":"#N/A"}}]
["@LK-EMY-BC83",{"$f":"_xlfn.XLOOKUP(A649,'Prices Furniture'!A:A,'Prices Furniture'!E:E)","v":374},{"$f":"_xlfn.XLOOKUP(A649,'Lighting Prices'!A:A,'Lighting Prices'!E:E)","v":{"$error":"#N/A"}}]
["@LK-EMY-BC84",{"$f":"_xlfn.XLOOKUP(A650,'Prices Furniture'!A:A,'Prices Furniture'!E:E)","v":380},{"$f":"_xlfn.XLOOKUP(A650,'Lighting Prices'!A:A,'Lighting Prices'!E:E)","v":{"$error":"#N/A"}}]
["@LK-EMY-BC845",{"$f":"_xlfn.XLOOKUP(A651,'Prices Furniture'!A:A,'Prices Furniture'!E:E)","v":392},{"$f":"_xlfn.XLOOKUP(A651,'Lighting Prices'!A:A,'Lighting Prices'!E:E)","v":{"$error":"#N/A"}}]
["@LK-EMY-BC945",{"$f":"_xlfn.XLOOKUP(A652,'Prices Furniture'!A:A,'Prices Furniture'!E:E)","v":390},{"$f":"_xlfn.XLOOKUP(A652,'Lighting Prices'!A:A,'Lighting Prices'!E:E)","v":{"$error":"#N/A"}}]
["@LK-EMY-BC145",{"$f":"_xlfn.XLOOKUP(A653,'Prices Furniture'!A:A,'Prices Furniture'!E:E)","v":397},{"$f":"_xlfn.XLOOKUP(A653,'Lighting Prices'!A:A,'Lighting Prices'!E:E)","v":{"$error":"#N/A"}}]
["@LK-EMY-BC15",{"$f":"_xlfn.XLOOKUP(A654,'Prices Furniture'!A:A,'Prices Furniture'!E:E)","v":405},{"$f":"_xlfn.XLOOKUP(A654,'Lighting Prices'!A:A,'Lighting Prices'!E:E)","v":{"$error":"#N/A"}}]
["@LK-EMY-BC16",{"$f":"_xlfn.XLOOKUP(A655,'Prices Furniture'!A:A,'Prices Furniture'!E:E)","v":421},{"$f":"_xlfn.XLOOKUP(A655,'Lighting Prices'!A:A,'Lighting Prices'!E:E)","v":{"$error":"#N/A"}}]
["@LK-EMY-BCL15L",{"$f":"_xlfn.XLOOKUP(A656,'Prices Furniture'!A:A,'Prices Furniture'!E:E)","v":1270},{"$f":"_xlfn.XLOOKUP(A656,'Lighting Prices'!A:A,'Lighting Prices'!E:E)","v":{"$error":"#N/A"}}]
["@LK-EMY-BCL15R",{"$f":"_xlfn.XLOOKUP(A657,'Prices Furniture'!A:A,'Prices Furniture'!E:E)","v":1270},{"$f":"_xlfn.XLOOKUP(A657,'Lighting Prices'!A:A,'Lighting Prices'!E:E)","v":{"$error":"#N/A"}}]
["@LK-EMY-BCL16L",{"$f":"_xlfn.XLOOKUP(A658,'Prices Furniture'!A:A,'Prices Furniture'!E:E)","v":1349},{"$f":"_xlfn.XLOOKUP(A658,'Lighting Prices'!A:A,'Lighting Prices'!E:E)","v":{"$error":"#N/A"}}]
["@LK-EMY-BCL16R",{"$f":"_xlfn.XLOOKUP(A659,'Prices Furniture'!A:A,'Prices Furniture'!E:E)","v":1349},{"$f":"_xlfn.XLOOKUP(A659,'Lighting Prices'!A:A,'Lighting Prices'!E:E)","v":{"$error":"#N/A"}}]
["@LK-EMY-BCO945",{"$f":"_xlfn.XLOOKUP(A660,'Prices Furniture'!A:A,'Prices Furniture'!E:E)","v":1400},{"$f":"_xlfn.XLOOKUP(A660,'Lighting Prices'!A:A,'Lighting Prices'!E:E)","v":{"$error":"#N/A"}}]
["@LK-EMY-BCO145",{"$f":"_xlfn.XLOOKUP(A661,'Prices Furniture'!A:A,'Prices Furniture'!E:E)","v":1407},{"$f":"_xlfn.XLOOKUP(A661,'Lighting Prices'!A:A,'Lighting Prices'!E:E)","v":{"$error":"#N/A"}}]
["@LK-EMY-BCO15",{"$f":"_xlfn.XLOOKUP(A662,'Prices Furniture'!A:A,'Prices Furniture'!E:E)","v":1415},{"$f":"_xlfn.XLOOKUP(A662,'Lighting Prices'!A:A,'Lighting Prices'!E:E)","v":{"$error":"#N/A"}}]
["@LK-EMY-BCO16",{"$f":"_xlfn.XLOOKUP(A663,'Prices Furniture'!A:A,'Prices Furniture'!E:E)","v":1431},{"$f":"_xlfn.XLOOKUP(A663,'Lighting Prices'!A:A,'Lighting Prices'!E:E)","v":{"$error":"#N/A"}}]
["@LK-EMY-BCL9",{"$f":"_xlfn.XLOOKUP(A664,'Prices Furniture'!A:A,'Prices Furniture'!E:E)","v":618},{"$f":"_xlfn.XLOOKUP(A664,'Lighting Prices'!A:A,'Lighting Prices'!E:E)","v":{"$error":"#N/A"}}]
["@LK-EMY-BSU6495",{"$f":"_xlfn.XLOOKUP(A665,'Prices Furniture'!A:A,'Prices Furniture'!E:E)","v":285},{"$f":"_xlfn.XLOOKUP(A665,'Lighting Prices'!A:A,'Lighting Prices'!E:E)","v":{"$error":"#N/A"}}]
["@LK-EMY-BSU6450",{"$f":"_xlfn.XLOOKUP(A666,'Prices Furniture'!A:A,'Prices Furniture'!E:E)","v":283},{"$f":"_xlfn.XLOOKUP(A666,'Lighting Prices'!A:A,'Lighting Prices'!E:E)","v":{"$error":"#N/A"}}]
["@LK-EMY-BD54",{"$f":"_xlfn.XLOOKUP(A667,'Prices Furniture'!A:A,'Prices Furniture'!E:E)","v":846},{"$f":"_xlfn.XLOOKUP(A667,'Lighting Prices'!A:A,'Lighting Prices'!E:E)","v":{"$error":"#N/A"}}]
["@LK-EMY-BD53",{"$f":"_xlfn.XLOOKUP(A668,'Prices Furniture'!A:A,'Prices Furniture'!E:E)","v":714},{"$f":"_xlfn.XLOOKUP(A668,'Lighting Prices'!A:A,'Lighting Prices'!E:E)","v":{"$error":"#N/A"}}]
["@LK-EMY-BD63",{"$f":"_xlfn.XLOOKUP(A669,'Prices Furniture'!A:A,'Prices Furniture'!E:E)","v":806},{"$f":"_xlfn.XLOOKUP(A669,'Lighting Prices'!A:A,'Lighting Prices'!E:E)","v":{"$error":"#N/A"}}]
["@LK-EMY-BD83",{"$f":"_xlfn.XLOOKUP(A670,'Prices Furniture'!A:A,'Prices Furniture'!E:E)","v":813},{"$f":"_xlfn.XLOOKUP(A670,'Lighting Prices'!A:A,'Lighting Prices'!E:E)","v":{"$error":"#N/A"}}]
["@LK-EMY-BD93",{"$f":"_xlfn.XLOOKUP(A671,'Prices Furniture'!A:A,'Prices Furniture'!E:E)","v":828},{"$f":"_xlfn.XLOOKUP(A671,'Lighting Prices'!A:A,'Lighting Prices'!E:E)","v":{"$error":"#N/A"}}]
["@LK-EMY-BD13",{"$f":"_xlfn.XLOOKUP(A672,'Prices Furniture'!A:A,'Prices Furniture'!E:E)","v":845},{"$f":"_xlfn.XLOOKUP(A672,'Lighting Prices'!A:A,'Lighting Prices'!E:E)","v":{"$error":"#N/A"}}]
["@LK-EMY-BD62",{"$f":"_xlfn.XLOOKUP(A673,'Prices Furniture'!A:A,'Prices Furniture'!E:E)","v":683},{"$f":"_xlfn.XLOOKUP(A673,'Lighting Prices'!A:A,'Lighting Prices'!E:E)","v":{"$error":"#N/A"}}]
["@LK-EMY-BD92",{"$f":"_xlfn.XLOOKUP(A674,'Prices Furniture'!A:A,'Prices Furniture'!E:E)","v":700},{"$f":"_xlfn.XLOOKUP(A674,'Lighting Prices'!A:A,'Lighting Prices'!E:E)","v":{"$error":"#N/A"}}]
["@LK-EMY-BD62I",{"$f":"_xlfn.XLOOKUP(A675,'Prices Furniture'!A:A,'Prices Furniture'!E:E)","v":859},{"$f":"_xlfn.XLOOKUP(A675,'Lighting Prices'!A:A,'Lighting Prices'!E:E)","v":{"$error":"#N/A"}}]
["@LK-EMY-BD92I",{"$f":"_xlfn.XLOOKUP(A676,'Prices Furniture'!A:A,'Prices Furniture'!E:E)","v":901},{"$f":"_xlfn.XLOOKUP(A676,'Lighting Prices'!A:A,'Lighting Prices'!E:E)","v":{"$error":"#N/A"}}]
["@LK-EMY-BD635L",{"$f":"_xlfn.XLOOKUP(A677,'Prices Furniture'!A:A,'Prices Furniture'!E:E)","v":384},{"$f":"_xlfn.XLOOKUP(A677,'Lighting Prices'!A:A,'Lighting Prices'!E:E)","v":{"$error":"#N/A"}}]
["@LK-EMY-W30",{"$f":"_xlfn.XLOOKUP(A678,'Prices Furniture'!A:A,'Prices Furniture'!E:E)","v":221},{"$f":"_xlfn.XLOOKUP(A678,'Lighting Prices'!A:A,'Lighting Prices'!E:E)","v":{"$error":"#N/A"}}]
["@LK-EMY-W35",{"$f":"_xlfn.XLOOKUP(A679,'Prices Furniture'!A:A,'Prices Furniture'!E:E)","v":227},{"$f":"_xlfn.XLOOKUP(A679,'Lighting Prices'!A:A,'Lighting Prices'!E:E)","v":{"$error":"#N/A"}}]
["@LK-EMY-W40",{"$f":"_xlfn.XLOOKUP(A680,'Prices Furniture'!A:A,'Prices Furniture'!E:E)","v":235},{"$f":"_xlfn.XLOOKUP(A680,'Lighting Prices'!A:A,'Lighting Prices'!E:E)","v":{"$error":"#N/A"}}]
["@LK-EMY-W45",{"$f":"_xlfn.XLOOKUP(A681,'Prices Furniture'!A:A,'Prices Furniture'!E:E)","v":252},{"$f":"_xlfn.XLOOKUP(A681,'Lighting Prices'!A:A,'Lighting Prices'!E:E)","v":{"$error":"#N/A"}}]
["@LK-EMY-W50",{"$f":"_xlfn.XLOOKUP(A682,'Prices Furniture'!A:A,'Prices Furniture'!E:E)","v":266},{"$f":"_xlfn.XLOOKUP(A682,'Lighting Prices'!A:A,'Lighting Prices'!E:E)","v":{"$error":"#N/A"}}]
["@LK-EMY-W60",{"$f":"_xlfn.XLOOKUP(A683,'Prices Furniture'!A:A,'Prices Furniture'!E:E)","v":290},{"$f":"_xlfn.XLOOKUP(A683,'Lighting Prices'!A:A,'Lighting Prices'!E:E)","v":{"$error":"#N/A"}}]
["@LK-EMY-W70",{"$f":"_xlfn.XLOOKUP(A684,'Prices Furniture'!A:A,'Prices Furniture'!E:E)","v":383},{"$f":"_xlfn.XLOOKUP(A684,'Lighting Prices'!A:A,'Lighting Prices'!E:E)","v":{"$error":"#N/A"}}]
["@LK-EMY-W80",{"$f":"_xlfn.XLOOKUP(A685,'Prices Furniture'!A:A,'Prices Furniture'!E:E)","v":389},{"$f":"_xlfn.XLOOKUP(A685,'Lighting Prices'!A:A,'Lighting Prices'!E:E)","v":{"$error":"#N/A"}}]
["@LK-EMY-W90",{"$f":"_xlfn.XLOOKUP(A686,'Prices Furniture'!A:A,'Prices Furniture'!E:E)","v":409},{"$f":"_xlfn.XLOOKUP(A686,'Lighting Prices'!A:A,'Lighting Prices'!E:E)","v":{"$error":"#N/A"}}]
["@LK-EMY-W100",{"$f":"_xlfn.XLOOKUP(A687,'Prices Furniture'!A:A,'Prices Furniture'!E:E)","v":434},{"$f":"_xlfn.XLOOKUP(A687,'Lighting Prices'!A:A,'Lighting Prices'!E:E)","v":{"$error":"#N/A"}}]
["@LK-EMY-WC6",{"$f":"_xlfn.XLOOKUP(A688,'Prices Furniture'!A:A,'Prices Furniture'!E:E)","v":309},{"$f":"_xlfn.XLOOKUP(A688,'Lighting Prices'!A:A,'Lighting Prices'!E:E)","v":{"$error":"#N/A"}}]
["@LK-EMY-WC9",{"$f":"_xlfn.XLOOKUP(A689,'Prices Furniture'!A:A,'Prices Furniture'!E:E)","v":371},{"$f":"_xlfn.XLOOKUP(A689,'Lighting Prices'!A:A,'Lighting Prices'!E:E)","v":{"$error":"#N/A"}}]
["@LK-EMY-WCL65",{"$f":"_xlfn.XLOOKUP(A690,'Prices Furniture'!A:A,'Prices Furniture'!E:E)","v":553},{"$f":"_xlfn.XLOOKUP(A690,'Lighting Prices'!A:A,'Lighting Prices'!E:E)","v":{"$error":"#N/A"}}]
["@LK-EMY-WM60",{"$f":"_xlfn.XLOOKUP(A691,'Prices Furniture'!A:A,'Prices Furniture'!E:E)","v":361},{"$f":"_xlfn.XLOOKUP(A691,'Lighting Prices'!A:A,'Lighting Prices'!E:E)","v":{"$error":"#N/A"}}]
["@LK-EMY-WBHU",{"$f":"_xlfn.XLOOKUP(A692,'Prices Furniture'!A:A,'Prices Furniture'!E:E)","v":282},{"$f":"_xlfn.XLOOKUP(A692,'Lighting Prices'!A:A,'Lighting Prices'!E:E)","v":{"$error":"#N/A"}}]
["@LK-EMY-WBI60",{"$f":"_xlfn.XLOOKUP(A693,'Prices Furniture'!A:A,'Prices Furniture'!E:E)","v":663},{"$f":"_xlfn.XLOOKUP(A693,'Lighting Prices'!A:A,'Lighting Prices'!E:E)","v":{"$error":"#N/A"}}]
["@LK-EMY-WBI90",{"$f":"_xlfn.XLOOKUP(A694,'Prices Furniture'!A:A,'Prices Furniture'!E:E)","v":695},{"$f":"_xlfn.XLOOKUP(A694,'Lighting Prices'!A:A,'Lighting Prices'!E:E)","v":{"$error":"#N/A"}}]
["@LK-EMY-WGS5",{"$f":"_xlfn.XLOOKUP(A695,'Prices Furniture'!A:A,'Prices Furniture'!E:E)","v":434},{"$f":"_xlfn.XLOOKUP(A695,'Lighting Prices'!A:A,'Lighting Prices'!E:E)","v":{"$error":"#N/A"}}]
["@LK-EMY-WGS6",{"$f":"_xlfn.XLOOKUP(A696,'Prices Furniture'!A:A,'Prices Furniture'!E:E)","v":476},{"$f":"_xlfn.XLOOKUP(A696,'Lighting Prices'!A:A,'Lighting Prices'!E:E)","v":{"$error":"#N/A"}}]
["@LK-EMY-WGR5",{"$f":"_xlfn.XLOOKUP(A697,'Prices Furniture'!A:A,'Prices Furniture'!E:E)","v":434},{"$f":"_xlfn.XLOOKUP(A697,'Lighting Prices'!A:A,'Lighting Prices'!E:E)","v":{"$error":"#N/A"}}]
["@LK-EMY-WGR6",{"$f":"_xlfn.XLOOKUP(A698,'Prices Furniture'!A:A,'Prices Furniture'!E:E)","v":476},{"$f":"_xlfn.XLOOKUP(A698,'Lighting Prices'!A:A,'Lighting Prices'!E:E)","v":{"$error":"#N/A"}}]
["@LK-EMY-WB62",{"$f":"_xlfn.XLOOKUP(A699,'Prices Furniture'!A:A,'Prices Furniture'!E:E)","v":237},{"$f":"_xlfn.XLOOKUP(A699,'Lighting Prices'!A:A,'Lighting Prices'!E:E)","v":{"$error":"#N/A"}}]
["@LK-EMY-WB82",{"$f":"_xlfn.XLOOKUP(A700,'Prices Furniture'!A:A,'Prices Furniture'!E:E)","v":295},{"$f":"_xlfn.XLOOKUP(A700,'Lighting Prices'!A:A,'Lighting Prices'!E:E)","v":{"$error":"#N/A"}}]
["@LK-EMY-WB92",{"$f":"_xlfn.XLOOKUP(A701,'Prices Furniture'!A:A,'Prices Furniture'!E:E)","v":312},{"$f":"_xlfn.XLOOKUP(A701,'Lighting Prices'!A:A,'Lighting Prices'!E:E)","v":{"$error":"#N/A"}}]
["@LK-EMY-WB12",{"$f":"_xlfn.XLOOKUP(A702,'Prices Furniture'!A:A,'Prices Furniture'!E:E)","v":338},{"$f":"_xlfn.XLOOKUP(A702,'Lighting Prices'!A:A,'Lighting Prices'!E:E)","v":{"$error":"#N/A"}}]
["@LK-EMY-WB63",{"$f":"_xlfn.XLOOKUP(A703,'Prices Furniture'!A:A,'Prices Furniture'!E:E)","v":295},{"$f":"_xlfn.XLOOKUP(A703,'Lighting Prices'!A:A,'Lighting Prices'!E:E)","v":{"$error":"#N/A"}}]
["@LK-EMY-WB93",{"$f":"_xlfn.XLOOKUP(A704,'Prices Furniture'!A:A,'Prices Furniture'!E:E)","v":344},{"$f":"_xlfn.XLOOKUP(A704,'Lighting Prices'!A:A,'Lighting Prices'!E:E)","v":{"$error":"#N/A"}}]
["@LK-EMY-AH-F55",{"$f":"_xlfn.XLOOKUP(A705,'Prices Furniture'!A:A,'Prices Furniture'!E:E)","v":735},{"$f":"_xlfn.XLOOKUP(A705,'Lighting Prices'!A:A,'Lighting Prices'!E:E)","v":{"$error":"#N/A"}}]
["@LK-EMY-AH-F73",{"$f":"_xlfn.XLOOKUP(A706,'Prices Furniture'!A:A,'Prices Furniture'!E:E)","v":711},{"$f":"_xlfn.XLOOKUP(A706,'Lighting Prices'!A:A,'Lighting Prices'!E:E)","v":{"$error":"#N/A"}}]
["@LK-EMY-AH-DO",{"$f":"_xlfn.XLOOKUP(A707,'Prices Furniture'!A:A,'Prices Furniture'!E:E)","v":731},{"$f":"_xlfn.XLOOKUP(A707,'Lighting Prices'!A:A,'Lighting Prices'!E:E)","v":{"$error":"#N/A"}}]
["@LK-EMY-AH-DO2D",{"$f":"_xlfn.XLOOKUP(A708,'Prices Furniture'!A:A,'Prices Furniture'!E:E)","v":1058},{"$f":"_xlfn.XLOOKUP(A708,'Lighting Prices'!A:A,'Lighting Prices'!E:E)","v":{"$error":"#N/A"}}]
["@LK-EMY-AH-DMW",{"$f":"_xlfn.XLOOKUP(A709,'Prices Furniture'!A:A,'Prices Furniture'!E:E)","v":927},{"$f":"_xlfn.XLOOKUP(A709,'Lighting Prices'!A:A,'Lighting Prices'!E:E)","v":{"$error":"#N/A"}}]
["@LK-EMY-AH-SO",{"$f":"_xlfn.XLOOKUP(A710,'Prices Furniture'!A:A,'Prices Furniture'!E:E)","v":750},{"$f":"_xlfn.XLOOKUP(A710,'Lighting Prices'!A:A,'Lighting Prices'!E:E)","v":{"$error":"#N/A"}}]
["@LK-EMY-AH-SO1D",{"$f":"_xlfn.XLOOKUP(A711,'Prices Furniture'!A:A,'Prices Furniture'!E:E)","v":896},{"$f":"_xlfn.XLOOKUP(A711,'Lighting Prices'!A:A,'Lighting Prices'!E:E)","v":{"$error":"#N/A"}}]
["@LK-EMY-AH-SO2D",{"$f":"_xlfn.XLOOKUP(A712,'Prices Furniture'!A:A,'Prices Furniture'!E:E)","v":1112},{"$f":"_xlfn.XLOOKUP(A712,'Lighting Prices'!A:A,'Lighting Prices'!E:E)","v":{"$error":"#N/A"}}]
["@LK-EMY-AH-SO3D",{"$f":"_xlfn.XLOOKUP(A713,'Prices Furniture'!A:A,'Prices Furniture'!E:E)","v":1261},{"$f":"_xlfn.XLOOKUP(A713,'Lighting Prices'!A:A,'Lighting Prices'!E:E)","v":{"$error":"#N/A"}}]
["@LK-EMY-AH-SMW",{"$f":"_xlfn.XLOOKUP(A714,'Prices Furniture'!A:A,'Prices Furniture'!E:E)","v":786},{"$f":"_xlfn.XLOOKUP(A714,'Lighting Prices'!A:A,'Lighting Prices'!E:E)","v":{"$error":"#N/A"}}]
["@LK-EMY-AH-SM2D",{"$f":"_xlfn.XLOOKUP(A715,'Prices Furniture'!A:A,'Prices Furniture'!E:E)","v":1074},{"$f":"_xlfn.XLOOKUP(A715,'Lighting Prices'!A:A,'Lighting Prices'!E:E)","v":{"$error":"#N/A"}}]
["@LK-EMY-AH-CO",{"$f":"_xlfn.XLOOKUP(A716,'Prices Furniture'!A:A,'Prices Furniture'!E:E)","v":823},{"$f":"_xlfn.XLOOKUP(A716,'Lighting Prices'!A:A,'Lighting Prices'!E:E)","v":{"$error":"#N/A"}}]
["@LK-EMY-BOH6",{"$f":"_xlfn.XLOOKUP(A717,'Prices Furniture'!A:A,'Prices Furniture'!E:E)","v":199},{"$f":"_xlfn.XLOOKUP(A717,'Lighting Prices'!A:A,'Lighting Prices'!E:E)","v":{"$error":"#N/A"}}]
["@LK-EMY-BOHD6",{"$f":"_xlfn.XLOOKUP(A718,'Prices Furniture'!A:A,'Prices Furniture'!E:E)","v":312},{"$f":"_xlfn.XLOOKUP(A718,'Lighting Prices'!A:A,'Lighting Prices'!E:E)","v":{"$error":"#N/A"}}]
["@LK-EMY-L3",{"$f":"_xlfn.XLOOKUP(A719,'Prices Furniture'!A:A,'Prices Furniture'!E:E)","v":663},{"$f":"_xlfn.XLOOKUP(A719,'Lighting Prices'!A:A,'Lighting Prices'!E:E)","v":{"$error":"#N/A"}}]
["@LK-EMY-L5",{"$f":"_xlfn.XLOOKUP(A720,'Prices Furniture'!A:A,'Prices Furniture'!E:E)","v":723},{"$f":"_xlfn.XLOOKUP(A720,'Lighting Prices'!A:A,'Lighting Prices'!E:E)","v":{"$error":"#N/A"}}]
["@LK-EMY-L6",{"$f":"_xlfn.XLOOKUP(A721,'Prices Furniture'!A:A,'Prices Furniture'!E:E)","v":794},{"$f":"_xlfn.XLOOKUP(A721,'Lighting Prices'!A:A,'Lighting Prices'!E:E)","v":{"$error":"#N/A"}}]
["@LK-EMY-LP3",{"$f":"_xlfn.XLOOKUP(A722,'Prices Furniture'!A:A,'Prices Furniture'!E:E)","v":1445},{"$f":"_xlfn.XLOOKUP(A722,'Lighting Prices'!A:A,'Lighting Prices'!E:E)","v":{"$error":"#N/A"}}]
["@LK-EMY-LT3",{"$f":"_xlfn.XLOOKUP(A723,'Prices Furniture'!A:A,'Prices Furniture'!E:E)","v":1764},{"$f":"_xlfn.XLOOKUP(A723,'Lighting Prices'!A:A,'Lighting Prices'!E:E)","v":{"$error":"#N/A"}}]
["@LK-EMY-LT5",{"$f":"_xlfn.XLOOKUP(A724,'Prices Furniture'!A:A,'Prices Furniture'!E:E)","v":1892},{"$f":"_xlfn.XLOOKUP(A724,'Lighting Prices'!A:A,'Lighting Prices'!E:E)","v":{"$error":"#N/A"}}]
["@LK-EMY-LT6",{"$f":"_xlfn.XLOOKUP(A725,'Prices Furniture'!A:A,'Prices Furniture'!E:E)","v":2029},{"$f":"_xlfn.XLOOKUP(A725,'Lighting Prices'!A:A,'Lighting Prices'!E:E)","v":{"$error":"#N/A"}}]
["@LK-EMY-LP6T",{"$f":"_xlfn.XLOOKUP(A726,'Prices Furniture'!A:A,'Prices Furniture'!E:E)","v":1980},{"$f":"_xlfn.XLOOKUP(A726,'Lighting Prices'!A:A,'Lighting Prices'!E:E)","v":{"$error":"#N/A"}}]
["@LK-EMY-LP5TS",{"$f":"_xlfn.XLOOKUP(A727,'Prices Furniture'!A:A,'Prices Furniture'!E:E)","v":1657},{"$f":"_xlfn.XLOOKUP(A727,'Lighting Prices'!A:A,'Lighting Prices'!E:E)","v":{"$error":"#N/A"}}]
["@LK-EMY-LP6TS",{"$f":"_xlfn.XLOOKUP(A728,'Prices Furniture'!A:A,'Prices Furniture'!E:E)","v":1781},{"$f":"_xlfn.XLOOKUP(A728,'Lighting Prices'!A:A,'Lighting Prices'!E:E)","v":{"$error":"#N/A"}}]
["@LK-EMY-LAC",{"$f":"_xlfn.XLOOKUP(A729,'Prices Furniture'!A:A,'Prices Furniture'!E:E)","v":2084},{"$f":"_xlfn.XLOOKUP(A729,'Lighting Prices'!A:A,'Lighting Prices'!E:E)","v":{"$error":"#N/A"}}]
["@LK-EMY-LPN14D",{"$f":"_xlfn.XLOOKUP(A730,'Prices Furniture'!A:A,'Prices Furniture'!E:E)","v":1124},{"$f":"_xlfn.XLOOKUP(A730,'Lighting Prices'!A:A,'Lighting Prices'!E:E)","v":{"$error":"#N/A"}}]
["@LK-EMY-LPN12D3DW",{"$f":"_xlfn.XLOOKUP(A731,'Prices Furniture'!A:A,'Prices Furniture'!E:E)","v":1523},{"$f":"_xlfn.XLOOKUP(A731,'Lighting Prices'!A:A,'Lighting Prices'!E:E)","v":{"$error":"#N/A"}}]
["@LK-EMY-LPN12D2DW",{"$f":"_xlfn.XLOOKUP(A732,'Prices Furniture'!A:A,'Prices Furniture'!E:E)","v":1392},{"$f":"_xlfn.XLOOKUP(A732,'Lighting Prices'!A:A,'Lighting Prices'!E:E)","v":{"$error":"#N/A"}}]
["@LK-EMY-LBC15",{"$f":"_xlfn.XLOOKUP(A733,'Prices Furniture'!A:A,'Prices Furniture'!E:E)","v":944},{"$f":"_xlfn.XLOOKUP(A733,'Lighting Prices'!A:A,'Lighting Prices'!E:E)","v":{"$error":"#N/A"}}]
["@LK-EMY-LBC16",{"$f":"_xlfn.XLOOKUP(A734,'Prices Furniture'!A:A,'Prices Furniture'!E:E)","v":970},{"$f":"_xlfn.XLOOKUP(A734,'Lighting Prices'!A:A,'Lighting Prices'!E:E)","v":{"$error":"#N/A"}}]
["@LK-EMY-LBCLM15L",{"$f":"_xlfn.XLOOKUP(A735,'Prices Furniture'!A:A,'Prices Furniture'!E:E)","v":2782},{"$f":"_xlfn.XLOOKUP(A735,'Lighting Prices'!A:A,'Lighting Prices'!E:E)","v":{"$error":"#N/A"}}]
["@LK-EMY-LBCLM15R",{"$f":"_xlfn.XLOOKUP(A736,'Prices Furniture'!A:A,'Prices Furniture'!E:E)","v":2782},{"$f":"_xlfn.XLOOKUP(A736,'Lighting Prices'!A:A,'Lighting Prices'!E:E)","v":{"$error":"#N/A"}}]
["@LK-EMY-LBCLM16L",{"$f":"_xlfn.XLOOKUP(A737,'Prices Furniture'!A:A,'Prices Furniture'!E:E)","v":2934},{"$f":"_xlfn.XLOOKUP(A737,'Lighting Prices'!A:A,'Lighting Prices'!E:E)","v":{"$error":"#N/A"}}]
["@LK-EMY-LBCLM16R",{"$f":"_xlfn.XLOOKUP(A738,'Prices Furniture'!A:A,'Prices Furniture'!E:E)","v":2934},{"$f":"_xlfn.XLOOKUP(A738,'Lighting Prices'!A:A,'Lighting Prices'!E:E)","v":{"$error":"#N/A"}}]
["@LK-EMY-LL6EA",{"$f":"_xlfn.XLOOKUP(A739,'Prices Furniture'!A:A,'Prices Furniture'!E:E)","v":836},{"$f":"_xlfn.XLOOKUP(A739,'Lighting Prices'!A:A,'Lighting Prices'!E:E)","v":{"$error":"#N/A"}}]
["@LK-EMY-LL6CU",{"$f":"_xlfn.XLOOKUP(A740,'Prices Furniture'!A:A,'Prices Furniture'!E:E)","v":786},{"$f":"_xlfn.XLOOKUP(A740,'Lighting Prices'!A:A,'Lighting Prices'!E:E)","v":{"$error":"#N/A"}}]
["@LK-EMY-LL10CU",{"$f":"_xlfn.XLOOKUP(A741,'Prices Furniture'!A:A,'Prices Furniture'!E:E)","v":1235},{"$f":"_xlfn.XLOOKUP(A741,'Lighting Prices'!A:A,'Lighting Prices'!E:E)","v":{"$error":"#N/A"}}]
["@LK-EMY-LL10CUS",{"$f":"_xlfn.XLOOKUP(A742,'Prices Furniture'!A:A,'Prices Furniture'!E:E)","v":1334},{"$f":"_xlfn.XLOOKUP(A742,'Lighting Prices'!A:A,'Lighting Prices'!E:E)","v":{"$error":"#N/A"}}]
["@LK-EMY-LL10CB",{"$f":"_xlfn.XLOOKUP(A743,'Prices Furniture'!A:A,'Prices Furniture'!E:E)","v":1245},{"$f":"_xlfn.XLOOKUP(A743,'Lighting Prices'!A:A,'Lighting Prices'!E:E)","v":{"$error":"#N/A"}}]
["@LK-EMY-AD60ICH",{"$f":"_xlfn.XLOOKUP(A744,'Prices Furniture'!A:A,'Prices Furniture'!E:E)","v":95},{"$f":"_xlfn.XLOOKUP(A744,'Lighting Prices'!A:A,'Lighting Prices'!E:E)","v":{"$error":"#N/A"}}]
["@LK-EMY-AD60FD",{"$f":"_xlfn.XLOOKUP(A745,'Prices Furniture'!A:A,'Prices Furniture'!E:E)","v":131},{"$f":"_xlfn.XLOOKUP(A745,'Lighting Prices'!A:A,'Lighting Prices'!E:E)","v":{"$error":"#N/A"}}]
["@LK-EMY-AD45I",{"$f":"_xlfn.XLOOKUP(A746,'Prices Furniture'!A:A,'Prices Furniture'!E:E)","v":107},{"$f":"_xlfn.XLOOKUP(A746,'Lighting Prices'!A:A,'Lighting Prices'!E:E)","v":{"$error":"#N/A"}}]
["@LK-EMY-AD60S",{"$f":"_xlfn.XLOOKUP(A747,'Prices Furniture'!A:A,'Prices Furniture'!E:E)","v":129},{"$f":"_xlfn.XLOOKUP(A747,'Lighting Prices'!A:A,'Lighting Prices'!E:E)","v":{"$error":"#N/A"}}]
["@LK-EMY-BLD9",{"$f":"_xlfn.XLOOKUP(A748,'Prices Furniture'!A:A,'Prices Furniture'!E:E)","v":133},{"$f":"_xlfn.XLOOKUP(A748,'Lighting Prices'!A:A,'Lighting Prices'!E:E)","v":{"$error":"#N/A"}}]
["@LK-EMY-CH-SO",{"$f":"_xlfn.XLOOKUP(A749,'Prices Furniture'!A:A,'Prices Furniture'!E:E)","v":654},{"$f":"_xlfn.XLOOKUP(A749,'Lighting Prices'!A:A,'Lighting Prices'!E:E)","v":{"$error":"#N/A"}}]
["@LK-EMY-CH-MW",{"$f":"_xlfn.XLOOKUP(A750,'Prices Furniture'!A:A,'Prices Furniture'!E:E)","v":700},{"$f":"_xlfn.XLOOKUP(A750,'Lighting Prices'!A:A,'Lighting Prices'!E:E)","v":{"$error":"#N/A"}}]
["@LK-EMY-CH-ST",{"$f":"_xlfn.XLOOKUP(A751,'Prices Furniture'!A:A,'Prices Furniture'!E:E)","v":880},{"$f":"_xlfn.XLOOKUP(A751,'Lighting Prices'!A:A,'Lighting Prices'!E:E)","v":{"$error":"#N/A"}}]
["@LK-EMY-TCH-SO",{"$f":"_xlfn.XLOOKUP(A752,'Prices Furniture'!A:A,'Prices Furniture'!E:E)","v":846},{"$f":"_xlfn.XLOOKUP(A752,'Lighting Prices'!A:A,'Lighting Prices'!E:E)","v":{"$error":"#N/A"}}]
["@LK-EMY-TCH-MW",{"$f":"_xlfn.XLOOKUP(A753,'Prices Furniture'!A:A,'Prices Furniture'!E:E)","v":759},{"$f":"_xlfn.XLOOKUP(A753,'Lighting Prices'!A:A,'Lighting Prices'!E:E)","v":{"$error":"#N/A"}}]
["@LK-EMY-TCH-ST",{"$f":"_xlfn.XLOOKUP(A754,'Prices Furniture'!A:A,'Prices Furniture'!E:E)","v":918},{"$f":"_xlfn.XLOOKUP(A754,'Lighting Prices'!A:A,'Lighting Prices'!E:E)","v":{"$error":"#N/A"}}]
["@LK-EMY-AH-SOT",{"$f":"_xlfn.XLOOKUP(A755,'Prices Furniture'!A:A,'Prices Furniture'!E:E)","v":876},{"$f":"_xlfn.XLOOKUP(A755,'Lighting Prices'!A:A,'Lighting Prices'!E:E)","v":{"$error":"#N/A"}}]
["@LK-EMY-LP5T",{"$f":"_xlfn.XLOOKUP(A756,'Prices Furniture'!A:A,'Prices Furniture'!E:E)","v":1915},{"$f":"_xlfn.XLOOKUP(A756,'Lighting Prices'!A:A,'Lighting Prices'!E:E)","v":{"$error":"#N/A"}}]
["@LK-EMY-LL8LS",{"$f":"_xlfn.XLOOKUP(A757,'Prices Furniture'!A:A,'Prices Furniture'!E:E)","v":1364},{"$f":"_xlfn.XLOOKUP(A757,'Lighting Prices'!A:A,'Lighting Prices'!E:E)","v":{"$error":"#N/A"}}]
["@LK-EMY-BHD3",{"$f":"_xlfn.XLOOKUP(A758,'Prices Furniture'!A:A,'Prices Furniture'!E:E)","v":628},{"$f":"_xlfn.XLOOKUP(A758,'Lighting Prices'!A:A,'Lighting Prices'!E:E)","v":{"$error":"#N/A"}}]
["@LK-EMY-BHD4",{"$f":"_xlfn.XLOOKUP(A759,'Prices Furniture'!A:A,'Prices Furniture'!E:E)","v":677},{"$f":"_xlfn.XLOOKUP(A759,'Lighting Prices'!A:A,'Lighting Prices'!E:E)","v":{"$error":"#N/A"}}]
["@LK-EMY-BHD5",{"$f":"_xlfn.XLOOKUP(A760,'Prices Furniture'!A:A,'Prices Furniture'!E:E)","v":740},{"$f":"_xlfn.XLOOKUP(A760,'Lighting Prices'!A:A,'Lighting Prices'!E:E)","v":{"$error":"#N/A"}}]
["@LK-EMY-BHD6",{"$f":"_xlfn.XLOOKUP(A761,'Prices Furniture'!A:A,'Prices Furniture'!E:E)","v":796},{"$f":"_xlfn.XLOOKUP(A761,'Lighting Prices'!A:A,'Lighting Prices'!E:E)","v":{"$error":"#N/A"}}]
["LK-A-EMY-WREP72",{"$f":"_xlfn.XLOOKUP(A762,'Prices Furniture'!A:A,'Prices Furniture'!E:E)","v":77},{"$f":"_xlfn.XLOOKUP(A762,'Lighting Prices'!A:A,'Lighting Prices'!E:E)","v":{"$error":"#N/A"}}]
["LK-A-EMY-PWEP72",{"$f":"_xlfn.XLOOKUP(A763,'Prices Furniture'!A:A,'Prices Furniture'!E:E)","v":92},{"$f":"_xlfn.XLOOKUP(A763,'Lighting Prices'!A:A,'Lighting Prices'!E:E)","v":{"$error":"#N/A"}}]
["LK-A-EMY-PWEP20",{"$f":"_xlfn.XLOOKUP(A764,'Prices Furniture'!A:A,'Prices Furniture'!E:E)","v":200},{"$f":"_xlfn.XLOOKUP(A764,'Lighting Prices'!A:A,'Lighting Prices'!E:E)","v":{"$error":"#N/A"}}]
["LK-A-EMY-ESP",{"$f":"_xlfn.XLOOKUP(A765,'Prices Furniture'!A:A,'Prices Furniture'!E:E)","v":135},{"$f":"_xlfn.XLOOKUP(A765,'Lighting Prices'!A:A,'Lighting Prices'!E:E)","v":{"$error":"#N/A"}}]
["LK-A-EMY-LUP",{"$f":"_xlfn.XLOOKUP(A766,'Prices Furniture'!A:A,'Prices Furniture'!E:E)","v":391},{"$f":"_xlfn.XLOOKUP(A766,'Lighting Prices'!A:A,'Lighting Prices'!E:E)","v":{"$error":"#N/A"}}]
["LK-A-EMY-PTEP",{"$f":"_xlfn.XLOOKUP(A767,'Prices Furniture'!A:A,'Prices Furniture'!E:E)","v":305},{"$f":"_xlfn.XLOOKUP(A767,'Lighting Prices'!A:A,'Lighting Prices'!E:E)","v":{"$error":"#N/A"}}]
["LK-A-EMY-PL",{"$f":"_xlfn.XLOOKUP(A768,'Prices Furniture'!A:A,'Prices Furniture'!E:E)","v":90},{"$f":"_xlfn.XLOOKUP(A768,'Lighting Prices'!A:A,'Lighting Prices'!E:E)","v":{"$error":"#N/A"}}]
["LK-A-EMY-SCCRN",{"$f":"_xlfn.XLOOKUP(A769,'Prices Furniture'!A:A,'Prices Furniture'!E:E)","v":113},{"$f":"_xlfn.XLOOKUP(A769,'Lighting Prices'!A:A,'Lighting Prices'!E:E)","v":{"$error":"#N/A"}}]
["LK-A-EMY-BLPEL",{"$f":"_xlfn.XLOOKUP(A770,'Prices Furniture'!A:A,'Prices Furniture'!E:E)","v":86},{"$f":"_xlfn.XLOOKUP(A770,'Lighting Prices'!A:A,'Lighting Prices'!E:E)","v":{"$error":"#N/A"}}]
["LK-A-EMY-CVP",{"$f":"_xlfn.XLOOKUP(A771,'Prices Furniture'!A:A,'Prices Furniture'!E:E)","v":123},{"$f":"_xlfn.XLOOKUP(A771,'Lighting Prices'!A:A,'Lighting Prices'!E:E)","v":{"$error":"#N/A"}}]
["LK-A-EMY-CPBM",{"$f":"_xlfn.XLOOKUP(A772,'Prices Furniture'!A:A,'Prices Furniture'!E:E)","v":109},{"$f":"_xlfn.XLOOKUP(A772,'Lighting Prices'!A:A,'Lighting Prices'!E:E)","v":{"$error":"#N/A"}}]
["LK-A-EMY-CPBC",{"$f":"_xlfn.XLOOKUP(A773,'Prices Furniture'!A:A,'Prices Furniture'!E:E)","v":116},{"$f":"_xlfn.XLOOKUP(A773,'Lighting Prices'!A:A,'Lighting Prices'!E:E)","v":{"$error":"#N/A"}}]
["@LK-EMM-BP15TY",{"$f":"_xlfn.XLOOKUP(A774,'Prices Furniture'!A:A,'Prices Furniture'!E:E)","v":408},{"$f":"_xlfn.XLOOKUP(A774,'Lighting Prices'!A:A,'Lighting Prices'!E:E)","v":{"$error":"#N/A"}}]
["@LK-EMM-BP3TY",{"$f":"_xlfn.XLOOKUP(A775,'Prices Furniture'!A:A,'Prices Furniture'!E:E)","v":634},{"$f":"_xlfn.XLOOKUP(A775,'Lighting Prices'!A:A,'Lighting Prices'!E:E)","v":{"$error":"#N/A"}}]
["@LK-EMM-BH15",{"$f":"_xlfn.XLOOKUP(A776,'Prices Furniture'!A:A,'Prices Furniture'!E:E)","v":228},{"$f":"_xlfn.XLOOKUP(A776,'Lighting Prices'!A:A,'Lighting Prices'!E:E)","v":{"$error":"#N/A"}}]
["@LK-EMM-BH30",{"$f":"_xlfn.XLOOKUP(A777,'Prices Furniture'!A:A,'Prices Furniture'!E:E)","v":239},{"$f":"_xlfn.XLOOKUP(A777,'Lighting Prices'!A:A,'Lighting Prices'!E:E)","v":{"$error":"#N/A"}}]
["@LK-EMM-BH3B",{"$f":"_xlfn.XLOOKUP(A778,'Prices Furniture'!A:A,'Prices Furniture'!E:E)","v":607},{"$f":"_xlfn.XLOOKUP(A778,'Lighting Prices'!A:A,'Lighting Prices'!E:E)","v":{"$error":"#N/A"}}]
["@LK-EMM-BH35",{"$f":"_xlfn.XLOOKUP(A779,'Prices Furniture'!A:A,'Prices Furniture'!E:E)","v":245},{"$f":"_xlfn.XLOOKUP(A779,'Lighting Prices'!A:A,'Lighting Prices'!E:E)","v":{"$error":"#N/A"}}]
["@LK-EMM-BH40",{"$f":"_xlfn.XLOOKUP(A780,'Prices Furniture'!A:A,'Prices Furniture'!E:E)","v":249},{"$f":"_xlfn.XLOOKUP(A780,'Lighting Prices'!A:A,'Lighting Prices'!E:E)","v":{"$error":"#N/A"}}]
["@LK-EMM-BH4B",{"$f":"_xlfn.XLOOKUP(A781,'Prices Furniture'!A:A,'Prices Furniture'!E:E)","v":682},{"$f":"_xlfn.XLOOKUP(A781,'Lighting Prices'!A:A,'Lighting Prices'!E:E)","v":{"$error":"#N/A"}}]
["@LK-EMM-BH45",{"$f":"_xlfn.XLOOKUP(A782,'Prices Furniture'!A:A,'Prices Furniture'!E:E)","v":272},{"$f":"_xlfn.XLOOKUP(A782,'Lighting Prices'!A:A,'Lighting Prices'!E:E)","v":{"$error":"#N/A"}}]
["@LK-EMM-BH45B",{"$f":"_xlfn.XLOOKUP(A783,'Prices Furniture'!A:A,'Prices Furniture'!E:E)","v":710},{"$f":"_xlfn.XLOOKUP(A783,'Lighting Prices'!A:A,'Lighting Prices'!E:E)","v":{"$error":"#N/A"}}]
["@LK-EMM-BH50",{"$f":"_xlfn.XLOOKUP(A784,'Prices Furniture'!A:A,'Prices Furniture'!E:E)","v":283},{"$f":"_xlfn.XLOOKUP(A784,'Lighting Prices'!A:A,'Lighting Prices'!E:E)","v":{"$error":"#N/A"}}]
["@LK-EMM-BH5B",{"$f":"_xlfn.XLOOKUP(A785,'Prices Furniture'!A:A,'Prices Furniture'!E:E)","v":727},{"$f":"_xlfn.XLOOKUP(A785,'Lighting Prices'!A:A,'Lighting Prices'!E:E)","v":{"$error":"#N/A"}}]
["@LK-EMM-BH50S",{"$f":"_xlfn.XLOOKUP(A786,'Prices Furniture'!A:A,'Prices Furniture'!E:E)","v":313},{"$f":"_xlfn.XLOOKUP(A786,'Lighting Prices'!A:A,'Lighting Prices'!E:E)","v":{"$error":"#N/A"}}]
["@LK-EMM-BH60",{"$f":"_xlfn.XLOOKUP(A787,'Prices Furniture'!A:A,'Prices Furniture'!E:E)","v":319},{"$f":"_xlfn.XLOOKUP(A787,'Lighting Prices'!A:A,'Lighting Prices'!E:E)","v":{"$error":"#N/A"}}]
["@LK-EMM-BH6B4",{"$f":"_xlfn.XLOOKUP(A788,'Prices Furniture'!A:A,'Prices Furniture'!E:E)","v":852},{"$f":"_xlfn.XLOOKUP(A788,'Lighting Prices'!A:A,'Lighting Prices'!E:E)","v":{"$error":"#N/A"}}]
["@LK-EMM-BH6B2",{"$f":"_xlfn.XLOOKUP(A789,'Prices Furniture'!A:A,'Prices Furniture'!E:E)","v":800},{"$f":"_xlfn.XLOOKUP(A789,'Lighting Prices'!A:A,'Lighting Prices'!E:E)","v":{"$error":"#N/A"}}]
["@LK-EMM-BH60S",{"$f":"_xlfn.XLOOKUP(A790,'Prices Furniture'!A:A,'Prices Furniture'!E:E)","v":365},{"$f":"_xlfn.XLOOKUP(A790,'Lighting Prices'!A:A,'Lighting Prices'!E:E)","v":{"$error":"#N/A"}}]
["@LK-EMM-BH70",{"$f":"_xlfn.XLOOKUP(A791,'Prices Furniture'!A:A,'Prices Furniture'!E:E)","v":388},{"$f":"_xlfn.XLOOKUP(A791,'Lighting Prices'!A:A,'Lighting Prices'!E:E)","v":{"$error":"#N/A"}}]
["@LK-EMM-BH80",{"$f":"_xlfn.XLOOKUP(A792,'Prices Furniture'!A:A,'Prices Furniture'!E:E)","v":394},{"$f":"_xlfn.XLOOKUP(A792,'Lighting Prices'!A:A,'Lighting Prices'!E:E)","v":{"$error":"#N/A"}}]
["@LK-EMM-BH80S",{"$f":"_xlfn.XLOOKUP(A793,'Prices Furniture'!A:A,'Prices Furniture'!E:E)","v":440},{"$f":"_xlfn.XLOOKUP(A793,'Lighting Prices'!A:A,'Lighting Prices'!E:E)","v":{"$error":"#N/A"}}]
["@LK-EMM-BH90",{"$f":"_xlfn.XLOOKUP(A794,'Prices Furniture'!A:A,'Prices Furniture'!E:E)","v":418},{"$f":"_xlfn.XLOOKUP(A794,'Lighting Prices'!A:A,'Lighting Prices'!E:E)","v":{"$error":"#N/A"}}]
["@LK-EMM-BH90S",{"$f":"_xlfn.XLOOKUP(A795,'Prices Furniture'!A:A,'Prices Furniture'!E:E)","v":464},{"$f":"_xlfn.XLOOKUP(A795,'Lighting Prices'!A:A,'Lighting Prices'!E:E)","v":{"$error":"#N/A"}}]
["@LK-EMM-BH100",{"$f":"_xlfn.XLOOKUP(A796,'Prices Furniture'!A:A,'Prices Furniture'!E:E)","v":439},{"$f":"_xlfn.XLOOKUP(A796,'Lighting Prices'!A:A,'Lighting Prices'!E:E)","v":{"$error":"#N/A"}}]
["@LK-EMM-BH10S",{"$f":"_xlfn.XLOOKUP(A797,'Prices Furniture'!A:A,'Prices Furniture'!E:E)","v":485},{"$f":"_xlfn.XLOOKUP(A797,'Lighting Prices'!A:A,'Lighting Prices'!E:E)","v":{"$error":"#N/A"}}]
["@LK-EMM-BC83",{"$f":"_xlfn.XLOOKUP(A798,'Prices Furniture'!A:A,'Prices Furniture'!E:E)","v":374},{"$f":"_xlfn.XLOOKUP(A798,'Lighting Prices'!A:A,'Lighting Prices'!E:E)","v":{"$error":"#N/A"}}]
["@LK-EMM-BC84",{"$f":"_xlfn.XLOOKUP(A799,'Prices Furniture'!A:A,'Prices Furniture'!E:E)","v":380},{"$f":"_xlfn.XLOOKUP(A799,'Lighting Prices'!A:A,'Lighting Prices'!E:E)","v":{"$error":"#N/A"}}]
["@LK-EMM-BC845",{"$f":"_xlfn.XLOOKUP(A800,'Prices Furniture'!A:A,'Prices Furniture'!E:E)","v":392},{"$f":"_xlfn.XLOOKUP(A800,'Lighting Prices'!A:A,'Lighting Prices'!E:E)","v":{"$error":"#N/A"}}]
["@LK-EMM-BC945",{"$f":"_xlfn.XLOOKUP(A801,'Prices Furniture'!A:A,'Prices Furniture'!E:E)","v":392},{"$f":"_xlfn.XLOOKUP(A801,'Lighting Prices'!A:A,'Lighting Prices'!E:E)","v":{"$error":"#N/A"}}]
["@LK-EMM-BC145",{"$f":"_xlfn.XLOOKUP(A802,'Prices Furniture'!A:A,'Prices Furniture'!E:E)","v":397},{"$f":"_xlfn.XLOOKUP(A802,'Lighting Prices'!A:A,'Lighting Prices'!E:E)","v":{"$error":"#N/A"}}]
["@LK-EMM-BC15",{"$f":"_xlfn.XLOOKUP(A803,'Prices Furniture'!A:A,'Prices Furniture'!E:E)","v":405},{"$f":"_xlfn.XLOOKUP(A803,'Lighting Prices'!A:A,'Lighting Prices'!E:E)","v":{"$error":"#N/A"}}]
["@LK-EMM-BC16",{"$f":"_xlfn.XLOOKUP(A804,'Prices Furniture'!A:A,'Prices Furniture'!E:E)","v":421},{"$f":"_xlfn.XLOOKUP(A804,'Lighting Prices'!A:A,'Lighting Prices'!E:E)","v":{"$error":"#N/A"}}]
["@LK-EMM-BCL15L",{"$f":"_xlfn.XLOOKUP(A805,'Prices Furniture'!A:A,'Prices Furniture'!E:E)","v":1270},{"$f":"_xlfn.XLOOKUP(A805,'Lighting Prices'!A:A,'Lighting Prices'!E:E)","v":{"$error":"#N/A"}}]
["@LK-EMM-BCL15R",{"$f":"_xlfn.XLOOKUP(A806,'Prices Furniture'!A:A,'Prices Furniture'!E:E)","v":1270},{"$f":"_xlfn.XLOOKUP(A806,'Lighting Prices'!A:A,'Lighting Prices'!E:E)","v":{"$error":"#N/A"}}]
["@LK-EMM-BCL16L",{"$f":"_xlfn.XLOOKUP(A807,'Prices Furniture'!A:A,'Prices Furniture'!E:E)","v":1349},{"$f":"_xlfn.XLOOKUP(A807,'Lighting Prices'!A:A,'Lighting Prices'!E:E)","v":{"$error":"#N/A"}}]
["@LK-EMM-BCL16R",{"$f":"_xlfn.XLOOKUP(A808,'Prices Furniture'!A:A,'Prices Furniture'!E:E)","v":1349},{"$f":"_xlfn.XLOOKUP(A808,'Lighting Prices'!A:A,'Lighting Prices'!E:E)","v":{"$error":"#N/A"}}]
["@LK-EMM-BCO945",{"$f":"_xlfn.XLOOKUP(A809,'Prices Furniture'!A:A,'Prices Furniture'!E:E)","v":1402},{"$f":"_xlfn.XLOOKUP(A809,'Lighting Prices'!A:A,'Lighting Prices'!E:E)","v":{"$error":"#N/A"}}]
["@LK-EMM-BCO145",{"$f":"_xlfn.XLOOKUP(A810,'Prices Furniture'!A:A,'Prices Furniture'!E:E)","v":1407},{"$f":"_xlfn.XLOOKUP(A810,'Lighting Prices'!A:A,'Lighting Prices'!E:E)","v":{"$error":"#N/A"}}]
["@LK-EMM-BCO15",{"$f":"_xlfn.XLOOKUP(A811,'Prices Furniture'!A:A,'Prices Furniture'!E:E)","v":1415},{"$f":"_xlfn.XLOOKUP(A811,'Lighting Prices'!A:A,'Lighting Prices'!E:E)","v":{"$error":"#N/A"}}]
["@LK-EMM-BCO16",{"$f":"_xlfn.XLOOKUP(A812,'Prices Furniture'!A:A,'Prices Furniture'!E:E)","v":1431},{"$f":"_xlfn.XLOOKUP(A812,'Lighting Prices'!A:A,'Lighting Prices'!E:E)","v":{"$error":"#N/A"}}]
["@LK-EMM-BCL9",{"$f":"_xlfn.XLOOKUP(A813,'Prices Furniture'!A:A,'Prices Furniture'!E:E)","v":618},{"$f":"_xlfn.XLOOKUP(A813,'Lighting Prices'!A:A,'Lighting Prices'!E:E)","v":{"$error":"#N/A"}}]
["@LK-EMM-BSU6495",{"$f":"_xlfn.XLOOKUP(A814,'Prices Furniture'!A:A,'Prices Furniture'!E:E)","v":285},{"$f":"_xlfn.XLOOKUP(A814,'Lighting Prices'!A:A,'Lighting Prices'!E:E)","v":{"$error":"#N/A"}}]
["@LK-EMM-BSU6450",{"$f":"_xlfn.XLOOKUP(A815,'Prices Furniture'!A:A,'Prices Furniture'!E:E)","v":283},{"$f":"_xlfn.XLOOKUP(A815,'Lighting Prices'!A:A,'Lighting Prices'!E:E)","v":{"$error":"#N/A"}}]
["@LK-EMM-BD54",{"$f":"_xlfn.XLOOKUP(A816,'Prices Furniture'!A:A,'Prices Furniture'!E:E)","v":846},{"$f":"_xlfn.XLOOKUP(A816,'Lighting Prices'!A:A,'Lighting Prices'!E:E)","v":{"$error":"#N/A"}}]
["@LK-EMM-BD53",{"$f":"_xlfn.XLOOKUP(A817,'Prices Furniture'!A:A,'Prices Furniture'!E:E)","v":714},{"$f":"_xlfn.XLOOKUP(A817,'Lighting Prices'!A:A,'Lighting Prices'!E:E)","v":{"$error":"#N/A"}}]
["@LK-EMM-BD63",{"$f":"_xlfn.XLOOKUP(A818,'Prices Furniture'!A:A,'Prices Furniture'!E:E)","v":806},{"$f":"_xlfn.XLOOKUP(A818,'Lighting Prices'!A:A,'Lighting Prices'!E:E)","v":{"$error":"#N/A"}}]
["@LK-EMM-BD83",{"$f":"_xlfn.XLOOKUP(A819,'Prices Furniture'!A:A,'Prices Furniture'!E:E)","v":813},{"$f":"_xlfn.XLOOKUP(A819,'Lighting Prices'!A:A,'Lighting Prices'!E:E)","v":{"$error":"#N/A"}}]
["@LK-EMM-BD93",{"$f":"_xlfn.XLOOKUP(A820,'Prices Furniture'!A:A,'Prices Furniture'!E:E)","v":828},{"$f":"_xlfn.XLOOKUP(A820,'Lighting Prices'!A:A,'Lighting Prices'!E:E)","v":{"$error":"#N/A"}}]
["@LK-EMM-BD13",{"$f":"_xlfn.XLOOKUP(A821,'Prices Furniture'!A:A,'Prices Furniture'!E:E)","v":845},{"$f":"_xlfn.XLOOKUP(A821,'Lighting Prices'!A:A,'Lighting Prices'!E:E)","v":{"$error":"#N/A"}}]
["@LK-EMM-BD62",{"$f":"_xlfn.XLOOKUP(A822,'Prices Furniture'!A:A,'Prices Furniture'!E:E)","v":683},{"$f":"_xlfn.XLOOKUP(A822,'Lighting Prices'!A:A,'Lighting Prices'!E:E)","v":{"$error":"#N/A"}}]
["@LK-EMM-BD92",{"$f":"_xlfn.XLOOKUP(A823,'Prices Furniture'!A:A,'Prices Furniture'!E:E)","v":700},{"$f":"_xlfn.XLOOKUP(A823,'Lighting Prices'!A:A,'Lighting Prices'!E:E)","v":{"$error":"#N/A"}}]
["@LK-EMM-BD62I",{"$f":"_xlfn.XLOOKUP(A824,'Prices Furniture'!A:A,'Prices Furniture'!E:E)","v":859},{"$f":"_xlfn.XLOOKUP(A824,'Lighting Prices'!A:A,'Lighting Prices'!E:E)","v":{"$error":"#N/A"}}]
["@LK-EMM-BD92I",{"$f":"_xlfn.XLOOKUP(A825,'Prices Furniture'!A:A,'Prices Furniture'!E:E)","v":901},{"$f":"_xlfn.XLOOKUP(A825,'Lighting Prices'!A:A,'Lighting Prices'!E:E)","v":{"$error":"#N/A"}}]
["@LK-EMM-BD635L",{"$f":"_xlfn.XLOOKUP(A826,'Prices Furniture'!A:A,'Prices Furniture'!E:E)","v":384},{"$f":"_xlfn.XLOOKUP(A826,'Lighting Prices'!A:A,'Lighting Prices'!E:E)","v":{"$error":"#N/A"}}]
["@LK-EMM-W30",{"$f":"_xlfn.XLOOKUP(A827,'Prices Furniture'!A:A,'Prices Furniture'!E:E)","v":221},{"$f":"_xlfn.XLOOKUP(A827,'Lighting Prices'!A:A,'Lighting Prices'!E:E)","v":{"$error":"#N/A"}}]
["@LK-EMM-W35",{"$f":"_xlfn.XLOOKUP(A828,'Prices Furniture'!A:A,'Prices Furniture'!E:E)","v":227},{"$f":"_xlfn.XLOOKUP(A828,'Lighting Prices'!A:A,'Lighting Prices'!E:E)","v":{"$error":"#N/A"}}]
["@LK-EMM-W40",{"$f":"_xlfn.XLOOKUP(A829,'Prices Furniture'!A:A,'Prices Furniture'!E:E)","v":235},{"$f":"_xlfn.XLOOKUP(A829,'Lighting Prices'!A:A,'Lighting Prices'!E:E)","v":{"$error":"#N/A"}}]
["@LK-EMM-W45",{"$f":"_xlfn.XLOOKUP(A830,'Prices Furniture'!A:A,'Prices Furniture'!E:E)","v":252},{"$f":"_xlfn.XLOOKUP(A830,'Lighting Prices'!A:A,'Lighting Prices'!E:E)","v":{"$error":"#N/A"}}]
["@LK-EMM-W50",{"$f":"_xlfn.XLOOKUP(A831,'Prices Furniture'!A:A,'Prices Furniture'!E:E)","v":266},{"$f":"_xlfn.XLOOKUP(A831,'Lighting Prices'!A:A,'Lighting Prices'!E:E)","v":{"$error":"#N/A"}}]
["@LK-EMM-W60",{"$f":"_xlfn.XLOOKUP(A832,'Prices Furniture'!A:A,'Prices Furniture'!E:E)","v":290},{"$f":"_xlfn.XLOOKUP(A832,'Lighting Prices'!A:A,'Lighting Prices'!E:E)","v":{"$error":"#N/A"}}]
["@LK-EMM-W70",{"$f":"_xlfn.XLOOKUP(A833,'Prices Furniture'!A:A,'Prices Furniture'!E:E)","v":383},{"$f":"_xlfn.XLOOKUP(A833,'Lighting Prices'!A:A,'Lighting Prices'!E:E)","v":{"$error":"#N/A"}}]
["@LK-EMM-W80",{"$f":"_xlfn.XLOOKUP(A834,'Prices Furniture'!A:A,'Prices Furniture'!E:E)","v":389},{"$f":"_xlfn.XLOOKUP(A834,'Lighting Prices'!A:A,'Lighting Prices'!E:E)","v":{"$error":"#N/A"}}]
["@LK-EMM-W90",{"$f":"_xlfn.XLOOKUP(A835,'Prices Furniture'!A:A,'Prices Furniture'!E:E)","v":409},{"$f":"_xlfn.XLOOKUP(A835,'Lighting Prices'!A:A,'Lighting Prices'!E:E)","v":{"$error":"#N/A"}}]
["@LK-EMM-W100",{"$f":"_xlfn.XLOOKUP(A836,'Prices Furniture'!A:A,'Prices Furniture'!E:E)","v":434},{"$f":"_xlfn.XLOOKUP(A836,'Lighting Prices'!A:A,'Lighting Prices'!E:E)","v":{"$error":"#N/A"}}]
["@LK-EMM-WC6",{"$f":"_xlfn.XLOOKUP(A837,'Prices Furniture'!A:A,'Prices Furniture'!E:E)","v":309},{"$f":"_xlfn.XLOOKUP(A837,'Lighting Prices'!A:A,'Lighting Prices'!E:E)","v":{"$error":"#N/A"}}]
["@LK-EMM-WC9",{"$f":"_xlfn.XLOOKUP(A838,'Prices Furniture'!A:A,'Prices Furniture'!E:E)","v":371},{"$f":"_xlfn.XLOOKUP(A838,'Lighting Prices'!A:A,'Lighting Prices'!E:E)","v":{"$error":"#N/A"}}]
["@LK-EMM-WCL65",{"$f":"_xlfn.XLOOKUP(A839,'Prices Furniture'!A:A,'Prices Furniture'!E:E)","v":553},{"$f":"_xlfn.XLOOKUP(A839,'Lighting Prices'!A:A,'Lighting Prices'!E:E)","v":{"$error":"#N/A"}}]
["@LK-EMM-WM60",{"$f":"_xlfn.XLOOKUP(A840,'Prices Furniture'!A:A,'Prices Furniture'!E:E)","v":361},{"$f":"_xlfn.XLOOKUP(A840,'Lighting Prices'!A:A,'Lighting Prices'!E:E)","v":{"$error":"#N/A"}}]
["@LK-EMM-WBHU",{"$f":"_xlfn.XLOOKUP(A841,'Prices Furniture'!A:A,'Prices Furniture'!E:E)","v":282},{"$f":"_xlfn.XLOOKUP(A841,'Lighting Prices'!A:A,'Lighting Prices'!E:E)","v":{"$error":"#N/A"}}]
["@LK-EMM-WBI60",{"$f":"_xlfn.XLOOKUP(A842,'Prices Furniture'!A:A,'Prices Furniture'!E:E)","v":663},{"$f":"_xlfn.XLOOKUP(A842,'Lighting Prices'!A:A,'Lighting Prices'!E:E)","v":{"$error":"#N/A"}}]
["@LK-EMM-WBI90",{"$f":"_xlfn.XLOOKUP(A843,'Prices Furniture'!A:A,'Prices Furniture'!E:E)","v":695},{"$f":"_xlfn.XLOOKUP(A843,'Lighting Prices'!A:A,'Lighting Prices'!E:E)","v":{"$error":"#N/A"}}]
["@LK-EMM-WGS5",{"$f":"_xlfn.XLOOKUP(A844,'Prices Furniture'!A:A,'Prices Furniture'!E:E)","v":434},{"$f":"_xlfn.XLOOKUP(A844,'Lighting Prices'!A:A,'Lighting Prices'!E:E)","v":{"$error":"#N/A"}}]
["@LK-EMM-WGS6",{"$f":"_xlfn.XLOOKUP(A845,'Prices Furniture'!A:A,'Prices Furniture'!E:E)","v":476},{"$f":"_xlfn.XLOOKUP(A845,'Lighting Prices'!A:A,'Lighting Prices'!E:E)","v":{"$error":"#N/A"}}]
["@LK-EMM-WGR5",{"$f":"_xlfn.XLOOKUP(A846,'Prices Furniture'!A:A,'Prices Furniture'!E:E)","v":434},{"$f":"_xlfn.XLOOKUP(A846,'Lighting Prices'!A:A,'Lighting Prices'!E:E)","v":{"$error":"#N/A"}}]
["@LK-EMM-WGR6",{"$f":"_xlfn.XLOOKUP(A847,'Prices Furniture'!A:A,'Prices Furniture'!E:E)","v":476},{"$f":"_xlfn.XLOOKUP(A847,'Lighting Prices'!A:A,'Lighting Prices'!E:E)","v":{"$error":"#N/A"}}]
["@LK-EMM-WB62",{"$f":"_xlfn.XLOOKUP(A848,'Prices Furniture'!A:A,'Prices Furniture'!E:E)","v":237},{"$f":"_xlfn.XLOOKUP(A848,'Lighting Prices'!A:A,'Lighting Prices'!E:E)","v":{"$error":"#N/A"}}]
["@LK-EMM-WB82",{"$f":"_xlfn.XLOOKUP(A849,'Prices Furniture'!A:A,'Prices Furniture'!E:E)","v":295},{"$f":"_xlfn.XLOOKUP(A849,'Lighting Prices'!A:A,'Lighting Prices'!E:E)","v":{"$error":"#N/A"}}]
["@LK-EMM-WB92",{"$f":"_xlfn.XLOOKUP(A850,'Prices Furniture'!A:A,'Prices Furniture'!E:E)","v":312},{"$f":"_xlfn.XLOOKUP(A850,'Lighting Prices'!A:A,'Lighting Prices'!E:E)","v":{"$error":"#N/A"}}]
["@LK-EMM-WB12",{"$f":"_xlfn.XLOOKUP(A851,'Prices Furniture'!A:A,'Prices Furniture'!E:E)","v":338},{"$f":"_xlfn.XLOOKUP(A851,'Lighting Prices'!A:A,'Lighting Prices'!E:E)","v":{"$error":"#N/A"}}]
["@LK-EMM-WB63",{"$f":"_xlfn.XLOOKUP(A852,'Prices Furniture'!A:A,'Prices Furniture'!E:E)","v":295},{"$f":"_xlfn.XLOOKUP(A852,'Lighting Prices'!A:A,'Lighting Prices'!E:E)","v":{"$error":"#N/A"}}]
["@LK-EMM-WB93",{"$f":"_xlfn.XLOOKUP(A853,'Prices Furniture'!A:A,'Prices Furniture'!E:E)","v":344},{"$f":"_xlfn.XLOOKUP(A853,'Lighting Prices'!A:A,'Lighting Prices'!E:E)","v":{"$error":"#N/A"}}]
["@LK-EMM-AH-F55",{"$f":"_xlfn.XLOOKUP(A854,'Prices Furniture'!A:A,'Prices Furniture'!E:E)","v":735},{"$f":"_xlfn.XLOOKUP(A854,'Lighting Prices'!A:A,'Lighting Prices'!E:E)","v":{"$error":"#N/A"}}]
["@LK-EMM-AH-F73",{"$f":"_xlfn.XLOOKUP(A855,'Prices Furniture'!A:A,'Prices Furniture'!E:E)","v":711},{"$f":"_xlfn.XLOOKUP(A855,'Lighting Prices'!A:A,'Lighting Prices'!E:E)","v":{"$error":"#N/A"}}]
["@LK-EMM-AH-DO",{"$f":"_xlfn.XLOOKUP(A856,'Prices Furniture'!A:A,'Prices Furniture'!E:E)","v":731},{"$f":"_xlfn.XLOOKUP(A856,'Lighting Prices'!A:A,'Lighting Prices'!E:E)","v":{"$error":"#N/A"}}]
["@LK-EMM-AH-DO2D",{"$f":"_xlfn.XLOOKUP(A857,'Prices Furniture'!A:A,'Prices Furniture'!E:E)","v":1058},{"$f":"_xlfn.XLOOKUP(A857,'Lighting Prices'!A:A,'Lighting Prices'!E:E)","v":{"$error":"#N/A"}}]
["@LK-EMM-AH-DMW",{"$f":"_xlfn.XLOOKUP(A858,'Prices Furniture'!A:A,'Prices Furniture'!E:E)","v":927},{"$f":"_xlfn.XLOOKUP(A858,'Lighting Prices'!A:A,'Lighting Prices'!E:E)","v":{"$error":"#N/A"}}]
["@LK-EMM-AH-SO",{"$f":"_xlfn.XLOOKUP(A859,'Prices Furniture'!A:A,'Prices Furniture'!E:E)","v":750},{"$f":"_xlfn.XLOOKUP(A859,'Lighting Prices'!A:A,'Lighting Prices'!E:E)","v":{"$error":"#N/A"}}]
["@LK-EMM-AH-SO1D",{"$f":"_xlfn.XLOOKUP(A860,'Prices Furniture'!A:A,'Prices Furniture'!E:E)","v":896},{"$f":"_xlfn.XLOOKUP(A860,'Lighting Prices'!A:A,'Lighting Prices'!E:E)","v":{"$error":"#N/A"}}]
["@LK-EMM-AH-SO2D",{"$f":"_xlfn.XLOOKUP(A861,'Prices Furniture'!A:A,'Prices Furniture'!E:E)","v":1112},{"$f":"_xlfn.XLOOKUP(A861,'Lighting Prices'!A:A,'Lighting Prices'!E:E)","v":{"$error":"#N/A"}}]
["@LK-EMM-AH-SO3D",{"$f":"_xlfn.XLOOKUP(A862,'Prices Furniture'!A:A,'Prices Furniture'!E:E)","v":1261},{"$f":"_xlfn.XLOOKUP(A862,'Lighting Prices'!A:A,'Lighting Prices'!E:E)","v":{"$error":"#N/A"}}]
["@LK-EMM-AH-SMW",{"$f":"_xlfn.XLOOKUP(A863,'Prices Furniture'!A:A,'Prices Furniture'!E:E)","v":786},{"$f":"_xlfn.XLOOKUP(A863,'Lighting Prices'!A:A,'Lighting Prices'!E:E)","v":{"$error":"#N/A"}}]
["@LK-EMM-AH-SM2D",{"$f":"_xlfn.XLOOKUP(A864,'Prices Furniture'!A:A,'Prices Furniture'!E:E)","v":1074},{"$f":"_xlfn.XLOOKUP(A864,'Lighting Prices'!A:A,'Lighting Prices'!E:E)","v":{"$error":"#N/A"}}]
["@LK-EMM-AH-CO",{"$f":"_xlfn.XLOOKUP(A865,'Prices Furniture'!A:A,'Prices Furniture'!E:E)","v":823},{"$f":"_xlfn.XLOOKUP(A865,'Lighting Prices'!A:A,'Lighting Prices'!E:E)","v":{"$error":"#N/A"}}]
["@LK-EMM-BOH6",{"$f":"_xlfn.XLOOKUP(A866,'Prices Furniture'!A:A,'Prices Furniture'!E:E)","v":199},{"$f":"_xlfn.XLOOKUP(A866,'Lighting Prices'!A:A,'Lighting Prices'!E:E)","v":{"$error":"#N/A"}}]
["@LK-EMM-BOHD6",{"$f":"_xlfn.XLOOKUP(A867,'Prices Furniture'!A:A,'Prices Furniture'!E:E)","v":312},{"$f":"_xlfn.XLOOKUP(A867,'Lighting Prices'!A:A,'Lighting Prices'!E:E)","v":{"$error":"#N/A"}}]
["@LK-EMM-L3",{"$f":"_xlfn.XLOOKUP(A868,'Prices Furniture'!A:A,'Prices Furniture'!E:E)","v":663},{"$f":"_xlfn.XLOOKUP(A868,'Lighting Prices'!A:A,'Lighting Prices'!E:E)","v":{"$error":"#N/A"}}]
["@LK-EMM-L5",{"$f":"_xlfn.XLOOKUP(A869,'Prices Furniture'!A:A,'Prices Furniture'!E:E)","v":723},{"$f":"_xlfn.XLOOKUP(A869,'Lighting Prices'!A:A,'Lighting Prices'!E:E)","v":{"$error":"#N/A"}}]
["@LK-EMM-L6",{"$f":"_xlfn.XLOOKUP(A870,'Prices Furniture'!A:A,'Prices Furniture'!E:E)","v":794},{"$f":"_xlfn.XLOOKUP(A870,'Lighting Prices'!A:A,'Lighting Prices'!E:E)","v":{"$error":"#N/A"}}]
["@LK-EMM-LP3",{"$f":"_xlfn.XLOOKUP(A871,'Prices Furniture'!A:A,'Prices Furniture'!E:E)","v":1445},{"$f":"_xlfn.XLOOKUP(A871,'Lighting Prices'!A:A,'Lighting Prices'!E:E)","v":{"$error":"#N/A"}}]
["@LK-EMM-LT3",{"$f":"_xlfn.XLOOKUP(A872,'Prices Furniture'!A:A,'Prices Furniture'!E:E)","v":1764},{"$f":"_xlfn.XLOOKUP(A872,'Lighting Prices'!A:A,'Lighting Prices'!E:E)","v":{"$error":"#N/A"}}]
["@LK-EMM-LT5",{"$f":"_xlfn.XLOOKUP(A873,'Prices Furniture'!A:A,'Prices Furniture'!E:E)","v":1892},{"$f":"_xlfn.XLOOKUP(A873,'Lighting Prices'!A:A,'Lighting Prices'!E:E)","v":{"$error":"#N/A"}}]
["@LK-EMM-LT6",{"$f":"_xlfn.XLOOKUP(A874,'Prices Furniture'!A:A,'Prices Furniture'!E:E)","v":2029},{"$f":"_xlfn.XLOOKUP(A874,'Lighting Prices'!A:A,'Lighting Prices'!E:E)","v":{"$error":"#N/A"}}]
["@LK-EMM-LP6T",{"$f":"_xlfn.XLOOKUP(A875,'Prices Furniture'!A:A,'Prices Furniture'!E:E)","v":1980},{"$f":"_xlfn.XLOOKUP(A875,'Lighting Prices'!A:A,'Lighting Prices'!E:E)","v":{"$error":"#N/A"}}]
["@LK-EMM-LP5TS",{"$f":"_xlfn.XLOOKUP(A876,'Prices Furniture'!A:A,'Prices Furniture'!E:E)","v":1657},{"$f":"_xlfn.XLOOKUP(A876,'Lighting Prices'!A:A,'Lighting Prices'!E:E)","v":{"$error":"#N/A"}}]
["@LK-EMM-LP6TS",{"$f":"_xlfn.XLOOKUP(A877,'Prices Furniture'!A:A,'Prices Furniture'!E:E)","v":1781},{"$f":"_xlfn.XLOOKUP(A877,'Lighting Prices'!A:A,'Lighting Prices'!E:E)","v":{"$error":"#N/A"}}]
["@LK-EMM-LAC",{"$f":"_xlfn.XLOOKUP(A878,'Prices Furniture'!A:A,'Prices Furniture'!E:E)","v":2084},{"$f":"_xlfn.XLOOKUP(A878,'Lighting Prices'!A:A,'Lighting Prices'!E:E)","v":{"$error":"#N/A"}}]
["@LK-EMM-LPN14D",{"$f":"_xlfn.XLOOKUP(A879,'Prices Furniture'!A:A,'Prices Furniture'!E:E)","v":1124},{"$f":"_xlfn.XLOOKUP(A879,'Lighting Prices'!A:A,'Lighting Prices'!E:E)","v":{"$error":"#N/A"}}]
["@LK-EMM-LPN12D3DW",{"$f":"_xlfn.XLOOKUP(A880,'Prices Furniture'!A:A,'Prices Furniture'!E:E)","v":1523},{"$f":"_xlfn.XLOOKUP(A880,'Lighting Prices'!A:A,'Lighting Prices'!E:E)","v":{"$error":"#N/A"}}]
["@LK-EMM-LPN12D2DW",{"$f":"_xlfn.XLOOKUP(A881,'Prices Furniture'!A:A,'Prices Furniture'!E:E)","v":1392},{"$f":"_xlfn.XLOOKUP(A881,'Lighting Prices'!A:A,'Lighting Prices'!E:E)","v":{"$error":"#N/A"}}]
["@LK-EMM-LBC15",{"$f":"_xlfn.XLOOKUP(A882,'Prices Furniture'!A:A,'Prices Furniture'!E:E)","v":944},{"$f":"_xlfn.XLOOKUP(A882,'Lighting Prices'!A:A,'Lighting Prices'!E:E)","v":{"$error":"#N/A"}}]
["@LK-EMM-LBC16",{"$f":"_xlfn.XLOOKUP(A883,'Prices Furniture'!A:A,'Prices Furniture'!E:E)","v":970},{"$f":"_xlfn.XLOOKUP(A883,'Lighting Prices'!A:A,'Lighting Prices'!E:E)","v":{"$error":"#N/A"}}]
["@LK-EMM-LBCLM15L",{"$f":"_xlfn.XLOOKUP(A884,'Prices Furniture'!A:A,'Prices Furniture'!E:E)","v":2782},{"$f":"_xlfn.XLOOKUP(A884,'Lighting Prices'!A:A,'Lighting Prices'!E:E)","v":{"$error":"#N/A"}}]
["@LK-EMM-LBCLM15R",{"$f":"_xlfn.XLOOKUP(A885,'Prices Furniture'!A:A,'Prices Furniture'!E:E)","v":2782},{"$f":"_xlfn.XLOOKUP(A885,'Lighting Prices'!A:A,'Lighting Prices'!E:E)","v":{"$error":"#N/A"}}]
["@LK-EMM-LBCLM16L",{"$f":"_xlfn.XLOOKUP(A886,'Prices Furniture'!A:A,'Prices Furniture'!E:E)","v":2934},{"$f":"_xlfn.XLOOKUP(A886,'Lighting Prices'!A:A,'Lighting Prices'!E:E)","v":{"$error":"#N/A"}}]
["@LK-EMM-LBCLM16R",{"$f":"_xlfn.XLOOKUP(A887,'Prices Furniture'!A:A,'Prices Furniture'!E:E)","v":2934},{"$f":"_xlfn.XLOOKUP(A887,'Lighting Prices'!A:A,'Lighting Prices'!E:E)","v":{"$error":"#N/A"}}]
["@LK-EMM-LL6EA",{"$f":"_xlfn.XLOOKUP(A888,'Prices Furniture'!A:A,'Prices Furniture'!E:E)","v":836},{"$f":"_xlfn.XLOOKUP(A888,'Lighting Prices'!A:A,'Lighting Prices'!E:E)","v":{"$error":"#N/A"}}]
["@LK-EMM-LL6CU",{"$f":"_xlfn.XLOOKUP(A889,'Prices Furniture'!A:A,'Prices Furniture'!E:E)","v":786},{"$f":"_xlfn.XLOOKUP(A889,'Lighting Prices'!A:A,'Lighting Prices'!E:E)","v":{"$error":"#N/A"}}]
["@LK-EMM-LL10CU",{"$f":"_xlfn.XLOOKUP(A890,'Prices Furniture'!A:A,'Prices Furniture'!E:E)","v":1235},{"$f":"_xlfn.XLOOKUP(A890,'Lighting Prices'!A:A,'Lighting Prices'!E:E)","v":{"$error":"#N/A"}}]
["@LK-EMM-LL10CUS",{"$f":"_xlfn.XLOOKUP(A891,'Prices Furniture'!A:A,'Prices Furniture'!E:E)","v":1334},{"$f":"_xlfn.XLOOKUP(A891,'Lighting Prices'!A:A,'Lighting Prices'!E:E)","v":{"$error":"#N/A"}}]
["@LK-EMM-LL10CB",{"$f":"_xlfn.XLOOKUP(A892,'Prices Furniture'!A:A,'Prices Furniture'!E:E)","v":1245},{"$f":"_xlfn.XLOOKUP(A892,'Lighting Prices'!A:A,'Lighting Prices'!E:E)","v":{"$error":"#N/A"}}]
["@LK-EMM-AD60ICH",{"$f":"_xlfn.XLOOKUP(A893,'Prices Furniture'!A:A,'Prices Furniture'!E:E)","v":95},{"$f":"_xlfn.XLOOKUP(A893,'Lighting Prices'!A:A,'Lighting Prices'!E:E)","v":{"$error":"#N/A"}}]
["@LK-EMM-AD60FD",{"$f":"_xlfn.XLOOKUP(A894,'Prices Furniture'!A:A,'Prices Furniture'!E:E)","v":131},{"$f":"_xlfn.XLOOKUP(A894,'Lighting Prices'!A:A,'Lighting Prices'!E:E)","v":{"$error":"#N/A"}}]
["@LK-EMM-AD45I",{"$f":"_xlfn.XLOOKUP(A895,'Prices Furniture'!A:A,'Prices Furniture'!E:E)","v":107},{"$f":"_xlfn.XLOOKUP(A895,'Lighting Prices'!A:A,'Lighting Prices'!E:E)","v":{"$error":"#N/A"}}]
["@LK-EMM-AD60S",{"$f":"_xlfn.XLOOKUP(A896,'Prices Furniture'!A:A,'Prices Furniture'!E:E)","v":129},{"$f":"_xlfn.XLOOKUP(A896,'Lighting Prices'!A:A,'Lighting Prices'!E:E)","v":{"$error":"#N/A"}}]
["@LK-EMM-BLD9",{"$f":"_xlfn.XLOOKUP(A897,'Prices Furniture'!A:A,'Prices Furniture'!E:E)","v":133},{"$f":"_xlfn.XLOOKUP(A897,'Lighting Prices'!A:A,'Lighting Prices'!E:E)","v":{"$error":"#N/A"}}]
["@LK-EMM-CH-SO",{"$f":"_xlfn.XLOOKUP(A898,'Prices Furniture'!A:A,'Prices Furniture'!E:E)","v":654},{"$f":"_xlfn.XLOOKUP(A898,'Lighting Prices'!A:A,'Lighting Prices'!E:E)","v":{"$error":"#N/A"}}]
["@LK-EMM-CH-MW",{"$f":"_xlfn.XLOOKUP(A899,'Prices Furniture'!A:A,'Prices Furniture'!E:E)","v":700},{"$f":"_xlfn.XLOOKUP(A899,'Lighting Prices'!A:A,'Lighting Prices'!E:E)","v":{"$error":"#N/A"}}]
["@LK-EMM-CH-ST",{"$f":"_xlfn.XLOOKUP(A900,'Prices Furniture'!A:A,'Prices Furniture'!E:E)","v":880},{"$f":"_xlfn.XLOOKUP(A900,'Lighting Prices'!A:A,'Lighting Prices'!E:E)","v":{"$error":"#N/A"}}]
["@LK-EMM-TCH-SO",{"$f":"_xlfn.XLOOKUP(A901,'Prices Furniture'!A:A,'Prices Furniture'!E:E)","v":846},{"$f":"_xlfn.XLOOKUP(A901,'Lighting Prices'!A:A,'Lighting Prices'!E:E)","v":{"$error":"#N/A"}}]
["@LK-EMM-TCH-MW",{"$f":"_xlfn.XLOOKUP(A902,'Prices Furniture'!A:A,'Prices Furniture'!E:E)","v":759},{"$f":"_xlfn.XLOOKUP(A902,'Lighting Prices'!A:A,'Lighting Prices'!E:E)","v":{"$error":"#N/A"}}]
["@LK-EMM-TCH-ST",{"$f":"_xlfn.XLOOKUP(A903,'Prices Furniture'!A:A,'Prices Furniture'!E:E)","v":918},{"$f":"_xlfn.XLOOKUP(A903,'Lighting Prices'!A:A,'Lighting Prices'!E:E)","v":{"$error":"#N/A"}}]
["@LK-EMM-AH-SOT",{"$f":"_xlfn.XLOOKUP(A904,'Prices Furniture'!A:A,'Prices Furniture'!E:E)","v":876},{"$f":"_xlfn.XLOOKUP(A904,'Lighting Prices'!A:A,'Lighting Prices'!E:E)","v":{"$error":"#N/A"}}]
["@LK-EMM-LP5T",{"$f":"_xlfn.XLOOKUP(A905,'Prices Furniture'!A:A,'Prices Furniture'!E:E)","v":1915},{"$f":"_xlfn.XLOOKUP(A905,'Lighting Prices'!A:A,'Lighting Prices'!E:E)","v":{"$error":"#N/A"}}]
["@LK-EMM-LL8LS",{"$f":"_xlfn.XLOOKUP(A906,'Prices Furniture'!A:A,'Prices Furniture'!E:E)","v":1364},{"$f":"_xlfn.XLOOKUP(A906,'Lighting Prices'!A:A,'Lighting Prices'!E:E)","v":{"$error":"#N/A"}}]
["@LK-EMM-BHD3",{"$f":"_xlfn.XLOOKUP(A907,'Prices Furniture'!A:A,'Prices Furniture'!E:E)","v":628},{"$f":"_xlfn.XLOOKUP(A907,'Lighting Prices'!A:A,'Lighting Prices'!E:E)","v":{"$error":"#N/A"}}]
["@LK-EMM-BHD4",{"$f":"_xlfn.XLOOKUP(A908,'Prices Furniture'!A:A,'Prices Furniture'!E:E)","v":677},{"$f":"_xlfn.XLOOKUP(A908,'Lighting Prices'!A:A,'Lighting Prices'!E:E)","v":{"$error":"#N/A"}}]
["@LK-EMM-BHD5",{"$f":"_xlfn.XLOOKUP(A909,'Prices Furniture'!A:A,'Prices Furniture'!E:E)","v":740},{"$f":"_xlfn.XLOOKUP(A909,'Lighting Prices'!A:A,'Lighting Prices'!E:E)","v":{"$error":"#N/A"}}]
["@LK-EMM-BHD6",{"$f":"_xlfn.XLOOKUP(A910,'Prices Furniture'!A:A,'Prices Furniture'!E:E)","v":796},{"$f":"_xlfn.XLOOKUP(A910,'Lighting Prices'!A:A,'Lighting Prices'!E:E)","v":{"$error":"#N/A"}}]
["LK-A-EMM-WREP72",{"$f":"_xlfn.XLOOKUP(A911,'Prices Furniture'!A:A,'Prices Furniture'!E:E)","v":77},{"$f":"_xlfn.XLOOKUP(A911,'Lighting Prices'!A:A,'Lighting Prices'!E:E)","v":{"$error":"#N/A"}}]
["LK-A-EMM-PWEP72",{"$f":"_xlfn.XLOOKUP(A912,'Prices Furniture'!A:A,'Prices Furniture'!E:E)","v":92},{"$f":"_xlfn.XLOOKUP(A912,'Lighting Prices'!A:A,'Lighting Prices'!E:E)","v":{"$error":"#N/A"}}]
["LK-A-EMM-PWEP20",{"$f":"_xlfn.XLOOKUP(A913,'Prices Furniture'!A:A,'Prices Furniture'!E:E)","v":200},{"$f":"_xlfn.XLOOKUP(A913,'Lighting Prices'!A:A,'Lighting Prices'!E:E)","v":{"$error":"#N/A"}}]
["LK-A-EMM-ESP",{"$f":"_xlfn.XLOOKUP(A914,'Prices Furniture'!A:A,'Prices Furniture'!E:E)","v":135},{"$f":"_xlfn.XLOOKUP(A914,'Lighting Prices'!A:A,'Lighting Prices'!E:E)","v":{"$error":"#N/A"}}]
["LK-A-EMM-LUP",{"$f":"_xlfn.XLOOKUP(A915,'Prices Furniture'!A:A,'Prices Furniture'!E:E)","v":391},{"$f":"_xlfn.XLOOKUP(A915,'Lighting Prices'!A:A,'Lighting Prices'!E:E)","v":{"$error":"#N/A"}}]
["LK-A-EMM-PTEP",{"$f":"_xlfn.XLOOKUP(A916,'Prices Furniture'!A:A,'Prices Furniture'!E:E)","v":305},{"$f":"_xlfn.XLOOKUP(A916,'Lighting Prices'!A:A,'Lighting Prices'!E:E)","v":{"$error":"#N/A"}}]
["LK-A-EMM-PL",{"$f":"_xlfn.XLOOKUP(A917,'Prices Furniture'!A:A,'Prices Furniture'!E:E)","v":90},{"$f":"_xlfn.XLOOKUP(A917,'Lighting Prices'!A:A,'Lighting Prices'!E:E)","v":{"$error":"#N/A"}}]
["LK-A-EMM-SCCRN",{"$f":"_xlfn.XLOOKUP(A918,'Prices Furniture'!A:A,'Prices Furniture'!E:E)","v":113},{"$f":"_xlfn.XLOOKUP(A918,'Lighting Prices'!A:A,'Lighting Prices'!E:E)","v":{"$error":"#N/A"}}]
["LK-A-EMM-BLPEL",{"$f":"_xlfn.XLOOKUP(A919,'Prices Furniture'!A:A,'Prices Furniture'!E:E)","v":86},{"$f":"_xlfn.XLOOKUP(A919,'Lighting Prices'!A:A,'Lighting Prices'!E:E)","v":{"$error":"#N/A"}}]
["LK-A-EMM-CVP",{"$f":"_xlfn.XLOOKUP(A920,'Prices Furniture'!A:A,'Prices Furniture'!E:E)","v":123},{"$f":"_xlfn.XLOOKUP(A920,'Lighting Prices'!A:A,'Lighting Prices'!E:E)","v":{"$error":"#N/A"}}]
["LK-A-EMM-CPBM",{"$f":"_xlfn.XLOOKUP(A921,'Prices Furniture'!A:A,'Prices Furniture'!E:E)","v":109},{"$f":"_xlfn.XLOOKUP(A921,'Lighting Prices'!A:A,'Lighting Prices'!E:E)","v":{"$error":"#N/A"}}]
["LK-A-EMM-CPBC",{"$f":"_xlfn.XLOOKUP(A922,'Prices Furniture'!A:A,'Prices Furniture'!E:E)","v":116},{"$f":"_xlfn.XLOOKUP(A922,'Lighting Prices'!A:A,'Lighting Prices'!E:E)","v":{"$error":"#N/A"}}]
["LK-A-EMM-ET",{"$f":"_xlfn.XLOOKUP(A923,'Prices Furniture'!A:A,'Prices Furniture'!E:E)","v":37},{"$f":"_xlfn.XLOOKUP(A923,'Lighting Prices'!A:A,'Lighting Prices'!E:E)","v":{"$error":"#N/A"}}]
["@LK-EMS-BP15TY",{"$f":"_xlfn.XLOOKUP(A924,'Prices Furniture'!A:A,'Prices Furniture'!E:E)","v":408},{"$f":"_xlfn.XLOOKUP(A924,'Lighting Prices'!A:A,'Lighting Prices'!E:E)","v":{"$error":"#N/A"}}]
["@LK-EMS-BP3TY",{"$f":"_xlfn.XLOOKUP(A925,'Prices Furniture'!A:A,'Prices Furniture'!E:E)","v":634},{"$f":"_xlfn.XLOOKUP(A925,'Lighting Prices'!A:A,'Lighting Prices'!E:E)","v":{"$error":"#N/A"}}]
["@LK-EMS-BH15",{"$f":"_xlfn.XLOOKUP(A926,'Prices Furniture'!A:A,'Prices Furniture'!E:E)","v":228},{"$f":"_xlfn.XLOOKUP(A926,'Lighting Prices'!A:A,'Lighting Prices'!E:E)","v":{"$error":"#N/A"}}]
["@LK-EMS-BH30",{"$f":"_xlfn.XLOOKUP(A927,'Prices Furniture'!A:A,'Prices Furniture'!E:E)","v":239},{"$f":"_xlfn.XLOOKUP(A927,'Lighting Prices'!A:A,'Lighting Prices'!E:E)","v":{"$error":"#N/A"}}]
["@LK-EMS-BH3B",{"$f":"_xlfn.XLOOKUP(A928,'Prices Furniture'!A:A,'Prices Furniture'!E:E)","v":607},{"$f":"_xlfn.XLOOKUP(A928,'Lighting Prices'!A:A,'Lighting Prices'!E:E)","v":{"$error":"#N/A"}}]
["@LK-EMS-BH35",{"$f":"_xlfn.XLOOKUP(A929,'Prices Furniture'!A:A,'Prices Furniture'!E:E)","v":245},{"$f":"_xlfn.XLOOKUP(A929,'Lighting Prices'!A:A,'Lighting Prices'!E:E)","v":{"$error":"#N/A"}}]
["@LK-EMS-BH40",{"$f":"_xlfn.XLOOKUP(A930,'Prices Furniture'!A:A,'Prices Furniture'!E:E)","v":249},{"$f":"_xlfn.XLOOKUP(A930,'Lighting Prices'!A:A,'Lighting Prices'!E:E)","v":{"$error":"#N/A"}}]
["@LK-EMS-BH4B",{"$f":"_xlfn.XLOOKUP(A931,'Prices Furniture'!A:A,'Prices Furniture'!E:E)","v":682},{"$f":"_xlfn.XLOOKUP(A931,'Lighting Prices'!A:A,'Lighting Prices'!E:E)","v":{"$error":"#N/A"}}]
["@LK-EMS-BH45",{"$f":"_xlfn.XLOOKUP(A932,'Prices Furniture'!A:A,'Prices Furniture'!E:E)","v":272},{"$f":"_xlfn.XLOOKUP(A932,'Lighting Prices'!A:A,'Lighting Prices'!E:E)","v":{"$error":"#N/A"}}]
["@LK-EMS-BH45B",{"$f":"_xlfn.XLOOKUP(A933,'Prices Furniture'!A:A,'Prices Furniture'!E:E)","v":710},{"$f":"_xlfn.XLOOKUP(A933,'Lighting Prices'!A:A,'Lighting Prices'!E:E)","v":{"$error":"#N/A"}}]
["@LK-EMS-BH50",{"$f":"_xlfn.XLOOKUP(A934,'Prices Furniture'!A:A,'Prices Furniture'!E:E)","v":283},{"$f":"_xlfn.XLOOKUP(A934,'Lighting Prices'!A:A,'Lighting Prices'!E:E)","v":{"$error":"#N/A"}}]
["@LK-EMS-BH5B",{"$f":"_xlfn.XLOOKUP(A935,'Prices Furniture'!A:A,'Prices Furniture'!E:E)","v":727},{"$f":"_xlfn.XLOOKUP(A935,'Lighting Prices'!A:A,'Lighting Prices'!E:E)","v":{"$error":"#N/A"}}]
["@LK-EMS-BH50S",{"$f":"_xlfn.XLOOKUP(A936,'Prices Furniture'!A:A,'Prices Furniture'!E:E)","v":313},{"$f":"_xlfn.XLOOKUP(A936,'Lighting Prices'!A:A,'Lighting Prices'!E:E)","v":{"$error":"#N/A"}}]
["@LK-EMS-BH60",{"$f":"_xlfn.XLOOKUP(A937,'Prices Furniture'!A:A,'Prices Furniture'!E:E)","v":319},{"$f":"_xlfn.XLOOKUP(A937,'Lighting Prices'!A:A,'Lighting Prices'!E:E)","v":{"$error":"#N/A"}}]
["@LK-EMS-BH6B4",{"$f":"_xlfn.XLOOKUP(A938,'Prices Furniture'!A:A,'Prices Furniture'!E:E)","v":852},{"$f":"_xlfn.XLOOKUP(A938,'Lighting Prices'!A:A,'Lighting Prices'!E:E)","v":{"$error":"#N/A"}}]
["@LK-EMS-BH6B2",{"$f":"_xlfn.XLOOKUP(A939,'Prices Furniture'!A:A,'Prices Furniture'!E:E)","v":800},{"$f":"_xlfn.XLOOKUP(A939,'Lighting Prices'!A:A,'Lighting Prices'!E:E)","v":{"$error":"#N/A"}}]
["@LK-EMS-BH60S",{"$f":"_xlfn.XLOOKUP(A940,'Prices Furniture'!A:A,'Prices Furniture'!E:E)","v":365},{"$f":"_xlfn.XLOOKUP(A940,'Lighting Prices'!A:A,'Lighting Prices'!E:E)","v":{"$error":"#N/A"}}]
["@LK-EMS-BH70",{"$f":"_xlfn.XLOOKUP(A941,'Prices Furniture'!A:A,'Prices Furniture'!E:E)","v":388},{"$f":"_xlfn.XLOOKUP(A941,'Lighting Prices'!A:A,'Lighting Prices'!E:E)","v":{"$error":"#N/A"}}]
["@LK-EMS-BH80",{"$f":"_xlfn.XLOOKUP(A942,'Prices Furniture'!A:A,'Prices Furniture'!E:E)","v":394},{"$f":"_xlfn.XLOOKUP(A942,'Lighting Prices'!A:A,'Lighting Prices'!E:E)","v":{"$error":"#N/A"}}]
["@LK-EMS-BH80S",{"$f":"_xlfn.XLOOKUP(A943,'Prices Furniture'!A:A,'Prices Furniture'!E:E)","v":440},{"$f":"_xlfn.XLOOKUP(A943,'Lighting Prices'!A:A,'Lighting Prices'!E:E)","v":{"$error":"#N/A"}}]
["@LK-EMS-BH90",{"$f":"_xlfn.XLOOKUP(A944,'Prices Furniture'!A:A,'Prices Furniture'!E:E)","v":418},{"$f":"_xlfn.XLOOKUP(A944,'Lighting Prices'!A:A,'Lighting Prices'!E:E)","v":{"$error":"#N/A"}}]
["@LK-EMS-BH90S",{"$f":"_xlfn.XLOOKUP(A945,'Prices Furniture'!A:A,'Prices Furniture'!E:E)","v":464},{"$f":"_xlfn.XLOOKUP(A945,'Lighting Prices'!A:A,'Lighting Prices'!E:E)","v":{"$error":"#N/A"}}]
["@LK-EMS-BH100",{"$f":"_xlfn.XLOOKUP(A946,'Prices Furniture'!A:A,'Prices Furniture'!E:E)","v":439},{"$f":"_xlfn.XLOOKUP(A946,'Lighting Prices'!A:A,'Lighting Prices'!E:E)","v":{"$error":"#N/A"}}]
["@LK-EMS-BH10S",{"$f":"_xlfn.XLOOKUP(A947,'Prices Furniture'!A:A,'Prices Furniture'!E:E)","v":485},{"$f":"_xlfn.XLOOKUP(A947,'Lighting Prices'!A:A,'Lighting Prices'!E:E)","v":{"$error":"#N/A"}}]
["@LK-EMS-BC83",{"$f":"_xlfn.XLOOKUP(A948,'Prices Furniture'!A:A,'Prices Furniture'!E:E)","v":374},{"$f":"_xlfn.XLOOKUP(A948,'Lighting Prices'!A:A,'Lighting Prices'!E:E)","v":{"$error":"#N/A"}}]
["@LK-EMS-BC84",{"$f":"_xlfn.XLOOKUP(A949,'Prices Furniture'!A:A,'Prices Furniture'!E:E)","v":380},{"$f":"_xlfn.XLOOKUP(A949,'Lighting Prices'!A:A,'Lighting Prices'!E:E)","v":{"$error":"#N/A"}}]
["@LK-EMS-BC845",{"$f":"_xlfn.XLOOKUP(A950,'Prices Furniture'!A:A,'Prices Furniture'!E:E)","v":392},{"$f":"_xlfn.XLOOKUP(A950,'Lighting Prices'!A:A,'Lighting Prices'!E:E)","v":{"$error":"#N/A"}}]
["@LK-EMS-BC945",{"$f":"_xlfn.XLOOKUP(A951,'Prices Furniture'!A:A,'Prices Furniture'!E:E)","v":390},{"$f":"_xlfn.XLOOKUP(A951,'Lighting Prices'!A:A,'Lighting Prices'!E:E)","v":{"$error":"#N/A"}}]
["@LK-EMS-BC145",{"$f":"_xlfn.XLOOKUP(A952,'Prices Furniture'!A:A,'Prices Furniture'!E:E)","v":397},{"$f":"_xlfn.XLOOKUP(A952,'Lighting Prices'!A:A,'Lighting Prices'!E:E)","v":{"$error":"#N/A"}}]
["@LK-EMS-BC15",{"$f":"_xlfn.XLOOKUP(A953,'Prices Furniture'!A:A,'Prices Furniture'!E:E)","v":405},{"$f":"_xlfn.XLOOKUP(A953,'Lighting Prices'!A:A,'Lighting Prices'!E:E)","v":{"$error":"#N/A"}}]
["@LK-EMS-BC16",{"$f":"_xlfn.XLOOKUP(A954,'Prices Furniture'!A:A,'Prices Furniture'!E:E)","v":421},{"$f":"_xlfn.XLOOKUP(A954,'Lighting Prices'!A:A,'Lighting Prices'!E:E)","v":{"$error":"#N/A"}}]
["@LK-EMS-BCL15L",{"$f":"_xlfn.XLOOKUP(A955,'Prices Furniture'!A:A,'Prices Furniture'!E:E)","v":1270},{"$f":"_xlfn.XLOOKUP(A955,'Lighting Prices'!A:A,'Lighting Prices'!E:E)","v":{"$error":"#N/A"}}]
["@LK-EMS-BCL15R",{"$f":"_xlfn.XLOOKUP(A956,'Prices Furniture'!A:A,'Prices Furniture'!E:E)","v":1270},{"$f":"_xlfn.XLOOKUP(A956,'Lighting Prices'!A:A,'Lighting Prices'!E:E)","v":{"$error":"#N/A"}}]
["@LK-EMS-BCL16L",{"$f":"_xlfn.XLOOKUP(A957,'Prices Furniture'!A:A,'Prices Furniture'!E:E)","v":1349},{"$f":"_xlfn.XLOOKUP(A957,'Lighting Prices'!A:A,'Lighting Prices'!E:E)","v":{"$error":"#N/A"}}]
["@LK-EMS-BCL16R",{"$f":"_xlfn.XLOOKUP(A958,'Prices Furniture'!A:A,'Prices Furniture'!E:E)","v":1349},{"$f":"_xlfn.XLOOKUP(A958,'Lighting Prices'!A:A,'Lighting Prices'!E:E)","v":{"$error":"#N/A"}}]
["@LK-EMS-BCO945",{"$f":"_xlfn.XLOOKUP(A959,'Prices Furniture'!A:A,'Prices Furniture'!E:E)","v":1402},{"$f":"_xlfn.XLOOKUP(A959,'Lighting Prices'!A:A,'Lighting Prices'!E:E)","v":{"$error":"#N/A"}}]
["@LK-EMS-BCO145",{"$f":"_xlfn.XLOOKUP(A960,'Prices Furniture'!A:A,'Prices Furniture'!E:E)","v":1407},{"$f":"_xlfn.XLOOKUP(A960,'Lighting Prices'!A:A,'Lighting Prices'!E:E)","v":{"$error":"#N/A"}}]
["@LK-EMS-BCO15",{"$f":"_xlfn.XLOOKUP(A961,'Prices Furniture'!A:A,'Prices Furniture'!E:E)","v":1415},{"$f":"_xlfn.XLOOKUP(A961,'Lighting Prices'!A:A,'Lighting Prices'!E:E)","v":{"$error":"#N/A"}}]
["@LK-EMS-BCO16",{"$f":"_xlfn.XLOOKUP(A962,'Prices Furniture'!A:A,'Prices Furniture'!E:E)","v":1431},{"$f":"_xlfn.XLOOKUP(A962,'Lighting Prices'!A:A,'Lighting Prices'!E:E)","v":{"$error":"#N/A"}}]
["@LK-EMS-BCL9",{"$f":"_xlfn.XLOOKUP(A963,'Prices Furniture'!A:A,'Prices Furniture'!E:E)","v":618},{"$f":"_xlfn.XLOOKUP(A963,'Lighting Prices'!A:A,'Lighting Prices'!E:E)","v":{"$error":"#N/A"}}]
["@LK-EMS-BSU6495",{"$f":"_xlfn.XLOOKUP(A964,'Prices Furniture'!A:A,'Prices Furniture'!E:E)","v":285},{"$f":"_xlfn.XLOOKUP(A964,'Lighting Prices'!A:A,'Lighting Prices'!E:E)","v":{"$error":"#N/A"}}]
["@LK-EMS-BSU6450",{"$f":"_xlfn.XLOOKUP(A965,'Prices Furniture'!A:A,'Prices Furniture'!E:E)","v":283},{"$f":"_xlfn.XLOOKUP(A965,'Lighting Prices'!A:A,'Lighting Prices'!E:E)","v":{"$error":"#N/A"}}]
["@LK-EMS-BD54",{"$f":"_xlfn.XLOOKUP(A966,'Prices Furniture'!A:A,'Prices Furniture'!E:E)","v":846},{"$f":"_xlfn.XLOOKUP(A966,'Lighting Prices'!A:A,'Lighting Prices'!E:E)","v":{"$error":"#N/A"}}]
["@LK-EMS-BD53",{"$f":"_xlfn.XLOOKUP(A967,'Prices Furniture'!A:A,'Prices Furniture'!E:E)","v":714},{"$f":"_xlfn.XLOOKUP(A967,'Lighting Prices'!A:A,'Lighting Prices'!E:E)","v":{"$error":"#N/A"}}]
["@LK-EMS-BD63",{"$f":"_xlfn.XLOOKUP(A968,'Prices Furniture'!A:A,'Prices Furniture'!E:E)","v":806},{"$f":"_xlfn.XLOOKUP(A968,'Lighting Prices'!A:A,'Lighting Prices'!E:E)","v":{"$error":"#N/A"}}]
["@LK-EMS-BD83",{"$f":"_xlfn.XLOOKUP(A969,'Prices Furniture'!A:A,'Prices Furniture'!E:E)","v":813},{"$f":"_xlfn.XLOOKUP(A969,'Lighting Prices'!A:A,'Lighting Prices'!E:E)","v":{"$error":"#N/A"}}]
["@LK-EMS-BD93",{"$f":"_xlfn.XLOOKUP(A970,'Prices Furniture'!A:A,'Prices Furniture'!E:E)","v":828},{"$f":"_xlfn.XLOOKUP(A970,'Lighting Prices'!A:A,'Lighting Prices'!E:E)","v":{"$error":"#N/A"}}]
["@LK-EMS-BD13",{"$f":"_xlfn.XLOOKUP(A971,'Prices Furniture'!A:A,'Prices Furniture'!E:E)","v":845},{"$f":"_xlfn.XLOOKUP(A971,'Lighting Prices'!A:A,'Lighting Prices'!E:E)","v":{"$error":"#N/A"}}]
["@LK-EMS-BD62",{"$f":"_xlfn.XLOOKUP(A972,'Prices Furniture'!A:A,'Prices Furniture'!E:E)","v":683},{"$f":"_xlfn.XLOOKUP(A972,'Lighting Prices'!A:A,'Lighting Prices'!E:E)","v":{"$error":"#N/A"}}]
["@LK-EMS-BD92",{"$f":"_xlfn.XLOOKUP(A973,'Prices Furniture'!A:A,'Prices Furniture'!E:E)","v":700},{"$f":"_xlfn.XLOOKUP(A973,'Lighting Prices'!A:A,'Lighting Prices'!E:E)","v":{"$error":"#N/A"}}]
["@LK-EMS-BD62I",{"$f":"_xlfn.XLOOKUP(A974,'Prices Furniture'!A:A,'Prices Furniture'!E:E)","v":859},{"$f":"_xlfn.XLOOKUP(A974,'Lighting Prices'!A:A,'Lighting Prices'!E:E)","v":{"$error":"#N/A"}}]
["@LK-EMS-BD92I",{"$f":"_xlfn.XLOOKUP(A975,'Prices Furniture'!A:A,'Prices Furniture'!E:E)","v":901},{"$f":"_xlfn.XLOOKUP(A975,'Lighting Prices'!A:A,'Lighting Prices'!E:E)","v":{"$error":"#N/A"}}]
["@LK-EMS-BD635L",{"$f":"_xlfn.XLOOKUP(A976,'Prices Furniture'!A:A,'Prices Furniture'!E:E)","v":384},{"$f":"_xlfn.XLOOKUP(A976,'Lighting Prices'!A:A,'Lighting Prices'!E:E)","v":{"$error":"#N/A"}}]
["@LK-EMS-W30",{"$f":"_xlfn.XLOOKUP(A977,'Prices Furniture'!A:A,'Prices Furniture'!E:E)","v":221},{"$f":"_xlfn.XLOOKUP(A977,'Lighting Prices'!A:A,'Lighting Prices'!E:E)","v":{"$error":"#N/A"}}]
["@LK-EMS-W35",{"$f":"_xlfn.XLOOKUP(A978,'Prices Furniture'!A:A,'Prices Furniture'!E:E)","v":227},{"$f":"_xlfn.XLOOKUP(A978,'Lighting Prices'!A:A,'Lighting Prices'!E:E)","v":{"$error":"#N/A"}}]
["@LK-EMS-W40",{"$f":"_xlfn.XLOOKUP(A979,'Prices Furniture'!A:A,'Prices Furniture'!E:E)","v":235},{"$f":"_xlfn.XLOOKUP(A979,'Lighting Prices'!A:A,'Lighting Prices'!E:E)","v":{"$error":"#N/A"}}]
["@LK-EMS-W45",{"$f":"_xlfn.XLOOKUP(A980,'Prices Furniture'!A:A,'Prices Furniture'!E:E)","v":252},{"$f":"_xlfn.XLOOKUP(A980,'Lighting Prices'!A:A,'Lighting Prices'!E:E)","v":{"$error":"#N/A"}}]
["@LK-EMS-W50",{"$f":"_xlfn.XLOOKUP(A981,'Prices Furniture'!A:A,'Prices Furniture'!E:E)","v":266},{"$f":"_xlfn.XLOOKUP(A981,'Lighting Prices'!A:A,'Lighting Prices'!E:E)","v":{"$error":"#N/A"}}]
["@LK-EMS-W60",{"$f":"_xlfn.XLOOKUP(A982,'Prices Furniture'!A:A,'Prices Furniture'!E:E)","v":290},{"$f":"_xlfn.XLOOKUP(A982,'Lighting Prices'!A:A,'Lighting Prices'!E:E)","v":{"$error":"#N/A"}}]
["@LK-EMS-W70",{"$f":"_xlfn.XLOOKUP(A983,'Prices Furniture'!A:A,'Prices Furniture'!E:E)","v":383},{"$f":"_xlfn.XLOOKUP(A983,'Lighting Prices'!A:A,'Lighting Prices'!E:E)","v":{"$error":"#N/A"}}]
["@LK-EMS-W80",{"$f":"_xlfn.XLOOKUP(A984,'Prices Furniture'!A:A,'Prices Furniture'!E:E)","v":389},{"$f":"_xlfn.XLOOKUP(A984,'Lighting Prices'!A:A,'Lighting Prices'!E:E)","v":{"$error":"#N/A"}}]
["@LK-EMS-W90",{"$f":"_xlfn.XLOOKUP(A985,'Prices Furniture'!A:A,'Prices Furniture'!E:E)","v":409},{"$f":"_xlfn.XLOOKUP(A985,'Lighting Prices'!A:A,'Lighting Prices'!E:E)","v":{"$error":"#N/A"}}]
["@LK-EMS-W100",{"$f":"_xlfn.XLOOKUP(A986,'Prices Furniture'!A:A,'Prices Furniture'!E:E)","v":434},{"$f":"_xlfn.XLOOKUP(A986,'Lighting Prices'!A:A,'Lighting Prices'!E:E)","v":{"$error":"#N/A"}}]
["@LK-EMS-WC6",{"$f":"_xlfn.XLOOKUP(A987,'Prices Furniture'!A:A,'Prices Furniture'!E:E)","v":309},{"$f":"_xlfn.XLOOKUP(A987,'Lighting Prices'!A:A,'Lighting Prices'!E:E)","v":{"$error":"#N/A"}}]
["@LK-EMS-WC9",{"$f":"_xlfn.XLOOKUP(A988,'Prices Furniture'!A:A,'Prices Furniture'!E:E)","v":371},{"$f":"_xlfn.XLOOKUP(A988,'Lighting Prices'!A:A,'Lighting Prices'!E:E)","v":{"$error":"#N/A"}}]
["@LK-EMS-WCL65",{"$f":"_xlfn.XLOOKUP(A989,'Prices Furniture'!A:A,'Prices Furniture'!E:E)","v":553},{"$f":"_xlfn.XLOOKUP(A989,'Lighting Prices'!A:A,'Lighting Prices'!E:E)","v":{"$error":"#N/A"}}]
["@LK-EMS-WM60",{"$f":"_xlfn.XLOOKUP(A990,'Prices Furniture'!A:A,'Prices Furniture'!E:E)","v":361},{"$f":"_xlfn.XLOOKUP(A990,'Lighting Prices'!A:A,'Lighting Prices'!E:E)","v":{"$error":"#N/A"}}]
["@LK-EMS-WBHU",{"$f":"_xlfn.XLOOKUP(A991,'Prices Furniture'!A:A,'Prices Furniture'!E:E)","v":282},{"$f":"_xlfn.XLOOKUP(A991,'Lighting Prices'!A:A,'Lighting Prices'!E:E)","v":{"$error":"#N/A"}}]
["@LK-EMS-WBI60",{"$f":"_xlfn.XLOOKUP(A992,'Prices Furniture'!A:A,'Prices Furniture'!E:E)","v":663},{"$f":"_xlfn.XLOOKUP(A992,'Lighting Prices'!A:A,'Lighting Prices'!E:E)","v":{"$error":"#N/A"}}]
["@LK-EMS-WBI90",{"$f":"_xlfn.XLOOKUP(A993,'Prices Furniture'!A:A,'Prices Furniture'!E:E)","v":695},{"$f":"_xlfn.XLOOKUP(A993,'Lighting Prices'!A:A,'Lighting Prices'!E:E)","v":{"$error":"#N/A"}}]
["@LK-EMS-WGS5",{"$f":"_xlfn.XLOOKUP(A994,'Prices Furniture'!A:A,'Prices Furniture'!E:E)","v":434},{"$f":"_xlfn.XLOOKUP(A994,'Lighting Prices'!A:A,'Lighting Prices'!E:E)","v":{"$error":"#N/A"}}]
["@LK-EMS-WGS6",{"$f":"_xlfn.XLOOKUP(A995,'Prices Furniture'!A:A,'Prices Furniture'!E:E)","v":476},{"$f":"_xlfn.XLOOKUP(A995,'Lighting Prices'!A:A,'Lighting Prices'!E:E)","v":{"$error":"#N/A"}}]
["@LK-EMS-WGR5",{"$f":"_xlfn.XLOOKUP(A996,'Prices Furniture'!A:A,'Prices Furniture'!E:E)","v":434},{"$f":"_xlfn.XLOOKUP(A996,'Lighting Prices'!A:A,'Lighting Prices'!E:E)","v":{"$error":"#N/A"}}]
["@LK-EMS-WGR6",{"$f":"_xlfn.XLOOKUP(A997,'Prices Furniture'!A:A,'Prices Furniture'!E:E)","v":476},{"$f":"_xlfn.XLOOKUP(A997,'Lighting Prices'!A:A,'Lighting Prices'!E:E)","v":{"$error":"#N/A"}}]
["@LK-EMS-WB62",{"$f":"_xlfn.XLOOKUP(A998,'Prices Furniture'!A:A,'Prices Furniture'!E:E)","v":237},{"$f":"_xlfn.XLOOKUP(A998,'Lighting Prices'!A:A,'Lighting Prices'!E:E)","v":{"$error":"#N/A"}}]
["@LK-EMS-WB82",{"$f":"_xlfn.XLOOKUP(A999,'Prices Furniture'!A:A,'Prices Furniture'!E:E)","v":295},{"$f":"_xlfn.XLOOKUP(A999,'Lighting Prices'!A:A,'Lighting Prices'!E:E)","v":{"$error":"#N/A"}}]
["@LK-EMS-WB92",{"$f":"_xlfn.XLOOKUP(A1000,'Prices Furniture'!A:A,'Prices Furniture'!E:E)","v":312},{"$f":"_xlfn.XLOOKUP(A1000,'Lighting Prices'!A:A,'Lighting Prices'!E:E)","v":{"$error":"#N/A"}}]
["@LK-EMS-WB12",{"$f":"_xlfn.XLOOKUP(A1001,'Prices Furniture'!A:A,'Prices Furniture'!E:E)","v":338},{"$f":"_xlfn.XLOOKUP(A1001,'Lighting Prices'!A:A,'Lighting Prices'!E:E)","v":{"$error":"#N/A"}}]
["@LK-EMS-WB63",{"$f":"_xlfn.XLOOKUP(A1002,'Prices Furniture'!A:A,'Prices Furniture'!E:E)","v":295},{"$f":"_xlfn.XLOOKUP(A1002,'Lighting Prices'!A:A,'Lighting Prices'!E:E)","v":{"$error":"#N/A"}}]
["@LK-EMS-WB93",{"$f":"_xlfn.XLOOKUP(A1003,'Prices Furniture'!A:A,'Prices Furniture'!E:E)","v":344},{"$f":"_xlfn.XLOOKUP(A1003,'Lighting Prices'!A:A,'Lighting Prices'!E:E)","v":{"$error":"#N/A"}}]
["@LK-EMS-AH-F55",{"$f":"_xlfn.XLOOKUP(A1004,'Prices Furniture'!A:A,'Prices Furniture'!E:E)","v":735},{"$f":"_xlfn.XLOOKUP(A1004,'Lighting Prices'!A:A,'Lighting Prices'!E:E)","v":{"$error":"#N/A"}}]
["@LK-EMS-AH-F73",{"$f":"_xlfn.XLOOKUP(A1005,'Prices Furniture'!A:A,'Prices Furniture'!E:E)","v":711},{"$f":"_xlfn.XLOOKUP(A1005,'Lighting Prices'!A:A,'Lighting Prices'!E:E)","v":{"$error":"#N/A"}}]
["@LK-EMS-AH-DO",{"$f":"_xlfn.XLOOKUP(A1006,'Prices Furniture'!A:A,'Prices Furniture'!E:E)","v":731},{"$f":"_xlfn.XLOOKUP(A1006,'Lighting Prices'!A:A,'Lighting Prices'!E:E)","v":{"$error":"#N/A"}}]
["@LK-EMS-AH-DO2D",{"$f":"_xlfn.XLOOKUP(A1007,'Prices Furniture'!A:A,'Prices Furniture'!E:E)","v":1058},{"$f":"_xlfn.XLOOKUP(A1007,'Lighting Prices'!A:A,'Lighting Prices'!E:E)","v":{"$error":"#N/A"}}]
["@LK-EMS-AH-DMW",{"$f":"_xlfn.XLOOKUP(A1008,'Prices Furniture'!A:A,'Prices Furniture'!E:E)","v":927},{"$f":"_xlfn.XLOOKUP(A1008,'Lighting Prices'!A:A,'Lighting Prices'!E:E)","v":{"$error":"#N/A"}}]
["@LK-EMS-AH-SO",{"$f":"_xlfn.XLOOKUP(A1009,'Prices Furniture'!A:A,'Prices Furniture'!E:E)","v":750},{"$f":"_xlfn.XLOOKUP(A1009,'Lighting Prices'!A:A,'Lighting Prices'!E:E)","v":{"$error":"#N/A"}}]
["@LK-EMS-AH-SO1D",{"$f":"_xlfn.XLOOKUP(A1010,'Prices Furniture'!A:A,'Prices Furniture'!E:E)","v":896},{"$f":"_xlfn.XLOOKUP(A1010,'Lighting Prices'!A:A,'Lighting Prices'!E:E)","v":{"$error":"#N/A"}}]
["@LK-EMS-AH-SO2D",{"$f":"_xlfn.XLOOKUP(A1011,'Prices Furniture'!A:A,'Prices Furniture'!E:E)","v":1112},{"$f":"_xlfn.XLOOKUP(A1011,'Lighting Prices'!A:A,'Lighting Prices'!E:E)","v":{"$error":"#N/A"}}]
["@LK-EMS-AH-SO3D",{"$f":"_xlfn.XLOOKUP(A1012,'Prices Furniture'!A:A,'Prices Furniture'!E:E)","v":1261},{"$f":"_xlfn.XLOOKUP(A1012,'Lighting Prices'!A:A,'Lighting Prices'!E:E)","v":{"$error":"#N/A"}}]
["@LK-EMS-AH-SMW",{"$f":"_xlfn.XLOOKUP(A1013,'Prices Furniture'!A:A,'Prices Furniture'!E:E)","v":786},{"$f":"_xlfn.XLOOKUP(A1013,'Lighting Prices'!A:A,'Lighting Prices'!E:E)","v":{"$error":"#N/A"}}]
["@LK-EMS-AH-SM2D",{"$f":"_xlfn.XLOOKUP(A1014,'Prices Furniture'!A:A,'Prices Furniture'!E:E)","v":1074},{"$f":"_xlfn.XLOOKUP(A1014,'Lighting Prices'!A:A,'Lighting Prices'!E:E)","v":{"$error":"#N/A"}}]
["@LK-EMS-AH-CO",{"$f":"_xlfn.XLOOKUP(A1015,'Prices Furniture'!A:A,'Prices Furniture'!E:E)","v":823},{"$f":"_xlfn.XLOOKUP(A1015,'Lighting Prices'!A:A,'Lighting Prices'!E:E)","v":{"$error":"#N/A"}}]
["@LK-EMS-BOH6",{"$f":"_xlfn.XLOOKUP(A1016,'Prices Furniture'!A:A,'Prices Furniture'!E:E)","v":199},{"$f":"_xlfn.XLOOKUP(A1016,'Lighting Prices'!A:A,'Lighting Prices'!E:E)","v":{"$error":"#N/A"}}]
["@LK-EMS-BOHD6",{"$f":"_xlfn.XLOOKUP(A1017,'Prices Furniture'!A:A,'Prices Furniture'!E:E)","v":312},{"$f":"_xlfn.XLOOKUP(A1017,'Lighting Prices'!A:A,'Lighting Prices'!E:E)","v":{"$error":"#N/A"}}]
["@LK-EMS-L3",{"$f":"_xlfn.XLOOKUP(A1018,'Prices Furniture'!A:A,'Prices Furniture'!E:E)","v":663},{"$f":"_xlfn.XLOOKUP(A1018,'Lighting Prices'!A:A,'Lighting Prices'!E:E)","v":{"$error":"#N/A"}}]
["@LK-EMS-L5",{"$f":"_xlfn.XLOOKUP(A1019,'Prices Furniture'!A:A,'Prices Furniture'!E:E)","v":723},{"$f":"_xlfn.XLOOKUP(A1019,'Lighting Prices'!A:A,'Lighting Prices'!E:E)","v":{"$error":"#N/A"}}]
["@LK-EMS-L6",{"$f":"_xlfn.XLOOKUP(A1020,'Prices Furniture'!A:A,'Prices Furniture'!E:E)","v":794},{"$f":"_xlfn.XLOOKUP(A1020,'Lighting Prices'!A:A,'Lighting Prices'!E:E)","v":{"$error":"#N/A"}}]
["@LK-EMS-LP3",{"$f":"_xlfn.XLOOKUP(A1021,'Prices Furniture'!A:A,'Prices Furniture'!E:E)","v":1445},{"$f":"_xlfn.XLOOKUP(A1021,'Lighting Prices'!A:A,'Lighting Prices'!E:E)","v":{"$error":"#N/A"}}]
["@LK-EMS-LT3",{"$f":"_xlfn.XLOOKUP(A1022,'Prices Furniture'!A:A,'Prices Furniture'!E:E)","v":1764},{"$f":"_xlfn.XLOOKUP(A1022,'Lighting Prices'!A:A,'Lighting Prices'!E:E)","v":{"$error":"#N/A"}}]
["@LK-EMS-LT5",{"$f":"_xlfn.XLOOKUP(A1023,'Prices Furniture'!A:A,'Prices Furniture'!E:E)","v":1892},{"$f":"_xlfn.XLOOKUP(A1023,'Lighting Prices'!A:A,'Lighting Prices'!E:E)","v":{"$error":"#N/A"}}]
["@LK-EMS-LT6",{"$f":"_xlfn.XLOOKUP(A1024,'Prices Furniture'!A:A,'Prices Furniture'!E:E)","v":2029},{"$f":"_xlfn.XLOOKUP(A1024,'Lighting Prices'!A:A,'Lighting Prices'!E:E)","v":{"$error":"#N/A"}}]
["@LK-EMS-LP6T",{"$f":"_xlfn.XLOOKUP(A1025,'Prices Furniture'!A:A,'Prices Furniture'!E:E)","v":1980},{"$f":"_xlfn.XLOOKUP(A1025,'Lighting Prices'!A:A,'Lighting Prices'!E:E)","v":{"$error":"#N/A"}}]
["@LK-EMS-LP5TS",{"$f":"_xlfn.XLOOKUP(A1026,'Prices Furniture'!A:A,'Prices Furniture'!E:E)","v":1657},{"$f":"_xlfn.XLOOKUP(A1026,'Lighting Prices'!A:A,'Lighting Prices'!E:E)","v":{"$error":"#N/A"}}]
["@LK-EMS-LP6TS",{"$f":"_xlfn.XLOOKUP(A1027,'Prices Furniture'!A:A,'Prices Furniture'!E:E)","v":1781},{"$f":"_xlfn.XLOOKUP(A1027,'Lighting Prices'!A:A,'Lighting Prices'!E:E)","v":{"$error":"#N/A"}}]
["@LK-EMS-LAC",{"$f":"_xlfn.XLOOKUP(A1028,'Prices Furniture'!A:A,'Prices Furniture'!E:E)","v":2084},{"$f":"_xlfn.XLOOKUP(A1028,'Lighting Prices'!A:A,'Lighting Prices'!E:E)","v":{"$error":"#N/A"}}]
["@LK-EMS-LPN14D",{"$f":"_xlfn.XLOOKUP(A1029,'Prices Furniture'!A:A,'Prices Furniture'!E:E)","v":1124},{"$f":"_xlfn.XLOOKUP(A1029,'Lighting Prices'!A:A,'Lighting Prices'!E:E)","v":{"$error":"#N/A"}}]
["@LK-EMS-LPN12D3DW",{"$f":"_xlfn.XLOOKUP(A1030,'Prices Furniture'!A:A,'Prices Furniture'!E:E)","v":1523},{"$f":"_xlfn.XLOOKUP(A1030,'Lighting Prices'!A:A,'Lighting Prices'!E:E)","v":{"$error":"#N/A"}}]
["@LK-EMS-LPN12D2DW",{"$f":"_xlfn.XLOOKUP(A1031,'Prices Furniture'!A:A,'Prices Furniture'!E:E)","v":1392},{"$f":"_xlfn.XLOOKUP(A1031,'Lighting Prices'!A:A,'Lighting Prices'!E:E)","v":{"$error":"#N/A"}}]
["@LK-EMS-LBC15",{"$f":"_xlfn.XLOOKUP(A1032,'Prices Furniture'!A:A,'Prices Furniture'!E:E)","v":944},{"$f":"_xlfn.XLOOKUP(A1032,'Lighting Prices'!A:A,'Lighting Prices'!E:E)","v":{"$error":"#N/A"}}]
["@LK-EMS-LBC16",{"$f":"_xlfn.XLOOKUP(A1033,'Prices Furniture'!A:A,'Prices Furniture'!E:E)","v":970},{"$f":"_xlfn.XLOOKUP(A1033,'Lighting Prices'!A:A,'Lighting Prices'!E:E)","v":{"$error":"#N/A"}}]
["@LK-EMS-LBCLM15L",{"$f":"_xlfn.XLOOKUP(A1034,'Prices Furniture'!A:A,'Prices Furniture'!E:E)","v":2782},{"$f":"_xlfn.XLOOKUP(A1034,'Lighting Prices'!A:A,'Lighting Prices'!E:E)","v":{"$error":"#N/A"}}]
["@LK-EMS-LBCLM15R",{"$f":"_xlfn.XLOOKUP(A1035,'Prices Furniture'!A:A,'Prices Furniture'!E:E)","v":2782},{"$f":"_xlfn.XLOOKUP(A1035,'Lighting Prices'!A:A,'Lighting Prices'!E:E)","v":{"$error":"#N/A"}}]
["@LK-EMS-LBCLM16L",{"$f":"_xlfn.XLOOKUP(A1036,'Prices Furniture'!A:A,'Prices Furniture'!E:E)","v":2934},{"$f":"_xlfn.XLOOKUP(A1036,'Lighting Prices'!A:A,'Lighting Prices'!E:E)","v":{"$error":"#N/A"}}]
["@LK-EMS-LBCLM16R",{"$f":"_xlfn.XLOOKUP(A1037,'Prices Furniture'!A:A,'Prices Furniture'!E:E)","v":2934},{"$f":"_xlfn.XLOOKUP(A1037,'Lighting Prices'!A:A,'Lighting Prices'!E:E)","v":{"$error":"#N/A"}}]
["@LK-EMS-LL6EA",{"$f":"_xlfn.XLOOKUP(A1038,'Prices Furniture'!A:A,'Prices Furniture'!E:E)","v":836},{"$f":"_xlfn.XLOOKUP(A1038,'Lighting Prices'!A:A,'Lighting Prices'!E:E)","v":{"$error":"#N/A"}}]
["@LK-EMS-LL6CU",{"$f":"_xlfn.XLOOKUP(A1039,'Prices Furniture'!A:A,'Prices Furniture'!E:E)","v":786},{"$f":"_xlfn.XLOOKUP(A1039,'Lighting Prices'!A:A,'Lighting Prices'!E:E)","v":{"$error":"#N/A"}}]
["@LK-EMS-LL10CU",{"$f":"_xlfn.XLOOKUP(A1040,'Prices Furniture'!A:A,'Prices Furniture'!E:E)","v":1235},{"$f":"_xlfn.XLOOKUP(A1040,'Lighting Prices'!A:A,'Lighting Prices'!E:E)","v":{"$error":"#N/A"}}]
["@LK-EMS-LL10CUS",{"$f":"_xlfn.XLOOKUP(A1041,'Prices Furniture'!A:A,'Prices Furniture'!E:E)","v":1334},{"$f":"_xlfn.XLOOKUP(A1041,'Lighting Prices'!A:A,'Lighting Prices'!E:E)","v":{"$error":"#N/A"}}]
["@LK-EMS-LL10CB",{"$f":"_xlfn.XLOOKUP(A1042,'Prices Furniture'!A:A,'Prices Furniture'!E:E)","v":1245},{"$f":"_xlfn.XLOOKUP(A1042,'Lighting Prices'!A:A,'Lighting Prices'!E:E)","v":{"$error":"#N/A"}}]
["@LK-EMS-AD60ICH",{"$f":"_xlfn.XLOOKUP(A1043,'Prices Furniture'!A:A,'Prices Furniture'!E:E)","v":95},{"$f":"_xlfn.XLOOKUP(A1043,'Lighting Prices'!A:A,'Lighting Prices'!E:E)","v":{"$error":"#N/A"}}]
["@LK-EMS-AD60FD",{"$f":"_xlfn.XLOOKUP(A1044,'Prices Furniture'!A:A,'Prices Furniture'!E:E)","v":131},{"$f":"_xlfn.XLOOKUP(A1044,'Lighting Prices'!A:A,'Lighting Prices'!E:E)","v":{"$error":"#N/A"}}]
["@LK-EMS-AD45I",{"$f":"_xlfn.XLOOKUP(A1045,'Prices Furniture'!A:A,'Prices Furniture'!E:E)","v":107},{"$f":"_xlfn.XLOOKUP(A1045,'Lighting Prices'!A:A,'Lighting Prices'!E:E)","v":{"$error":"#N/A"}}]
["@LK-EMS-AD60S",{"$f":"_xlfn.XLOOKUP(A1046,'Prices Furniture'!A:A,'Prices Furniture'!E:E)","v":129},{"$f":"_xlfn.XLOOKUP(A1046,'Lighting Prices'!A:A,'Lighting Prices'!E:E)","v":{"$error":"#N/A"}}]
["@LK-EMS-BLD9",{"$f":"_xlfn.XLOOKUP(A1047,'Prices Furniture'!A:A,'Prices Furniture'!E:E)","v":133},{"$f":"_xlfn.XLOOKUP(A1047,'Lighting Prices'!A:A,'Lighting Prices'!E:E)","v":{"$error":"#N/A"}}]
["@LK-EMS-CH-SO",{"$f":"_xlfn.XLOOKUP(A1048,'Prices Furniture'!A:A,'Prices Furniture'!E:E)","v":654},{"$f":"_xlfn.XLOOKUP(A1048,'Lighting Prices'!A:A,'Lighting Prices'!E:E)","v":{"$error":"#N/A"}}]
["@LK-EMS-CH-MW",{"$f":"_xlfn.XLOOKUP(A1049,'Prices Furniture'!A:A,'Prices Furniture'!E:E)","v":700},{"$f":"_xlfn.XLOOKUP(A1049,'Lighting Prices'!A:A,'Lighting Prices'!E:E)","v":{"$error":"#N/A"}}]
["@LK-EMS-CH-ST",{"$f":"_xlfn.XLOOKUP(A1050,'Prices Furniture'!A:A,'Prices Furniture'!E:E)","v":880},{"$f":"_xlfn.XLOOKUP(A1050,'Lighting Prices'!A:A,'Lighting Prices'!E:E)","v":{"$error":"#N/A"}}]
["@LK-EMS-TCH-SO",{"$f":"_xlfn.XLOOKUP(A1051,'Prices Furniture'!A:A,'Prices Furniture'!E:E)","v":846},{"$f":"_xlfn.XLOOKUP(A1051,'Lighting Prices'!A:A,'Lighting Prices'!E:E)","v":{"$error":"#N/A"}}]
["@LK-EMS-TCH-MW",{"$f":"_xlfn.XLOOKUP(A1052,'Prices Furniture'!A:A,'Prices Furniture'!E:E)","v":759},{"$f":"_xlfn.XLOOKUP(A1052,'Lighting Prices'!A:A,'Lighting Prices'!E:E)","v":{"$error":"#N/A"}}]
["@LK-EMS-TCH-ST",{"$f":"_xlfn.XLOOKUP(A1053,'Prices Furniture'!A:A,'Prices Furniture'!E:E)","v":918},{"$f":"_xlfn.XLOOKUP(A1053,'Lighting Prices'!A:A,'Lighting Prices'!E:E)","v":{"$error":"#N/A"}}]
["@LK-EMS-AH-SOT",{"$f":"_xlfn.XLOOKUP(A1054,'Prices Furniture'!A:A,'Prices Furniture'!E:E)","v":876},{"$f":"_xlfn.XLOOKUP(A1054,'Lighting Prices'!A:A,'Lighting Prices'!E:E)","v":{"$error":"#N/A"}}]
["@LK-EMS-LP5T",{"$f":"_xlfn.XLOOKUP(A1055,'Prices Furniture'!A:A,'Prices Furniture'!E:E)","v":1915},{"$f":"_xlfn.XLOOKUP(A1055,'Lighting Prices'!A:A,'Lighting Prices'!E:E)","v":{"$error":"#N/A"}}]
["@LK-EMS-LL8LS",{"$f":"_xlfn.XLOOKUP(A1056,'Prices Furniture'!A:A,'Prices Furniture'!E:E)","v":1364},{"$f":"_xlfn.XLOOKUP(A1056,'Lighting Prices'!A:A,'Lighting Prices'!E:E)","v":{"$error":"#N/A"}}]
["@LK-EMS-BHD3",{"$f":"_xlfn.XLOOKUP(A1057,'Prices Furniture'!A:A,'Prices Furniture'!E:E)","v":628},{"$f":"_xlfn.XLOOKUP(A1057,'Lighting Prices'!A:A,'Lighting Prices'!E:E)","v":{"$error":"#N/A"}}]
["@LK-EMS-BHD4",{"$f":"_xlfn.XLOOKUP(A1058,'Prices Furniture'!A:A,'Prices Furniture'!E:E)","v":677},{"$f":"_xlfn.XLOOKUP(A1058,'Lighting Prices'!A:A,'Lighting Prices'!E:E)","v":{"$error":"#N/A"}}]
["@LK-EMS-BHD5",{"$f":"_xlfn.XLOOKUP(A1059,'Prices Furniture'!A:A,'Prices Furniture'!E:E)","v":740},{"$f":"_xlfn.XLOOKUP(A1059,'Lighting Prices'!A:A,'Lighting Prices'!E:E)","v":{"$error":"#N/A"}}]
["@LK-EMS-BHD6",{"$f":"_xlfn.XLOOKUP(A1060,'Prices Furniture'!A:A,'Prices Furniture'!E:E)","v":796},{"$f":"_xlfn.XLOOKUP(A1060,'Lighting Prices'!A:A,'Lighting Prices'!E:E)","v":{"$error":"#N/A"}}]
["LK-A-EMS-WREP72",{"$f":"_xlfn.XLOOKUP(A1061,'Prices Furniture'!A:A,'Prices Furniture'!E:E)","v":77},{"$f":"_xlfn.XLOOKUP(A1061,'Lighting Prices'!A:A,'Lighting Prices'!E:E)","v":{"$error":"#N/A"}}]
["LK-A-EMS-PWEP72",{"$f":"_xlfn.XLOOKUP(A1062,'Prices Furniture'!A:A,'Prices Furniture'!E:E)","v":92},{"$f":"_xlfn.XLOOKUP(A1062,'Lighting Prices'!A:A,'Lighting Prices'!E:E)","v":{"$error":"#N/A"}}]
["LK-A-EMS-PWEP20",{"$f":"_xlfn.XLOOKUP(A1063,'Prices Furniture'!A:A,'Prices Furniture'!E:E)","v":200},{"$f":"_xlfn.XLOOKUP(A1063,'Lighting Prices'!A:A,'Lighting Prices'!E:E)","v":{"$error":"#N/A"}}]
["LK-A-EMS-ESP",{"$f":"_xlfn.XLOOKUP(A1064,'Prices Furniture'!A:A,'Prices Furniture'!E:E)","v":135},{"$f":"_xlfn.XLOOKUP(A1064,'Lighting Prices'!A:A,'Lighting Prices'!E:E)","v":{"$error":"#N/A"}}]
["LK-A-EMS-LUP",{"$f":"_xlfn.XLOOKUP(A1065,'Prices Furniture'!A:A,'Prices Furniture'!E:E)","v":391},{"$f":"_xlfn.XLOOKUP(A1065,'Lighting Prices'!A:A,'Lighting Prices'!E:E)","v":{"$error":"#N/A"}}]
["LK-A-EMS-PTEP",{"$f":"_xlfn.XLOOKUP(A1066,'Prices Furniture'!A:A,'Prices Furniture'!E:E)","v":305},{"$f":"_xlfn.XLOOKUP(A1066,'Lighting Prices'!A:A,'Lighting Prices'!E:E)","v":{"$error":"#N/A"}}]
["LK-A-EMS-PL",{"$f":"_xlfn.XLOOKUP(A1067,'Prices Furniture'!A:A,'Prices Furniture'!E:E)","v":90},{"$f":"_xlfn.XLOOKUP(A1067,'Lighting Prices'!A:A,'Lighting Prices'!E:E)","v":{"$error":"#N/A"}}]
["LK-A-EMS-SCCRN",{"$f":"_xlfn.XLOOKUP(A1068,'Prices Furniture'!A:A,'Prices Furniture'!E:E)","v":113},{"$f":"_xlfn.XLOOKUP(A1068,'Lighting Prices'!A:A,'Lighting Prices'!E:E)","v":{"$error":"#N/A"}}]
["LK-A-EMS-BLPEL",{"$f":"_xlfn.XLOOKUP(A1069,'Prices Furniture'!A:A,'Prices Furniture'!E:E)","v":86},{"$f":"_xlfn.XLOOKUP(A1069,'Lighting Prices'!A:A,'Lighting Prices'!E:E)","v":{"$error":"#N/A"}}]
["LK-A-EMS-CVP",{"$f":"_xlfn.XLOOKUP(A1070,'Prices Furniture'!A:A,'Prices Furniture'!E:E)","v":123},{"$f":"_xlfn.XLOOKUP(A1070,'Lighting Prices'!A:A,'Lighting Prices'!E:E)","v":{"$error":"#N/A"}}]
["LK-A-EMS-CPBM",{"$f":"_xlfn.XLOOKUP(A1071,'Prices Furniture'!A:A,'Prices Furniture'!E:E)","v":109},{"$f":"_xlfn.XLOOKUP(A1071,'Lighting Prices'!A:A,'Lighting Prices'!E:E)","v":{"$error":"#N/A"}}]
["LK-A-EMS-CPBC",{"$f":"_xlfn.XLOOKUP(A1072,'Prices Furniture'!A:A,'Prices Furniture'!E:E)","v":116},{"$f":"_xlfn.XLOOKUP(A1072,'Lighting Prices'!A:A,'Lighting Prices'!E:E)","v":{"$error":"#N/A"}}]
["LK-A-EMS-ET",{"$f":"_xlfn.XLOOKUP(A1073,'Prices Furniture'!A:A,'Prices Furniture'!E:E)","v":37},{"$f":"_xlfn.XLOOKUP(A1073,'Lighting Prices'!A:A,'Lighting Prices'!E:E)","v":{"$error":"#N/A"}}]
["@LK-OPD-BP15TY",{"$f":"_xlfn.XLOOKUP(A1074,'Prices Furniture'!A:A,'Prices Furniture'!E:E)","v":408},{"$f":"_xlfn.XLOOKUP(A1074,'Lighting Prices'!A:A,'Lighting Prices'!E:E)","v":{"$error":"#N/A"}}]
["@LK-OPD-BP3TY",{"$f":"_xlfn.XLOOKUP(A1075,'Prices Furniture'!A:A,'Prices Furniture'!E:E)","v":634},{"$f":"_xlfn.XLOOKUP(A1075,'Lighting Prices'!A:A,'Lighting Prices'!E:E)","v":{"$error":"#N/A"}}]
["@LK-OPD-BH15",{"$f":"_xlfn.XLOOKUP(A1076,'Prices Furniture'!A:A,'Prices Furniture'!E:E)","v":228},{"$f":"_xlfn.XLOOKUP(A1076,'Lighting Prices'!A:A,'Lighting Prices'!E:E)","v":{"$error":"#N/A"}}]
["@LK-OPD-BH30",{"$f":"_xlfn.XLOOKUP(A1077,'Prices Furniture'!A:A,'Prices Furniture'!E:E)","v":239},{"$f":"_xlfn.XLOOKUP(A1077,'Lighting Prices'!A:A,'Lighting Prices'!E:E)","v":{"$error":"#N/A"}}]
["@LK-OPD-BH3B",{"$f":"_xlfn.XLOOKUP(A1078,'Prices Furniture'!A:A,'Prices Furniture'!E:E)","v":607},{"$f":"_xlfn.XLOOKUP(A1078,'Lighting Prices'!A:A,'Lighting Prices'!E:E)","v":{"$error":"#N/A"}}]
["@LK-OPD-BH35",{"$f":"_xlfn.XLOOKUP(A1079,'Prices Furniture'!A:A,'Prices Furniture'!E:E)","v":245},{"$f":"_xlfn.XLOOKUP(A1079,'Lighting Prices'!A:A,'Lighting Prices'!E:E)","v":{"$error":"#N/A"}}]
["@LK-OPD-BH40",{"$f":"_xlfn.XLOOKUP(A1080,'Prices Furniture'!A:A,'Prices Furniture'!E:E)","v":249},{"$f":"_xlfn.XLOOKUP(A1080,'Lighting Prices'!A:A,'Lighting Prices'!E:E)","v":{"$error":"#N/A"}}]
["@LK-OPD-BH4B",{"$f":"_xlfn.XLOOKUP(A1081,'Prices Furniture'!A:A,'Prices Furniture'!E:E)","v":682},{"$f":"_xlfn.XLOOKUP(A1081,'Lighting Prices'!A:A,'Lighting Prices'!E:E)","v":{"$error":"#N/A"}}]
["@LK-OPD-BH45",{"$f":"_xlfn.XLOOKUP(A1082,'Prices Furniture'!A:A,'Prices Furniture'!E:E)","v":272},{"$f":"_xlfn.XLOOKUP(A1082,'Lighting Prices'!A:A,'Lighting Prices'!E:E)","v":{"$error":"#N/A"}}]
["@LK-OPD-BH45B",{"$f":"_xlfn.XLOOKUP(A1083,'Prices Furniture'!A:A,'Prices Furniture'!E:E)","v":710},{"$f":"_xlfn.XLOOKUP(A1083,'Lighting Prices'!A:A,'Lighting Prices'!E:E)","v":{"$error":"#N/A"}}]
["@LK-OPD-BH50",{"$f":"_xlfn.XLOOKUP(A1084,'Prices Furniture'!A:A,'Prices Furniture'!E:E)","v":283},{"$f":"_xlfn.XLOOKUP(A1084,'Lighting Prices'!A:A,'Lighting Prices'!E:E)","v":{"$error":"#N/A"}}]
["@LK-OPD-BH5B",{"$f":"_xlfn.XLOOKUP(A1085,'Prices Furniture'!A:A,'Prices Furniture'!E:E)","v":727},{"$f":"_xlfn.XLOOKUP(A1085,'Lighting Prices'!A:A,'Lighting Prices'!E:E)","v":{"$error":"#N/A"}}]
["@LK-OPD-BH50S",{"$f":"_xlfn.XLOOKUP(A1086,'Prices Furniture'!A:A,'Prices Furniture'!E:E)","v":313},{"$f":"_xlfn.XLOOKUP(A1086,'Lighting Prices'!A:A,'Lighting Prices'!E:E)","v":{"$error":"#N/A"}}]
["@LK-OPD-BH60",{"$f":"_xlfn.XLOOKUP(A1087,'Prices Furniture'!A:A,'Prices Furniture'!E:E)","v":319},{"$f":"_xlfn.XLOOKUP(A1087,'Lighting Prices'!A:A,'Lighting Prices'!E:E)","v":{"$error":"#N/A"}}]
["@LK-OPD-BH6B4",{"$f":"_xlfn.XLOOKUP(A1088,'Prices Furniture'!A:A,'Prices Furniture'!E:E)","v":852},{"$f":"_xlfn.XLOOKUP(A1088,'Lighting Prices'!A:A,'Lighting Prices'!E:E)","v":{"$error":"#N/A"}}]
["@LK-OPD-BH6B2",{"$f":"_xlfn.XLOOKUP(A1089,'Prices Furniture'!A:A,'Prices Furniture'!E:E)","v":800},{"$f":"_xlfn.XLOOKUP(A1089,'Lighting Prices'!A:A,'Lighting Prices'!E:E)","v":{"$error":"#N/A"}}]
["@LK-OPD-BH60S",{"$f":"_xlfn.XLOOKUP(A1090,'Prices Furniture'!A:A,'Prices Furniture'!E:E)","v":365},{"$f":"_xlfn.XLOOKUP(A1090,'Lighting Prices'!A:A,'Lighting Prices'!E:E)","v":{"$error":"#N/A"}}]
["@LK-OPD-BH70",{"$f":"_xlfn.XLOOKUP(A1091,'Prices Furniture'!A:A,'Prices Furniture'!E:E)","v":388},{"$f":"_xlfn.XLOOKUP(A1091,'Lighting Prices'!A:A,'Lighting Prices'!E:E)","v":{"$error":"#N/A"}}]
["@LK-OPD-BH80",{"$f":"_xlfn.XLOOKUP(A1092,'Prices Furniture'!A:A,'Prices Furniture'!E:E)","v":394},{"$f":"_xlfn.XLOOKUP(A1092,'Lighting Prices'!A:A,'Lighting Prices'!E:E)","v":{"$error":"#N/A"}}]
["@LK-OPD-BH80S",{"$f":"_xlfn.XLOOKUP(A1093,'Prices Furniture'!A:A,'Prices Furniture'!E:E)","v":440},{"$f":"_xlfn.XLOOKUP(A1093,'Lighting Prices'!A:A,'Lighting Prices'!E:E)","v":{"$error":"#N/A"}}]
["@LK-OPD-BH90",{"$f":"_xlfn.XLOOKUP(A1094,'Prices Furniture'!A:A,'Prices Furniture'!E:E)","v":418},{"$f":"_xlfn.XLOOKUP(A1094,'Lighting Prices'!A:A,'Lighting Prices'!E:E)","v":{"$error":"#N/A"}}]
["@LK-OPD-BH90S",{"$f":"_xlfn.XLOOKUP(A1095,'Prices Furniture'!A:A,'Prices Furniture'!E:E)","v":464},{"$f":"_xlfn.XLOOKUP(A1095,'Lighting Prices'!A:A,'Lighting Prices'!E:E)","v":{"$error":"#N/A"}}]
["@LK-OPD-BH100",{"$f":"_xlfn.XLOOKUP(A1096,'Prices Furniture'!A:A,'Prices Furniture'!E:E)","v":439},{"$f":"_xlfn.XLOOKUP(A1096,'Lighting Prices'!A:A,'Lighting Prices'!E:E)","v":{"$error":"#N/A"}}]
["@LK-OPD-BH10S",{"$f":"_xlfn.XLOOKUP(A1097,'Prices Furniture'!A:A,'Prices Furniture'!E:E)","v":485},{"$f":"_xlfn.XLOOKUP(A1097,'Lighting Prices'!A:A,'Lighting Prices'!E:E)","v":{"$error":"#N/A"}}]
["@LK-OPD-BC83",{"$f":"_xlfn.XLOOKUP(A1098,'Prices Furniture'!A:A,'Prices Furniture'!E:E)","v":374},{"$f":"_xlfn.XLOOKUP(A1098,'Lighting Prices'!A:A,'Lighting Prices'!E:E)","v":{"$error":"#N/A"}}]
["@LK-OPD-BC84",{"$f":"_xlfn.XLOOKUP(A1099,'Prices Furniture'!A:A,'Prices Furniture'!E:E)","v":380},{"$f":"_xlfn.XLOOKUP(A1099,'Lighting Prices'!A:A,'Lighting Prices'!E:E)","v":{"$error":"#N/A"}}]
["@LK-OPD-BC845",{"$f":"_xlfn.XLOOKUP(A1100,'Prices Furniture'!A:A,'Prices Furniture'!E:E)","v":392},{"$f":"_xlfn.XLOOKUP(A1100,'Lighting Prices'!A:A,'Lighting Prices'!E:E)","v":{"$error":"#N/A"}}]
["@LK-OPD-BC945",{"$f":"_xlfn.XLOOKUP(A1101,'Prices Furniture'!A:A,'Prices Furniture'!E:E)","v":392},{"$f":"_xlfn.XLOOKUP(A1101,'Lighting Prices'!A:A,'Lighting Prices'!E:E)","v":{"$error":"#N/A"}}]
["@LK-OPD-BC145",{"$f":"_xlfn.XLOOKUP(A1102,'Prices Furniture'!A:A,'Prices Furniture'!E:E)","v":397},{"$f":"_xlfn.XLOOKUP(A1102,'Lighting Prices'!A:A,'Lighting Prices'!E:E)","v":{"$error":"#N/A"}}]
["@LK-OPD-BC15",{"$f":"_xlfn.XLOOKUP(A1103,'Prices Furniture'!A:A,'Prices Furniture'!E:E)","v":405},{"$f":"_xlfn.XLOOKUP(A1103,'Lighting Prices'!A:A,'Lighting Prices'!E:E)","v":{"$error":"#N/A"}}]
["@LK-OPD-BC16",{"$f":"_xlfn.XLOOKUP(A1104,'Prices Furniture'!A:A,'Prices Furniture'!E:E)","v":421},{"$f":"_xlfn.XLOOKUP(A1104,'Lighting Prices'!A:A,'Lighting Prices'!E:E)","v":{"$error":"#N/A"}}]
["@LK-OPD-BCL15L",{"$f":"_xlfn.XLOOKUP(A1105,'Prices Furniture'!A:A,'Prices Furniture'!E:E)","v":1270},{"$f":"_xlfn.XLOOKUP(A1105,'Lighting Prices'!A:A,'Lighting Prices'!E:E)","v":{"$error":"#N/A"}}]
["@LK-OPD-BCL15R",{"$f":"_xlfn.XLOOKUP(A1106,'Prices Furniture'!A:A,'Prices Furniture'!E:E)","v":1270},{"$f":"_xlfn.XLOOKUP(A1106,'Lighting Prices'!A:A,'Lighting Prices'!E:E)","v":{"$error":"#N/A"}}]
["@LK-OPD-BCL16L",{"$f":"_xlfn.XLOOKUP(A1107,'Prices Furniture'!A:A,'Prices Furniture'!E:E)","v":1349},{"$f":"_xlfn.XLOOKUP(A1107,'Lighting Prices'!A:A,'Lighting Prices'!E:E)","v":{"$error":"#N/A"}}]
["@LK-OPD-BCL16R",{"$f":"_xlfn.XLOOKUP(A1108,'Prices Furniture'!A:A,'Prices Furniture'!E:E)","v":1349},{"$f":"_xlfn.XLOOKUP(A1108,'Lighting Prices'!A:A,'Lighting Prices'!E:E)","v":{"$error":"#N/A"}}]
["@LK-OPD-BCO945",{"$f":"_xlfn.XLOOKUP(A1109,'Prices Furniture'!A:A,'Prices Furniture'!E:E)","v":1402},{"$f":"_xlfn.XLOOKUP(A1109,'Lighting Prices'!A:A,'Lighting Prices'!E:E)","v":{"$error":"#N/A"}}]
["@LK-OPD-BCO145",{"$f":"_xlfn.XLOOKUP(A1110,'Prices Furniture'!A:A,'Prices Furniture'!E:E)","v":1407},{"$f":"_xlfn.XLOOKUP(A1110,'Lighting Prices'!A:A,'Lighting Prices'!E:E)","v":{"$error":"#N/A"}}]
["@LK-OPD-BCO15",{"$f":"_xlfn.XLOOKUP(A1111,'Prices Furniture'!A:A,'Prices Furniture'!E:E)","v":1415},{"$f":"_xlfn.XLOOKUP(A1111,'Lighting Prices'!A:A,'Lighting Prices'!E:E)","v":{"$error":"#N/A"}}]
["@LK-OPD-BCO16",{"$f":"_xlfn.XLOOKUP(A1112,'Prices Furniture'!A:A,'Prices Furniture'!E:E)","v":1431},{"$f":"_xlfn.XLOOKUP(A1112,'Lighting Prices'!A:A,'Lighting Prices'!E:E)","v":{"$error":"#N/A"}}]
["@LK-OPD-BCL9",{"$f":"_xlfn.XLOOKUP(A1113,'Prices Furniture'!A:A,'Prices Furniture'!E:E)","v":618},{"$f":"_xlfn.XLOOKUP(A1113,'Lighting Prices'!A:A,'Lighting Prices'!E:E)","v":{"$error":"#N/A"}}]
["@LK-OPD-BSU6495",{"$f":"_xlfn.XLOOKUP(A1114,'Prices Furniture'!A:A,'Prices Furniture'!E:E)","v":285},{"$f":"_xlfn.XLOOKUP(A1114,'Lighting Prices'!A:A,'Lighting Prices'!E:E)","v":{"$error":"#N/A"}}]
["@LK-OPD-BSU6450",{"$f":"_xlfn.XLOOKUP(A1115,'Prices Furniture'!A:A,'Prices Furniture'!E:E)","v":283},{"$f":"_xlfn.XLOOKUP(A1115,'Lighting Prices'!A:A,'Lighting Prices'!E:E)","v":{"$error":"#N/A"}}]
["@LK-OPD-BD54",{"$f":"_xlfn.XLOOKUP(A1116,'Prices Furniture'!A:A,'Prices Furniture'!E:E)","v":846},{"$f":"_xlfn.XLOOKUP(A1116,'Lighting Prices'!A:A,'Lighting Prices'!E:E)","v":{"$error":"#N/A"}}]
["@LK-OPD-BD53",{"$f":"_xlfn.XLOOKUP(A1117,'Prices Furniture'!A:A,'Prices Furniture'!E:E)","v":714},{"$f":"_xlfn.XLOOKUP(A1117,'Lighting Prices'!A:A,'Lighting Prices'!E:E)","v":{"$error":"#N/A"}}]
["@LK-OPD-BD63",{"$f":"_xlfn.XLOOKUP(A1118,'Prices Furniture'!A:A,'Prices Furniture'!E:E)","v":806},{"$f":"_xlfn.XLOOKUP(A1118,'Lighting Prices'!A:A,'Lighting Prices'!E:E)","v":{"$error":"#N/A"}}]
["@LK-OPD-BD83",{"$f":"_xlfn.XLOOKUP(A1119,'Prices Furniture'!A:A,'Prices Furniture'!E:E)","v":813},{"$f":"_xlfn.XLOOKUP(A1119,'Lighting Prices'!A:A,'Lighting Prices'!E:E)","v":{"$error":"#N/A"}}]
["@LK-OPD-BD93",{"$f":"_xlfn.XLOOKUP(A1120,'Prices Furniture'!A:A,'Prices Furniture'!E:E)","v":828},{"$f":"_xlfn.XLOOKUP(A1120,'Lighting Prices'!A:A,'Lighting Prices'!E:E)","v":{"$error":"#N/A"}}]
["@LK-OPD-BD13",{"$f":"_xlfn.XLOOKUP(A1121,'Prices Furniture'!A:A,'Prices Furniture'!E:E)","v":845},{"$f":"_xlfn.XLOOKUP(A1121,'Lighting Prices'!A:A,'Lighting Prices'!E:E)","v":{"$error":"#N/A"}}]
["@LK-OPD-BD62",{"$f":"_xlfn.XLOOKUP(A1122,'Prices Furniture'!A:A,'Prices Furniture'!E:E)","v":683},{"$f":"_xlfn.XLOOKUP(A1122,'Lighting Prices'!A:A,'Lighting Prices'!E:E)","v":{"$error":"#N/A"}}]
["@LK-OPD-BD92",{"$f":"_xlfn.XLOOKUP(A1123,'Prices Furniture'!A:A,'Prices Furniture'!E:E)","v":700},{"$f":"_xlfn.XLOOKUP(A1123,'Lighting Prices'!A:A,'Lighting Prices'!E:E)","v":{"$error":"#N/A"}}]
["@LK-OPD-BD62I",{"$f":"_xlfn.XLOOKUP(A1124,'Prices Furniture'!A:A,'Prices Furniture'!E:E)","v":859},{"$f":"_xlfn.XLOOKUP(A1124,'Lighting Prices'!A:A,'Lighting Prices'!E:E)","v":{"$error":"#N/A"}}]
["@LK-OPD-BD92I",{"$f":"_xlfn.XLOOKUP(A1125,'Prices Furniture'!A:A,'Prices Furniture'!E:E)","v":901},{"$f":"_xlfn.XLOOKUP(A1125,'Lighting Prices'!A:A,'Lighting Prices'!E:E)","v":{"$error":"#N/A"}}]
["@LK-OPD-BD635L",{"$f":"_xlfn.XLOOKUP(A1126,'Prices Furniture'!A:A,'Prices Furniture'!E:E)","v":384},{"$f":"_xlfn.XLOOKUP(A1126,'Lighting Prices'!A:A,'Lighting Prices'!E:E)","v":{"$error":"#N/A"}}]
["@LK-OPD-W30",{"$f":"_xlfn.XLOOKUP(A1127,'Prices Furniture'!A:A,'Prices Furniture'!E:E)","v":221},{"$f":"_xlfn.XLOOKUP(A1127,'Lighting Prices'!A:A,'Lighting Prices'!E:E)","v":{"$error":"#N/A"}}]
["@LK-OPD-W35",{"$f":"_xlfn.XLOOKUP(A1128,'Prices Furniture'!A:A,'Prices Furniture'!E:E)","v":227},{"$f":"_xlfn.XLOOKUP(A1128,'Lighting Prices'!A:A,'Lighting Prices'!E:E)","v":{"$error":"#N/A"}}]
["@LK-OPD-W40",{"$f":"_xlfn.XLOOKUP(A1129,'Prices Furniture'!A:A,'Prices Furniture'!E:E)","v":235},{"$f":"_xlfn.XLOOKUP(A1129,'Lighting Prices'!A:A,'Lighting Prices'!E:E)","v":{"$error":"#N/A"}}]
["@LK-OPD-W45",{"$f":"_xlfn.XLOOKUP(A1130,'Prices Furniture'!A:A,'Prices Furniture'!E:E)","v":252},{"$f":"_xlfn.XLOOKUP(A1130,'Lighting Prices'!A:A,'Lighting Prices'!E:E)","v":{"$error":"#N/A"}}]
["@LK-OPD-W50",{"$f":"_xlfn.XLOOKUP(A1131,'Prices Furniture'!A:A,'Prices Furniture'!E:E)","v":266},{"$f":"_xlfn.XLOOKUP(A1131,'Lighting Prices'!A:A,'Lighting Prices'!E:E)","v":{"$error":"#N/A"}}]
["@LK-OPD-W60",{"$f":"_xlfn.XLOOKUP(A1132,'Prices Furniture'!A:A,'Prices Furniture'!E:E)","v":290},{"$f":"_xlfn.XLOOKUP(A1132,'Lighting Prices'!A:A,'Lighting Prices'!E:E)","v":{"$error":"#N/A"}}]
["@LK-OPD-W70",{"$f":"_xlfn.XLOOKUP(A1133,'Prices Furniture'!A:A,'Prices Furniture'!E:E)","v":383},{"$f":"_xlfn.XLOOKUP(A1133,'Lighting Prices'!A:A,'Lighting Prices'!E:E)","v":{"$error":"#N/A"}}]
["@LK-OPD-W80",{"$f":"_xlfn.XLOOKUP(A1134,'Prices Furniture'!A:A,'Prices Furniture'!E:E)","v":389},{"$f":"_xlfn.XLOOKUP(A1134,'Lighting Prices'!A:A,'Lighting Prices'!E:E)","v":{"$error":"#N/A"}}]
["@LK-OPD-W90",{"$f":"_xlfn.XLOOKUP(A1135,'Prices Furniture'!A:A,'Prices Furniture'!E:E)","v":409},{"$f":"_xlfn.XLOOKUP(A1135,'Lighting Prices'!A:A,'Lighting Prices'!E:E)","v":{"$error":"#N/A"}}]
["@LK-OPD-W100",{"$f":"_xlfn.XLOOKUP(A1136,'Prices Furniture'!A:A,'Prices Furniture'!E:E)","v":434},{"$f":"_xlfn.XLOOKUP(A1136,'Lighting Prices'!A:A,'Lighting Prices'!E:E)","v":{"$error":"#N/A"}}]
["@LK-OPD-WC6",{"$f":"_xlfn.XLOOKUP(A1137,'Prices Furniture'!A:A,'Prices Furniture'!E:E)","v":309},{"$f":"_xlfn.XLOOKUP(A1137,'Lighting Prices'!A:A,'Lighting Prices'!E:E)","v":{"$error":"#N/A"}}]
["@LK-OPD-WC9",{"$f":"_xlfn.XLOOKUP(A1138,'Prices Furniture'!A:A,'Prices Furniture'!E:E)","v":371},{"$f":"_xlfn.XLOOKUP(A1138,'Lighting Prices'!A:A,'Lighting Prices'!E:E)","v":{"$error":"#N/A"}}]
["@LK-OPD-WCL65",{"$f":"_xlfn.XLOOKUP(A1139,'Prices Furniture'!A:A,'Prices Furniture'!E:E)","v":553},{"$f":"_xlfn.XLOOKUP(A1139,'Lighting Prices'!A:A,'Lighting Prices'!E:E)","v":{"$error":"#N/A"}}]
["@LK-OPD-WM60",{"$f":"_xlfn.XLOOKUP(A1140,'Prices Furniture'!A:A,'Prices Furniture'!E:E)","v":361},{"$f":"_xlfn.XLOOKUP(A1140,'Lighting Prices'!A:A,'Lighting Prices'!E:E)","v":{"$error":"#N/A"}}]
["@LK-OPD-WBHU",{"$f":"_xlfn.XLOOKUP(A1141,'Prices Furniture'!A:A,'Prices Furniture'!E:E)","v":282},{"$f":"_xlfn.XLOOKUP(A1141,'Lighting Prices'!A:A,'Lighting Prices'!E:E)","v":{"$error":"#N/A"}}]
["@LK-OPD-WBI60",{"$f":"_xlfn.XLOOKUP(A1142,'Prices Furniture'!A:A,'Prices Furniture'!E:E)","v":663},{"$f":"_xlfn.XLOOKUP(A1142,'Lighting Prices'!A:A,'Lighting Prices'!E:E)","v":{"$error":"#N/A"}}]
["@LK-OPD-WBI90",{"$f":"_xlfn.XLOOKUP(A1143,'Prices Furniture'!A:A,'Prices Furniture'!E:E)","v":695},{"$f":"_xlfn.XLOOKUP(A1143,'Lighting Prices'!A:A,'Lighting Prices'!E:E)","v":{"$error":"#N/A"}}]
["@LK-OPD-WGS5",{"$f":"_xlfn.XLOOKUP(A1144,'Prices Furniture'!A:A,'Prices Furniture'!E:E)","v":434},{"$f":"_xlfn.XLOOKUP(A1144,'Lighting Prices'!A:A,'Lighting Prices'!E:E)","v":{"$error":"#N/A"}}]
["@LK-OPD-WGS6",{"$f":"_xlfn.XLOOKUP(A1145,'Prices Furniture'!A:A,'Prices Furniture'!E:E)","v":476},{"$f":"_xlfn.XLOOKUP(A1145,'Lighting Prices'!A:A,'Lighting Prices'!E:E)","v":{"$error":"#N/A"}}]
["@LK-OPD-WGR5",{"$f":"_xlfn.XLOOKUP(A1146,'Prices Furniture'!A:A,'Prices Furniture'!E:E)","v":434},{"$f":"_xlfn.XLOOKUP(A1146,'Lighting Prices'!A:A,'Lighting Prices'!E:E)","v":{"$error":"#N/A"}}]
["@LK-OPD-WGR6",{"$f":"_xlfn.XLOOKUP(A1147,'Prices Furniture'!A:A,'Prices Furniture'!E:E)","v":476},{"$f":"_xlfn.XLOOKUP(A1147,'Lighting Prices'!A:A,'Lighting Prices'!E:E)","v":{"$error":"#N/A"}}]
["@LK-OPD-WB62",{"$f":"_xlfn.XLOOKUP(A1148,'Prices Furniture'!A:A,'Prices Furniture'!E:E)","v":237},{"$f":"_xlfn.XLOOKUP(A1148,'Lighting Prices'!A:A,'Lighting Prices'!E:E)","v":{"$error":"#N/A"}}]
["@LK-OPD-WB82",{"$f":"_xlfn.XLOOKUP(A1149,'Prices Furniture'!A:A,'Prices Furniture'!E:E)","v":295},{"$f":"_xlfn.XLOOKUP(A1149,'Lighting Prices'!A:A,'Lighting Prices'!E:E)","v":{"$error":"#N/A"}}]
["@LK-OPD-WB92",{"$f":"_xlfn.XLOOKUP(A1150,'Prices Furniture'!A:A,'Prices Furniture'!E:E)","v":312},{"$f":"_xlfn.XLOOKUP(A1150,'Lighting Prices'!A:A,'Lighting Prices'!E:E)","v":{"$error":"#N/A"}}]
["@LK-OPD-WB12",{"$f":"_xlfn.XLOOKUP(A1151,'Prices Furniture'!A:A,'Prices Furniture'!E:E)","v":338},{"$f":"_xlfn.XLOOKUP(A1151,'Lighting Prices'!A:A,'Lighting Prices'!E:E)","v":{"$error":"#N/A"}}]
["@LK-OPD-WB63",{"$f":"_xlfn.XLOOKUP(A1152,'Prices Furniture'!A:A,'Prices Furniture'!E:E)","v":295},{"$f":"_xlfn.XLOOKUP(A1152,'Lighting Prices'!A:A,'Lighting Prices'!E:E)","v":{"$error":"#N/A"}}]
["@LK-OPD-WB93",{"$f":"_xlfn.XLOOKUP(A1153,'Prices Furniture'!A:A,'Prices Furniture'!E:E)","v":344},{"$f":"_xlfn.XLOOKUP(A1153,'Lighting Prices'!A:A,'Lighting Prices'!E:E)","v":{"$error":"#N/A"}}]
["@LK-OPD-AH-F55",{"$f":"_xlfn.XLOOKUP(A1154,'Prices Furniture'!A:A,'Prices Furniture'!E:E)","v":735},{"$f":"_xlfn.XLOOKUP(A1154,'Lighting Prices'!A:A,'Lighting Prices'!E:E)","v":{"$error":"#N/A"}}]
["@LK-OPD-AH-F73",{"$f":"_xlfn.XLOOKUP(A1155,'Prices Furniture'!A:A,'Prices Furniture'!E:E)","v":711},{"$f":"_xlfn.XLOOKUP(A1155,'Lighting Prices'!A:A,'Lighting Prices'!E:E)","v":{"$error":"#N/A"}}]
["@LK-OPD-AH-DO",{"$f":"_xlfn.XLOOKUP(A1156,'Prices Furniture'!A:A,'Prices Furniture'!E:E)","v":731},{"$f":"_xlfn.XLOOKUP(A1156,'Lighting Prices'!A:A,'Lighting Prices'!E:E)","v":{"$error":"#N/A"}}]
["@LK-OPD-AH-DO2D",{"$f":"_xlfn.XLOOKUP(A1157,'Prices Furniture'!A:A,'Prices Furniture'!E:E)","v":1058},{"$f":"_xlfn.XLOOKUP(A1157,'Lighting Prices'!A:A,'Lighting Prices'!E:E)","v":{"$error":"#N/A"}}]
["@LK-OPD-AH-DMW",{"$f":"_xlfn.XLOOKUP(A1158,'Prices Furniture'!A:A,'Prices Furniture'!E:E)","v":927},{"$f":"_xlfn.XLOOKUP(A1158,'Lighting Prices'!A:A,'Lighting Prices'!E:E)","v":{"$error":"#N/A"}}]
["@LK-OPD-AH-SO",{"$f":"_xlfn.XLOOKUP(A1159,'Prices Furniture'!A:A,'Prices Furniture'!E:E)","v":750},{"$f":"_xlfn.XLOOKUP(A1159,'Lighting Prices'!A:A,'Lighting Prices'!E:E)","v":{"$error":"#N/A"}}]
["@LK-OPD-AH-SO1D",{"$f":"_xlfn.XLOOKUP(A1160,'Prices Furniture'!A:A,'Prices Furniture'!E:E)","v":896},{"$f":"_xlfn.XLOOKUP(A1160,'Lighting Prices'!A:A,'Lighting Prices'!E:E)","v":{"$error":"#N/A"}}]
["@LK-OPD-AH-SO2D",{"$f":"_xlfn.XLOOKUP(A1161,'Prices Furniture'!A:A,'Prices Furniture'!E:E)","v":1112},{"$f":"_xlfn.XLOOKUP(A1161,'Lighting Prices'!A:A,'Lighting Prices'!E:E)","v":{"$error":"#N/A"}}]
["@LK-OPD-AH-SO3D",{"$f":"_xlfn.XLOOKUP(A1162,'Prices Furniture'!A:A,'Prices Furniture'!E:E)","v":1261},{"$f":"_xlfn.XLOOKUP(A1162,'Lighting Prices'!A:A,'Lighting Prices'!E:E)","v":{"$error":"#N/A"}}]
["@LK-OPD-AH-SMW",{"$f":"_xlfn.XLOOKUP(A1163,'Prices Furniture'!A:A,'Prices Furniture'!E:E)","v":786},{"$f":"_xlfn.XLOOKUP(A1163,'Lighting Prices'!A:A,'Lighting Prices'!E:E)","v":{"$error":"#N/A"}}]
["@LK-OPD-AH-SM2D",{"$f":"_xlfn.XLOOKUP(A1164,'Prices Furniture'!A:A,'Prices Furniture'!E:E)","v":1074},{"$f":"_xlfn.XLOOKUP(A1164,'Lighting Prices'!A:A,'Lighting Prices'!E:E)","v":{"$error":"#N/A"}}]
["@LK-OPD-AH-CO",{"$f":"_xlfn.XLOOKUP(A1165,'Prices Furniture'!A:A,'Prices Furniture'!E:E)","v":823},{"$f":"_xlfn.XLOOKUP(A1165,'Lighting Prices'!A:A,'Lighting Prices'!E:E)","v":{"$error":"#N/A"}}]
["@LK-OPD-BOH6",{"$f":"_xlfn.XLOOKUP(A1166,'Prices Furniture'!A:A,'Prices Furniture'!E:E)","v":199},{"$f":"_xlfn.XLOOKUP(A1166,'Lighting Prices'!A:A,'Lighting Prices'!E:E)","v":{"$error":"#N/A"}}]
["@LK-OPD-BOHD6",{"$f":"_xlfn.XLOOKUP(A1167,'Prices Furniture'!A:A,'Prices Furniture'!E:E)","v":312},{"$f":"_xlfn.XLOOKUP(A1167,'Lighting Prices'!A:A,'Lighting Prices'!E:E)","v":{"$error":"#N/A"}}]
["@LK-OPD-L3",{"$f":"_xlfn.XLOOKUP(A1168,'Prices Furniture'!A:A,'Prices Furniture'!E:E)","v":663},{"$f":"_xlfn.XLOOKUP(A1168,'Lighting Prices'!A:A,'Lighting Prices'!E:E)","v":{"$error":"#N/A"}}]
["@LK-OPD-L5",{"$f":"_xlfn.XLOOKUP(A1169,'Prices Furniture'!A:A,'Prices Furniture'!E:E)","v":723},{"$f":"_xlfn.XLOOKUP(A1169,'Lighting Prices'!A:A,'Lighting Prices'!E:E)","v":{"$error":"#N/A"}}]
["@LK-OPD-L6",{"$f":"_xlfn.XLOOKUP(A1170,'Prices Furniture'!A:A,'Prices Furniture'!E:E)","v":794},{"$f":"_xlfn.XLOOKUP(A1170,'Lighting Prices'!A:A,'Lighting Prices'!E:E)","v":{"$error":"#N/A"}}]
["@LK-OPD-LP3",{"$f":"_xlfn.XLOOKUP(A1171,'Prices Furniture'!A:A,'Prices Furniture'!E:E)","v":1445},{"$f":"_xlfn.XLOOKUP(A1171,'Lighting Prices'!A:A,'Lighting Prices'!E:E)","v":{"$error":"#N/A"}}]
["@LK-OPD-LT3",{"$f":"_xlfn.XLOOKUP(A1172,'Prices Furniture'!A:A,'Prices Furniture'!E:E)","v":1764},{"$f":"_xlfn.XLOOKUP(A1172,'Lighting Prices'!A:A,'Lighting Prices'!E:E)","v":{"$error":"#N/A"}}]
["@LK-OPD-LT5",{"$f":"_xlfn.XLOOKUP(A1173,'Prices Furniture'!A:A,'Prices Furniture'!E:E)","v":1892},{"$f":"_xlfn.XLOOKUP(A1173,'Lighting Prices'!A:A,'Lighting Prices'!E:E)","v":{"$error":"#N/A"}}]
["@LK-OPD-LT6",{"$f":"_xlfn.XLOOKUP(A1174,'Prices Furniture'!A:A,'Prices Furniture'!E:E)","v":2029},{"$f":"_xlfn.XLOOKUP(A1174,'Lighting Prices'!A:A,'Lighting Prices'!E:E)","v":{"$error":"#N/A"}}]
["@LK-OPD-LP6T",{"$f":"_xlfn.XLOOKUP(A1175,'Prices Furniture'!A:A,'Prices Furniture'!E:E)","v":1980},{"$f":"_xlfn.XLOOKUP(A1175,'Lighting Prices'!A:A,'Lighting Prices'!E:E)","v":{"$error":"#N/A"}}]
["@LK-OPD-LP5TS",{"$f":"_xlfn.XLOOKUP(A1176,'Prices Furniture'!A:A,'Prices Furniture'!E:E)","v":1657},{"$f":"_xlfn.XLOOKUP(A1176,'Lighting Prices'!A:A,'Lighting Prices'!E:E)","v":{"$error":"#N/A"}}]
["@LK-OPD-LP6TS",{"$f":"_xlfn.XLOOKUP(A1177,'Prices Furniture'!A:A,'Prices Furniture'!E:E)","v":1781},{"$f":"_xlfn.XLOOKUP(A1177,'Lighting Prices'!A:A,'Lighting Prices'!E:E)","v":{"$error":"#N/A"}}]
["@LK-OPD-LAC",{"$f":"_xlfn.XLOOKUP(A1178,'Prices Furniture'!A:A,'Prices Furniture'!E:E)","v":2084},{"$f":"_xlfn.XLOOKUP(A1178,'Lighting Prices'!A:A,'Lighting Prices'!E:E)","v":{"$error":"#N/A"}}]
["@LK-OPD-LPN14D",{"$f":"_xlfn.XLOOKUP(A1179,'Prices Furniture'!A:A,'Prices Furniture'!E:E)","v":1124},{"$f":"_xlfn.XLOOKUP(A1179,'Lighting Prices'!A:A,'Lighting Prices'!E:E)","v":{"$error":"#N/A"}}]
["@LK-OPD-LPN12D3DW",{"$f":"_xlfn.XLOOKUP(A1180,'Prices Furniture'!A:A,'Prices Furniture'!E:E)","v":1523},{"$f":"_xlfn.XLOOKUP(A1180,'Lighting Prices'!A:A,'Lighting Prices'!E:E)","v":{"$error":"#N/A"}}]
["@LK-OPD-LPN12D2DW",{"$f":"_xlfn.XLOOKUP(A1181,'Prices Furniture'!A:A,'Prices Furniture'!E:E)","v":1392},{"$f":"_xlfn.XLOOKUP(A1181,'Lighting Prices'!A:A,'Lighting Prices'!E:E)","v":{"$error":"#N/A"}}]
["@LK-OPD-LBC15",{"$f":"_xlfn.XLOOKUP(A1182,'Prices Furniture'!A:A,'Prices Furniture'!E:E)","v":944},{"$f":"_xlfn.XLOOKUP(A1182,'Lighting Prices'!A:A,'Lighting Prices'!E:E)","v":{"$error":"#N/A"}}]
["@LK-OPD-LBC16",{"$f":"_xlfn.XLOOKUP(A1183,'Prices Furniture'!A:A,'Prices Furniture'!E:E)","v":970},{"$f":"_xlfn.XLOOKUP(A1183,'Lighting Prices'!A:A,'Lighting Prices'!E:E)","v":{"$error":"#N/A"}}]
["@LK-OPD-LBCLM15L",{"$f":"_xlfn.XLOOKUP(A1184,'Prices Furniture'!A:A,'Prices Furniture'!E:E)","v":2782},{"$f":"_xlfn.XLOOKUP(A1184,'Lighting Prices'!A:A,'Lighting Prices'!E:E)","v":{"$error":"#N/A"}}]
["@LK-OPD-LBCLM15R",{"$f":"_xlfn.XLOOKUP(A1185,'Prices Furniture'!A:A,'Prices Furniture'!E:E)","v":2782},{"$f":"_xlfn.XLOOKUP(A1185,'Lighting Prices'!A:A,'Lighting Prices'!E:E)","v":{"$error":"#N/A"}}]
["@LK-OPD-LBCLM16L",{"$f":"_xlfn.XLOOKUP(A1186,'Prices Furniture'!A:A,'Prices Furniture'!E:E)","v":2934},{"$f":"_xlfn.XLOOKUP(A1186,'Lighting Prices'!A:A,'Lighting Prices'!E:E)","v":{"$error":"#N/A"}}]
["@LK-OPD-LBCLM16R",{"$f":"_xlfn.XLOOKUP(A1187,'Prices Furniture'!A:A,'Prices Furniture'!E:E)","v":2934},{"$f":"_xlfn.XLOOKUP(A1187,'Lighting Prices'!A:A,'Lighting Prices'!E:E)","v":{"$error":"#N/A"}}]
["@LK-OPD-LL6EA",{"$f":"_xlfn.XLOOKUP(A1188,'Prices Furniture'!A:A,'Prices Furniture'!E:E)","v":836},{"$f":"_xlfn.XLOOKUP(A1188,'Lighting Prices'!A:A,'Lighting Prices'!E:E)","v":{"$error":"#N/A"}}]
["@LK-OPD-LL6CU",{"$f":"_xlfn.XLOOKUP(A1189,'Prices Furniture'!A:A,'Prices Furniture'!E:E)","v":786},{"$f":"_xlfn.XLOOKUP(A1189,'Lighting Prices'!A:A,'Lighting Prices'!E:E)","v":{"$error":"#N/A"}}]
["@LK-OPD-LL10CU",{"$f":"_xlfn.XLOOKUP(A1190,'Prices Furniture'!A:A,'Prices Furniture'!E:E)","v":1235},{"$f":"_xlfn.XLOOKUP(A1190,'Lighting Prices'!A:A,'Lighting Prices'!E:E)","v":{"$error":"#N/A"}}]
["@LK-OPD-LL10CUS",{"$f":"_xlfn.XLOOKUP(A1191,'Prices Furniture'!A:A,'Prices Furniture'!E:E)","v":1334},{"$f":"_xlfn.XLOOKUP(A1191,'Lighting Prices'!A:A,'Lighting Prices'!E:E)","v":{"$error":"#N/A"}}]
["@LK-OPD-LL10CB",{"$f":"_xlfn.XLOOKUP(A1192,'Prices Furniture'!A:A,'Prices Furniture'!E:E)","v":1245},{"$f":"_xlfn.XLOOKUP(A1192,'Lighting Prices'!A:A,'Lighting Prices'!E:E)","v":{"$error":"#N/A"}}]
["@LK-OPD-AD60ICH",{"$f":"_xlfn.XLOOKUP(A1193,'Prices Furniture'!A:A,'Prices Furniture'!E:E)","v":95},{"$f":"_xlfn.XLOOKUP(A1193,'Lighting Prices'!A:A,'Lighting Prices'!E:E)","v":{"$error":"#N/A"}}]
["@LK-OPD-AD60FD",{"$f":"_xlfn.XLOOKUP(A1194,'Prices Furniture'!A:A,'Prices Furniture'!E:E)","v":131},{"$f":"_xlfn.XLOOKUP(A1194,'Lighting Prices'!A:A,'Lighting Prices'!E:E)","v":{"$error":"#N/A"}}]
["@LK-OPD-AD45I",{"$f":"_xlfn.XLOOKUP(A1195,'Prices Furniture'!A:A,'Prices Furniture'!E:E)","v":107},{"$f":"_xlfn.XLOOKUP(A1195,'Lighting Prices'!A:A,'Lighting Prices'!E:E)","v":{"$error":"#N/A"}}]
["@LK-OPD-AD60S",{"$f":"_xlfn.XLOOKUP(A1196,'Prices Furniture'!A:A,'Prices Furniture'!E:E)","v":129},{"$f":"_xlfn.XLOOKUP(A1196,'Lighting Prices'!A:A,'Lighting Prices'!E:E)","v":{"$error":"#N/A"}}]
["@LK-OPD-BLD9",{"$f":"_xlfn.XLOOKUP(A1197,'Prices Furniture'!A:A,'Prices Furniture'!E:E)","v":133},{"$f":"_xlfn.XLOOKUP(A1197,'Lighting Prices'!A:A,'Lighting Prices'!E:E)","v":{"$error":"#N/A"}}]
["@LK-OPD-CH-SO",{"$f":"_xlfn.XLOOKUP(A1198,'Prices Furniture'!A:A,'Prices Furniture'!E:E)","v":654},{"$f":"_xlfn.XLOOKUP(A1198,'Lighting Prices'!A:A,'Lighting Prices'!E:E)","v":{"$error":"#N/A"}}]
["@LK-OPD-CH-MW",{"$f":"_xlfn.XLOOKUP(A1199,'Prices Furniture'!A:A,'Prices Furniture'!E:E)","v":700},{"$f":"_xlfn.XLOOKUP(A1199,'Lighting Prices'!A:A,'Lighting Prices'!E:E)","v":{"$error":"#N/A"}}]
["@LK-OPD-CH-ST",{"$f":"_xlfn.XLOOKUP(A1200,'Prices Furniture'!A:A,'Prices Furniture'!E:E)","v":880},{"$f":"_xlfn.XLOOKUP(A1200,'Lighting Prices'!A:A,'Lighting Prices'!E:E)","v":{"$error":"#N/A"}}]
["@LK-OPD-TCH-SO",{"$f":"_xlfn.XLOOKUP(A1201,'Prices Furniture'!A:A,'Prices Furniture'!E:E)","v":846},{"$f":"_xlfn.XLOOKUP(A1201,'Lighting Prices'!A:A,'Lighting Prices'!E:E)","v":{"$error":"#N/A"}}]
["@LK-OPD-TCH-MW",{"$f":"_xlfn.XLOOKUP(A1202,'Prices Furniture'!A:A,'Prices Furniture'!E:E)","v":759},{"$f":"_xlfn.XLOOKUP(A1202,'Lighting Prices'!A:A,'Lighting Prices'!E:E)","v":{"$error":"#N/A"}}]
["@LK-OPD-TCH-ST",{"$f":"_xlfn.XLOOKUP(A1203,'Prices Furniture'!A:A,'Prices Furniture'!E:E)","v":918},{"$f":"_xlfn.XLOOKUP(A1203,'Lighting Prices'!A:A,'Lighting Prices'!E:E)","v":{"$error":"#N/A"}}]
["@LK-OPD-AH-SOT",{"$f":"_xlfn.XLOOKUP(A1204,'Prices Furniture'!A:A,'Prices Furniture'!E:E)","v":876},{"$f":"_xlfn.XLOOKUP(A1204,'Lighting Prices'!A:A,'Lighting Prices'!E:E)","v":{"$error":"#N/A"}}]
["@LK-OPD-LP5T",{"$f":"_xlfn.XLOOKUP(A1205,'Prices Furniture'!A:A,'Prices Furniture'!E:E)","v":1915},{"$f":"_xlfn.XLOOKUP(A1205,'Lighting Prices'!A:A,'Lighting Prices'!E:E)","v":{"$error":"#N/A"}}]
["@LK-OPD-LL8LS",{"$f":"_xlfn.XLOOKUP(A1206,'Prices Furniture'!A:A,'Prices Furniture'!E:E)","v":1364},{"$f":"_xlfn.XLOOKUP(A1206,'Lighting Prices'!A:A,'Lighting Prices'!E:E)","v":{"$error":"#N/A"}}]
["@LK-OPD-BHD3",{"$f":"_xlfn.XLOOKUP(A1207,'Prices Furniture'!A:A,'Prices Furniture'!E:E)","v":628},{"$f":"_xlfn.XLOOKUP(A1207,'Lighting Prices'!A:A,'Lighting Prices'!E:E)","v":{"$error":"#N/A"}}]
["@LK-OPD-BHD4",{"$f":"_xlfn.XLOOKUP(A1208,'Prices Furniture'!A:A,'Prices Furniture'!E:E)","v":677},{"$f":"_xlfn.XLOOKUP(A1208,'Lighting Prices'!A:A,'Lighting Prices'!E:E)","v":{"$error":"#N/A"}}]
["@LK-OPD-BHD5",{"$f":"_xlfn.XLOOKUP(A1209,'Prices Furniture'!A:A,'Prices Furniture'!E:E)","v":740},{"$f":"_xlfn.XLOOKUP(A1209,'Lighting Prices'!A:A,'Lighting Prices'!E:E)","v":{"$error":"#N/A"}}]
["@LK-OPD-BHD6",{"$f":"_xlfn.XLOOKUP(A1210,'Prices Furniture'!A:A,'Prices Furniture'!E:E)","v":796},{"$f":"_xlfn.XLOOKUP(A1210,'Lighting Prices'!A:A,'Lighting Prices'!E:E)","v":{"$error":"#N/A"}}]
["LK-A-OPD-WREP72",{"$f":"_xlfn.XLOOKUP(A1211,'Prices Furniture'!A:A,'Prices Furniture'!E:E)","v":77},{"$f":"_xlfn.XLOOKUP(A1211,'Lighting Prices'!A:A,'Lighting Prices'!E:E)","v":{"$error":"#N/A"}}]
["LK-A-OPD-PWEP72",{"$f":"_xlfn.XLOOKUP(A1212,'Prices Furniture'!A:A,'Prices Furniture'!E:E)","v":92},{"$f":"_xlfn.XLOOKUP(A1212,'Lighting Prices'!A:A,'Lighting Prices'!E:E)","v":{"$error":"#N/A"}}]
["LK-A-OPD-PWEP20",{"$f":"_xlfn.XLOOKUP(A1213,'Prices Furniture'!A:A,'Prices Furniture'!E:E)","v":200},{"$f":"_xlfn.XLOOKUP(A1213,'Lighting Prices'!A:A,'Lighting Prices'!E:E)","v":{"$error":"#N/A"}}]
["LK-A-OPD-ESP",{"$f":"_xlfn.XLOOKUP(A1214,'Prices Furniture'!A:A,'Prices Furniture'!E:E)","v":135},{"$f":"_xlfn.XLOOKUP(A1214,'Lighting Prices'!A:A,'Lighting Prices'!E:E)","v":{"$error":"#N/A"}}]
["LK-A-OPD-LUP",{"$f":"_xlfn.XLOOKUP(A1215,'Prices Furniture'!A:A,'Prices Furniture'!E:E)","v":391},{"$f":"_xlfn.XLOOKUP(A1215,'Lighting Prices'!A:A,'Lighting Prices'!E:E)","v":{"$error":"#N/A"}}]
["LK-A-OPD-PTEP",{"$f":"_xlfn.XLOOKUP(A1216,'Prices Furniture'!A:A,'Prices Furniture'!E:E)","v":305},{"$f":"_xlfn.XLOOKUP(A1216,'Lighting Prices'!A:A,'Lighting Prices'!E:E)","v":{"$error":"#N/A"}}]
["LK-A-OPD-PL",{"$f":"_xlfn.XLOOKUP(A1217,'Prices Furniture'!A:A,'Prices Furniture'!E:E)","v":90},{"$f":"_xlfn.XLOOKUP(A1217,'Lighting Prices'!A:A,'Lighting Prices'!E:E)","v":{"$error":"#N/A"}}]
["LK-A-OPD-SCCRN",{"$f":"_xlfn.XLOOKUP(A1218,'Prices Furniture'!A:A,'Prices Furniture'!E:E)","v":113},{"$f":"_xlfn.XLOOKUP(A1218,'Lighting Prices'!A:A,'Lighting Prices'!E:E)","v":{"$error":"#N/A"}}]
["LK-A-OPD-BLPEL",{"$f":"_xlfn.XLOOKUP(A1219,'Prices Furniture'!A:A,'Prices Furniture'!E:E)","v":86},{"$f":"_xlfn.XLOOKUP(A1219,'Lighting Prices'!A:A,'Lighting Prices'!E:E)","v":{"$error":"#N/A"}}]
["LK-A-OPD-CVP",{"$f":"_xlfn.XLOOKUP(A1220,'Prices Furniture'!A:A,'Prices Furniture'!E:E)","v":123},{"$f":"_xlfn.XLOOKUP(A1220,'Lighting Prices'!A:A,'Lighting Prices'!E:E)","v":{"$error":"#N/A"}}]
["LK-A-OPD-CPBM",{"$f":"_xlfn.XLOOKUP(A1221,'Prices Furniture'!A:A,'Prices Furniture'!E:E)","v":109},{"$f":"_xlfn.XLOOKUP(A1221,'Lighting Prices'!A:A,'Lighting Prices'!E:E)","v":{"$error":"#N/A"}}]
["LK-A-OPD-CPBC",{"$f":"_xlfn.XLOOKUP(A1222,'Prices Furniture'!A:A,'Prices Furniture'!E:E)","v":116},{"$f":"_xlfn.XLOOKUP(A1222,'Lighting Prices'!A:A,'Lighting Prices'!E:E)","v":{"$error":"#N/A"}}]
["LK-A-OPD-ET",{"$f":"_xlfn.XLOOKUP(A1223,'Prices Furniture'!A:A,'Prices Furniture'!E:E)","v":37},{"$f":"_xlfn.XLOOKUP(A1223,'Lighting Prices'!A:A,'Lighting Prices'!E:E)","v":{"$error":"#N/A"}}]
["@LK-OPY-BP15TY",{"$f":"_xlfn.XLOOKUP(A1224,'Prices Furniture'!A:A,'Prices Furniture'!E:E)","v":408},{"$f":"_xlfn.XLOOKUP(A1224,'Lighting Prices'!A:A,'Lighting Prices'!E:E)","v":{"$error":"#N/A"}}]
["@LK-OPY-BP3TY",{"$f":"_xlfn.XLOOKUP(A1225,'Prices Furniture'!A:A,'Prices Furniture'!E:E)","v":634},{"$f":"_xlfn.XLOOKUP(A1225,'Lighting Prices'!A:A,'Lighting Prices'!E:E)","v":{"$error":"#N/A"}}]
["@LK-OPY-BH15",{"$f":"_xlfn.XLOOKUP(A1226,'Prices Furniture'!A:A,'Prices Furniture'!E:E)","v":228},{"$f":"_xlfn.XLOOKUP(A1226,'Lighting Prices'!A:A,'Lighting Prices'!E:E)","v":{"$error":"#N/A"}}]
["@LK-OPY-BH30",{"$f":"_xlfn.XLOOKUP(A1227,'Prices Furniture'!A:A,'Prices Furniture'!E:E)","v":239},{"$f":"_xlfn.XLOOKUP(A1227,'Lighting Prices'!A:A,'Lighting Prices'!E:E)","v":{"$error":"#N/A"}}]
["@LK-OPY-BH3B",{"$f":"_xlfn.XLOOKUP(A1228,'Prices Furniture'!A:A,'Prices Furniture'!E:E)","v":607},{"$f":"_xlfn.XLOOKUP(A1228,'Lighting Prices'!A:A,'Lighting Prices'!E:E)","v":{"$error":"#N/A"}}]
["@LK-OPY-BH35",{"$f":"_xlfn.XLOOKUP(A1229,'Prices Furniture'!A:A,'Prices Furniture'!E:E)","v":245},{"$f":"_xlfn.XLOOKUP(A1229,'Lighting Prices'!A:A,'Lighting Prices'!E:E)","v":{"$error":"#N/A"}}]
["@LK-OPY-BH40",{"$f":"_xlfn.XLOOKUP(A1230,'Prices Furniture'!A:A,'Prices Furniture'!E:E)","v":249},{"$f":"_xlfn.XLOOKUP(A1230,'Lighting Prices'!A:A,'Lighting Prices'!E:E)","v":{"$error":"#N/A"}}]
["@LK-OPY-BH4B",{"$f":"_xlfn.XLOOKUP(A1231,'Prices Furniture'!A:A,'Prices Furniture'!E:E)","v":682},{"$f":"_xlfn.XLOOKUP(A1231,'Lighting Prices'!A:A,'Lighting Prices'!E:E)","v":{"$error":"#N/A"}}]
["@LK-OPY-BH45",{"$f":"_xlfn.XLOOKUP(A1232,'Prices Furniture'!A:A,'Prices Furniture'!E:E)","v":272},{"$f":"_xlfn.XLOOKUP(A1232,'Lighting Prices'!A:A,'Lighting Prices'!E:E)","v":{"$error":"#N/A"}}]
["@LK-OPY-BH45B",{"$f":"_xlfn.XLOOKUP(A1233,'Prices Furniture'!A:A,'Prices Furniture'!E:E)","v":710},{"$f":"_xlfn.XLOOKUP(A1233,'Lighting Prices'!A:A,'Lighting Prices'!E:E)","v":{"$error":"#N/A"}}]
["@LK-OPY-BH50",{"$f":"_xlfn.XLOOKUP(A1234,'Prices Furniture'!A:A,'Prices Furniture'!E:E)","v":283},{"$f":"_xlfn.XLOOKUP(A1234,'Lighting Prices'!A:A,'Lighting Prices'!E:E)","v":{"$error":"#N/A"}}]
["@LK-OPY-BH5B",{"$f":"_xlfn.XLOOKUP(A1235,'Prices Furniture'!A:A,'Prices Furniture'!E:E)","v":727},{"$f":"_xlfn.XLOOKUP(A1235,'Lighting Prices'!A:A,'Lighting Prices'!E:E)","v":{"$error":"#N/A"}}]
["@LK-OPY-BH50S",{"$f":"_xlfn.XLOOKUP(A1236,'Prices Furniture'!A:A,'Prices Furniture'!E:E)","v":313},{"$f":"_xlfn.XLOOKUP(A1236,'Lighting Prices'!A:A,'Lighting Prices'!E:E)","v":{"$error":"#N/A"}}]
["@LK-OPY-BH60",{"$f":"_xlfn.XLOOKUP(A1237,'Prices Furniture'!A:A,'Prices Furniture'!E:E)","v":319},{"$f":"_xlfn.XLOOKUP(A1237,'Lighting Prices'!A:A,'Lighting Prices'!E:E)","v":{"$error":"#N/A"}}]
["@LK-OPY-BH6B4",{"$f":"_xlfn.XLOOKUP(A1238,'Prices Furniture'!A:A,'Prices Furniture'!E:E)","v":852},{"$f":"_xlfn.XLOOKUP(A1238,'Lighting Prices'!A:A,'Lighting Prices'!E:E)","v":{"$error":"#N/A"}}]
["@LK-OPY-BH6B2",{"$f":"_xlfn.XLOOKUP(A1239,'Prices Furniture'!A:A,'Prices Furniture'!E:E)","v":800},{"$f":"_xlfn.XLOOKUP(A1239,'Lighting Prices'!A:A,'Lighting Prices'!E:E)","v":{"$error":"#N/A"}}]
["@LK-OPY-BH60S",{"$f":"_xlfn.XLOOKUP(A1240,'Prices Furniture'!A:A,'Prices Furniture'!E:E)","v":365},{"$f":"_xlfn.XLOOKUP(A1240,'Lighting Prices'!A:A,'Lighting Prices'!E:E)","v":{"$error":"#N/A"}}]
["@LK-OPY-BH70",{"$f":"_xlfn.XLOOKUP(A1241,'Prices Furniture'!A:A,'Prices Furniture'!E:E)","v":388},{"$f":"_xlfn.XLOOKUP(A1241,'Lighting Prices'!A:A,'Lighting Prices'!E:E)","v":{"$error":"#N/A"}}]
["@LK-OPY-BH80",{"$f":"_xlfn.XLOOKUP(A1242,'Prices Furniture'!A:A,'Prices Furniture'!E:E)","v":394},{"$f":"_xlfn.XLOOKUP(A1242,'Lighting Prices'!A:A,'Lighting Prices'!E:E)","v":{"$error":"#N/A"}}]
["@LK-OPY-BH80S",{"$f":"_xlfn.XLOOKUP(A1243,'Prices Furniture'!A:A,'Prices Furniture'!E:E)","v":440},{"$f":"_xlfn.XLOOKUP(A1243,'Lighting Prices'!A:A,'Lighting Prices'!E:E)","v":{"$error":"#N/A"}}]
["@LK-OPY-BH90",{"$f":"_xlfn.XLOOKUP(A1244,'Prices Furniture'!A:A,'Prices Furniture'!E:E)","v":418},{"$f":"_xlfn.XLOOKUP(A1244,'Lighting Prices'!A:A,'Lighting Prices'!E:E)","v":{"$error":"#N/A"}}]
["@LK-OPY-BH90S",{"$f":"_xlfn.XLOOKUP(A1245,'Prices Furniture'!A:A,'Prices Furniture'!E:E)","v":464},{"$f":"_xlfn.XLOOKUP(A1245,'Lighting Prices'!A:A,'Lighting Prices'!E:E)","v":{"$error":"#N/A"}}]
["@LK-OPY-BH100",{"$f":"_xlfn.XLOOKUP(A1246,'Prices Furniture'!A:A,'Prices Furniture'!E:E)","v":439},{"$f":"_xlfn.XLOOKUP(A1246,'Lighting Prices'!A:A,'Lighting Prices'!E:E)","v":{"$error":"#N/A"}}]
["@LK-OPY-BH10S",{"$f":"_xlfn.XLOOKUP(A1247,'Prices Furniture'!A:A,'Prices Furniture'!E:E)","v":485},{"$f":"_xlfn.XLOOKUP(A1247,'Lighting Prices'!A:A,'Lighting Prices'!E:E)","v":{"$error":"#N/A"}}]
["@LK-OPY-BC83",{"$f":"_xlfn.XLOOKUP(A1248,'Prices Furniture'!A:A,'Prices Furniture'!E:E)","v":374},{"$f":"_xlfn.XLOOKUP(A1248,'Lighting Prices'!A:A,'Lighting Prices'!E:E)","v":{"$error":"#N/A"}}]
["@LK-OPY-BC84",{"$f":"_xlfn.XLOOKUP(A1249,'Prices Furniture'!A:A,'Prices Furniture'!E:E)","v":380},{"$f":"_xlfn.XLOOKUP(A1249,'Lighting Prices'!A:A,'Lighting Prices'!E:E)","v":{"$error":"#N/A"}}]
["@LK-OPY-BC845",{"$f":"_xlfn.XLOOKUP(A1250,'Prices Furniture'!A:A,'Prices Furniture'!E:E)","v":392},{"$f":"_xlfn.XLOOKUP(A1250,'Lighting Prices'!A:A,'Lighting Prices'!E:E)","v":{"$error":"#N/A"}}]
["@LK-OPY-BC945",{"$f":"_xlfn.XLOOKUP(A1251,'Prices Furniture'!A:A,'Prices Furniture'!E:E)","v":390},{"$f":"_xlfn.XLOOKUP(A1251,'Lighting Prices'!A:A,'Lighting Prices'!E:E)","v":{"$error":"#N/A"}}]
["@LK-OPY-BC145",{"$f":"_xlfn.XLOOKUP(A1252,'Prices Furniture'!A:A,'Prices Furniture'!E:E)","v":397},{"$f":"_xlfn.XLOOKUP(A1252,'Lighting Prices'!A:A,'Lighting Prices'!E:E)","v":{"$error":"#N/A"}}]
["@LK-OPY-BC15",{"$f":"_xlfn.XLOOKUP(A1253,'Prices Furniture'!A:A,'Prices Furniture'!E:E)","v":405},{"$f":"_xlfn.XLOOKUP(A1253,'Lighting Prices'!A:A,'Lighting Prices'!E:E)","v":{"$error":"#N/A"}}]
["@LK-OPY-BC16",{"$f":"_xlfn.XLOOKUP(A1254,'Prices Furniture'!A:A,'Prices Furniture'!E:E)","v":421},{"$f":"_xlfn.XLOOKUP(A1254,'Lighting Prices'!A:A,'Lighting Prices'!E:E)","v":{"$error":"#N/A"}}]
["@LK-OPY-BCL15L",{"$f":"_xlfn.XLOOKUP(A1255,'Prices Furniture'!A:A,'Prices Furniture'!E:E)","v":1270},{"$f":"_xlfn.XLOOKUP(A1255,'Lighting Prices'!A:A,'Lighting Prices'!E:E)","v":{"$error":"#N/A"}}]
["@LK-OPY-BCL15R",{"$f":"_xlfn.XLOOKUP(A1256,'Prices Furniture'!A:A,'Prices Furniture'!E:E)","v":1270},{"$f":"_xlfn.XLOOKUP(A1256,'Lighting Prices'!A:A,'Lighting Prices'!E:E)","v":{"$error":"#N/A"}}]
["@LK-OPY-BCL16L",{"$f":"_xlfn.XLOOKUP(A1257,'Prices Furniture'!A:A,'Prices Furniture'!E:E)","v":1349},{"$f":"_xlfn.XLOOKUP(A1257,'Lighting Prices'!A:A,'Lighting Prices'!E:E)","v":{"$error":"#N/A"}}]
["@LK-OPY-BCL16R",{"$f":"_xlfn.XLOOKUP(A1258,'Prices Furniture'!A:A,'Prices Furniture'!E:E)","v":1349},{"$f":"_xlfn.XLOOKUP(A1258,'Lighting Prices'!A:A,'Lighting Prices'!E:E)","v":{"$error":"#N/A"}}]
["@LK-OPY-BCO945",{"$f":"_xlfn.XLOOKUP(A1259,'Prices Furniture'!A:A,'Prices Furniture'!E:E)","v":1400},{"$f":"_xlfn.XLOOKUP(A1259,'Lighting Prices'!A:A,'Lighting Prices'!E:E)","v":{"$error":"#N/A"}}]
["@LK-OPY-BCO145",{"$f":"_xlfn.XLOOKUP(A1260,'Prices Furniture'!A:A,'Prices Furniture'!E:E)","v":1407},{"$f":"_xlfn.XLOOKUP(A1260,'Lighting Prices'!A:A,'Lighting Prices'!E:E)","v":{"$error":"#N/A"}}]
["@LK-OPY-BCO15",{"$f":"_xlfn.XLOOKUP(A1261,'Prices Furniture'!A:A,'Prices Furniture'!E:E)","v":1415},{"$f":"_xlfn.XLOOKUP(A1261,'Lighting Prices'!A:A,'Lighting Prices'!E:E)","v":{"$error":"#N/A"}}]
["@LK-OPY-BCO16",{"$f":"_xlfn.XLOOKUP(A1262,'Prices Furniture'!A:A,'Prices Furniture'!E:E)","v":1431},{"$f":"_xlfn.XLOOKUP(A1262,'Lighting Prices'!A:A,'Lighting Prices'!E:E)","v":{"$error":"#N/A"}}]
["@LK-OPY-BCL9",{"$f":"_xlfn.XLOOKUP(A1263,'Prices Furniture'!A:A,'Prices Furniture'!E:E)","v":618},{"$f":"_xlfn.XLOOKUP(A1263,'Lighting Prices'!A:A,'Lighting Prices'!E:E)","v":{"$error":"#N/A"}}]
["@LK-OPY-BSU6495",{"$f":"_xlfn.XLOOKUP(A1264,'Prices Furniture'!A:A,'Prices Furniture'!E:E)","v":285},{"$f":"_xlfn.XLOOKUP(A1264,'Lighting Prices'!A:A,'Lighting Prices'!E:E)","v":{"$error":"#N/A"}}]
["@LK-OPY-BSU6450",{"$f":"_xlfn.XLOOKUP(A1265,'Prices Furniture'!A:A,'Prices Furniture'!E:E)","v":283},{"$f":"_xlfn.XLOOKUP(A1265,'Lighting Prices'!A:A,'Lighting Prices'!E:E)","v":{"$error":"#N/A"}}]
["@LK-OPY-BD54",{"$f":"_xlfn.XLOOKUP(A1266,'Prices Furniture'!A:A,'Prices Furniture'!E:E)","v":846},{"$f":"_xlfn.XLOOKUP(A1266,'Lighting Prices'!A:A,'Lighting Prices'!E:E)","v":{"$error":"#N/A"}}]
["@LK-OPY-BD53",{"$f":"_xlfn.XLOOKUP(A1267,'Prices Furniture'!A:A,'Prices Furniture'!E:E)","v":714},{"$f":"_xlfn.XLOOKUP(A1267,'Lighting Prices'!A:A,'Lighting Prices'!E:E)","v":{"$error":"#N/A"}}]
["@LK-OPY-BD63",{"$f":"_xlfn.XLOOKUP(A1268,'Prices Furniture'!A:A,'Prices Furniture'!E:E)","v":806},{"$f":"_xlfn.XLOOKUP(A1268,'Lighting Prices'!A:A,'Lighting Prices'!E:E)","v":{"$error":"#N/A"}}]
["@LK-OPY-BD83",{"$f":"_xlfn.XLOOKUP(A1269,'Prices Furniture'!A:A,'Prices Furniture'!E:E)","v":813},{"$f":"_xlfn.XLOOKUP(A1269,'Lighting Prices'!A:A,'Lighting Prices'!E:E)","v":{"$error":"#N/A"}}]
["@LK-OPY-BD93",{"$f":"_xlfn.XLOOKUP(A1270,'Prices Furniture'!A:A,'Prices Furniture'!E:E)","v":828},{"$f":"_xlfn.XLOOKUP(A1270,'Lighting Prices'!A:A,'Lighting Prices'!E:E)","v":{"$error":"#N/A"}}]
["@LK-OPY-BD13",{"$f":"_xlfn.XLOOKUP(A1271,'Prices Furniture'!A:A,'Prices Furniture'!E:E)","v":845},{"$f":"_xlfn.XLOOKUP(A1271,'Lighting Prices'!A:A,'Lighting Prices'!E:E)","v":{"$error":"#N/A"}}]
["@LK-OPY-BD62",{"$f":"_xlfn.XLOOKUP(A1272,'Prices Furniture'!A:A,'Prices Furniture'!E:E)","v":683},{"$f":"_xlfn.XLOOKUP(A1272,'Lighting Prices'!A:A,'Lighting Prices'!E:E)","v":{"$error":"#N/A"}}]
["@LK-OPY-BD92",{"$f":"_xlfn.XLOOKUP(A1273,'Prices Furniture'!A:A,'Prices Furniture'!E:E)","v":700},{"$f":"_xlfn.XLOOKUP(A1273,'Lighting Prices'!A:A,'Lighting Prices'!E:E)","v":{"$error":"#N/A"}}]
["@LK-OPY-BD62I",{"$f":"_xlfn.XLOOKUP(A1274,'Prices Furniture'!A:A,'Prices Furniture'!E:E)","v":859},{"$f":"_xlfn.XLOOKUP(A1274,'Lighting Prices'!A:A,'Lighting Prices'!E:E)","v":{"$error":"#N/A"}}]
["@LK-OPY-BD92I",{"$f":"_xlfn.XLOOKUP(A1275,'Prices Furniture'!A:A,'Prices Furniture'!E:E)","v":901},{"$f":"_xlfn.XLOOKUP(A1275,'Lighting Prices'!A:A,'Lighting Prices'!E:E)","v":{"$error":"#N/A"}}]
["@LK-OPY-BD635L",{"$f":"_xlfn.XLOOKUP(A1276,'Prices Furniture'!A:A,'Prices Furniture'!E:E)","v":384},{"$f":"_xlfn.XLOOKUP(A1276,'Lighting Prices'!A:A,'Lighting Prices'!E:E)","v":{"$error":"#N/A"}}]
["@LK-OPY-W30",{"$f":"_xlfn.XLOOKUP(A1277,'Prices Furniture'!A:A,'Prices Furniture'!E:E)","v":221},{"$f":"_xlfn.XLOOKUP(A1277,'Lighting Prices'!A:A,'Lighting Prices'!E:E)","v":{"$error":"#N/A"}}]
["@LK-OPY-W35",{"$f":"_xlfn.XLOOKUP(A1278,'Prices Furniture'!A:A,'Prices Furniture'!E:E)","v":227},{"$f":"_xlfn.XLOOKUP(A1278,'Lighting Prices'!A:A,'Lighting Prices'!E:E)","v":{"$error":"#N/A"}}]
["@LK-OPY-W40",{"$f":"_xlfn.XLOOKUP(A1279,'Prices Furniture'!A:A,'Prices Furniture'!E:E)","v":235},{"$f":"_xlfn.XLOOKUP(A1279,'Lighting Prices'!A:A,'Lighting Prices'!E:E)","v":{"$error":"#N/A"}}]
["@LK-OPY-W45",{"$f":"_xlfn.XLOOKUP(A1280,'Prices Furniture'!A:A,'Prices Furniture'!E:E)","v":252},{"$f":"_xlfn.XLOOKUP(A1280,'Lighting Prices'!A:A,'Lighting Prices'!E:E)","v":{"$error":"#N/A"}}]
["@LK-OPY-W50",{"$f":"_xlfn.XLOOKUP(A1281,'Prices Furniture'!A:A,'Prices Furniture'!E:E)","v":266},{"$f":"_xlfn.XLOOKUP(A1281,'Lighting Prices'!A:A,'Lighting Prices'!E:E)","v":{"$error":"#N/A"}}]
["@LK-OPY-W60",{"$f":"_xlfn.XLOOKUP(A1282,'Prices Furniture'!A:A,'Prices Furniture'!E:E)","v":290},{"$f":"_xlfn.XLOOKUP(A1282,'Lighting Prices'!A:A,'Lighting Prices'!E:E)","v":{"$error":"#N/A"}}]
["@LK-OPY-W70",{"$f":"_xlfn.XLOOKUP(A1283,'Prices Furniture'!A:A,'Prices Furniture'!E:E)","v":383},{"$f":"_xlfn.XLOOKUP(A1283,'Lighting Prices'!A:A,'Lighting Prices'!E:E)","v":{"$error":"#N/A"}}]
["@LK-OPY-W80",{"$f":"_xlfn.XLOOKUP(A1284,'Prices Furniture'!A:A,'Prices Furniture'!E:E)","v":389},{"$f":"_xlfn.XLOOKUP(A1284,'Lighting Prices'!A:A,'Lighting Prices'!E:E)","v":{"$error":"#N/A"}}]
["@LK-OPY-W90",{"$f":"_xlfn.XLOOKUP(A1285,'Prices Furniture'!A:A,'Prices Furniture'!E:E)","v":409},{"$f":"_xlfn.XLOOKUP(A1285,'Lighting Prices'!A:A,'Lighting Prices'!E:E)","v":{"$error":"#N/A"}}]
["@LK-OPY-W100",{"$f":"_xlfn.XLOOKUP(A1286,'Prices Furniture'!A:A,'Prices Furniture'!E:E)","v":434},{"$f":"_xlfn.XLOOKUP(A1286,'Lighting Prices'!A:A,'Lighting Prices'!E:E)","v":{"$error":"#N/A"}}]
["@LK-OPY-WC6",{"$f":"_xlfn.XLOOKUP(A1287,'Prices Furniture'!A:A,'Prices Furniture'!E:E)","v":309},{"$f":"_xlfn.XLOOKUP(A1287,'Lighting Prices'!A:A,'Lighting Prices'!E:E)","v":{"$error":"#N/A"}}]
["@LK-OPY-WC9",{"$f":"_xlfn.XLOOKUP(A1288,'Prices Furniture'!A:A,'Prices Furniture'!E:E)","v":371},{"$f":"_xlfn.XLOOKUP(A1288,'Lighting Prices'!A:A,'Lighting Prices'!E:E)","v":{"$error":"#N/A"}}]
["@LK-OPY-WCL65",{"$f":"_xlfn.XLOOKUP(A1289,'Prices Furniture'!A:A,'Prices Furniture'!E:E)","v":553},{"$f":"_xlfn.XLOOKUP(A1289,'Lighting Prices'!A:A,'Lighting Prices'!E:E)","v":{"$error":"#N/A"}}]
["@LK-OPY-WM60",{"$f":"_xlfn.XLOOKUP(A1290,'Prices Furniture'!A:A,'Prices Furniture'!E:E)","v":361},{"$f":"_xlfn.XLOOKUP(A1290,'Lighting Prices'!A:A,'Lighting Prices'!E:E)","v":{"$error":"#N/A"}}]
["@LK-OPY-WBHU",{"$f":"_xlfn.XLOOKUP(A1291,'Prices Furniture'!A:A,'Prices Furniture'!E:E)","v":282},{"$f":"_xlfn.XLOOKUP(A1291,'Lighting Prices'!A:A,'Lighting Prices'!E:E)","v":{"$error":"#N/A"}}]
["@LK-OPY-WBI60",{"$f":"_xlfn.XLOOKUP(A1292,'Prices Furniture'!A:A,'Prices Furniture'!E:E)","v":663},{"$f":"_xlfn.XLOOKUP(A1292,'Lighting Prices'!A:A,'Lighting Prices'!E:E)","v":{"$error":"#N/A"}}]
["@LK-OPY-WBI90",{"$f":"_xlfn.XLOOKUP(A1293,'Prices Furniture'!A:A,'Prices Furniture'!E:E)","v":695},{"$f":"_xlfn.XLOOKUP(A1293,'Lighting Prices'!A:A,'Lighting Prices'!E:E)","v":{"$error":"#N/A"}}]
["@LK-OPY-WGS5",{"$f":"_xlfn.XLOOKUP(A1294,'Prices Furniture'!A:A,'Prices Furniture'!E:E)","v":434},{"$f":"_xlfn.XLOOKUP(A1294,'Lighting Prices'!A:A,'Lighting Prices'!E:E)","v":{"$error":"#N/A"}}]
["@LK-OPY-WGS6",{"$f":"_xlfn.XLOOKUP(A1295,'Prices Furniture'!A:A,'Prices Furniture'!E:E)","v":476},{"$f":"_xlfn.XLOOKUP(A1295,'Lighting Prices'!A:A,'Lighting Prices'!E:E)","v":{"$error":"#N/A"}}]
["@LK-OPY-WGR5",{"$f":"_xlfn.XLOOKUP(A1296,'Prices Furniture'!A:A,'Prices Furniture'!E:E)","v":434},{"$f":"_xlfn.XLOOKUP(A1296,'Lighting Prices'!A:A,'Lighting Prices'!E:E)","v":{"$error":"#N/A"}}]
["@LK-OPY-WGR6",{"$f":"_xlfn.XLOOKUP(A1297,'Prices Furniture'!A:A,'Prices Furniture'!E:E)","v":476},{"$f":"_xlfn.XLOOKUP(A1297,'Lighting Prices'!A:A,'Lighting Prices'!E:E)","v":{"$error":"#N/A"}}]
["@LK-OPY-WB62",{"$f":"_xlfn.XLOOKUP(A1298,'Prices Furniture'!A:A,'Prices Furniture'!E:E)","v":237},{"$f":"_xlfn.XLOOKUP(A1298,'Lighting Prices'!A:A,'Lighting Prices'!E:E)","v":{"$error":"#N/A"}}]
["@LK-OPY-WB82",{"$f":"_xlfn.XLOOKUP(A1299,'Prices Furniture'!A:A,'Prices Furniture'!E:E)","v":295},{"$f":"_xlfn.XLOOKUP(A1299,'Lighting Prices'!A:A,'Lighting Prices'!E:E)","v":{"$error":"#N/A"}}]
["@LK-OPY-WB92",{"$f":"_xlfn.XLOOKUP(A1300,'Prices Furniture'!A:A,'Prices Furniture'!E:E)","v":312},{"$f":"_xlfn.XLOOKUP(A1300,'Lighting Prices'!A:A,'Lighting Prices'!E:E)","v":{"$error":"#N/A"}}]
["@LK-OPY-WB12",{"$f":"_xlfn.XLOOKUP(A1301,'Prices Furniture'!A:A,'Prices Furniture'!E:E)","v":338},{"$f":"_xlfn.XLOOKUP(A1301,'Lighting Prices'!A:A,'Lighting Prices'!E:E)","v":{"$error":"#N/A"}}]
["@LK-OPY-WB63",{"$f":"_xlfn.XLOOKUP(A1302,'Prices Furniture'!A:A,'Prices Furniture'!E:E)","v":295},{"$f":"_xlfn.XLOOKUP(A1302,'Lighting Prices'!A:A,'Lighting Prices'!E:E)","v":{"$error":"#N/A"}}]
["@LK-OPY-WB93",{"$f":"_xlfn.XLOOKUP(A1303,'Prices Furniture'!A:A,'Prices Furniture'!E:E)","v":344},{"$f":"_xlfn.XLOOKUP(A1303,'Lighting Prices'!A:A,'Lighting Prices'!E:E)","v":{"$error":"#N/A"}}]
["@LK-OPY-AH-F55",{"$f":"_xlfn.XLOOKUP(A1304,'Prices Furniture'!A:A,'Prices Furniture'!E:E)","v":735},{"$f":"_xlfn.XLOOKUP(A1304,'Lighting Prices'!A:A,'Lighting Prices'!E:E)","v":{"$error":"#N/A"}}]
["@LK-OPY-AH-F73",{"$f":"_xlfn.XLOOKUP(A1305,'Prices Furniture'!A:A,'Prices Furniture'!E:E)","v":711},{"$f":"_xlfn.XLOOKUP(A1305,'Lighting Prices'!A:A,'Lighting Prices'!E:E)","v":{"$error":"#N/A"}}]
["@LK-OPY-AH-DO",{"$f":"_xlfn.XLOOKUP(A1306,'Prices Furniture'!A:A,'Prices Furniture'!E:E)","v":731},{"$f":"_xlfn.XLOOKUP(A1306,'Lighting Prices'!A:A,'Lighting Prices'!E:E)","v":{"$error":"#N/A"}}]
["@LK-OPY-AH-DO2D",{"$f":"_xlfn.XLOOKUP(A1307,'Prices Furniture'!A:A,'Prices Furniture'!E:E)","v":1058},{"$f":"_xlfn.XLOOKUP(A1307,'Lighting Prices'!A:A,'Lighting Prices'!E:E)","v":{"$error":"#N/A"}}]
["@LK-OPY-AH-DMW",{"$f":"_xlfn.XLOOKUP(A1308,'Prices Furniture'!A:A,'Prices Furniture'!E:E)","v":927},{"$f":"_xlfn.XLOOKUP(A1308,'Lighting Prices'!A:A,'Lighting Prices'!E:E)","v":{"$error":"#N/A"}}]
["@LK-OPY-AH-SO",{"$f":"_xlfn.XLOOKUP(A1309,'Prices Furniture'!A:A,'Prices Furniture'!E:E)","v":750},{"$f":"_xlfn.XLOOKUP(A1309,'Lighting Prices'!A:A,'Lighting Prices'!E:E)","v":{"$error":"#N/A"}}]
["@LK-OPY-AH-SO1D",{"$f":"_xlfn.XLOOKUP(A1310,'Prices Furniture'!A:A,'Prices Furniture'!E:E)","v":896},{"$f":"_xlfn.XLOOKUP(A1310,'Lighting Prices'!A:A,'Lighting Prices'!E:E)","v":{"$error":"#N/A"}}]
["@LK-OPY-AH-SO2D",{"$f":"_xlfn.XLOOKUP(A1311,'Prices Furniture'!A:A,'Prices Furniture'!E:E)","v":1112},{"$f":"_xlfn.XLOOKUP(A1311,'Lighting Prices'!A:A,'Lighting Prices'!E:E)","v":{"$error":"#N/A"}}]
["@LK-OPY-AH-SO3D",{"$f":"_xlfn.XLOOKUP(A1312,'Prices Furniture'!A:A,'Prices Furniture'!E:E)","v":1261},{"$f":"_xlfn.XLOOKUP(A1312,'Lighting Prices'!A:A,'Lighting Prices'!E:E)","v":{"$error":"#N/A"}}]
["@LK-OPY-AH-SMW",{"$f":"_xlfn.XLOOKUP(A1313,'Prices Furniture'!A:A,'Prices Furniture'!E:E)","v":786},{"$f":"_xlfn.XLOOKUP(A1313,'Lighting Prices'!A:A,'Lighting Prices'!E:E)","v":{"$error":"#N/A"}}]
["@LK-OPY-AH-SM2D",{"$f":"_xlfn.XLOOKUP(A1314,'Prices Furniture'!A:A,'Prices Furniture'!E:E)","v":1074},{"$f":"_xlfn.XLOOKUP(A1314,'Lighting Prices'!A:A,'Lighting Prices'!E:E)","v":{"$error":"#N/A"}}]
["@LK-OPY-AH-CO",{"$f":"_xlfn.XLOOKUP(A1315,'Prices Furniture'!A:A,'Prices Furniture'!E:E)","v":823},{"$f":"_xlfn.XLOOKUP(A1315,'Lighting Prices'!A:A,'Lighting Prices'!E:E)","v":{"$error":"#N/A"}}]
["@LK-OPY-BOH6",{"$f":"_xlfn.XLOOKUP(A1316,'Prices Furniture'!A:A,'Prices Furniture'!E:E)","v":199},{"$f":"_xlfn.XLOOKUP(A1316,'Lighting Prices'!A:A,'Lighting Prices'!E:E)","v":{"$error":"#N/A"}}]
["@LK-OPY-BOHD6",{"$f":"_xlfn.XLOOKUP(A1317,'Prices Furniture'!A:A,'Prices Furniture'!E:E)","v":312},{"$f":"_xlfn.XLOOKUP(A1317,'Lighting Prices'!A:A,'Lighting Prices'!E:E)","v":{"$error":"#N/A"}}]
["@LK-OPY-L3",{"$f":"_xlfn.XLOOKUP(A1318,'Prices Furniture'!A:A,'Prices Furniture'!E:E)","v":663},{"$f":"_xlfn.XLOOKUP(A1318,'Lighting Prices'!A:A,'Lighting Prices'!E:E)","v":{"$error":"#N/A"}}]
["@LK-OPY-L5",{"$f":"_xlfn.XLOOKUP(A1319,'Prices Furniture'!A:A,'Prices Furniture'!E:E)","v":723},{"$f":"_xlfn.XLOOKUP(A1319,'Lighting Prices'!A:A,'Lighting Prices'!E:E)","v":{"$error":"#N/A"}}]
["@LK-OPY-L6",{"$f":"_xlfn.XLOOKUP(A1320,'Prices Furniture'!A:A,'Prices Furniture'!E:E)","v":794},{"$f":"_xlfn.XLOOKUP(A1320,'Lighting Prices'!A:A,'Lighting Prices'!E:E)","v":{"$error":"#N/A"}}]
["@LK-OPY-LP3",{"$f":"_xlfn.XLOOKUP(A1321,'Prices Furniture'!A:A,'Prices Furniture'!E:E)","v":1445},{"$f":"_xlfn.XLOOKUP(A1321,'Lighting Prices'!A:A,'Lighting Prices'!E:E)","v":{"$error":"#N/A"}}]
["@LK-OPY-LT3",{"$f":"_xlfn.XLOOKUP(A1322,'Prices Furniture'!A:A,'Prices Furniture'!E:E)","v":1764},{"$f":"_xlfn.XLOOKUP(A1322,'Lighting Prices'!A:A,'Lighting Prices'!E:E)","v":{"$error":"#N/A"}}]
["@LK-OPY-LT5",{"$f":"_xlfn.XLOOKUP(A1323,'Prices Furniture'!A:A,'Prices Furniture'!E:E)","v":1892},{"$f":"_xlfn.XLOOKUP(A1323,'Lighting Prices'!A:A,'Lighting Prices'!E:E)","v":{"$error":"#N/A"}}]
["@LK-OPY-LT6",{"$f":"_xlfn.XLOOKUP(A1324,'Prices Furniture'!A:A,'Prices Furniture'!E:E)","v":2029},{"$f":"_xlfn.XLOOKUP(A1324,'Lighting Prices'!A:A,'Lighting Prices'!E:E)","v":{"$error":"#N/A"}}]
["@LK-OPY-LP6T",{"$f":"_xlfn.XLOOKUP(A1325,'Prices Furniture'!A:A,'Prices Furniture'!E:E)","v":1980},{"$f":"_xlfn.XLOOKUP(A1325,'Lighting Prices'!A:A,'Lighting Prices'!E:E)","v":{"$error":"#N/A"}}]
["@LK-OPY-LP5TS",{"$f":"_xlfn.XLOOKUP(A1326,'Prices Furniture'!A:A,'Prices Furniture'!E:E)","v":1657},{"$f":"_xlfn.XLOOKUP(A1326,'Lighting Prices'!A:A,'Lighting Prices'!E:E)","v":{"$error":"#N/A"}}]
["@LK-OPY-LP6TS",{"$f":"_xlfn.XLOOKUP(A1327,'Prices Furniture'!A:A,'Prices Furniture'!E:E)","v":1781},{"$f":"_xlfn.XLOOKUP(A1327,'Lighting Prices'!A:A,'Lighting Prices'!E:E)","v":{"$error":"#N/A"}}]
["@LK-OPY-LAC",{"$f":"_xlfn.XLOOKUP(A1328,'Prices Furniture'!A:A,'Prices Furniture'!E:E)","v":2084},{"$f":"_xlfn.XLOOKUP(A1328,'Lighting Prices'!A:A,'Lighting Prices'!E:E)","v":{"$error":"#N/A"}}]
["@LK-OPY-LPN14D",{"$f":"_xlfn.XLOOKUP(A1329,'Prices Furniture'!A:A,'Prices Furniture'!E:E)","v":1124},{"$f":"_xlfn.XLOOKUP(A1329,'Lighting Prices'!A:A,'Lighting Prices'!E:E)","v":{"$error":"#N/A"}}]
["@LK-OPY-LPN12D3DW",{"$f":"_xlfn.XLOOKUP(A1330,'Prices Furniture'!A:A,'Prices Furniture'!E:E)","v":1523},{"$f":"_xlfn.XLOOKUP(A1330,'Lighting Prices'!A:A,'Lighting Prices'!E:E)","v":{"$error":"#N/A"}}]
["@LK-OPY-LPN12D2DW",{"$f":"_xlfn.XLOOKUP(A1331,'Prices Furniture'!A:A,'Prices Furniture'!E:E)","v":1392},{"$f":"_xlfn.XLOOKUP(A1331,'Lighting Prices'!A:A,'Lighting Prices'!E:E)","v":{"$error":"#N/A"}}]
["@LK-OPY-LBC15",{"$f":"_xlfn.XLOOKUP(A1332,'Prices Furniture'!A:A,'Prices Furniture'!E:E)","v":944},{"$f":"_xlfn.XLOOKUP(A1332,'Lighting Prices'!A:A,'Lighting Prices'!E:E)","v":{"$error":"#N/A"}}]
["@LK-OPY-LBC16",{"$f":"_xlfn.XLOOKUP(A1333,'Prices Furniture'!A:A,'Prices Furniture'!E:E)","v":970},{"$f":"_xlfn.XLOOKUP(A1333,'Lighting Prices'!A:A,'Lighting Prices'!E:E)","v":{"$error":"#N/A"}}]
["@LK-OPY-LBCLM15L",{"$f":"_xlfn.XLOOKUP(A1334,'Prices Furniture'!A:A,'Prices Furniture'!E:E)","v":2782},{"$f":"_xlfn.XLOOKUP(A1334,'Lighting Prices'!A:A,'Lighting Prices'!E:E)","v":{"$error":"#N/A"}}]
["@LK-OPY-LBCLM15R",{"$f":"_xlfn.XLOOKUP(A1335,'Prices Furniture'!A:A,'Prices Furniture'!E:E)","v":2782},{"$f":"_xlfn.XLOOKUP(A1335,'Lighting Prices'!A:A,'Lighting Prices'!E:E)","v":{"$error":"#N/A"}}]
["@LK-OPY-LBCLM16L",{"$f":"_xlfn.XLOOKUP(A1336,'Prices Furniture'!A:A,'Prices Furniture'!E:E)","v":2934},{"$f":"_xlfn.XLOOKUP(A1336,'Lighting Prices'!A:A,'Lighting Prices'!E:E)","v":{"$error":"#N/A"}}]
["@LK-OPY-LBCLM16R",{"$f":"_xlfn.XLOOKUP(A1337,'Prices Furniture'!A:A,'Prices Furniture'!E:E)","v":2934},{"$f":"_xlfn.XLOOKUP(A1337,'Lighting Prices'!A:A,'Lighting Prices'!E:E)","v":{"$error":"#N/A"}}]
["@LK-OPY-LL6EA",{"$f":"_xlfn.XLOOKUP(A1338,'Prices Furniture'!A:A,'Prices Furniture'!E:E)","v":836},{"$f":"_xlfn.XLOOKUP(A1338,'Lighting Prices'!A:A,'Lighting Prices'!E:E)","v":{"$error":"#N/A"}}]
["@LK-OPY-LL6CU",{"$f":"_xlfn.XLOOKUP(A1339,'Prices Furniture'!A:A,'Prices Furniture'!E:E)","v":786},{"$f":"_xlfn.XLOOKUP(A1339,'Lighting Prices'!A:A,'Lighting Prices'!E:E)","v":{"$error":"#N/A"}}]
["@LK-OPY-LL10CU",{"$f":"_xlfn.XLOOKUP(A1340,'Prices Furniture'!A:A,'Prices Furniture'!E:E)","v":1235},{"$f":"_xlfn.XLOOKUP(A1340,'Lighting Prices'!A:A,'Lighting Prices'!E:E)","v":{"$error":"#N/A"}}]
["@LK-OPY-LL10CUS",{"$f":"_xlfn.XLOOKUP(A1341,'Prices Furniture'!A:A,'Prices Furniture'!E:E)","v":1334},{"$f":"_xlfn.XLOOKUP(A1341,'Lighting Prices'!A:A,'Lighting Prices'!E:E)","v":{"$error":"#N/A"}}]
["@LK-OPY-LL10CB",{"$f":"_xlfn.XLOOKUP(A1342,'Prices Furniture'!A:A,'Prices Furniture'!E:E)","v":1245},{"$f":"_xlfn.XLOOKUP(A1342,'Lighting Prices'!A:A,'Lighting Prices'!E:E)","v":{"$error":"#N/A"}}]
["@LK-OPY-AD60ICH",{"$f":"_xlfn.XLOOKUP(A1343,'Prices Furniture'!A:A,'Prices Furniture'!E:E)","v":95},{"$f":"_xlfn.XLOOKUP(A1343,'Lighting Prices'!A:A,'Lighting Prices'!E:E)","v":{"$error":"#N/A"}}]
["@LK-OPY-AD60FD",{"$f":"_xlfn.XLOOKUP(A1344,'Prices Furniture'!A:A,'Prices Furniture'!E:E)","v":131},{"$f":"_xlfn.XLOOKUP(A1344,'Lighting Prices'!A:A,'Lighting Prices'!E:E)","v":{"$error":"#N/A"}}]
["@LK-OPY-AD45I",{"$f":"_xlfn.XLOOKUP(A1345,'Prices Furniture'!A:A,'Prices Furniture'!E:E)","v":107},{"$f":"_xlfn.XLOOKUP(A1345,'Lighting Prices'!A:A,'Lighting Prices'!E:E)","v":{"$error":"#N/A"}}]
["@LK-OPY-AD60S",{"$f":"_xlfn.XLOOKUP(A1346,'Prices Furniture'!A:A,'Prices Furniture'!E:E)","v":129},{"$f":"_xlfn.XLOOKUP(A1346,'Lighting Prices'!A:A,'Lighting Prices'!E:E)","v":{"$error":"#N/A"}}]
["@LK-OPY-BLD9",{"$f":"_xlfn.XLOOKUP(A1347,'Prices Furniture'!A:A,'Prices Furniture'!E:E)","v":133},{"$f":"_xlfn.XLOOKUP(A1347,'Lighting Prices'!A:A,'Lighting Prices'!E:E)","v":{"$error":"#N/A"}}]
["@LK-OPY-CH-SO",{"$f":"_xlfn.XLOOKUP(A1348,'Prices Furniture'!A:A,'Prices Furniture'!E:E)","v":654},{"$f":"_xlfn.XLOOKUP(A1348,'Lighting Prices'!A:A,'Lighting Prices'!E:E)","v":{"$error":"#N/A"}}]
["@LK-OPY-CH-MW",{"$f":"_xlfn.XLOOKUP(A1349,'Prices Furniture'!A:A,'Prices Furniture'!E:E)","v":700},{"$f":"_xlfn.XLOOKUP(A1349,'Lighting Prices'!A:A,'Lighting Prices'!E:E)","v":{"$error":"#N/A"}}]
["@LK-OPY-CH-ST",{"$f":"_xlfn.XLOOKUP(A1350,'Prices Furniture'!A:A,'Prices Furniture'!E:E)","v":880},{"$f":"_xlfn.XLOOKUP(A1350,'Lighting Prices'!A:A,'Lighting Prices'!E:E)","v":{"$error":"#N/A"}}]
["@LK-OPY-TCH-SO",{"$f":"_xlfn.XLOOKUP(A1351,'Prices Furniture'!A:A,'Prices Furniture'!E:E)","v":846},{"$f":"_xlfn.XLOOKUP(A1351,'Lighting Prices'!A:A,'Lighting Prices'!E:E)","v":{"$error":"#N/A"}}]
["@LK-OPY-TCH-MW",{"$f":"_xlfn.XLOOKUP(A1352,'Prices Furniture'!A:A,'Prices Furniture'!E:E)","v":759},{"$f":"_xlfn.XLOOKUP(A1352,'Lighting Prices'!A:A,'Lighting Prices'!E:E)","v":{"$error":"#N/A"}}]
["@LK-OPY-TCH-ST",{"$f":"_xlfn.XLOOKUP(A1353,'Prices Furniture'!A:A,'Prices Furniture'!E:E)","v":918},{"$f":"_xlfn.XLOOKUP(A1353,'Lighting Prices'!A:A,'Lighting Prices'!E:E)","v":{"$error":"#N/A"}}]
["@LK-OPY-AH-SOT",{"$f":"_xlfn.XLOOKUP(A1354,'Prices Furniture'!A:A,'Prices Furniture'!E:E)","v":876},{"$f":"_xlfn.XLOOKUP(A1354,'Lighting Prices'!A:A,'Lighting Prices'!E:E)","v":{"$error":"#N/A"}}]
["@LK-OPY-LP5T",{"$f":"_xlfn.XLOOKUP(A1355,'Prices Furniture'!A:A,'Prices Furniture'!E:E)","v":1915},{"$f":"_xlfn.XLOOKUP(A1355,'Lighting Prices'!A:A,'Lighting Prices'!E:E)","v":{"$error":"#N/A"}}]
["@LK-OPY-LL8LS",{"$f":"_xlfn.XLOOKUP(A1356,'Prices Furniture'!A:A,'Prices Furniture'!E:E)","v":1364},{"$f":"_xlfn.XLOOKUP(A1356,'Lighting Prices'!A:A,'Lighting Prices'!E:E)","v":{"$error":"#N/A"}}]
["@LK-OPY-BHD3",{"$f":"_xlfn.XLOOKUP(A1357,'Prices Furniture'!A:A,'Prices Furniture'!E:E)","v":628},{"$f":"_xlfn.XLOOKUP(A1357,'Lighting Prices'!A:A,'Lighting Prices'!E:E)","v":{"$error":"#N/A"}}]
["@LK-OPY-BHD4",{"$f":"_xlfn.XLOOKUP(A1358,'Prices Furniture'!A:A,'Prices Furniture'!E:E)","v":677},{"$f":"_xlfn.XLOOKUP(A1358,'Lighting Prices'!A:A,'Lighting Prices'!E:E)","v":{"$error":"#N/A"}}]
["@LK-OPY-BHD5",{"$f":"_xlfn.XLOOKUP(A1359,'Prices Furniture'!A:A,'Prices Furniture'!E:E)","v":740},{"$f":"_xlfn.XLOOKUP(A1359,'Lighting Prices'!A:A,'Lighting Prices'!E:E)","v":{"$error":"#N/A"}}]
["@LK-OPY-BHD6",{"$f":"_xlfn.XLOOKUP(A1360,'Prices Furniture'!A:A,'Prices Furniture'!E:E)","v":796},{"$f":"_xlfn.XLOOKUP(A1360,'Lighting Prices'!A:A,'Lighting Prices'!E:E)","v":{"$error":"#N/A"}}]
["LK-A-OPY-WREP72",{"$f":"_xlfn.XLOOKUP(A1361,'Prices Furniture'!A:A,'Prices Furniture'!E:E)","v":77},{"$f":"_xlfn.XLOOKUP(A1361,'Lighting Prices'!A:A,'Lighting Prices'!E:E)","v":{"$error":"#N/A"}}]
["LK-A-OPY-PWEP72",{"$f":"_xlfn.XLOOKUP(A1362,'Prices Furniture'!A:A,'Prices Furniture'!E:E)","v":92},{"$f":"_xlfn.XLOOKUP(A1362,'Lighting Prices'!A:A,'Lighting Prices'!E:E)","v":{"$error":"#N/A"}}]
["LK-A-OPY-PWEP20",{"$f":"_xlfn.XLOOKUP(A1363,'Prices Furniture'!A:A,'Prices Furniture'!E:E)","v":200},{"$f":"_xlfn.XLOOKUP(A1363,'Lighting Prices'!A:A,'Lighting Prices'!E:E)","v":{"$error":"#N/A"}}]
["LK-A-OPY-ESP",{"$f":"_xlfn.XLOOKUP(A1364,'Prices Furniture'!A:A,'Prices Furniture'!E:E)","v":135},{"$f":"_xlfn.XLOOKUP(A1364,'Lighting Prices'!A:A,'Lighting Prices'!E:E)","v":{"$error":"#N/A"}}]
["LK-A-OPY-LUP",{"$f":"_xlfn.XLOOKUP(A1365,'Prices Furniture'!A:A,'Prices Furniture'!E:E)","v":391},{"$f":"_xlfn.XLOOKUP(A1365,'Lighting Prices'!A:A,'Lighting Prices'!E:E)","v":{"$error":"#N/A"}}]
["LK-A-OPY-PTEP",{"$f":"_xlfn.XLOOKUP(A1366,'Prices Furniture'!A:A,'Prices Furniture'!E:E)","v":305},{"$f":"_xlfn.XLOOKUP(A1366,'Lighting Prices'!A:A,'Lighting Prices'!E:E)","v":{"$error":"#N/A"}}]
["LK-A-OPY-PL",{"$f":"_xlfn.XLOOKUP(A1367,'Prices Furniture'!A:A,'Prices Furniture'!E:E)","v":90},{"$f":"_xlfn.XLOOKUP(A1367,'Lighting Prices'!A:A,'Lighting Prices'!E:E)","v":{"$error":"#N/A"}}]
["LK-A-OPY-SCCRN",{"$f":"_xlfn.XLOOKUP(A1368,'Prices Furniture'!A:A,'Prices Furniture'!E:E)","v":113},{"$f":"_xlfn.XLOOKUP(A1368,'Lighting Prices'!A:A,'Lighting Prices'!E:E)","v":{"$error":"#N/A"}}]
["LK-A-OPY-BLPEL",{"$f":"_xlfn.XLOOKUP(A1369,'Prices Furniture'!A:A,'Prices Furniture'!E:E)","v":86},{"$f":"_xlfn.XLOOKUP(A1369,'Lighting Prices'!A:A,'Lighting Prices'!E:E)","v":{"$error":"#N/A"}}]
["LK-A-OPY-CVP",{"$f":"_xlfn.XLOOKUP(A1370,'Prices Furniture'!A:A,'Prices Furniture'!E:E)","v":123},{"$f":"_xlfn.XLOOKUP(A1370,'Lighting Prices'!A:A,'Lighting Prices'!E:E)","v":{"$error":"#N/A"}}]
["LK-A-OPY-CPBM",{"$f":"_xlfn.XLOOKUP(A1371,'Prices Furniture'!A:A,'Prices Furniture'!E:E)","v":109},{"$f":"_xlfn.XLOOKUP(A1371,'Lighting Prices'!A:A,'Lighting Prices'!E:E)","v":{"$error":"#N/A"}}]
["LK-A-OPY-CPBC",{"$f":"_xlfn.XLOOKUP(A1372,'Prices Furniture'!A:A,'Prices Furniture'!E:E)","v":116},{"$f":"_xlfn.XLOOKUP(A1372,'Lighting Prices'!A:A,'Lighting Prices'!E:E)","v":{"$error":"#N/A"}}]
["LK-A-OPY-ET",{"$f":"_xlfn.XLOOKUP(A1373,'Prices Furniture'!A:A,'Prices Furniture'!E:E)","v":37},{"$f":"_xlfn.XLOOKUP(A1373,'Lighting Prices'!A:A,'Lighting Prices'!E:E)","v":{"$error":"#N/A"}}]
["@LK-OPF-BP15TY",{"$f":"_xlfn.XLOOKUP(A1374,'Prices Furniture'!A:A,'Prices Furniture'!E:E)","v":408},{"$f":"_xlfn.XLOOKUP(A1374,'Lighting Prices'!A:A,'Lighting Prices'!E:E)","v":{"$error":"#N/A"}}]
["@LK-OPF-BP3TY",{"$f":"_xlfn.XLOOKUP(A1375,'Prices Furniture'!A:A,'Prices Furniture'!E:E)","v":634},{"$f":"_xlfn.XLOOKUP(A1375,'Lighting Prices'!A:A,'Lighting Prices'!E:E)","v":{"$error":"#N/A"}}]
["@LK-OPF-BH15",{"$f":"_xlfn.XLOOKUP(A1376,'Prices Furniture'!A:A,'Prices Furniture'!E:E)","v":228},{"$f":"_xlfn.XLOOKUP(A1376,'Lighting Prices'!A:A,'Lighting Prices'!E:E)","v":{"$error":"#N/A"}}]
["@LK-OPF-BH30",{"$f":"_xlfn.XLOOKUP(A1377,'Prices Furniture'!A:A,'Prices Furniture'!E:E)","v":239},{"$f":"_xlfn.XLOOKUP(A1377,'Lighting Prices'!A:A,'Lighting Prices'!E:E)","v":{"$error":"#N/A"}}]
["@LK-OPF-BH3B",{"$f":"_xlfn.XLOOKUP(A1378,'Prices Furniture'!A:A,'Prices Furniture'!E:E)","v":607},{"$f":"_xlfn.XLOOKUP(A1378,'Lighting Prices'!A:A,'Lighting Prices'!E:E)","v":{"$error":"#N/A"}}]
["@LK-OPF-BH35",{"$f":"_xlfn.XLOOKUP(A1379,'Prices Furniture'!A:A,'Prices Furniture'!E:E)","v":245},{"$f":"_xlfn.XLOOKUP(A1379,'Lighting Prices'!A:A,'Lighting Prices'!E:E)","v":{"$error":"#N/A"}}]
["@LK-OPF-BH40",{"$f":"_xlfn.XLOOKUP(A1380,'Prices Furniture'!A:A,'Prices Furniture'!E:E)","v":249},{"$f":"_xlfn.XLOOKUP(A1380,'Lighting Prices'!A:A,'Lighting Prices'!E:E)","v":{"$error":"#N/A"}}]
["@LK-OPF-BH4B",{"$f":"_xlfn.XLOOKUP(A1381,'Prices Furniture'!A:A,'Prices Furniture'!E:E)","v":682},{"$f":"_xlfn.XLOOKUP(A1381,'Lighting Prices'!A:A,'Lighting Prices'!E:E)","v":{"$error":"#N/A"}}]
["@LK-OPF-BH45",{"$f":"_xlfn.XLOOKUP(A1382,'Prices Furniture'!A:A,'Prices Furniture'!E:E)","v":272},{"$f":"_xlfn.XLOOKUP(A1382,'Lighting Prices'!A:A,'Lighting Prices'!E:E)","v":{"$error":"#N/A"}}]
["@LK-OPF-BH45B",{"$f":"_xlfn.XLOOKUP(A1383,'Prices Furniture'!A:A,'Prices Furniture'!E:E)","v":710},{"$f":"_xlfn.XLOOKUP(A1383,'Lighting Prices'!A:A,'Lighting Prices'!E:E)","v":{"$error":"#N/A"}}]
["@LK-OPF-BH50",{"$f":"_xlfn.XLOOKUP(A1384,'Prices Furniture'!A:A,'Prices Furniture'!E:E)","v":283},{"$f":"_xlfn.XLOOKUP(A1384,'Lighting Prices'!A:A,'Lighting Prices'!E:E)","v":{"$error":"#N/A"}}]
["@LK-OPF-BH5B",{"$f":"_xlfn.XLOOKUP(A1385,'Prices Furniture'!A:A,'Prices Furniture'!E:E)","v":727},{"$f":"_xlfn.XLOOKUP(A1385,'Lighting Prices'!A:A,'Lighting Prices'!E:E)","v":{"$error":"#N/A"}}]
["@LK-OPF-BH50S",{"$f":"_xlfn.XLOOKUP(A1386,'Prices Furniture'!A:A,'Prices Furniture'!E:E)","v":313},{"$f":"_xlfn.XLOOKUP(A1386,'Lighting Prices'!A:A,'Lighting Prices'!E:E)","v":{"$error":"#N/A"}}]
["@LK-OPF-BH60",{"$f":"_xlfn.XLOOKUP(A1387,'Prices Furniture'!A:A,'Prices Furniture'!E:E)","v":319},{"$f":"_xlfn.XLOOKUP(A1387,'Lighting Prices'!A:A,'Lighting Prices'!E:E)","v":{"$error":"#N/A"}}]
["@LK-OPF-BH6B4",{"$f":"_xlfn.XLOOKUP(A1388,'Prices Furniture'!A:A,'Prices Furniture'!E:E)","v":852},{"$f":"_xlfn.XLOOKUP(A1388,'Lighting Prices'!A:A,'Lighting Prices'!E:E)","v":{"$error":"#N/A"}}]
["@LK-OPF-BH6B2",{"$f":"_xlfn.XLOOKUP(A1389,'Prices Furniture'!A:A,'Prices Furniture'!E:E)","v":800},{"$f":"_xlfn.XLOOKUP(A1389,'Lighting Prices'!A:A,'Lighting Prices'!E:E)","v":{"$error":"#N/A"}}]
["@LK-OPF-BH60S",{"$f":"_xlfn.XLOOKUP(A1390,'Prices Furniture'!A:A,'Prices Furniture'!E:E)","v":365},{"$f":"_xlfn.XLOOKUP(A1390,'Lighting Prices'!A:A,'Lighting Prices'!E:E)","v":{"$error":"#N/A"}}]
["@LK-OPF-BH70",{"$f":"_xlfn.XLOOKUP(A1391,'Prices Furniture'!A:A,'Prices Furniture'!E:E)","v":388},{"$f":"_xlfn.XLOOKUP(A1391,'Lighting Prices'!A:A,'Lighting Prices'!E:E)","v":{"$error":"#N/A"}}]
["@LK-OPF-BH80",{"$f":"_xlfn.XLOOKUP(A1392,'Prices Furniture'!A:A,'Prices Furniture'!E:E)","v":394},{"$f":"_xlfn.XLOOKUP(A1392,'Lighting Prices'!A:A,'Lighting Prices'!E:E)","v":{"$error":"#N/A"}}]
["@LK-OPF-BH80S",{"$f":"_xlfn.XLOOKUP(A1393,'Prices Furniture'!A:A,'Prices Furniture'!E:E)","v":440},{"$f":"_xlfn.XLOOKUP(A1393,'Lighting Prices'!A:A,'Lighting Prices'!E:E)","v":{"$error":"#N/A"}}]
["@LK-OPF-BH90",{"$f":"_xlfn.XLOOKUP(A1394,'Prices Furniture'!A:A,'Prices Furniture'!E:E)","v":418},{"$f":"_xlfn.XLOOKUP(A1394,'Lighting Prices'!A:A,'Lighting Prices'!E:E)","v":{"$error":"#N/A"}}]
["@LK-OPF-BH90S",{"$f":"_xlfn.XLOOKUP(A1395,'Prices Furniture'!A:A,'Prices Furniture'!E:E)","v":464},{"$f":"_xlfn.XLOOKUP(A1395,'Lighting Prices'!A:A,'Lighting Prices'!E:E)","v":{"$error":"#N/A"}}]
["@LK-OPF-BH100",{"$f":"_xlfn.XLOOKUP(A1396,'Prices Furniture'!A:A,'Prices Furniture'!E:E)","v":439},{"$f":"_xlfn.XLOOKUP(A1396,'Lighting Prices'!A:A,'Lighting Prices'!E:E)","v":{"$error":"#N/A"}}]
["@LK-OPF-BH10S",{"$f":"_xlfn.XLOOKUP(A1397,'Prices Furniture'!A:A,'Prices Furniture'!E:E)","v":485},{"$f":"_xlfn.XLOOKUP(A1397,'Lighting Prices'!A:A,'Lighting Prices'!E:E)","v":{"$error":"#N/A"}}]
["@LK-OPF-BC83",{"$f":"_xlfn.XLOOKUP(A1398,'Prices Furniture'!A:A,'Prices Furniture'!E:E)","v":374},{"$f":"_xlfn.XLOOKUP(A1398,'Lighting Prices'!A:A,'Lighting Prices'!E:E)","v":{"$error":"#N/A"}}]
["@LK-OPF-BC84",{"$f":"_xlfn.XLOOKUP(A1399,'Prices Furniture'!A:A,'Prices Furniture'!E:E)","v":380},{"$f":"_xlfn.XLOOKUP(A1399,'Lighting Prices'!A:A,'Lighting Prices'!E:E)","v":{"$error":"#N/A"}}]
["@LK-OPF-BC845",{"$f":"_xlfn.XLOOKUP(A1400,'Prices Furniture'!A:A,'Prices Furniture'!E:E)","v":392},{"$f":"_xlfn.XLOOKUP(A1400,'Lighting Prices'!A:A,'Lighting Prices'!E:E)","v":{"$error":"#N/A"}}]
["@LK-OPF-BC945",{"$f":"_xlfn.XLOOKUP(A1401,'Prices Furniture'!A:A,'Prices Furniture'!E:E)","v":392},{"$f":"_xlfn.XLOOKUP(A1401,'Lighting Prices'!A:A,'Lighting Prices'!E:E)","v":{"$error":"#N/A"}}]
["@LK-OPF-BC145",{"$f":"_xlfn.XLOOKUP(A1402,'Prices Furniture'!A:A,'Prices Furniture'!E:E)","v":397},{"$f":"_xlfn.XLOOKUP(A1402,'Lighting Prices'!A:A,'Lighting Prices'!E:E)","v":{"$error":"#N/A"}}]
["@LK-OPF-BC15",{"$f":"_xlfn.XLOOKUP(A1403,'Prices Furniture'!A:A,'Prices Furniture'!E:E)","v":405},{"$f":"_xlfn.XLOOKUP(A1403,'Lighting Prices'!A:A,'Lighting Prices'!E:E)","v":{"$error":"#N/A"}}]
["@LK-OPF-BC16",{"$f":"_xlfn.XLOOKUP(A1404,'Prices Furniture'!A:A,'Prices Furniture'!E:E)","v":421},{"$f":"_xlfn.XLOOKUP(A1404,'Lighting Prices'!A:A,'Lighting Prices'!E:E)","v":{"$error":"#N/A"}}]
["@LK-OPF-BCL15L",{"$f":"_xlfn.XLOOKUP(A1405,'Prices Furniture'!A:A,'Prices Furniture'!E:E)","v":1270},{"$f":"_xlfn.XLOOKUP(A1405,'Lighting Prices'!A:A,'Lighting Prices'!E:E)","v":{"$error":"#N/A"}}]
["@LK-OPF-BCL15R",{"$f":"_xlfn.XLOOKUP(A1406,'Prices Furniture'!A:A,'Prices Furniture'!E:E)","v":1270},{"$f":"_xlfn.XLOOKUP(A1406,'Lighting Prices'!A:A,'Lighting Prices'!E:E)","v":{"$error":"#N/A"}}]
["@LK-OPF-BCL16L",{"$f":"_xlfn.XLOOKUP(A1407,'Prices Furniture'!A:A,'Prices Furniture'!E:E)","v":1349},{"$f":"_xlfn.XLOOKUP(A1407,'Lighting Prices'!A:A,'Lighting Prices'!E:E)","v":{"$error":"#N/A"}}]
["@LK-OPF-BCL16R",{"$f":"_xlfn.XLOOKUP(A1408,'Prices Furniture'!A:A,'Prices Furniture'!E:E)","v":1349},{"$f":"_xlfn.XLOOKUP(A1408,'Lighting Prices'!A:A,'Lighting Prices'!E:E)","v":{"$error":"#N/A"}}]
["@LK-OPF-BCO945",{"$f":"_xlfn.XLOOKUP(A1409,'Prices Furniture'!A:A,'Prices Furniture'!E:E)","v":1397},{"$f":"_xlfn.XLOOKUP(A1409,'Lighting Prices'!A:A,'Lighting Prices'!E:E)","v":{"$error":"#N/A"}}]
["@LK-OPF-BCO145",{"$f":"_xlfn.XLOOKUP(A1410,'Prices Furniture'!A:A,'Prices Furniture'!E:E)","v":1407},{"$f":"_xlfn.XLOOKUP(A1410,'Lighting Prices'!A:A,'Lighting Prices'!E:E)","v":{"$error":"#N/A"}}]
["@LK-OPF-BCO15",{"$f":"_xlfn.XLOOKUP(A1411,'Prices Furniture'!A:A,'Prices Furniture'!E:E)","v":1415},{"$f":"_xlfn.XLOOKUP(A1411,'Lighting Prices'!A:A,'Lighting Prices'!E:E)","v":{"$error":"#N/A"}}]
["@LK-OPF-BCO16",{"$f":"_xlfn.XLOOKUP(A1412,'Prices Furniture'!A:A,'Prices Furniture'!E:E)","v":1431},{"$f":"_xlfn.XLOOKUP(A1412,'Lighting Prices'!A:A,'Lighting Prices'!E:E)","v":{"$error":"#N/A"}}]
["@LK-OPF-BCL9",{"$f":"_xlfn.XLOOKUP(A1413,'Prices Furniture'!A:A,'Prices Furniture'!E:E)","v":618},{"$f":"_xlfn.XLOOKUP(A1413,'Lighting Prices'!A:A,'Lighting Prices'!E:E)","v":{"$error":"#N/A"}}]
["@LK-OPF-BSU6495",{"$f":"_xlfn.XLOOKUP(A1414,'Prices Furniture'!A:A,'Prices Furniture'!E:E)","v":285},{"$f":"_xlfn.XLOOKUP(A1414,'Lighting Prices'!A:A,'Lighting Prices'!E:E)","v":{"$error":"#N/A"}}]
["@LK-OPF-BSU6450",{"$f":"_xlfn.XLOOKUP(A1415,'Prices Furniture'!A:A,'Prices Furniture'!E:E)","v":283},{"$f":"_xlfn.XLOOKUP(A1415,'Lighting Prices'!A:A,'Lighting Prices'!E:E)","v":{"$error":"#N/A"}}]
["@LK-OPF-BD54",{"$f":"_xlfn.XLOOKUP(A1416,'Prices Furniture'!A:A,'Prices Furniture'!E:E)","v":846},{"$f":"_xlfn.XLOOKUP(A1416,'Lighting Prices'!A:A,'Lighting Prices'!E:E)","v":{"$error":"#N/A"}}]
["@LK-OPF-BD53",{"$f":"_xlfn.XLOOKUP(A1417,'Prices Furniture'!A:A,'Prices Furniture'!E:E)","v":714},{"$f":"_xlfn.XLOOKUP(A1417,'Lighting Prices'!A:A,'Lighting Prices'!E:E)","v":{"$error":"#N/A"}}]
["@LK-OPF-BD63",{"$f":"_xlfn.XLOOKUP(A1418,'Prices Furniture'!A:A,'Prices Furniture'!E:E)","v":806},{"$f":"_xlfn.XLOOKUP(A1418,'Lighting Prices'!A:A,'Lighting Prices'!E:E)","v":{"$error":"#N/A"}}]
["@LK-OPF-BD83",{"$f":"_xlfn.XLOOKUP(A1419,'Prices Furniture'!A:A,'Prices Furniture'!E:E)","v":813},{"$f":"_xlfn.XLOOKUP(A1419,'Lighting Prices'!A:A,'Lighting Prices'!E:E)","v":{"$error":"#N/A"}}]
["@LK-OPF-BD93",{"$f":"_xlfn.XLOOKUP(A1420,'Prices Furniture'!A:A,'Prices Furniture'!E:E)","v":828},{"$f":"_xlfn.XLOOKUP(A1420,'Lighting Prices'!A:A,'Lighting Prices'!E:E)","v":{"$error":"#N/A"}}]
["@LK-OPF-BD13",{"$f":"_xlfn.XLOOKUP(A1421,'Prices Furniture'!A:A,'Prices Furniture'!E:E)","v":845},{"$f":"_xlfn.XLOOKUP(A1421,'Lighting Prices'!A:A,'Lighting Prices'!E:E)","v":{"$error":"#N/A"}}]
["@LK-OPF-BD62",{"$f":"_xlfn.XLOOKUP(A1422,'Prices Furniture'!A:A,'Prices Furniture'!E:E)","v":683},{"$f":"_xlfn.XLOOKUP(A1422,'Lighting Prices'!A:A,'Lighting Prices'!E:E)","v":{"$error":"#N/A"}}]
["@LK-OPF-BD92",{"$f":"_xlfn.XLOOKUP(A1423,'Prices Furniture'!A:A,'Prices Furniture'!E:E)","v":700},{"$f":"_xlfn.XLOOKUP(A1423,'Lighting Prices'!A:A,'Lighting Prices'!E:E)","v":{"$error":"#N/A"}}]
["@LK-OPF-BD62I",{"$f":"_xlfn.XLOOKUP(A1424,'Prices Furniture'!A:A,'Prices Furniture'!E:E)","v":859},{"$f":"_xlfn.XLOOKUP(A1424,'Lighting Prices'!A:A,'Lighting Prices'!E:E)","v":{"$error":"#N/A"}}]
["@LK-OPF-BD92I",{"$f":"_xlfn.XLOOKUP(A1425,'Prices Furniture'!A:A,'Prices Furniture'!E:E)","v":901},{"$f":"_xlfn.XLOOKUP(A1425,'Lighting Prices'!A:A,'Lighting Prices'!E:E)","v":{"$error":"#N/A"}}]
["@LK-OPF-BD635L",{"$f":"_xlfn.XLOOKUP(A1426,'Prices Furniture'!A:A,'Prices Furniture'!E:E)","v":384},{"$f":"_xlfn.XLOOKUP(A1426,'Lighting Prices'!A:A,'Lighting Prices'!E:E)","v":{"$error":"#N/A"}}]
["@LK-OPF-W30",{"$f":"_xlfn.XLOOKUP(A1427,'Prices Furniture'!A:A,'Prices Furniture'!E:E)","v":221},{"$f":"_xlfn.XLOOKUP(A1427,'Lighting Prices'!A:A,'Lighting Prices'!E:E)","v":{"$error":"#N/A"}}]
["@LK-OPF-W35",{"$f":"_xlfn.XLOOKUP(A1428,'Prices Furniture'!A:A,'Prices Furniture'!E:E)","v":227},{"$f":"_xlfn.XLOOKUP(A1428,'Lighting Prices'!A:A,'Lighting Prices'!E:E)","v":{"$error":"#N/A"}}]
["@LK-OPF-W40",{"$f":"_xlfn.XLOOKUP(A1429,'Prices Furniture'!A:A,'Prices Furniture'!E:E)","v":235},{"$f":"_xlfn.XLOOKUP(A1429,'Lighting Prices'!A:A,'Lighting Prices'!E:E)","v":{"$error":"#N/A"}}]
["@LK-OPF-W45",{"$f":"_xlfn.XLOOKUP(A1430,'Prices Furniture'!A:A,'Prices Furniture'!E:E)","v":252},{"$f":"_xlfn.XLOOKUP(A1430,'Lighting Prices'!A:A,'Lighting Prices'!E:E)","v":{"$error":"#N/A"}}]
["@LK-OPF-W50",{"$f":"_xlfn.XLOOKUP(A1431,'Prices Furniture'!A:A,'Prices Furniture'!E:E)","v":266},{"$f":"_xlfn.XLOOKUP(A1431,'Lighting Prices'!A:A,'Lighting Prices'!E:E)","v":{"$error":"#N/A"}}]
["@LK-OPF-W60",{"$f":"_xlfn.XLOOKUP(A1432,'Prices Furniture'!A:A,'Prices Furniture'!E:E)","v":290},{"$f":"_xlfn.XLOOKUP(A1432,'Lighting Prices'!A:A,'Lighting Prices'!E:E)","v":{"$error":"#N/A"}}]
["@LK-OPF-W70",{"$f":"_xlfn.XLOOKUP(A1433,'Prices Furniture'!A:A,'Prices Furniture'!E:E)","v":383},{"$f":"_xlfn.XLOOKUP(A1433,'Lighting Prices'!A:A,'Lighting Prices'!E:E)","v":{"$error":"#N/A"}}]
["@LK-OPF-W80",{"$f":"_xlfn.XLOOKUP(A1434,'Prices Furniture'!A:A,'Prices Furniture'!E:E)","v":389},{"$f":"_xlfn.XLOOKUP(A1434,'Lighting Prices'!A:A,'Lighting Prices'!E:E)","v":{"$error":"#N/A"}}]
["@LK-OPF-W90",{"$f":"_xlfn.XLOOKUP(A1435,'Prices Furniture'!A:A,'Prices Furniture'!E:E)","v":409},{"$f":"_xlfn.XLOOKUP(A1435,'Lighting Prices'!A:A,'Lighting Prices'!E:E)","v":{"$error":"#N/A"}}]
["@LK-OPF-W100",{"$f":"_xlfn.XLOOKUP(A1436,'Prices Furniture'!A:A,'Prices Furniture'!E:E)","v":434},{"$f":"_xlfn.XLOOKUP(A1436,'Lighting Prices'!A:A,'Lighting Prices'!E:E)","v":{"$error":"#N/A"}}]
["@LK-OPF-WC6",{"$f":"_xlfn.XLOOKUP(A1437,'Prices Furniture'!A:A,'Prices Furniture'!E:E)","v":309},{"$f":"_xlfn.XLOOKUP(A1437,'Lighting Prices'!A:A,'Lighting Prices'!E:E)","v":{"$error":"#N/A"}}]
["@LK-OPF-WC9",{"$f":"_xlfn.XLOOKUP(A1438,'Prices Furniture'!A:A,'Prices Furniture'!E:E)","v":371},{"$f":"_xlfn.XLOOKUP(A1438,'Lighting Prices'!A:A,'Lighting Prices'!E:E)","v":{"$error":"#N/A"}}]
["@LK-OPF-WCL65",{"$f":"_xlfn.XLOOKUP(A1439,'Prices Furniture'!A:A,'Prices Furniture'!E:E)","v":553},{"$f":"_xlfn.XLOOKUP(A1439,'Lighting Prices'!A:A,'Lighting Prices'!E:E)","v":{"$error":"#N/A"}}]
["@LK-OPF-WM60",{"$f":"_xlfn.XLOOKUP(A1440,'Prices Furniture'!A:A,'Prices Furniture'!E:E)","v":361},{"$f":"_xlfn.XLOOKUP(A1440,'Lighting Prices'!A:A,'Lighting Prices'!E:E)","v":{"$error":"#N/A"}}]
["@LK-OPF-WBHU",{"$f":"_xlfn.XLOOKUP(A1441,'Prices Furniture'!A:A,'Prices Furniture'!E:E)","v":282},{"$f":"_xlfn.XLOOKUP(A1441,'Lighting Prices'!A:A,'Lighting Prices'!E:E)","v":{"$error":"#N/A"}}]
["@LK-OPF-WBI60",{"$f":"_xlfn.XLOOKUP(A1442,'Prices Furniture'!A:A,'Prices Furniture'!E:E)","v":663},{"$f":"_xlfn.XLOOKUP(A1442,'Lighting Prices'!A:A,'Lighting Prices'!E:E)","v":{"$error":"#N/A"}}]
["@LK-OPF-WBI90",{"$f":"_xlfn.XLOOKUP(A1443,'Prices Furniture'!A:A,'Prices Furniture'!E:E)","v":695},{"$f":"_xlfn.XLOOKUP(A1443,'Lighting Prices'!A:A,'Lighting Prices'!E:E)","v":{"$error":"#N/A"}}]
["@LK-OPF-WGS5",{"$f":"_xlfn.XLOOKUP(A1444,'Prices Furniture'!A:A,'Prices Furniture'!E:E)","v":434},{"$f":"_xlfn.XLOOKUP(A1444,'Lighting Prices'!A:A,'Lighting Prices'!E:E)","v":{"$error":"#N/A"}}]
["@LK-OPF-WGS6",{"$f":"_xlfn.XLOOKUP(A1445,'Prices Furniture'!A:A,'Prices Furniture'!E:E)","v":476},{"$f":"_xlfn.XLOOKUP(A1445,'Lighting Prices'!A:A,'Lighting Prices'!E:E)","v":{"$error":"#N/A"}}]
["@LK-OPF-WGR5",{"$f":"_xlfn.XLOOKUP(A1446,'Prices Furniture'!A:A,'Prices Furniture'!E:E)","v":434},{"$f":"_xlfn.XLOOKUP(A1446,'Lighting Prices'!A:A,'Lighting Prices'!E:E)","v":{"$error":"#N/A"}}]
["@LK-OPF-WGR6",{"$f":"_xlfn.XLOOKUP(A1447,'Prices Furniture'!A:A,'Prices Furniture'!E:E)","v":476},{"$f":"_xlfn.XLOOKUP(A1447,'Lighting Prices'!A:A,'Lighting Prices'!E:E)","v":{"$error":"#N/A"}}]
["@LK-OPF-WB62",{"$f":"_xlfn.XLOOKUP(A1448,'Prices Furniture'!A:A,'Prices Furniture'!E:E)","v":237},{"$f":"_xlfn.XLOOKUP(A1448,'Lighting Prices'!A:A,'Lighting Prices'!E:E)","v":{"$error":"#N/A"}}]
["@LK-OPF-WB82",{"$f":"_xlfn.XLOOKUP(A1449,'Prices Furniture'!A:A,'Prices Furniture'!E:E)","v":295},{"$f":"_xlfn.XLOOKUP(A1449,'Lighting Prices'!A:A,'Lighting Prices'!E:E)","v":{"$error":"#N/A"}}]
["@LK-OPF-WB92",{"$f":"_xlfn.XLOOKUP(A1450,'Prices Furniture'!A:A,'Prices Furniture'!E:E)","v":312},{"$f":"_xlfn.XLOOKUP(A1450,'Lighting Prices'!A:A,'Lighting Prices'!E:E)","v":{"$error":"#N/A"}}]
["@LK-OPF-WB12",{"$f":"_xlfn.XLOOKUP(A1451,'Prices Furniture'!A:A,'Prices Furniture'!E:E)","v":338},{"$f":"_xlfn.XLOOKUP(A1451,'Lighting Prices'!A:A,'Lighting Prices'!E:E)","v":{"$error":"#N/A"}}]
["@LK-OPF-WB63",{"$f":"_xlfn.XLOOKUP(A1452,'Prices Furniture'!A:A,'Prices Furniture'!E:E)","v":295},{"$f":"_xlfn.XLOOKUP(A1452,'Lighting Prices'!A:A,'Lighting Prices'!E:E)","v":{"$error":"#N/A"}}]
["@LK-OPF-WB93",{"$f":"_xlfn.XLOOKUP(A1453,'Prices Furniture'!A:A,'Prices Furniture'!E:E)","v":344},{"$f":"_xlfn.XLOOKUP(A1453,'Lighting Prices'!A:A,'Lighting Prices'!E:E)","v":{"$error":"#N/A"}}]
["@LK-OPF-AH-F55",{"$f":"_xlfn.XLOOKUP(A1454,'Prices Furniture'!A:A,'Prices Furniture'!E:E)","v":735},{"$f":"_xlfn.XLOOKUP(A1454,'Lighting Prices'!A:A,'Lighting Prices'!E:E)","v":{"$error":"#N/A"}}]
["@LK-OPF-AH-F73",{"$f":"_xlfn.XLOOKUP(A1455,'Prices Furniture'!A:A,'Prices Furniture'!E:E)","v":711},{"$f":"_xlfn.XLOOKUP(A1455,'Lighting Prices'!A:A,'Lighting Prices'!E:E)","v":{"$error":"#N/A"}}]
["@LK-OPF-AH-DO",{"$f":"_xlfn.XLOOKUP(A1456,'Prices Furniture'!A:A,'Prices Furniture'!E:E)","v":731},{"$f":"_xlfn.XLOOKUP(A1456,'Lighting Prices'!A:A,'Lighting Prices'!E:E)","v":{"$error":"#N/A"}}]
["@LK-OPF-AH-DO2D",{"$f":"_xlfn.XLOOKUP(A1457,'Prices Furniture'!A:A,'Prices Furniture'!E:E)","v":1058},{"$f":"_xlfn.XLOOKUP(A1457,'Lighting Prices'!A:A,'Lighting Prices'!E:E)","v":{"$error":"#N/A"}}]
["@LK-OPF-AH-DMW",{"$f":"_xlfn.XLOOKUP(A1458,'Prices Furniture'!A:A,'Prices Furniture'!E:E)","v":927},{"$f":"_xlfn.XLOOKUP(A1458,'Lighting Prices'!A:A,'Lighting Prices'!E:E)","v":{"$error":"#N/A"}}]
["@LK-OPF-AH-SO",{"$f":"_xlfn.XLOOKUP(A1459,'Prices Furniture'!A:A,'Prices Furniture'!E:E)","v":750},{"$f":"_xlfn.XLOOKUP(A1459,'Lighting Prices'!A:A,'Lighting Prices'!E:E)","v":{"$error":"#N/A"}}]
["@LK-OPF-AH-SO1D",{"$f":"_xlfn.XLOOKUP(A1460,'Prices Furniture'!A:A,'Prices Furniture'!E:E)","v":896},{"$f":"_xlfn.XLOOKUP(A1460,'Lighting Prices'!A:A,'Lighting Prices'!E:E)","v":{"$error":"#N/A"}}]
["@LK-OPF-AH-SO2D",{"$f":"_xlfn.XLOOKUP(A1461,'Prices Furniture'!A:A,'Prices Furniture'!E:E)","v":1112},{"$f":"_xlfn.XLOOKUP(A1461,'Lighting Prices'!A:A,'Lighting Prices'!E:E)","v":{"$error":"#N/A"}}]
["@LK-OPF-AH-SO3D",{"$f":"_xlfn.XLOOKUP(A1462,'Prices Furniture'!A:A,'Prices Furniture'!E:E)","v":1261},{"$f":"_xlfn.XLOOKUP(A1462,'Lighting Prices'!A:A,'Lighting Prices'!E:E)","v":{"$error":"#N/A"}}]
["@LK-OPF-AH-SMW",{"$f":"_xlfn.XLOOKUP(A1463,'Prices Furniture'!A:A,'Prices Furniture'!E:E)","v":786},{"$f":"_xlfn.XLOOKUP(A1463,'Lighting Prices'!A:A,'Lighting Prices'!E:E)","v":{"$error":"#N/A"}}]
["@LK-OPF-AH-SM2D",{"$f":"_xlfn.XLOOKUP(A1464,'Prices Furniture'!A:A,'Prices Furniture'!E:E)","v":1074},{"$f":"_xlfn.XLOOKUP(A1464,'Lighting Prices'!A:A,'Lighting Prices'!E:E)","v":{"$error":"#N/A"}}]
["@LK-OPF-AH-CO",{"$f":"_xlfn.XLOOKUP(A1465,'Prices Furniture'!A:A,'Prices Furniture'!E:E)","v":823},{"$f":"_xlfn.XLOOKUP(A1465,'Lighting Prices'!A:A,'Lighting Prices'!E:E)","v":{"$error":"#N/A"}}]
["@LK-OPF-BOH6",{"$f":"_xlfn.XLOOKUP(A1466,'Prices Furniture'!A:A,'Prices Furniture'!E:E)","v":199},{"$f":"_xlfn.XLOOKUP(A1466,'Lighting Prices'!A:A,'Lighting Prices'!E:E)","v":{"$error":"#N/A"}}]
["@LK-OPF-BOHD6",{"$f":"_xlfn.XLOOKUP(A1467,'Prices Furniture'!A:A,'Prices Furniture'!E:E)","v":312},{"$f":"_xlfn.XLOOKUP(A1467,'Lighting Prices'!A:A,'Lighting Prices'!E:E)","v":{"$error":"#N/A"}}]
["@LK-OPF-L3",{"$f":"_xlfn.XLOOKUP(A1468,'Prices Furniture'!A:A,'Prices Furniture'!E:E)","v":663},{"$f":"_xlfn.XLOOKUP(A1468,'Lighting Prices'!A:A,'Lighting Prices'!E:E)","v":{"$error":"#N/A"}}]
["@LK-OPF-L5",{"$f":"_xlfn.XLOOKUP(A1469,'Prices Furniture'!A:A,'Prices Furniture'!E:E)","v":723},{"$f":"_xlfn.XLOOKUP(A1469,'Lighting Prices'!A:A,'Lighting Prices'!E:E)","v":{"$error":"#N/A"}}]
["@LK-OPF-L6",{"$f":"_xlfn.XLOOKUP(A1470,'Prices Furniture'!A:A,'Prices Furniture'!E:E)","v":794},{"$f":"_xlfn.XLOOKUP(A1470,'Lighting Prices'!A:A,'Lighting Prices'!E:E)","v":{"$error":"#N/A"}}]
["@LK-OPF-LP3",{"$f":"_xlfn.XLOOKUP(A1471,'Prices Furniture'!A:A,'Prices Furniture'!E:E)","v":1445},{"$f":"_xlfn.XLOOKUP(A1471,'Lighting Prices'!A:A,'Lighting Prices'!E:E)","v":{"$error":"#N/A"}}]
["@LK-OPF-LT3",{"$f":"_xlfn.XLOOKUP(A1472,'Prices Furniture'!A:A,'Prices Furniture'!E:E)","v":1764},{"$f":"_xlfn.XLOOKUP(A1472,'Lighting Prices'!A:A,'Lighting Prices'!E:E)","v":{"$error":"#N/A"}}]
["@LK-OPF-LT5",{"$f":"_xlfn.XLOOKUP(A1473,'Prices Furniture'!A:A,'Prices Furniture'!E:E)","v":1892},{"$f":"_xlfn.XLOOKUP(A1473,'Lighting Prices'!A:A,'Lighting Prices'!E:E)","v":{"$error":"#N/A"}}]
["@LK-OPF-LT6",{"$f":"_xlfn.XLOOKUP(A1474,'Prices Furniture'!A:A,'Prices Furniture'!E:E)","v":2029},{"$f":"_xlfn.XLOOKUP(A1474,'Lighting Prices'!A:A,'Lighting Prices'!E:E)","v":{"$error":"#N/A"}}]
["@LK-OPF-LP6T",{"$f":"_xlfn.XLOOKUP(A1475,'Prices Furniture'!A:A,'Prices Furniture'!E:E)","v":1980},{"$f":"_xlfn.XLOOKUP(A1475,'Lighting Prices'!A:A,'Lighting Prices'!E:E)","v":{"$error":"#N/A"}}]
["@LK-OPF-LP5TS",{"$f":"_xlfn.XLOOKUP(A1476,'Prices Furniture'!A:A,'Prices Furniture'!E:E)","v":1657},{"$f":"_xlfn.XLOOKUP(A1476,'Lighting Prices'!A:A,'Lighting Prices'!E:E)","v":{"$error":"#N/A"}}]
["@LK-OPF-LP6TS",{"$f":"_xlfn.XLOOKUP(A1477,'Prices Furniture'!A:A,'Prices Furniture'!E:E)","v":1781},{"$f":"_xlfn.XLOOKUP(A1477,'Lighting Prices'!A:A,'Lighting Prices'!E:E)","v":{"$error":"#N/A"}}]
["@LK-OPF-LAC",{"$f":"_xlfn.XLOOKUP(A1478,'Prices Furniture'!A:A,'Prices Furniture'!E:E)","v":2084},{"$f":"_xlfn.XLOOKUP(A1478,'Lighting Prices'!A:A,'Lighting Prices'!E:E)","v":{"$error":"#N/A"}}]
["@LK-OPF-LPN14D",{"$f":"_xlfn.XLOOKUP(A1479,'Prices Furniture'!A:A,'Prices Furniture'!E:E)","v":1124},{"$f":"_xlfn.XLOOKUP(A1479,'Lighting Prices'!A:A,'Lighting Prices'!E:E)","v":{"$error":"#N/A"}}]
["@LK-OPF-LPN12D3DW",{"$f":"_xlfn.XLOOKUP(A1480,'Prices Furniture'!A:A,'Prices Furniture'!E:E)","v":1523},{"$f":"_xlfn.XLOOKUP(A1480,'Lighting Prices'!A:A,'Lighting Prices'!E:E)","v":{"$error":"#N/A"}}]
["@LK-OPF-LPN12D2DW",{"$f":"_xlfn.XLOOKUP(A1481,'Prices Furniture'!A:A,'Prices Furniture'!E:E)","v":1392},{"$f":"_xlfn.XLOOKUP(A1481,'Lighting Prices'!A:A,'Lighting Prices'!E:E)","v":{"$error":"#N/A"}}]
["@LK-OPF-LBC15",{"$f":"_xlfn.XLOOKUP(A1482,'Prices Furniture'!A:A,'Prices Furniture'!E:E)","v":944},{"$f":"_xlfn.XLOOKUP(A1482,'Lighting Prices'!A:A,'Lighting Prices'!E:E)","v":{"$error":"#N/A"}}]
["@LK-OPF-LBC16",{"$f":"_xlfn.XLOOKUP(A1483,'Prices Furniture'!A:A,'Prices Furniture'!E:E)","v":970},{"$f":"_xlfn.XLOOKUP(A1483,'Lighting Prices'!A:A,'Lighting Prices'!E:E)","v":{"$error":"#N/A"}}]
["@LK-OPF-LBCLM15L",{"$f":"_xlfn.XLOOKUP(A1484,'Prices Furniture'!A:A,'Prices Furniture'!E:E)","v":2782},{"$f":"_xlfn.XLOOKUP(A1484,'Lighting Prices'!A:A,'Lighting Prices'!E:E)","v":{"$error":"#N/A"}}]
["@LK-OPF-LBCLM15R",{"$f":"_xlfn.XLOOKUP(A1485,'Prices Furniture'!A:A,'Prices Furniture'!E:E)","v":2782},{"$f":"_xlfn.XLOOKUP(A1485,'Lighting Prices'!A:A,'Lighting Prices'!E:E)","v":{"$error":"#N/A"}}]
["@LK-OPF-LBCLM16L",{"$f":"_xlfn.XLOOKUP(A1486,'Prices Furniture'!A:A,'Prices Furniture'!E:E)","v":2934},{"$f":"_xlfn.XLOOKUP(A1486,'Lighting Prices'!A:A,'Lighting Prices'!E:E)","v":{"$error":"#N/A"}}]
["@LK-OPF-LBCLM16R",{"$f":"_xlfn.XLOOKUP(A1487,'Prices Furniture'!A:A,'Prices Furniture'!E:E)","v":2934},{"$f":"_xlfn.XLOOKUP(A1487,'Lighting Prices'!A:A,'Lighting Prices'!E:E)","v":{"$error":"#N/A"}}]
["@LK-OPF-LL6EA",{"$f":"_xlfn.XLOOKUP(A1488,'Prices Furniture'!A:A,'Prices Furniture'!E:E)","v":836},{"$f":"_xlfn.XLOOKUP(A1488,'Lighting Prices'!A:A,'Lighting Prices'!E:E)","v":{"$error":"#N/A"}}]
["@LK-OPF-LL6CU",{"$f":"_xlfn.XLOOKUP(A1489,'Prices Furniture'!A:A,'Prices Furniture'!E:E)","v":786},{"$f":"_xlfn.XLOOKUP(A1489,'Lighting Prices'!A:A,'Lighting Prices'!E:E)","v":{"$error":"#N/A"}}]
["@LK-OPF-LL10CU",{"$f":"_xlfn.XLOOKUP(A1490,'Prices Furniture'!A:A,'Prices Furniture'!E:E)","v":1235},{"$f":"_xlfn.XLOOKUP(A1490,'Lighting Prices'!A:A,'Lighting Prices'!E:E)","v":{"$error":"#N/A"}}]
["@LK-OPF-LL10CUS",{"$f":"_xlfn.XLOOKUP(A1491,'Prices Furniture'!A:A,'Prices Furniture'!E:E)","v":1334},{"$f":"_xlfn.XLOOKUP(A1491,'Lighting Prices'!A:A,'Lighting Prices'!E:E)","v":{"$error":"#N/A"}}]
["@LK-OPF-LL10CB",{"$f":"_xlfn.XLOOKUP(A1492,'Prices Furniture'!A:A,'Prices Furniture'!E:E)","v":1245},{"$f":"_xlfn.XLOOKUP(A1492,'Lighting Prices'!A:A,'Lighting Prices'!E:E)","v":{"$error":"#N/A"}}]
["@LK-OPF-AD60ICH",{"$f":"_xlfn.XLOOKUP(A1493,'Prices Furniture'!A:A,'Prices Furniture'!E:E)","v":95},{"$f":"_xlfn.XLOOKUP(A1493,'Lighting Prices'!A:A,'Lighting Prices'!E:E)","v":{"$error":"#N/A"}}]
["@LK-OPF-AD60FD",{"$f":"_xlfn.XLOOKUP(A1494,'Prices Furniture'!A:A,'Prices Furniture'!E:E)","v":131},{"$f":"_xlfn.XLOOKUP(A1494,'Lighting Prices'!A:A,'Lighting Prices'!E:E)","v":{"$error":"#N/A"}}]
["@LK-OPF-AD45I",{"$f":"_xlfn.XLOOKUP(A1495,'Prices Furniture'!A:A,'Prices Furniture'!E:E)","v":107},{"$f":"_xlfn.XLOOKUP(A1495,'Lighting Prices'!A:A,'Lighting Prices'!E:E)","v":{"$error":"#N/A"}}]
["@LK-OPF-AD60S",{"$f":"_xlfn.XLOOKUP(A1496,'Prices Furniture'!A:A,'Prices Furniture'!E:E)","v":129},{"$f":"_xlfn.XLOOKUP(A1496,'Lighting Prices'!A:A,'Lighting Prices'!E:E)","v":{"$error":"#N/A"}}]
["@LK-OPF-BLD9",{"$f":"_xlfn.XLOOKUP(A1497,'Prices Furniture'!A:A,'Prices Furniture'!E:E)","v":133},{"$f":"_xlfn.XLOOKUP(A1497,'Lighting Prices'!A:A,'Lighting Prices'!E:E)","v":{"$error":"#N/A"}}]
["@LK-OPF-CH-SO",{"$f":"_xlfn.XLOOKUP(A1498,'Prices Furniture'!A:A,'Prices Furniture'!E:E)","v":654},{"$f":"_xlfn.XLOOKUP(A1498,'Lighting Prices'!A:A,'Lighting Prices'!E:E)","v":{"$error":"#N/A"}}]
["@LK-OPF-CH-MW",{"$f":"_xlfn.XLOOKUP(A1499,'Prices Furniture'!A:A,'Prices Furniture'!E:E)","v":700},{"$f":"_xlfn.XLOOKUP(A1499,'Lighting Prices'!A:A,'Lighting Prices'!E:E)","v":{"$error":"#N/A"}}]
["@LK-OPF-CH-ST",{"$f":"_xlfn.XLOOKUP(A1500,'Prices Furniture'!A:A,'Prices Furniture'!E:E)","v":880},{"$f":"_xlfn.XLOOKUP(A1500,'Lighting Prices'!A:A,'Lighting Prices'!E:E)","v":{"$error":"#N/A"}}]
["@LK-OPF-TCH-SO",{"$f":"_xlfn.XLOOKUP(A1501,'Prices Furniture'!A:A,'Prices Furniture'!E:E)","v":846},{"$f":"_xlfn.XLOOKUP(A1501,'Lighting Prices'!A:A,'Lighting Prices'!E:E)","v":{"$error":"#N/A"}}]
["@LK-OPF-TCH-MW",{"$f":"_xlfn.XLOOKUP(A1502,'Prices Furniture'!A:A,'Prices Furniture'!E:E)","v":759},{"$f":"_xlfn.XLOOKUP(A1502,'Lighting Prices'!A:A,'Lighting Prices'!E:E)","v":{"$error":"#N/A"}}]
["@LK-OPF-TCH-ST",{"$f":"_xlfn.XLOOKUP(A1503,'Prices Furniture'!A:A,'Prices Furniture'!E:E)","v":918},{"$f":"_xlfn.XLOOKUP(A1503,'Lighting Prices'!A:A,'Lighting Prices'!E:E)","v":{"$error":"#N/A"}}]
["@LK-OPF-AH-SOT",{"$f":"_xlfn.XLOOKUP(A1504,'Prices Furniture'!A:A,'Prices Furniture'!E:E)","v":876},{"$f":"_xlfn.XLOOKUP(A1504,'Lighting Prices'!A:A,'Lighting Prices'!E:E)","v":{"$error":"#N/A"}}]
["@LK-OPF-LP5T",{"$f":"_xlfn.XLOOKUP(A1505,'Prices Furniture'!A:A,'Prices Furniture'!E:E)","v":1915},{"$f":"_xlfn.XLOOKUP(A1505,'Lighting Prices'!A:A,'Lighting Prices'!E:E)","v":{"$error":"#N/A"}}]
["@LK-OPF-LL8LS",{"$f":"_xlfn.XLOOKUP(A1506,'Prices Furniture'!A:A,'Prices Furniture'!E:E)","v":1364},{"$f":"_xlfn.XLOOKUP(A1506,'Lighting Prices'!A:A,'Lighting Prices'!E:E)","v":{"$error":"#N/A"}}]
["@LK-OPF-BHD3",{"$f":"_xlfn.XLOOKUP(A1507,'Prices Furniture'!A:A,'Prices Furniture'!E:E)","v":628},{"$f":"_xlfn.XLOOKUP(A1507,'Lighting Prices'!A:A,'Lighting Prices'!E:E)","v":{"$error":"#N/A"}}]
["@LK-OPF-BHD4",{"$f":"_xlfn.XLOOKUP(A1508,'Prices Furniture'!A:A,'Prices Furniture'!E:E)","v":677},{"$f":"_xlfn.XLOOKUP(A1508,'Lighting Prices'!A:A,'Lighting Prices'!E:E)","v":{"$error":"#N/A"}}]
["@LK-OPF-BHD5",{"$f":"_xlfn.XLOOKUP(A1509,'Prices Furniture'!A:A,'Prices Furniture'!E:E)","v":740},{"$f":"_xlfn.XLOOKUP(A1509,'Lighting Prices'!A:A,'Lighting Prices'!E:E)","v":{"$error":"#N/A"}}]
["@LK-OPF-BHD6",{"$f":"_xlfn.XLOOKUP(A1510,'Prices Furniture'!A:A,'Prices Furniture'!E:E)","v":796},{"$f":"_xlfn.XLOOKUP(A1510,'Lighting Prices'!A:A,'Lighting Prices'!E:E)","v":{"$error":"#N/A"}}]
["LK-A-OPF-WREP72",{"$f":"_xlfn.XLOOKUP(A1511,'Prices Furniture'!A:A,'Prices Furniture'!E:E)","v":77},{"$f":"_xlfn.XLOOKUP(A1511,'Lighting Prices'!A:A,'Lighting Prices'!E:E)","v":{"$error":"#N/A"}}]
["LK-A-OPF-PWEP72",{"$f":"_xlfn.XLOOKUP(A1512,'Prices Furniture'!A:A,'Prices Furniture'!E:E)","v":92},{"$f":"_xlfn.XLOOKUP(A1512,'Lighting Prices'!A:A,'Lighting Prices'!E:E)","v":{"$error":"#N/A"}}]
["LK-A-OPF-PWEP20",{"$f":"_xlfn.XLOOKUP(A1513,'Prices Furniture'!A:A,'Prices Furniture'!E:E)","v":200},{"$f":"_xlfn.XLOOKUP(A1513,'Lighting Prices'!A:A,'Lighting Prices'!E:E)","v":{"$error":"#N/A"}}]
["LK-A-OPF-ESP",{"$f":"_xlfn.XLOOKUP(A1514,'Prices Furniture'!A:A,'Prices Furniture'!E:E)","v":135},{"$f":"_xlfn.XLOOKUP(A1514,'Lighting Prices'!A:A,'Lighting Prices'!E:E)","v":{"$error":"#N/A"}}]
["LK-A-OPF-LUP",{"$f":"_xlfn.XLOOKUP(A1515,'Prices Furniture'!A:A,'Prices Furniture'!E:E)","v":391},{"$f":"_xlfn.XLOOKUP(A1515,'Lighting Prices'!A:A,'Lighting Prices'!E:E)","v":{"$error":"#N/A"}}]
["LK-A-OPF-PTEP",{"$f":"_xlfn.XLOOKUP(A1516,'Prices Furniture'!A:A,'Prices Furniture'!E:E)","v":305},{"$f":"_xlfn.XLOOKUP(A1516,'Lighting Prices'!A:A,'Lighting Prices'!E:E)","v":{"$error":"#N/A"}}]
["LK-A-OPF-PL",{"$f":"_xlfn.XLOOKUP(A1517,'Prices Furniture'!A:A,'Prices Furniture'!E:E)","v":90},{"$f":"_xlfn.XLOOKUP(A1517,'Lighting Prices'!A:A,'Lighting Prices'!E:E)","v":{"$error":"#N/A"}}]
["LK-A-OPF-SCCRN",{"$f":"_xlfn.XLOOKUP(A1518,'Prices Furniture'!A:A,'Prices Furniture'!E:E)","v":113},{"$f":"_xlfn.XLOOKUP(A1518,'Lighting Prices'!A:A,'Lighting Prices'!E:E)","v":{"$error":"#N/A"}}]
["LK-A-OPF-BLPEL",{"$f":"_xlfn.XLOOKUP(A1519,'Prices Furniture'!A:A,'Prices Furniture'!E:E)","v":86},{"$f":"_xlfn.XLOOKUP(A1519,'Lighting Prices'!A:A,'Lighting Prices'!E:E)","v":{"$error":"#N/A"}}]
["LK-A-OPF-CVP",{"$f":"_xlfn.XLOOKUP(A1520,'Prices Furniture'!A:A,'Prices Furniture'!E:E)","v":123},{"$f":"_xlfn.XLOOKUP(A1520,'Lighting Prices'!A:A,'Lighting Prices'!E:E)","v":{"$error":"#N/A"}}]
["LK-A-OPF-CPBM",{"$f":"_xlfn.XLOOKUP(A1521,'Prices Furniture'!A:A,'Prices Furniture'!E:E)","v":109},{"$f":"_xlfn.XLOOKUP(A1521,'Lighting Prices'!A:A,'Lighting Prices'!E:E)","v":{"$error":"#N/A"}}]
["LK-A-OPF-CPBC",{"$f":"_xlfn.XLOOKUP(A1522,'Prices Furniture'!A:A,'Prices Furniture'!E:E)","v":116},{"$f":"_xlfn.XLOOKUP(A1522,'Lighting Prices'!A:A,'Lighting Prices'!E:E)","v":{"$error":"#N/A"}}]
["LK-A-OPF-ET",{"$f":"_xlfn.XLOOKUP(A1523,'Prices Furniture'!A:A,'Prices Furniture'!E:E)","v":37},{"$f":"_xlfn.XLOOKUP(A1523,'Lighting Prices'!A:A,'Lighting Prices'!E:E)","v":{"$error":"#N/A"}}]
["@LK-OPM-BP15TY",{"$f":"_xlfn.XLOOKUP(A1524,'Prices Furniture'!A:A,'Prices Furniture'!E:E)","v":408},{"$f":"_xlfn.XLOOKUP(A1524,'Lighting Prices'!A:A,'Lighting Prices'!E:E)","v":{"$error":"#N/A"}}]
["@LK-OPM-BP3TY",{"$f":"_xlfn.XLOOKUP(A1525,'Prices Furniture'!A:A,'Prices Furniture'!E:E)","v":634},{"$f":"_xlfn.XLOOKUP(A1525,'Lighting Prices'!A:A,'Lighting Prices'!E:E)","v":{"$error":"#N/A"}}]
["@LK-OPM-BH15",{"$f":"_xlfn.XLOOKUP(A1526,'Prices Furniture'!A:A,'Prices Furniture'!E:E)","v":228},{"$f":"_xlfn.XLOOKUP(A1526,'Lighting Prices'!A:A,'Lighting Prices'!E:E)","v":{"$error":"#N/A"}}]
["@LK-OPM-BH30",{"$f":"_xlfn.XLOOKUP(A1527,'Prices Furniture'!A:A,'Prices Furniture'!E:E)","v":239},{"$f":"_xlfn.XLOOKUP(A1527,'Lighting Prices'!A:A,'Lighting Prices'!E:E)","v":{"$error":"#N/A"}}]
["@LK-OPM-BH3B",{"$f":"_xlfn.XLOOKUP(A1528,'Prices Furniture'!A:A,'Prices Furniture'!E:E)","v":607},{"$f":"_xlfn.XLOOKUP(A1528,'Lighting Prices'!A:A,'Lighting Prices'!E:E)","v":{"$error":"#N/A"}}]
["@LK-OPM-BH35",{"$f":"_xlfn.XLOOKUP(A1529,'Prices Furniture'!A:A,'Prices Furniture'!E:E)","v":245},{"$f":"_xlfn.XLOOKUP(A1529,'Lighting Prices'!A:A,'Lighting Prices'!E:E)","v":{"$error":"#N/A"}}]
["@LK-OPM-BH40",{"$f":"_xlfn.XLOOKUP(A1530,'Prices Furniture'!A:A,'Prices Furniture'!E:E)","v":249},{"$f":"_xlfn.XLOOKUP(A1530,'Lighting Prices'!A:A,'Lighting Prices'!E:E)","v":{"$error":"#N/A"}}]
["@LK-OPM-BH4B",{"$f":"_xlfn.XLOOKUP(A1531,'Prices Furniture'!A:A,'Prices Furniture'!E:E)","v":682},{"$f":"_xlfn.XLOOKUP(A1531,'Lighting Prices'!A:A,'Lighting Prices'!E:E)","v":{"$error":"#N/A"}}]
["@LK-OPM-BH45",{"$f":"_xlfn.XLOOKUP(A1532,'Prices Furniture'!A:A,'Prices Furniture'!E:E)","v":272},{"$f":"_xlfn.XLOOKUP(A1532,'Lighting Prices'!A:A,'Lighting Prices'!E:E)","v":{"$error":"#N/A"}}]
["@LK-OPM-BH45B",{"$f":"_xlfn.XLOOKUP(A1533,'Prices Furniture'!A:A,'Prices Furniture'!E:E)","v":710},{"$f":"_xlfn.XLOOKUP(A1533,'Lighting Prices'!A:A,'Lighting Prices'!E:E)","v":{"$error":"#N/A"}}]
["@LK-OPM-BH50",{"$f":"_xlfn.XLOOKUP(A1534,'Prices Furniture'!A:A,'Prices Furniture'!E:E)","v":283},{"$f":"_xlfn.XLOOKUP(A1534,'Lighting Prices'!A:A,'Lighting Prices'!E:E)","v":{"$error":"#N/A"}}]
["@LK-OPM-BH5B",{"$f":"_xlfn.XLOOKUP(A1535,'Prices Furniture'!A:A,'Prices Furniture'!E:E)","v":727},{"$f":"_xlfn.XLOOKUP(A1535,'Lighting Prices'!A:A,'Lighting Prices'!E:E)","v":{"$error":"#N/A"}}]
["@LK-OPM-BH50S",{"$f":"_xlfn.XLOOKUP(A1536,'Prices Furniture'!A:A,'Prices Furniture'!E:E)","v":313},{"$f":"_xlfn.XLOOKUP(A1536,'Lighting Prices'!A:A,'Lighting Prices'!E:E)","v":{"$error":"#N/A"}}]
["@LK-OPM-BH60",{"$f":"_xlfn.XLOOKUP(A1537,'Prices Furniture'!A:A,'Prices Furniture'!E:E)","v":319},{"$f":"_xlfn.XLOOKUP(A1537,'Lighting Prices'!A:A,'Lighting Prices'!E:E)","v":{"$error":"#N/A"}}]
["@LK-OPM-BH6B4",{"$f":"_xlfn.XLOOKUP(A1538,'Prices Furniture'!A:A,'Prices Furniture'!E:E)","v":852},{"$f":"_xlfn.XLOOKUP(A1538,'Lighting Prices'!A:A,'Lighting Prices'!E:E)","v":{"$error":"#N/A"}}]
["@LK-OPM-BH6B2",{"$f":"_xlfn.XLOOKUP(A1539,'Prices Furniture'!A:A,'Prices Furniture'!E:E)","v":800},{"$f":"_xlfn.XLOOKUP(A1539,'Lighting Prices'!A:A,'Lighting Prices'!E:E)","v":{"$error":"#N/A"}}]
["@LK-OPM-BH60S",{"$f":"_xlfn.XLOOKUP(A1540,'Prices Furniture'!A:A,'Prices Furniture'!E:E)","v":365},{"$f":"_xlfn.XLOOKUP(A1540,'Lighting Prices'!A:A,'Lighting Prices'!E:E)","v":{"$error":"#N/A"}}]
["@LK-OPM-BH70",{"$f":"_xlfn.XLOOKUP(A1541,'Prices Furniture'!A:A,'Prices Furniture'!E:E)","v":388},{"$f":"_xlfn.XLOOKUP(A1541,'Lighting Prices'!A:A,'Lighting Prices'!E:E)","v":{"$error":"#N/A"}}]
["@LK-OPM-BH80",{"$f":"_xlfn.XLOOKUP(A1542,'Prices Furniture'!A:A,'Prices Furniture'!E:E)","v":394},{"$f":"_xlfn.XLOOKUP(A1542,'Lighting Prices'!A:A,'Lighting Prices'!E:E)","v":{"$error":"#N/A"}}]
["@LK-OPM-BH80S",{"$f":"_xlfn.XLOOKUP(A1543,'Prices Furniture'!A:A,'Prices Furniture'!E:E)","v":440},{"$f":"_xlfn.XLOOKUP(A1543,'Lighting Prices'!A:A,'Lighting Prices'!E:E)","v":{"$error":"#N/A"}}]
["@LK-OPM-BH90",{"$f":"_xlfn.XLOOKUP(A1544,'Prices Furniture'!A:A,'Prices Furniture'!E:E)","v":418},{"$f":"_xlfn.XLOOKUP(A1544,'Lighting Prices'!A:A,'Lighting Prices'!E:E)","v":{"$error":"#N/A"}}]
["@LK-OPM-BH90S",{"$f":"_xlfn.XLOOKUP(A1545,'Prices Furniture'!A:A,'Prices Furniture'!E:E)","v":464},{"$f":"_xlfn.XLOOKUP(A1545,'Lighting Prices'!A:A,'Lighting Prices'!E:E)","v":{"$error":"#N/A"}}]
["@LK-OPM-BH100",{"$f":"_xlfn.XLOOKUP(A1546,'Prices Furniture'!A:A,'Prices Furniture'!E:E)","v":439},{"$f":"_xlfn.XLOOKUP(A1546,'Lighting Prices'!A:A,'Lighting Prices'!E:E)","v":{"$error":"#N/A"}}]
["@LK-OPM-BH10S",{"$f":"_xlfn.XLOOKUP(A1547,'Prices Furniture'!A:A,'Prices Furniture'!E:E)","v":485},{"$f":"_xlfn.XLOOKUP(A1547,'Lighting Prices'!A:A,'Lighting Prices'!E:E)","v":{"$error":"#N/A"}}]
["@LK-OPM-BC83",{"$f":"_xlfn.XLOOKUP(A1548,'Prices Furniture'!A:A,'Prices Furniture'!E:E)","v":374},{"$f":"_xlfn.XLOOKUP(A1548,'Lighting Prices'!A:A,'Lighting Prices'!E:E)","v":{"$error":"#N/A"}}]
["@LK-OPM-BC84",{"$f":"_xlfn.XLOOKUP(A1549,'Prices Furniture'!A:A,'Prices Furniture'!E:E)","v":380},{"$f":"_xlfn.XLOOKUP(A1549,'Lighting Prices'!A:A,'Lighting Prices'!E:E)","v":{"$error":"#N/A"}}]
["@LK-OPM-BC845",{"$f":"_xlfn.XLOOKUP(A1550,'Prices Furniture'!A:A,'Prices Furniture'!E:E)","v":392},{"$f":"_xlfn.XLOOKUP(A1550,'Lighting Prices'!A:A,'Lighting Prices'!E:E)","v":{"$error":"#N/A"}}]
["@LK-OPM-BC945",{"$f":"_xlfn.XLOOKUP(A1551,'Prices Furniture'!A:A,'Prices Furniture'!E:E)","v":392},{"$f":"_xlfn.XLOOKUP(A1551,'Lighting Prices'!A:A,'Lighting Prices'!E:E)","v":{"$error":"#N/A"}}]
["@LK-OPM-BC145",{"$f":"_xlfn.XLOOKUP(A1552,'Prices Furniture'!A:A,'Prices Furniture'!E:E)","v":397},{"$f":"_xlfn.XLOOKUP(A1552,'Lighting Prices'!A:A,'Lighting Prices'!E:E)","v":{"$error":"#N/A"}}]
["@LK-OPM-BC15",{"$f":"_xlfn.XLOOKUP(A1553,'Prices Furniture'!A:A,'Prices Furniture'!E:E)","v":405},{"$f":"_xlfn.XLOOKUP(A1553,'Lighting Prices'!A:A,'Lighting Prices'!E:E)","v":{"$error":"#N/A"}}]
["@LK-OPM-BC16",{"$f":"_xlfn.XLOOKUP(A1554,'Prices Furniture'!A:A,'Prices Furniture'!E:E)","v":421},{"$f":"_xlfn.XLOOKUP(A1554,'Lighting Prices'!A:A,'Lighting Prices'!E:E)","v":{"$error":"#N/A"}}]
["@LK-OPM-BCL15L",{"$f":"_xlfn.XLOOKUP(A1555,'Prices Furniture'!A:A,'Prices Furniture'!E:E)","v":1270},{"$f":"_xlfn.XLOOKUP(A1555,'Lighting Prices'!A:A,'Lighting Prices'!E:E)","v":{"$error":"#N/A"}}]
["@LK-OPM-BCL15R",{"$f":"_xlfn.XLOOKUP(A1556,'Prices Furniture'!A:A,'Prices Furniture'!E:E)","v":1270},{"$f":"_xlfn.XLOOKUP(A1556,'Lighting Prices'!A:A,'Lighting Prices'!E:E)","v":{"$error":"#N/A"}}]
["@LK-OPM-BCL16L",{"$f":"_xlfn.XLOOKUP(A1557,'Prices Furniture'!A:A,'Prices Furniture'!E:E)","v":1349},{"$f":"_xlfn.XLOOKUP(A1557,'Lighting Prices'!A:A,'Lighting Prices'!E:E)","v":{"$error":"#N/A"}}]
["@LK-OPM-BCL16R",{"$f":"_xlfn.XLOOKUP(A1558,'Prices Furniture'!A:A,'Prices Furniture'!E:E)","v":1349},{"$f":"_xlfn.XLOOKUP(A1558,'Lighting Prices'!A:A,'Lighting Prices'!E:E)","v":{"$error":"#N/A"}}]
["@LK-OPM-BCO945",{"$f":"_xlfn.XLOOKUP(A1559,'Prices Furniture'!A:A,'Prices Furniture'!E:E)","v":1402},{"$f":"_xlfn.XLOOKUP(A1559,'Lighting Prices'!A:A,'Lighting Prices'!E:E)","v":{"$error":"#N/A"}}]
["@LK-OPM-BCO145",{"$f":"_xlfn.XLOOKUP(A1560,'Prices Furniture'!A:A,'Prices Furniture'!E:E)","v":1407},{"$f":"_xlfn.XLOOKUP(A1560,'Lighting Prices'!A:A,'Lighting Prices'!E:E)","v":{"$error":"#N/A"}}]
["@LK-OPM-BCO15",{"$f":"_xlfn.XLOOKUP(A1561,'Prices Furniture'!A:A,'Prices Furniture'!E:E)","v":1415},{"$f":"_xlfn.XLOOKUP(A1561,'Lighting Prices'!A:A,'Lighting Prices'!E:E)","v":{"$error":"#N/A"}}]
["@LK-OPM-BCO16",{"$f":"_xlfn.XLOOKUP(A1562,'Prices Furniture'!A:A,'Prices Furniture'!E:E)","v":1431},{"$f":"_xlfn.XLOOKUP(A1562,'Lighting Prices'!A:A,'Lighting Prices'!E:E)","v":{"$error":"#N/A"}}]
["@LK-OPM-BCL9",{"$f":"_xlfn.XLOOKUP(A1563,'Prices Furniture'!A:A,'Prices Furniture'!E:E)","v":618},{"$f":"_xlfn.XLOOKUP(A1563,'Lighting Prices'!A:A,'Lighting Prices'!E:E)","v":{"$error":"#N/A"}}]
["@LK-OPM-BSU6495",{"$f":"_xlfn.XLOOKUP(A1564,'Prices Furniture'!A:A,'Prices Furniture'!E:E)","v":285},{"$f":"_xlfn.XLOOKUP(A1564,'Lighting Prices'!A:A,'Lighting Prices'!E:E)","v":{"$error":"#N/A"}}]
["@LK-OPM-BSU6450",{"$f":"_xlfn.XLOOKUP(A1565,'Prices Furniture'!A:A,'Prices Furniture'!E:E)","v":283},{"$f":"_xlfn.XLOOKUP(A1565,'Lighting Prices'!A:A,'Lighting Prices'!E:E)","v":{"$error":"#N/A"}}]
["@LK-OPM-BD54",{"$f":"_xlfn.XLOOKUP(A1566,'Prices Furniture'!A:A,'Prices Furniture'!E:E)","v":846},{"$f":"_xlfn.XLOOKUP(A1566,'Lighting Prices'!A:A,'Lighting Prices'!E:E)","v":{"$error":"#N/A"}}]
["@LK-OPM-BD53",{"$f":"_xlfn.XLOOKUP(A1567,'Prices Furniture'!A:A,'Prices Furniture'!E:E)","v":714},{"$f":"_xlfn.XLOOKUP(A1567,'Lighting Prices'!A:A,'Lighting Prices'!E:E)","v":{"$error":"#N/A"}}]
["@LK-OPM-BD63",{"$f":"_xlfn.XLOOKUP(A1568,'Prices Furniture'!A:A,'Prices Furniture'!E:E)","v":806},{"$f":"_xlfn.XLOOKUP(A1568,'Lighting Prices'!A:A,'Lighting Prices'!E:E)","v":{"$error":"#N/A"}}]
["@LK-OPM-BD83",{"$f":"_xlfn.XLOOKUP(A1569,'Prices Furniture'!A:A,'Prices Furniture'!E:E)","v":813},{"$f":"_xlfn.XLOOKUP(A1569,'Lighting Prices'!A:A,'Lighting Prices'!E:E)","v":{"$error":"#N/A"}}]
["@LK-OPM-BD93",{"$f":"_xlfn.XLOOKUP(A1570,'Prices Furniture'!A:A,'Prices Furniture'!E:E)","v":828},{"$f":"_xlfn.XLOOKUP(A1570,'Lighting Prices'!A:A,'Lighting Prices'!E:E)","v":{"$error":"#N/A"}}]
["@LK-OPM-BD13",{"$f":"_xlfn.XLOOKUP(A1571,'Prices Furniture'!A:A,'Prices Furniture'!E:E)","v":845},{"$f":"_xlfn.XLOOKUP(A1571,'Lighting Prices'!A:A,'Lighting Prices'!E:E)","v":{"$error":"#N/A"}}]
["@LK-OPM-BD62",{"$f":"_xlfn.XLOOKUP(A1572,'Prices Furniture'!A:A,'Prices Furniture'!E:E)","v":683},{"$f":"_xlfn.XLOOKUP(A1572,'Lighting Prices'!A:A,'Lighting Prices'!E:E)","v":{"$error":"#N/A"}}]
["@LK-OPM-BD92",{"$f":"_xlfn.XLOOKUP(A1573,'Prices Furniture'!A:A,'Prices Furniture'!E:E)","v":700},{"$f":"_xlfn.XLOOKUP(A1573,'Lighting Prices'!A:A,'Lighting Prices'!E:E)","v":{"$error":"#N/A"}}]
["@LK-OPM-BD62I",{"$f":"_xlfn.XLOOKUP(A1574,'Prices Furniture'!A:A,'Prices Furniture'!E:E)","v":859},{"$f":"_xlfn.XLOOKUP(A1574,'Lighting Prices'!A:A,'Lighting Prices'!E:E)","v":{"$error":"#N/A"}}]
["@LK-OPM-BD92I",{"$f":"_xlfn.XLOOKUP(A1575,'Prices Furniture'!A:A,'Prices Furniture'!E:E)","v":901},{"$f":"_xlfn.XLOOKUP(A1575,'Lighting Prices'!A:A,'Lighting Prices'!E:E)","v":{"$error":"#N/A"}}]
["@LK-OPM-BD635L",{"$f":"_xlfn.XLOOKUP(A1576,'Prices Furniture'!A:A,'Prices Furniture'!E:E)","v":384},{"$f":"_xlfn.XLOOKUP(A1576,'Lighting Prices'!A:A,'Lighting Prices'!E:E)","v":{"$error":"#N/A"}}]
["@LK-OPM-W30",{"$f":"_xlfn.XLOOKUP(A1577,'Prices Furniture'!A:A,'Prices Furniture'!E:E)","v":221},{"$f":"_xlfn.XLOOKUP(A1577,'Lighting Prices'!A:A,'Lighting Prices'!E:E)","v":{"$error":"#N/A"}}]
["@LK-OPM-W35",{"$f":"_xlfn.XLOOKUP(A1578,'Prices Furniture'!A:A,'Prices Furniture'!E:E)","v":227},{"$f":"_xlfn.XLOOKUP(A1578,'Lighting Prices'!A:A,'Lighting Prices'!E:E)","v":{"$error":"#N/A"}}]
["@LK-OPM-W40",{"$f":"_xlfn.XLOOKUP(A1579,'Prices Furniture'!A:A,'Prices Furniture'!E:E)","v":235},{"$f":"_xlfn.XLOOKUP(A1579,'Lighting Prices'!A:A,'Lighting Prices'!E:E)","v":{"$error":"#N/A"}}]
["@LK-OPM-W45",{"$f":"_xlfn.XLOOKUP(A1580,'Prices Furniture'!A:A,'Prices Furniture'!E:E)","v":252},{"$f":"_xlfn.XLOOKUP(A1580,'Lighting Prices'!A:A,'Lighting Prices'!E:E)","v":{"$error":"#N/A"}}]
["@LK-OPM-W50",{"$f":"_xlfn.XLOOKUP(A1581,'Prices Furniture'!A:A,'Prices Furniture'!E:E)","v":266},{"$f":"_xlfn.XLOOKUP(A1581,'Lighting Prices'!A:A,'Lighting Prices'!E:E)","v":{"$error":"#N/A"}}]
["@LK-OPM-W60",{"$f":"_xlfn.XLOOKUP(A1582,'Prices Furniture'!A:A,'Prices Furniture'!E:E)","v":290},{"$f":"_xlfn.XLOOKUP(A1582,'Lighting Prices'!A:A,'Lighting Prices'!E:E)","v":{"$error":"#N/A"}}]
["@LK-OPM-W70",{"$f":"_xlfn.XLOOKUP(A1583,'Prices Furniture'!A:A,'Prices Furniture'!E:E)","v":383},{"$f":"_xlfn.XLOOKUP(A1583,'Lighting Prices'!A:A,'Lighting Prices'!E:E)","v":{"$error":"#N/A"}}]
["@LK-OPM-W80",{"$f":"_xlfn.XLOOKUP(A1584,'Prices Furniture'!A:A,'Prices Furniture'!E:E)","v":389},{"$f":"_xlfn.XLOOKUP(A1584,'Lighting Prices'!A:A,'Lighting Prices'!E:E)","v":{"$error":"#N/A"}}]
["@LK-OPM-W90",{"$f":"_xlfn.XLOOKUP(A1585,'Prices Furniture'!A:A,'Prices Furniture'!E:E)","v":409},{"$f":"_xlfn.XLOOKUP(A1585,'Lighting Prices'!A:A,'Lighting Prices'!E:E)","v":{"$error":"#N/A"}}]
["@LK-OPM-W100",{"$f":"_xlfn.XLOOKUP(A1586,'Prices Furniture'!A:A,'Prices Furniture'!E:E)","v":434},{"$f":"_xlfn.XLOOKUP(A1586,'Lighting Prices'!A:A,'Lighting Prices'!E:E)","v":{"$error":"#N/A"}}]
["@LK-OPM-WC6",{"$f":"_xlfn.XLOOKUP(A1587,'Prices Furniture'!A:A,'Prices Furniture'!E:E)","v":309},{"$f":"_xlfn.XLOOKUP(A1587,'Lighting Prices'!A:A,'Lighting Prices'!E:E)","v":{"$error":"#N/A"}}]
["@LK-OPM-WC9",{"$f":"_xlfn.XLOOKUP(A1588,'Prices Furniture'!A:A,'Prices Furniture'!E:E)","v":371},{"$f":"_xlfn.XLOOKUP(A1588,'Lighting Prices'!A:A,'Lighting Prices'!E:E)","v":{"$error":"#N/A"}}]
["@LK-OPM-WCL65",{"$f":"_xlfn.XLOOKUP(A1589,'Prices Furniture'!A:A,'Prices Furniture'!E:E)","v":553},{"$f":"_xlfn.XLOOKUP(A1589,'Lighting Prices'!A:A,'Lighting Prices'!E:E)","v":{"$error":"#N/A"}}]
["@LK-OPM-WM60",{"$f":"_xlfn.XLOOKUP(A1590,'Prices Furniture'!A:A,'Prices Furniture'!E:E)","v":361},{"$f":"_xlfn.XLOOKUP(A1590,'Lighting Prices'!A:A,'Lighting Prices'!E:E)","v":{"$error":"#N/A"}}]
["@LK-OPM-WBHU",{"$f":"_xlfn.XLOOKUP(A1591,'Prices Furniture'!A:A,'Prices Furniture'!E:E)","v":282},{"$f":"_xlfn.XLOOKUP(A1591,'Lighting Prices'!A:A,'Lighting Prices'!E:E)","v":{"$error":"#N/A"}}]
["@LK-OPM-WBI60",{"$f":"_xlfn.XLOOKUP(A1592,'Prices Furniture'!A:A,'Prices Furniture'!E:E)","v":663},{"$f":"_xlfn.XLOOKUP(A1592,'Lighting Prices'!A:A,'Lighting Prices'!E:E)","v":{"$error":"#N/A"}}]
["@LK-OPM-WBI90",{"$f":"_xlfn.XLOOKUP(A1593,'Prices Furniture'!A:A,'Prices Furniture'!E:E)","v":695},{"$f":"_xlfn.XLOOKUP(A1593,'Lighting Prices'!A:A,'Lighting Prices'!E:E)","v":{"$error":"#N/A"}}]
["@LK-OPM-WGS5",{"$f":"_xlfn.XLOOKUP(A1594,'Prices Furniture'!A:A,'Prices Furniture'!E:E)","v":434},{"$f":"_xlfn.XLOOKUP(A1594,'Lighting Prices'!A:A,'Lighting Prices'!E:E)","v":{"$error":"#N/A"}}]
["@LK-OPM-WGS6",{"$f":"_xlfn.XLOOKUP(A1595,'Prices Furniture'!A:A,'Prices Furniture'!E:E)","v":476},{"$f":"_xlfn.XLOOKUP(A1595,'Lighting Prices'!A:A,'Lighting Prices'!E:E)","v":{"$error":"#N/A"}}]
["@LK-OPM-WGR5",{"$f":"_xlfn.XLOOKUP(A1596,'Prices Furniture'!A:A,'Prices Furniture'!E:E)","v":434},{"$f":"_xlfn.XLOOKUP(A1596,'Lighting Prices'!A:A,'Lighting Prices'!E:E)","v":{"$error":"#N/A"}}]
["@LK-OPM-WGR6",{"$f":"_xlfn.XLOOKUP(A1597,'Prices Furniture'!A:A,'Prices Furniture'!E:E)","v":476},{"$f":"_xlfn.XLOOKUP(A1597,'Lighting Prices'!A:A,'Lighting Prices'!E:E)","v":{"$error":"#N/A"}}]
["@LK-OPM-WB62",{"$f":"_xlfn.XLOOKUP(A1598,'Prices Furniture'!A:A,'Prices Furniture'!E:E)","v":237},{"$f":"_xlfn.XLOOKUP(A1598,'Lighting Prices'!A:A,'Lighting Prices'!E:E)","v":{"$error":"#N/A"}}]
["@LK-OPM-WB82",{"$f":"_xlfn.XLOOKUP(A1599,'Prices Furniture'!A:A,'Prices Furniture'!E:E)","v":295},{"$f":"_xlfn.XLOOKUP(A1599,'Lighting Prices'!A:A,'Lighting Prices'!E:E)","v":{"$error":"#N/A"}}]
["@LK-OPM-WB92",{"$f":"_xlfn.XLOOKUP(A1600,'Prices Furniture'!A:A,'Prices Furniture'!E:E)","v":312},{"$f":"_xlfn.XLOOKUP(A1600,'Lighting Prices'!A:A,'Lighting Prices'!E:E)","v":{"$error":"#N/A"}}]
["@LK-OPM-WB12",{"$f":"_xlfn.XLOOKUP(A1601,'Prices Furniture'!A:A,'Prices Furniture'!E:E)","v":338},{"$f":"_xlfn.XLOOKUP(A1601,'Lighting Prices'!A:A,'Lighting Prices'!E:E)","v":{"$error":"#N/A"}}]
["@LK-OPM-WB63",{"$f":"_xlfn.XLOOKUP(A1602,'Prices Furniture'!A:A,'Prices Furniture'!E:E)","v":295},{"$f":"_xlfn.XLOOKUP(A1602,'Lighting Prices'!A:A,'Lighting Prices'!E:E)","v":{"$error":"#N/A"}}]
["@LK-OPM-WB93",{"$f":"_xlfn.XLOOKUP(A1603,'Prices Furniture'!A:A,'Prices Furniture'!E:E)","v":344},{"$f":"_xlfn.XLOOKUP(A1603,'Lighting Prices'!A:A,'Lighting Prices'!E:E)","v":{"$error":"#N/A"}}]
["@LK-OPM-AH-F55",{"$f":"_xlfn.XLOOKUP(A1604,'Prices Furniture'!A:A,'Prices Furniture'!E:E)","v":735},{"$f":"_xlfn.XLOOKUP(A1604,'Lighting Prices'!A:A,'Lighting Prices'!E:E)","v":{"$error":"#N/A"}}]
["@LK-OPM-AH-F73",{"$f":"_xlfn.XLOOKUP(A1605,'Prices Furniture'!A:A,'Prices Furniture'!E:E)","v":711},{"$f":"_xlfn.XLOOKUP(A1605,'Lighting Prices'!A:A,'Lighting Prices'!E:E)","v":{"$error":"#N/A"}}]
["@LK-OPM-AH-DO",{"$f":"_xlfn.XLOOKUP(A1606,'Prices Furniture'!A:A,'Prices Furniture'!E:E)","v":731},{"$f":"_xlfn.XLOOKUP(A1606,'Lighting Prices'!A:A,'Lighting Prices'!E:E)","v":{"$error":"#N/A"}}]
["@LK-OPM-AH-DO2D",{"$f":"_xlfn.XLOOKUP(A1607,'Prices Furniture'!A:A,'Prices Furniture'!E:E)","v":1058},{"$f":"_xlfn.XLOOKUP(A1607,'Lighting Prices'!A:A,'Lighting Prices'!E:E)","v":{"$error":"#N/A"}}]
["@LK-OPM-AH-DMW",{"$f":"_xlfn.XLOOKUP(A1608,'Prices Furniture'!A:A,'Prices Furniture'!E:E)","v":927},{"$f":"_xlfn.XLOOKUP(A1608,'Lighting Prices'!A:A,'Lighting Prices'!E:E)","v":{"$error":"#N/A"}}]
["@LK-OPM-AH-SO",{"$f":"_xlfn.XLOOKUP(A1609,'Prices Furniture'!A:A,'Prices Furniture'!E:E)","v":750},{"$f":"_xlfn.XLOOKUP(A1609,'Lighting Prices'!A:A,'Lighting Prices'!E:E)","v":{"$error":"#N/A"}}]
["@LK-OPM-AH-SO1D",{"$f":"_xlfn.XLOOKUP(A1610,'Prices Furniture'!A:A,'Prices Furniture'!E:E)","v":896},{"$f":"_xlfn.XLOOKUP(A1610,'Lighting Prices'!A:A,'Lighting Prices'!E:E)","v":{"$error":"#N/A"}}]
["@LK-OPM-AH-SO2D",{"$f":"_xlfn.XLOOKUP(A1611,'Prices Furniture'!A:A,'Prices Furniture'!E:E)","v":1112},{"$f":"_xlfn.XLOOKUP(A1611,'Lighting Prices'!A:A,'Lighting Prices'!E:E)","v":{"$error":"#N/A"}}]
["@LK-OPM-AH-SO3D",{"$f":"_xlfn.XLOOKUP(A1612,'Prices Furniture'!A:A,'Prices Furniture'!E:E)","v":1261},{"$f":"_xlfn.XLOOKUP(A1612,'Lighting Prices'!A:A,'Lighting Prices'!E:E)","v":{"$error":"#N/A"}}]
["@LK-OPM-AH-SMW",{"$f":"_xlfn.XLOOKUP(A1613,'Prices Furniture'!A:A,'Prices Furniture'!E:E)","v":786},{"$f":"_xlfn.XLOOKUP(A1613,'Lighting Prices'!A:A,'Lighting Prices'!E:E)","v":{"$error":"#N/A"}}]
["@LK-OPM-AH-SM2D",{"$f":"_xlfn.XLOOKUP(A1614,'Prices Furniture'!A:A,'Prices Furniture'!E:E)","v":1074},{"$f":"_xlfn.XLOOKUP(A1614,'Lighting Prices'!A:A,'Lighting Prices'!E:E)","v":{"$error":"#N/A"}}]
["@LK-OPM-AH-CO",{"$f":"_xlfn.XLOOKUP(A1615,'Prices Furniture'!A:A,'Prices Furniture'!E:E)","v":823},{"$f":"_xlfn.XLOOKUP(A1615,'Lighting Prices'!A:A,'Lighting Prices'!E:E)","v":{"$error":"#N/A"}}]
["@LK-OPM-BOH6",{"$f":"_xlfn.XLOOKUP(A1616,'Prices Furniture'!A:A,'Prices Furniture'!E:E)","v":199},{"$f":"_xlfn.XLOOKUP(A1616,'Lighting Prices'!A:A,'Lighting Prices'!E:E)","v":{"$error":"#N/A"}}]
["@LK-OPM-BOHD6",{"$f":"_xlfn.XLOOKUP(A1617,'Prices Furniture'!A:A,'Prices Furniture'!E:E)","v":312},{"$f":"_xlfn.XLOOKUP(A1617,'Lighting Prices'!A:A,'Lighting Prices'!E:E)","v":{"$error":"#N/A"}}]
["@LK-OPM-L3",{"$f":"_xlfn.XLOOKUP(A1618,'Prices Furniture'!A:A,'Prices Furniture'!E:E)","v":663},{"$f":"_xlfn.XLOOKUP(A1618,'Lighting Prices'!A:A,'Lighting Prices'!E:E)","v":{"$error":"#N/A"}}]
["@LK-OPM-L5",{"$f":"_xlfn.XLOOKUP(A1619,'Prices Furniture'!A:A,'Prices Furniture'!E:E)","v":723},{"$f":"_xlfn.XLOOKUP(A1619,'Lighting Prices'!A:A,'Lighting Prices'!E:E)","v":{"$error":"#N/A"}}]
["@LK-OPM-L6",{"$f":"_xlfn.XLOOKUP(A1620,'Prices Furniture'!A:A,'Prices Furniture'!E:E)","v":794},{"$f":"_xlfn.XLOOKUP(A1620,'Lighting Prices'!A:A,'Lighting Prices'!E:E)","v":{"$error":"#N/A"}}]
["@LK-OPM-LP3",{"$f":"_xlfn.XLOOKUP(A1621,'Prices Furniture'!A:A,'Prices Furniture'!E:E)","v":1445},{"$f":"_xlfn.XLOOKUP(A1621,'Lighting Prices'!A:A,'Lighting Prices'!E:E)","v":{"$error":"#N/A"}}]
["@LK-OPM-LT3",{"$f":"_xlfn.XLOOKUP(A1622,'Prices Furniture'!A:A,'Prices Furniture'!E:E)","v":1764},{"$f":"_xlfn.XLOOKUP(A1622,'Lighting Prices'!A:A,'Lighting Prices'!E:E)","v":{"$error":"#N/A"}}]
["@LK-OPM-LT5",{"$f":"_xlfn.XLOOKUP(A1623,'Prices Furniture'!A:A,'Prices Furniture'!E:E)","v":1892},{"$f":"_xlfn.XLOOKUP(A1623,'Lighting Prices'!A:A,'Lighting Prices'!E:E)","v":{"$error":"#N/A"}}]
["@LK-OPM-LT6",{"$f":"_xlfn.XLOOKUP(A1624,'Prices Furniture'!A:A,'Prices Furniture'!E:E)","v":2029},{"$f":"_xlfn.XLOOKUP(A1624,'Lighting Prices'!A:A,'Lighting Prices'!E:E)","v":{"$error":"#N/A"}}]
["@LK-OPM-LP6T",{"$f":"_xlfn.XLOOKUP(A1625,'Prices Furniture'!A:A,'Prices Furniture'!E:E)","v":1980},{"$f":"_xlfn.XLOOKUP(A1625,'Lighting Prices'!A:A,'Lighting Prices'!E:E)","v":{"$error":"#N/A"}}]
["@LK-OPM-LP5TS",{"$f":"_xlfn.XLOOKUP(A1626,'Prices Furniture'!A:A,'Prices Furniture'!E:E)","v":1657},{"$f":"_xlfn.XLOOKUP(A1626,'Lighting Prices'!A:A,'Lighting Prices'!E:E)","v":{"$error":"#N/A"}}]
["@LK-OPM-LP6TS",{"$f":"_xlfn.XLOOKUP(A1627,'Prices Furniture'!A:A,'Prices Furniture'!E:E)","v":1781},{"$f":"_xlfn.XLOOKUP(A1627,'Lighting Prices'!A:A,'Lighting Prices'!E:E)","v":{"$error":"#N/A"}}]
["@LK-OPM-LAC",{"$f":"_xlfn.XLOOKUP(A1628,'Prices Furniture'!A:A,'Prices Furniture'!E:E)","v":2084},{"$f":"_xlfn.XLOOKUP(A1628,'Lighting Prices'!A:A,'Lighting Prices'!E:E)","v":{"$error":"#N/A"}}]
["@LK-OPM-LPN14D",{"$f":"_xlfn.XLOOKUP(A1629,'Prices Furniture'!A:A,'Prices Furniture'!E:E)","v":1124},{"$f":"_xlfn.XLOOKUP(A1629,'Lighting Prices'!A:A,'Lighting Prices'!E:E)","v":{"$error":"#N/A"}}]
["@LK-OPM-LPN12D3DW",{"$f":"_xlfn.XLOOKUP(A1630,'Prices Furniture'!A:A,'Prices Furniture'!E:E)","v":1523},{"$f":"_xlfn.XLOOKUP(A1630,'Lighting Prices'!A:A,'Lighting Prices'!E:E)","v":{"$error":"#N/A"}}]
["@LK-OPM-LPN12D2DW",{"$f":"_xlfn.XLOOKUP(A1631,'Prices Furniture'!A:A,'Prices Furniture'!E:E)","v":1392},{"$f":"_xlfn.XLOOKUP(A1631,'Lighting Prices'!A:A,'Lighting Prices'!E:E)","v":{"$error":"#N/A"}}]
["@LK-OPM-LBC15",{"$f":"_xlfn.XLOOKUP(A1632,'Prices Furniture'!A:A,'Prices Furniture'!E:E)","v":944},{"$f":"_xlfn.XLOOKUP(A1632,'Lighting Prices'!A:A,'Lighting Prices'!E:E)","v":{"$error":"#N/A"}}]
["@LK-OPM-LBC16",{"$f":"_xlfn.XLOOKUP(A1633,'Prices Furniture'!A:A,'Prices Furniture'!E:E)","v":970},{"$f":"_xlfn.XLOOKUP(A1633,'Lighting Prices'!A:A,'Lighting Prices'!E:E)","v":{"$error":"#N/A"}}]
["@LK-OPM-LBCLM15L",{"$f":"_xlfn.XLOOKUP(A1634,'Prices Furniture'!A:A,'Prices Furniture'!E:E)","v":2782},{"$f":"_xlfn.XLOOKUP(A1634,'Lighting Prices'!A:A,'Lighting Prices'!E:E)","v":{"$error":"#N/A"}}]
["@LK-OPM-LBCLM15R",{"$f":"_xlfn.XLOOKUP(A1635,'Prices Furniture'!A:A,'Prices Furniture'!E:E)","v":2782},{"$f":"_xlfn.XLOOKUP(A1635,'Lighting Prices'!A:A,'Lighting Prices'!E:E)","v":{"$error":"#N/A"}}]
["@LK-OPM-LBCLM16L",{"$f":"_xlfn.XLOOKUP(A1636,'Prices Furniture'!A:A,'Prices Furniture'!E:E)","v":2934},{"$f":"_xlfn.XLOOKUP(A1636,'Lighting Prices'!A:A,'Lighting Prices'!E:E)","v":{"$error":"#N/A"}}]
["@LK-OPM-LBCLM16R",{"$f":"_xlfn.XLOOKUP(A1637,'Prices Furniture'!A:A,'Prices Furniture'!E:E)","v":2934},{"$f":"_xlfn.XLOOKUP(A1637,'Lighting Prices'!A:A,'Lighting Prices'!E:E)","v":{"$error":"#N/A"}}]
["@LK-OPM-LL6EA",{"$f":"_xlfn.XLOOKUP(A1638,'Prices Furniture'!A:A,'Prices Furniture'!E:E)","v":836},{"$f":"_xlfn.XLOOKUP(A1638,'Lighting Prices'!A:A,'Lighting Prices'!E:E)","v":{"$error":"#N/A"}}]
["@LK-OPM-LL6CU",{"$f":"_xlfn.XLOOKUP(A1639,'Prices Furniture'!A:A,'Prices Furniture'!E:E)","v":786},{"$f":"_xlfn.XLOOKUP(A1639,'Lighting Prices'!A:A,'Lighting Prices'!E:E)","v":{"$error":"#N/A"}}]
["@LK-OPM-LL10CU",{"$f":"_xlfn.XLOOKUP(A1640,'Prices Furniture'!A:A,'Prices Furniture'!E:E)","v":1235},{"$f":"_xlfn.XLOOKUP(A1640,'Lighting Prices'!A:A,'Lighting Prices'!E:E)","v":{"$error":"#N/A"}}]
["@LK-OPM-LL10CUS",{"$f":"_xlfn.XLOOKUP(A1641,'Prices Furniture'!A:A,'Prices Furniture'!E:E)","v":1334},{"$f":"_xlfn.XLOOKUP(A1641,'Lighting Prices'!A:A,'Lighting Prices'!E:E)","v":{"$error":"#N/A"}}]
["@LK-OPM-LL10CB",{"$f":"_xlfn.XLOOKUP(A1642,'Prices Furniture'!A:A,'Prices Furniture'!E:E)","v":1245},{"$f":"_xlfn.XLOOKUP(A1642,'Lighting Prices'!A:A,'Lighting Prices'!E:E)","v":{"$error":"#N/A"}}]
["@LK-OPM-AD60ICH",{"$f":"_xlfn.XLOOKUP(A1643,'Prices Furniture'!A:A,'Prices Furniture'!E:E)","v":95},{"$f":"_xlfn.XLOOKUP(A1643,'Lighting Prices'!A:A,'Lighting Prices'!E:E)","v":{"$error":"#N/A"}}]
["@LK-OPM-AD60FD",{"$f":"_xlfn.XLOOKUP(A1644,'Prices Furniture'!A:A,'Prices Furniture'!E:E)","v":131},{"$f":"_xlfn.XLOOKUP(A1644,'Lighting Prices'!A:A,'Lighting Prices'!E:E)","v":{"$error":"#N/A"}}]
["@LK-OPM-AD45I",{"$f":"_xlfn.XLOOKUP(A1645,'Prices Furniture'!A:A,'Prices Furniture'!E:E)","v":107},{"$f":"_xlfn.XLOOKUP(A1645,'Lighting Prices'!A:A,'Lighting Prices'!E:E)","v":{"$error":"#N/A"}}]
["@LK-OPM-AD60S",{"$f":"_xlfn.XLOOKUP(A1646,'Prices Furniture'!A:A,'Prices Furniture'!E:E)","v":129},{"$f":"_xlfn.XLOOKUP(A1646,'Lighting Prices'!A:A,'Lighting Prices'!E:E)","v":{"$error":"#N/A"}}]
["@LK-OPM-BLD9",{"$f":"_xlfn.XLOOKUP(A1647,'Prices Furniture'!A:A,'Prices Furniture'!E:E)","v":133},{"$f":"_xlfn.XLOOKUP(A1647,'Lighting Prices'!A:A,'Lighting Prices'!E:E)","v":{"$error":"#N/A"}}]
["@LK-OPM-CH-SO",{"$f":"_xlfn.XLOOKUP(A1648,'Prices Furniture'!A:A,'Prices Furniture'!E:E)","v":654},{"$f":"_xlfn.XLOOKUP(A1648,'Lighting Prices'!A:A,'Lighting Prices'!E:E)","v":{"$error":"#N/A"}}]
["@LK-OPM-CH-MW",{"$f":"_xlfn.XLOOKUP(A1649,'Prices Furniture'!A:A,'Prices Furniture'!E:E)","v":700},{"$f":"_xlfn.XLOOKUP(A1649,'Lighting Prices'!A:A,'Lighting Prices'!E:E)","v":{"$error":"#N/A"}}]
["@LK-OPM-CH-ST",{"$f":"_xlfn.XLOOKUP(A1650,'Prices Furniture'!A:A,'Prices Furniture'!E:E)","v":880},{"$f":"_xlfn.XLOOKUP(A1650,'Lighting Prices'!A:A,'Lighting Prices'!E:E)","v":{"$error":"#N/A"}}]
["@LK-OPM-TCH-SO",{"$f":"_xlfn.XLOOKUP(A1651,'Prices Furniture'!A:A,'Prices Furniture'!E:E)","v":846},{"$f":"_xlfn.XLOOKUP(A1651,'Lighting Prices'!A:A,'Lighting Prices'!E:E)","v":{"$error":"#N/A"}}]
["@LK-OPM-TCH-MW",{"$f":"_xlfn.XLOOKUP(A1652,'Prices Furniture'!A:A,'Prices Furniture'!E:E)","v":759},{"$f":"_xlfn.XLOOKUP(A1652,'Lighting Prices'!A:A,'Lighting Prices'!E:E)","v":{"$error":"#N/A"}}]
["@LK-OPM-TCH-ST",{"$f":"_xlfn.XLOOKUP(A1653,'Prices Furniture'!A:A,'Prices Furniture'!E:E)","v":918},{"$f":"_xlfn.XLOOKUP(A1653,'Lighting Prices'!A:A,'Lighting Prices'!E:E)","v":{"$error":"#N/A"}}]
["@LK-OPM-AH-SOT",{"$f":"_xlfn.XLOOKUP(A1654,'Prices Furniture'!A:A,'Prices Furniture'!E:E)","v":876},{"$f":"_xlfn.XLOOKUP(A1654,'Lighting Prices'!A:A,'Lighting Prices'!E:E)","v":{"$error":"#N/A"}}]
["@LK-OPM-LP5T",{"$f":"_xlfn.XLOOKUP(A1655,'Prices Furniture'!A:A,'Prices Furniture'!E:E)","v":1915},{"$f":"_xlfn.XLOOKUP(A1655,'Lighting Prices'!A:A,'Lighting Prices'!E:E)","v":{"$error":"#N/A"}}]
["@LK-OPM-LL8LS",{"$f":"_xlfn.XLOOKUP(A1656,'Prices Furniture'!A:A,'Prices Furniture'!E:E)","v":1364},{"$f":"_xlfn.XLOOKUP(A1656,'Lighting Prices'!A:A,'Lighting Prices'!E:E)","v":{"$error":"#N/A"}}]
["@LK-OPM-BHD3",{"$f":"_xlfn.XLOOKUP(A1657,'Prices Furniture'!A:A,'Prices Furniture'!E:E)","v":628},{"$f":"_xlfn.XLOOKUP(A1657,'Lighting Prices'!A:A,'Lighting Prices'!E:E)","v":{"$error":"#N/A"}}]
["@LK-OPM-BHD4",{"$f":"_xlfn.XLOOKUP(A1658,'Prices Furniture'!A:A,'Prices Furniture'!E:E)","v":677},{"$f":"_xlfn.XLOOKUP(A1658,'Lighting Prices'!A:A,'Lighting Prices'!E:E)","v":{"$error":"#N/A"}}]
["@LK-OPM-BHD5",{"$f":"_xlfn.XLOOKUP(A1659,'Prices Furniture'!A:A,'Prices Furniture'!E:E)","v":740},{"$f":"_xlfn.XLOOKUP(A1659,'Lighting Prices'!A:A,'Lighting Prices'!E:E)","v":{"$error":"#N/A"}}]
["@LK-OPM-BHD6",{"$f":"_xlfn.XLOOKUP(A1660,'Prices Furniture'!A:A,'Prices Furniture'!E:E)","v":796},{"$f":"_xlfn.XLOOKUP(A1660,'Lighting Prices'!A:A,'Lighting Prices'!E:E)","v":{"$error":"#N/A"}}]
["LK-A-OPM-WREP72",{"$f":"_xlfn.XLOOKUP(A1661,'Prices Furniture'!A:A,'Prices Furniture'!E:E)","v":77},{"$f":"_xlfn.XLOOKUP(A1661,'Lighting Prices'!A:A,'Lighting Prices'!E:E)","v":{"$error":"#N/A"}}]
["LK-A-OPM-PWEP72",{"$f":"_xlfn.XLOOKUP(A1662,'Prices Furniture'!A:A,'Prices Furniture'!E:E)","v":92},{"$f":"_xlfn.XLOOKUP(A1662,'Lighting Prices'!A:A,'Lighting Prices'!E:E)","v":{"$error":"#N/A"}}]
["LK-A-OPM-PWEP20",{"$f":"_xlfn.XLOOKUP(A1663,'Prices Furniture'!A:A,'Prices Furniture'!E:E)","v":200},{"$f":"_xlfn.XLOOKUP(A1663,'Lighting Prices'!A:A,'Lighting Prices'!E:E)","v":{"$error":"#N/A"}}]
["LK-A-OPM-ESP",{"$f":"_xlfn.XLOOKUP(A1664,'Prices Furniture'!A:A,'Prices Furniture'!E:E)","v":135},{"$f":"_xlfn.XLOOKUP(A1664,'Lighting Prices'!A:A,'Lighting Prices'!E:E)","v":{"$error":"#N/A"}}]
["LK-A-OPM-LUP",{"$f":"_xlfn.XLOOKUP(A1665,'Prices Furniture'!A:A,'Prices Furniture'!E:E)","v":391},{"$f":"_xlfn.XLOOKUP(A1665,'Lighting Prices'!A:A,'Lighting Prices'!E:E)","v":{"$error":"#N/A"}}]
["LK-A-OPM-PTEP",{"$f":"_xlfn.XLOOKUP(A1666,'Prices Furniture'!A:A,'Prices Furniture'!E:E)","v":305},{"$f":"_xlfn.XLOOKUP(A1666,'Lighting Prices'!A:A,'Lighting Prices'!E:E)","v":{"$error":"#N/A"}}]
["LK-A-OPM-PL",{"$f":"_xlfn.XLOOKUP(A1667,'Prices Furniture'!A:A,'Prices Furniture'!E:E)","v":90},{"$f":"_xlfn.XLOOKUP(A1667,'Lighting Prices'!A:A,'Lighting Prices'!E:E)","v":{"$error":"#N/A"}}]
["LK-A-OPM-SCCRN",{"$f":"_xlfn.XLOOKUP(A1668,'Prices Furniture'!A:A,'Prices Furniture'!E:E)","v":113},{"$f":"_xlfn.XLOOKUP(A1668,'Lighting Prices'!A:A,'Lighting Prices'!E:E)","v":{"$error":"#N/A"}}]
["LK-A-OPM-BLPEL",{"$f":"_xlfn.XLOOKUP(A1669,'Prices Furniture'!A:A,'Prices Furniture'!E:E)","v":86},{"$f":"_xlfn.XLOOKUP(A1669,'Lighting Prices'!A:A,'Lighting Prices'!E:E)","v":{"$error":"#N/A"}}]
["LK-A-OPM-CVP",{"$f":"_xlfn.XLOOKUP(A1670,'Prices Furniture'!A:A,'Prices Furniture'!E:E)","v":123},{"$f":"_xlfn.XLOOKUP(A1670,'Lighting Prices'!A:A,'Lighting Prices'!E:E)","v":{"$error":"#N/A"}}]
["LK-A-OPM-CPBM",{"$f":"_xlfn.XLOOKUP(A1671,'Prices Furniture'!A:A,'Prices Furniture'!E:E)","v":109},{"$f":"_xlfn.XLOOKUP(A1671,'Lighting Prices'!A:A,'Lighting Prices'!E:E)","v":{"$error":"#N/A"}}]
["LK-A-OPM-CPBC",{"$f":"_xlfn.XLOOKUP(A1672,'Prices Furniture'!A:A,'Prices Furniture'!E:E)","v":116},{"$f":"_xlfn.XLOOKUP(A1672,'Lighting Prices'!A:A,'Lighting Prices'!E:E)","v":{"$error":"#N/A"}}]
["LK-A-OPM-ET",{"$f":"_xlfn.XLOOKUP(A1673,'Prices Furniture'!A:A,'Prices Furniture'!E:E)","v":37},{"$f":"_xlfn.XLOOKUP(A1673,'Lighting Prices'!A:A,'Lighting Prices'!E:E)","v":{"$error":"#N/A"}}]
["@LK-OPR-BP15TY",{"$f":"_xlfn.XLOOKUP(A1674,'Prices Furniture'!A:A,'Prices Furniture'!E:E)","v":408},{"$f":"_xlfn.XLOOKUP(A1674,'Lighting Prices'!A:A,'Lighting Prices'!E:E)","v":{"$error":"#N/A"}}]
["@LK-OPR-BP3TY",{"$f":"_xlfn.XLOOKUP(A1675,'Prices Furniture'!A:A,'Prices Furniture'!E:E)","v":634},{"$f":"_xlfn.XLOOKUP(A1675,'Lighting Prices'!A:A,'Lighting Prices'!E:E)","v":{"$error":"#N/A"}}]
["@LK-OPR-BH15",{"$f":"_xlfn.XLOOKUP(A1676,'Prices Furniture'!A:A,'Prices Furniture'!E:E)","v":228},{"$f":"_xlfn.XLOOKUP(A1676,'Lighting Prices'!A:A,'Lighting Prices'!E:E)","v":{"$error":"#N/A"}}]
["@LK-OPR-BH30",{"$f":"_xlfn.XLOOKUP(A1677,'Prices Furniture'!A:A,'Prices Furniture'!E:E)","v":239},{"$f":"_xlfn.XLOOKUP(A1677,'Lighting Prices'!A:A,'Lighting Prices'!E:E)","v":{"$error":"#N/A"}}]
["@LK-OPR-BH3B",{"$f":"_xlfn.XLOOKUP(A1678,'Prices Furniture'!A:A,'Prices Furniture'!E:E)","v":607},{"$f":"_xlfn.XLOOKUP(A1678,'Lighting Prices'!A:A,'Lighting Prices'!E:E)","v":{"$error":"#N/A"}}]
["@LK-OPR-BH35",{"$f":"_xlfn.XLOOKUP(A1679,'Prices Furniture'!A:A,'Prices Furniture'!E:E)","v":245},{"$f":"_xlfn.XLOOKUP(A1679,'Lighting Prices'!A:A,'Lighting Prices'!E:E)","v":{"$error":"#N/A"}}]
["@LK-OPR-BH40",{"$f":"_xlfn.XLOOKUP(A1680,'Prices Furniture'!A:A,'Prices Furniture'!E:E)","v":249},{"$f":"_xlfn.XLOOKUP(A1680,'Lighting Prices'!A:A,'Lighting Prices'!E:E)","v":{"$error":"#N/A"}}]
["@LK-OPR-BH4B",{"$f":"_xlfn.XLOOKUP(A1681,'Prices Furniture'!A:A,'Prices Furniture'!E:E)","v":682},{"$f":"_xlfn.XLOOKUP(A1681,'Lighting Prices'!A:A,'Lighting Prices'!E:E)","v":{"$error":"#N/A"}}]
["@LK-OPR-BH45",{"$f":"_xlfn.XLOOKUP(A1682,'Prices Furniture'!A:A,'Prices Furniture'!E:E)","v":272},{"$f":"_xlfn.XLOOKUP(A1682,'Lighting Prices'!A:A,'Lighting Prices'!E:E)","v":{"$error":"#N/A"}}]
["@LK-OPR-BH45B",{"$f":"_xlfn.XLOOKUP(A1683,'Prices Furniture'!A:A,'Prices Furniture'!E:E)","v":710},{"$f":"_xlfn.XLOOKUP(A1683,'Lighting Prices'!A:A,'Lighting Prices'!E:E)","v":{"$error":"#N/A"}}]
["@LK-OPR-BH50",{"$f":"_xlfn.XLOOKUP(A1684,'Prices Furniture'!A:A,'Prices Furniture'!E:E)","v":283},{"$f":"_xlfn.XLOOKUP(A1684,'Lighting Prices'!A:A,'Lighting Prices'!E:E)","v":{"$error":"#N/A"}}]
["@LK-OPR-BH5B",{"$f":"_xlfn.XLOOKUP(A1685,'Prices Furniture'!A:A,'Prices Furniture'!E:E)","v":727},{"$f":"_xlfn.XLOOKUP(A1685,'Lighting Prices'!A:A,'Lighting Prices'!E:E)","v":{"$error":"#N/A"}}]
["@LK-OPR-BH50S",{"$f":"_xlfn.XLOOKUP(A1686,'Prices Furniture'!A:A,'Prices Furniture'!E:E)","v":313},{"$f":"_xlfn.XLOOKUP(A1686,'Lighting Prices'!A:A,'Lighting Prices'!E:E)","v":{"$error":"#N/A"}}]
["@LK-OPR-BH60",{"$f":"_xlfn.XLOOKUP(A1687,'Prices Furniture'!A:A,'Prices Furniture'!E:E)","v":319},{"$f":"_xlfn.XLOOKUP(A1687,'Lighting Prices'!A:A,'Lighting Prices'!E:E)","v":{"$error":"#N/A"}}]
["@LK-OPR-BH6B4",{"$f":"_xlfn.XLOOKUP(A1688,'Prices Furniture'!A:A,'Prices Furniture'!E:E)","v":852},{"$f":"_xlfn.XLOOKUP(A1688,'Lighting Prices'!A:A,'Lighting Prices'!E:E)","v":{"$error":"#N/A"}}]
["@LK-OPR-BH6B2",{"$f":"_xlfn.XLOOKUP(A1689,'Prices Furniture'!A:A,'Prices Furniture'!E:E)","v":800},{"$f":"_xlfn.XLOOKUP(A1689,'Lighting Prices'!A:A,'Lighting Prices'!E:E)","v":{"$error":"#N/A"}}]
["@LK-OPR-BH60S",{"$f":"_xlfn.XLOOKUP(A1690,'Prices Furniture'!A:A,'Prices Furniture'!E:E)","v":365},{"$f":"_xlfn.XLOOKUP(A1690,'Lighting Prices'!A:A,'Lighting Prices'!E:E)","v":{"$error":"#N/A"}}]
["@LK-OPR-BH70",{"$f":"_xlfn.XLOOKUP(A1691,'Prices Furniture'!A:A,'Prices Furniture'!E:E)","v":388},{"$f":"_xlfn.XLOOKUP(A1691,'Lighting Prices'!A:A,'Lighting Prices'!E:E)","v":{"$error":"#N/A"}}]
["@LK-OPR-BH80",{"$f":"_xlfn.XLOOKUP(A1692,'Prices Furniture'!A:A,'Prices Furniture'!E:E)","v":394},{"$f":"_xlfn.XLOOKUP(A1692,'Lighting Prices'!A:A,'Lighting Prices'!E:E)","v":{"$error":"#N/A"}}]
["@LK-OPR-BH80S",{"$f":"_xlfn.XLOOKUP(A1693,'Prices Furniture'!A:A,'Prices Furniture'!E:E)","v":440},{"$f":"_xlfn.XLOOKUP(A1693,'Lighting Prices'!A:A,'Lighting Prices'!E:E)","v":{"$error":"#N/A"}}]
["@LK-OPR-BH90",{"$f":"_xlfn.XLOOKUP(A1694,'Prices Furniture'!A:A,'Prices Furniture'!E:E)","v":418},{"$f":"_xlfn.XLOOKUP(A1694,'Lighting Prices'!A:A,'Lighting Prices'!E:E)","v":{"$error":"#N/A"}}]
["@LK-OPR-BH90S",{"$f":"_xlfn.XLOOKUP(A1695,'Prices Furniture'!A:A,'Prices Furniture'!E:E)","v":464},{"$f":"_xlfn.XLOOKUP(A1695,'Lighting Prices'!A:A,'Lighting Prices'!E:E)","v":{"$error":"#N/A"}}]
["@LK-OPR-BH100",{"$f":"_xlfn.XLOOKUP(A1696,'Prices Furniture'!A:A,'Prices Furniture'!E:E)","v":439},{"$f":"_xlfn.XLOOKUP(A1696,'Lighting Prices'!A:A,'Lighting Prices'!E:E)","v":{"$error":"#N/A"}}]
["@LK-OPR-BH10S",{"$f":"_xlfn.XLOOKUP(A1697,'Prices Furniture'!A:A,'Prices Furniture'!E:E)","v":485},{"$f":"_xlfn.XLOOKUP(A1697,'Lighting Prices'!A:A,'Lighting Prices'!E:E)","v":{"$error":"#N/A"}}]
["@LK-OPR-BC83",{"$f":"_xlfn.XLOOKUP(A1698,'Prices Furniture'!A:A,'Prices Furniture'!E:E)","v":374},{"$f":"_xlfn.XLOOKUP(A1698,'Lighting Prices'!A:A,'Lighting Prices'!E:E)","v":{"$error":"#N/A"}}]
["@LK-OPR-BC84",{"$f":"_xlfn.XLOOKUP(A1699,'Prices Furniture'!A:A,'Prices Furniture'!E:E)","v":380},{"$f":"_xlfn.XLOOKUP(A1699,'Lighting Prices'!A:A,'Lighting Prices'!E:E)","v":{"$error":"#N/A"}}]
["@LK-OPR-BC845",{"$f":"_xlfn.XLOOKUP(A1700,'Prices Furniture'!A:A,'Prices Furniture'!E:E)","v":392},{"$f":"_xlfn.XLOOKUP(A1700,'Lighting Prices'!A:A,'Lighting Prices'!E:E)","v":{"$error":"#N/A"}}]
["@LK-OPR-BC945",{"$f":"_xlfn.XLOOKUP(A1701,'Prices Furniture'!A:A,'Prices Furniture'!E:E)","v":392},{"$f":"_xlfn.XLOOKUP(A1701,'Lighting Prices'!A:A,'Lighting Prices'!E:E)","v":{"$error":"#N/A"}}]
["@LK-OPR-BC145",{"$f":"_xlfn.XLOOKUP(A1702,'Prices Furniture'!A:A,'Prices Furniture'!E:E)","v":397},{"$f":"_xlfn.XLOOKUP(A1702,'Lighting Prices'!A:A,'Lighting Prices'!E:E)","v":{"$error":"#N/A"}}]
["@LK-OPR-BC15",{"$f":"_xlfn.XLOOKUP(A1703,'Prices Furniture'!A:A,'Prices Furniture'!E:E)","v":405},{"$f":"_xlfn.XLOOKUP(A1703,'Lighting Prices'!A:A,'Lighting Prices'!E:E)","v":{"$error":"#N/A"}}]
["@LK-OPR-BC16",{"$f":"_xlfn.XLOOKUP(A1704,'Prices Furniture'!A:A,'Prices Furniture'!E:E)","v":421},{"$f":"_xlfn.XLOOKUP(A1704,'Lighting Prices'!A:A,'Lighting Prices'!E:E)","v":{"$error":"#N/A"}}]
["@LK-OPR-BCL15L",{"$f":"_xlfn.XLOOKUP(A1705,'Prices Furniture'!A:A,'Prices Furniture'!E:E)","v":1270},{"$f":"_xlfn.XLOOKUP(A1705,'Lighting Prices'!A:A,'Lighting Prices'!E:E)","v":{"$error":"#N/A"}}]
["@LK-OPR-BCL15R",{"$f":"_xlfn.XLOOKUP(A1706,'Prices Furniture'!A:A,'Prices Furniture'!E:E)","v":1270},{"$f":"_xlfn.XLOOKUP(A1706,'Lighting Prices'!A:A,'Lighting Prices'!E:E)","v":{"$error":"#N/A"}}]
["@LK-OPR-BCL16L",{"$f":"_xlfn.XLOOKUP(A1707,'Prices Furniture'!A:A,'Prices Furniture'!E:E)","v":1349},{"$f":"_xlfn.XLOOKUP(A1707,'Lighting Prices'!A:A,'Lighting Prices'!E:E)","v":{"$error":"#N/A"}}]
["@LK-OPR-BCL16R",{"$f":"_xlfn.XLOOKUP(A1708,'Prices Furniture'!A:A,'Prices Furniture'!E:E)","v":1349},{"$f":"_xlfn.XLOOKUP(A1708,'Lighting Prices'!A:A,'Lighting Prices'!E:E)","v":{"$error":"#N/A"}}]
["@LK-OPR-BCO945",{"$f":"_xlfn.XLOOKUP(A1709,'Prices Furniture'!A:A,'Prices Furniture'!E:E)","v":1402},{"$f":"_xlfn.XLOOKUP(A1709,'Lighting Prices'!A:A,'Lighting Prices'!E:E)","v":{"$error":"#N/A"}}]
["@LK-OPR-BCO145",{"$f":"_xlfn.XLOOKUP(A1710,'Prices Furniture'!A:A,'Prices Furniture'!E:E)","v":1407},{"$f":"_xlfn.XLOOKUP(A1710,'Lighting Prices'!A:A,'Lighting Prices'!E:E)","v":{"$error":"#N/A"}}]
["@LK-OPR-BCO15",{"$f":"_xlfn.XLOOKUP(A1711,'Prices Furniture'!A:A,'Prices Furniture'!E:E)","v":1415},{"$f":"_xlfn.XLOOKUP(A1711,'Lighting Prices'!A:A,'Lighting Prices'!E:E)","v":{"$error":"#N/A"}}]
["@LK-OPR-BCO16",{"$f":"_xlfn.XLOOKUP(A1712,'Prices Furniture'!A:A,'Prices Furniture'!E:E)","v":1431},{"$f":"_xlfn.XLOOKUP(A1712,'Lighting Prices'!A:A,'Lighting Prices'!E:E)","v":{"$error":"#N/A"}}]
["@LK-OPR-BCL9",{"$f":"_xlfn.XLOOKUP(A1713,'Prices Furniture'!A:A,'Prices Furniture'!E:E)","v":618},{"$f":"_xlfn.XLOOKUP(A1713,'Lighting Prices'!A:A,'Lighting Prices'!E:E)","v":{"$error":"#N/A"}}]
["@LK-OPR-BSU6495",{"$f":"_xlfn.XLOOKUP(A1714,'Prices Furniture'!A:A,'Prices Furniture'!E:E)","v":285},{"$f":"_xlfn.XLOOKUP(A1714,'Lighting Prices'!A:A,'Lighting Prices'!E:E)","v":{"$error":"#N/A"}}]
["@LK-OPR-BSU6450",{"$f":"_xlfn.XLOOKUP(A1715,'Prices Furniture'!A:A,'Prices Furniture'!E:E)","v":283},{"$f":"_xlfn.XLOOKUP(A1715,'Lighting Prices'!A:A,'Lighting Prices'!E:E)","v":{"$error":"#N/A"}}]
["@LK-OPR-BD54",{"$f":"_xlfn.XLOOKUP(A1716,'Prices Furniture'!A:A,'Prices Furniture'!E:E)","v":846},{"$f":"_xlfn.XLOOKUP(A1716,'Lighting Prices'!A:A,'Lighting Prices'!E:E)","v":{"$error":"#N/A"}}]
["@LK-OPR-BD53",{"$f":"_xlfn.XLOOKUP(A1717,'Prices Furniture'!A:A,'Prices Furniture'!E:E)","v":714},{"$f":"_xlfn.XLOOKUP(A1717,'Lighting Prices'!A:A,'Lighting Prices'!E:E)","v":{"$error":"#N/A"}}]
["@LK-OPR-BD63",{"$f":"_xlfn.XLOOKUP(A1718,'Prices Furniture'!A:A,'Prices Furniture'!E:E)","v":806},{"$f":"_xlfn.XLOOKUP(A1718,'Lighting Prices'!A:A,'Lighting Prices'!E:E)","v":{"$error":"#N/A"}}]
["@LK-OPR-BD83",{"$f":"_xlfn.XLOOKUP(A1719,'Prices Furniture'!A:A,'Prices Furniture'!E:E)","v":813},{"$f":"_xlfn.XLOOKUP(A1719,'Lighting Prices'!A:A,'Lighting Prices'!E:E)","v":{"$error":"#N/A"}}]
["@LK-OPR-BD93",{"$f":"_xlfn.XLOOKUP(A1720,'Prices Furniture'!A:A,'Prices Furniture'!E:E)","v":828},{"$f":"_xlfn.XLOOKUP(A1720,'Lighting Prices'!A:A,'Lighting Prices'!E:E)","v":{"$error":"#N/A"}}]
["@LK-OPR-BD13",{"$f":"_xlfn.XLOOKUP(A1721,'Prices Furniture'!A:A,'Prices Furniture'!E:E)","v":845},{"$f":"_xlfn.XLOOKUP(A1721,'Lighting Prices'!A:A,'Lighting Prices'!E:E)","v":{"$error":"#N/A"}}]
["@LK-OPR-BD62",{"$f":"_xlfn.XLOOKUP(A1722,'Prices Furniture'!A:A,'Prices Furniture'!E:E)","v":683},{"$f":"_xlfn.XLOOKUP(A1722,'Lighting Prices'!A:A,'Lighting Prices'!E:E)","v":{"$error":"#N/A"}}]
["@LK-OPR-BD92",{"$f":"_xlfn.XLOOKUP(A1723,'Prices Furniture'!A:A,'Prices Furniture'!E:E)","v":700},{"$f":"_xlfn.XLOOKUP(A1723,'Lighting Prices'!A:A,'Lighting Prices'!E:E)","v":{"$error":"#N/A"}}]
["@LK-OPR-BD62I",{"$f":"_xlfn.XLOOKUP(A1724,'Prices Furniture'!A:A,'Prices Furniture'!E:E)","v":859},{"$f":"_xlfn.XLOOKUP(A1724,'Lighting Prices'!A:A,'Lighting Prices'!E:E)","v":{"$error":"#N/A"}}]
["@LK-OPR-BD92I",{"$f":"_xlfn.XLOOKUP(A1725,'Prices Furniture'!A:A,'Prices Furniture'!E:E)","v":901},{"$f":"_xlfn.XLOOKUP(A1725,'Lighting Prices'!A:A,'Lighting Prices'!E:E)","v":{"$error":"#N/A"}}]
["@LK-OPR-BD635L",{"$f":"_xlfn.XLOOKUP(A1726,'Prices Furniture'!A:A,'Prices Furniture'!E:E)","v":384},{"$f":"_xlfn.XLOOKUP(A1726,'Lighting Prices'!A:A,'Lighting Prices'!E:E)","v":{"$error":"#N/A"}}]
["@LK-OPR-W30",{"$f":"_xlfn.XLOOKUP(A1727,'Prices Furniture'!A:A,'Prices Furniture'!E:E)","v":221},{"$f":"_xlfn.XLOOKUP(A1727,'Lighting Prices'!A:A,'Lighting Prices'!E:E)","v":{"$error":"#N/A"}}]
["@LK-OPR-W35",{"$f":"_xlfn.XLOOKUP(A1728,'Prices Furniture'!A:A,'Prices Furniture'!E:E)","v":227},{"$f":"_xlfn.XLOOKUP(A1728,'Lighting Prices'!A:A,'Lighting Prices'!E:E)","v":{"$error":"#N/A"}}]
["@LK-OPR-W40",{"$f":"_xlfn.XLOOKUP(A1729,'Prices Furniture'!A:A,'Prices Furniture'!E:E)","v":235},{"$f":"_xlfn.XLOOKUP(A1729,'Lighting Prices'!A:A,'Lighting Prices'!E:E)","v":{"$error":"#N/A"}}]
["@LK-OPR-W45",{"$f":"_xlfn.XLOOKUP(A1730,'Prices Furniture'!A:A,'Prices Furniture'!E:E)","v":252},{"$f":"_xlfn.XLOOKUP(A1730,'Lighting Prices'!A:A,'Lighting Prices'!E:E)","v":{"$error":"#N/A"}}]
["@LK-OPR-W50",{"$f":"_xlfn.XLOOKUP(A1731,'Prices Furniture'!A:A,'Prices Furniture'!E:E)","v":266},{"$f":"_xlfn.XLOOKUP(A1731,'Lighting Prices'!A:A,'Lighting Prices'!E:E)","v":{"$error":"#N/A"}}]
["@LK-OPR-W60",{"$f":"_xlfn.XLOOKUP(A1732,'Prices Furniture'!A:A,'Prices Furniture'!E:E)","v":290},{"$f":"_xlfn.XLOOKUP(A1732,'Lighting Prices'!A:A,'Lighting Prices'!E:E)","v":{"$error":"#N/A"}}]
["@LK-OPR-W70",{"$f":"_xlfn.XLOOKUP(A1733,'Prices Furniture'!A:A,'Prices Furniture'!E:E)","v":383},{"$f":"_xlfn.XLOOKUP(A1733,'Lighting Prices'!A:A,'Lighting Prices'!E:E)","v":{"$error":"#N/A"}}]
["@LK-OPR-W80",{"$f":"_xlfn.XLOOKUP(A1734,'Prices Furniture'!A:A,'Prices Furniture'!E:E)","v":389},{"$f":"_xlfn.XLOOKUP(A1734,'Lighting Prices'!A:A,'Lighting Prices'!E:E)","v":{"$error":"#N/A"}}]
["@LK-OPR-W90",{"$f":"_xlfn.XLOOKUP(A1735,'Prices Furniture'!A:A,'Prices Furniture'!E:E)","v":409},{"$f":"_xlfn.XLOOKUP(A1735,'Lighting Prices'!A:A,'Lighting Prices'!E:E)","v":{"$error":"#N/A"}}]
["@LK-OPR-W100",{"$f":"_xlfn.XLOOKUP(A1736,'Prices Furniture'!A:A,'Prices Furniture'!E:E)","v":434},{"$f":"_xlfn.XLOOKUP(A1736,'Lighting Prices'!A:A,'Lighting Prices'!E:E)","v":{"$error":"#N/A"}}]
["@LK-OPR-WC6",{"$f":"_xlfn.XLOOKUP(A1737,'Prices Furniture'!A:A,'Prices Furniture'!E:E)","v":309},{"$f":"_xlfn.XLOOKUP(A1737,'Lighting Prices'!A:A,'Lighting Prices'!E:E)","v":{"$error":"#N/A"}}]
["@LK-OPR-WC9",{"$f":"_xlfn.XLOOKUP(A1738,'Prices Furniture'!A:A,'Prices Furniture'!E:E)","v":371},{"$f":"_xlfn.XLOOKUP(A1738,'Lighting Prices'!A:A,'Lighting Prices'!E:E)","v":{"$error":"#N/A"}}]
["@LK-OPR-WCL65",{"$f":"_xlfn.XLOOKUP(A1739,'Prices Furniture'!A:A,'Prices Furniture'!E:E)","v":553},{"$f":"_xlfn.XLOOKUP(A1739,'Lighting Prices'!A:A,'Lighting Prices'!E:E)","v":{"$error":"#N/A"}}]
["@LK-OPR-WM60",{"$f":"_xlfn.XLOOKUP(A1740,'Prices Furniture'!A:A,'Prices Furniture'!E:E)","v":361},{"$f":"_xlfn.XLOOKUP(A1740,'Lighting Prices'!A:A,'Lighting Prices'!E:E)","v":{"$error":"#N/A"}}]
["@LK-OPR-WBHU",{"$f":"_xlfn.XLOOKUP(A1741,'Prices Furniture'!A:A,'Prices Furniture'!E:E)","v":282},{"$f":"_xlfn.XLOOKUP(A1741,'Lighting Prices'!A:A,'Lighting Prices'!E:E)","v":{"$error":"#N/A"}}]
["@LK-OPR-WBI60",{"$f":"_xlfn.XLOOKUP(A1742,'Prices Furniture'!A:A,'Prices Furniture'!E:E)","v":663},{"$f":"_xlfn.XLOOKUP(A1742,'Lighting Prices'!A:A,'Lighting Prices'!E:E)","v":{"$error":"#N/A"}}]
["@LK-OPR-WBI90",{"$f":"_xlfn.XLOOKUP(A1743,'Prices Furniture'!A:A,'Prices Furniture'!E:E)","v":695},{"$f":"_xlfn.XLOOKUP(A1743,'Lighting Prices'!A:A,'Lighting Prices'!E:E)","v":{"$error":"#N/A"}}]
["@LK-OPR-WGS5",{"$f":"_xlfn.XLOOKUP(A1744,'Prices Furniture'!A:A,'Prices Furniture'!E:E)","v":434},{"$f":"_xlfn.XLOOKUP(A1744,'Lighting Prices'!A:A,'Lighting Prices'!E:E)","v":{"$error":"#N/A"}}]
["@LK-OPR-WGS6",{"$f":"_xlfn.XLOOKUP(A1745,'Prices Furniture'!A:A,'Prices Furniture'!E:E)","v":476},{"$f":"_xlfn.XLOOKUP(A1745,'Lighting Prices'!A:A,'Lighting Prices'!E:E)","v":{"$error":"#N/A"}}]
["@LK-OPR-WGR5",{"$f":"_xlfn.XLOOKUP(A1746,'Prices Furniture'!A:A,'Prices Furniture'!E:E)","v":434},{"$f":"_xlfn.XLOOKUP(A1746,'Lighting Prices'!A:A,'Lighting Prices'!E:E)","v":{"$error":"#N/A"}}]
["@LK-OPR-WGR6",{"$f":"_xlfn.XLOOKUP(A1747,'Prices Furniture'!A:A,'Prices Furniture'!E:E)","v":476},{"$f":"_xlfn.XLOOKUP(A1747,'Lighting Prices'!A:A,'Lighting Prices'!E:E)","v":{"$error":"#N/A"}}]
["@LK-OPR-WB62",{"$f":"_xlfn.XLOOKUP(A1748,'Prices Furniture'!A:A,'Prices Furniture'!E:E)","v":237},{"$f":"_xlfn.XLOOKUP(A1748,'Lighting Prices'!A:A,'Lighting Prices'!E:E)","v":{"$error":"#N/A"}}]
["@LK-OPR-WB82",{"$f":"_xlfn.XLOOKUP(A1749,'Prices Furniture'!A:A,'Prices Furniture'!E:E)","v":295},{"$f":"_xlfn.XLOOKUP(A1749,'Lighting Prices'!A:A,'Lighting Prices'!E:E)","v":{"$error":"#N/A"}}]
["@LK-OPR-WB92",{"$f":"_xlfn.XLOOKUP(A1750,'Prices Furniture'!A:A,'Prices Furniture'!E:E)","v":312},{"$f":"_xlfn.XLOOKUP(A1750,'Lighting Prices'!A:A,'Lighting Prices'!E:E)","v":{"$error":"#N/A"}}]
["@LK-OPR-WB12",{"$f":"_xlfn.XLOOKUP(A1751,'Prices Furniture'!A:A,'Prices Furniture'!E:E)","v":338},{"$f":"_xlfn.XLOOKUP(A1751,'Lighting Prices'!A:A,'Lighting Prices'!E:E)","v":{"$error":"#N/A"}}]
["@LK-OPR-WB63",{"$f":"_xlfn.XLOOKUP(A1752,'Prices Furniture'!A:A,'Prices Furniture'!E:E)","v":295},{"$f":"_xlfn.XLOOKUP(A1752,'Lighting Prices'!A:A,'Lighting Prices'!E:E)","v":{"$error":"#N/A"}}]
["@LK-OPR-WB93",{"$f":"_xlfn.XLOOKUP(A1753,'Prices Furniture'!A:A,'Prices Furniture'!E:E)","v":344},{"$f":"_xlfn.XLOOKUP(A1753,'Lighting Prices'!A:A,'Lighting Prices'!E:E)","v":{"$error":"#N/A"}}]
["@LK-OPR-AH-F55",{"$f":"_xlfn.XLOOKUP(A1754,'Prices Furniture'!A:A,'Prices Furniture'!E:E)","v":735},{"$f":"_xlfn.XLOOKUP(A1754,'Lighting Prices'!A:A,'Lighting Prices'!E:E)","v":{"$error":"#N/A"}}]
["@LK-OPR-AH-F73",{"$f":"_xlfn.XLOOKUP(A1755,'Prices Furniture'!A:A,'Prices Furniture'!E:E)","v":711},{"$f":"_xlfn.XLOOKUP(A1755,'Lighting Prices'!A:A,'Lighting Prices'!E:E)","v":{"$error":"#N/A"}}]
["@LK-OPR-AH-DO",{"$f":"_xlfn.XLOOKUP(A1756,'Prices Furniture'!A:A,'Prices Furniture'!E:E)","v":731},{"$f":"_xlfn.XLOOKUP(A1756,'Lighting Prices'!A:A,'Lighting Prices'!E:E)","v":{"$error":"#N/A"}}]
["@LK-OPR-AH-DO2D",{"$f":"_xlfn.XLOOKUP(A1757,'Prices Furniture'!A:A,'Prices Furniture'!E:E)","v":1058},{"$f":"_xlfn.XLOOKUP(A1757,'Lighting Prices'!A:A,'Lighting Prices'!E:E)","v":{"$error":"#N/A"}}]
["@LK-OPR-AH-DMW",{"$f":"_xlfn.XLOOKUP(A1758,'Prices Furniture'!A:A,'Prices Furniture'!E:E)","v":927},{"$f":"_xlfn.XLOOKUP(A1758,'Lighting Prices'!A:A,'Lighting Prices'!E:E)","v":{"$error":"#N/A"}}]
["@LK-OPR-AH-SO",{"$f":"_xlfn.XLOOKUP(A1759,'Prices Furniture'!A:A,'Prices Furniture'!E:E)","v":750},{"$f":"_xlfn.XLOOKUP(A1759,'Lighting Prices'!A:A,'Lighting Prices'!E:E)","v":{"$error":"#N/A"}}]
["@LK-OPR-AH-SO1D",{"$f":"_xlfn.XLOOKUP(A1760,'Prices Furniture'!A:A,'Prices Furniture'!E:E)","v":896},{"$f":"_xlfn.XLOOKUP(A1760,'Lighting Prices'!A:A,'Lighting Prices'!E:E)","v":{"$error":"#N/A"}}]
["@LK-OPR-AH-SO2D",{"$f":"_xlfn.XLOOKUP(A1761,'Prices Furniture'!A:A,'Prices Furniture'!E:E)","v":1112},{"$f":"_xlfn.XLOOKUP(A1761,'Lighting Prices'!A:A,'Lighting Prices'!E:E)","v":{"$error":"#N/A"}}]
["@LK-OPR-AH-SO3D",{"$f":"_xlfn.XLOOKUP(A1762,'Prices Furniture'!A:A,'Prices Furniture'!E:E)","v":1261},{"$f":"_xlfn.XLOOKUP(A1762,'Lighting Prices'!A:A,'Lighting Prices'!E:E)","v":{"$error":"#N/A"}}]
["@LK-OPR-AH-SMW",{"$f":"_xlfn.XLOOKUP(A1763,'Prices Furniture'!A:A,'Prices Furniture'!E:E)","v":786},{"$f":"_xlfn.XLOOKUP(A1763,'Lighting Prices'!A:A,'Lighting Prices'!E:E)","v":{"$error":"#N/A"}}]
["@LK-OPR-AH-SM2D",{"$f":"_xlfn.XLOOKUP(A1764,'Prices Furniture'!A:A,'Prices Furniture'!E:E)","v":1074},{"$f":"_xlfn.XLOOKUP(A1764,'Lighting Prices'!A:A,'Lighting Prices'!E:E)","v":{"$error":"#N/A"}}]
["@LK-OPR-AH-CO",{"$f":"_xlfn.XLOOKUP(A1765,'Prices Furniture'!A:A,'Prices Furniture'!E:E)","v":823},{"$f":"_xlfn.XLOOKUP(A1765,'Lighting Prices'!A:A,'Lighting Prices'!E:E)","v":{"$error":"#N/A"}}]
["@LK-OPR-BOH6",{"$f":"_xlfn.XLOOKUP(A1766,'Prices Furniture'!A:A,'Prices Furniture'!E:E)","v":199},{"$f":"_xlfn.XLOOKUP(A1766,'Lighting Prices'!A:A,'Lighting Prices'!E:E)","v":{"$error":"#N/A"}}]
["@LK-OPR-BOHD6",{"$f":"_xlfn.XLOOKUP(A1767,'Prices Furniture'!A:A,'Prices Furniture'!E:E)","v":312},{"$f":"_xlfn.XLOOKUP(A1767,'Lighting Prices'!A:A,'Lighting Prices'!E:E)","v":{"$error":"#N/A"}}]
["@LK-OPR-L3",{"$f":"_xlfn.XLOOKUP(A1768,'Prices Furniture'!A:A,'Prices Furniture'!E:E)","v":663},{"$f":"_xlfn.XLOOKUP(A1768,'Lighting Prices'!A:A,'Lighting Prices'!E:E)","v":{"$error":"#N/A"}}]
["@LK-OPR-L5",{"$f":"_xlfn.XLOOKUP(A1769,'Prices Furniture'!A:A,'Prices Furniture'!E:E)","v":723},{"$f":"_xlfn.XLOOKUP(A1769,'Lighting Prices'!A:A,'Lighting Prices'!E:E)","v":{"$error":"#N/A"}}]
["@LK-OPR-L6",{"$f":"_xlfn.XLOOKUP(A1770,'Prices Furniture'!A:A,'Prices Furniture'!E:E)","v":794},{"$f":"_xlfn.XLOOKUP(A1770,'Lighting Prices'!A:A,'Lighting Prices'!E:E)","v":{"$error":"#N/A"}}]
["@LK-OPR-LP3",{"$f":"_xlfn.XLOOKUP(A1771,'Prices Furniture'!A:A,'Prices Furniture'!E:E)","v":1450},{"$f":"_xlfn.XLOOKUP(A1771,'Lighting Prices'!A:A,'Lighting Prices'!E:E)","v":{"$error":"#N/A"}}]
["@LK-OPR-LT3",{"$f":"_xlfn.XLOOKUP(A1772,'Prices Furniture'!A:A,'Prices Furniture'!E:E)","v":1764},{"$f":"_xlfn.XLOOKUP(A1772,'Lighting Prices'!A:A,'Lighting Prices'!E:E)","v":{"$error":"#N/A"}}]
["@LK-OPR-LT5",{"$f":"_xlfn.XLOOKUP(A1773,'Prices Furniture'!A:A,'Prices Furniture'!E:E)","v":1892},{"$f":"_xlfn.XLOOKUP(A1773,'Lighting Prices'!A:A,'Lighting Prices'!E:E)","v":{"$error":"#N/A"}}]
["@LK-OPR-LT6",{"$f":"_xlfn.XLOOKUP(A1774,'Prices Furniture'!A:A,'Prices Furniture'!E:E)","v":2029},{"$f":"_xlfn.XLOOKUP(A1774,'Lighting Prices'!A:A,'Lighting Prices'!E:E)","v":{"$error":"#N/A"}}]
["@LK-OPR-LP6T",{"$f":"_xlfn.XLOOKUP(A1775,'Prices Furniture'!A:A,'Prices Furniture'!E:E)","v":1980},{"$f":"_xlfn.XLOOKUP(A1775,'Lighting Prices'!A:A,'Lighting Prices'!E:E)","v":{"$error":"#N/A"}}]
["@LK-OPR-LP5TS",{"$f":"_xlfn.XLOOKUP(A1776,'Prices Furniture'!A:A,'Prices Furniture'!E:E)","v":1657},{"$f":"_xlfn.XLOOKUP(A1776,'Lighting Prices'!A:A,'Lighting Prices'!E:E)","v":{"$error":"#N/A"}}]
["@LK-OPR-LP6TS",{"$f":"_xlfn.XLOOKUP(A1777,'Prices Furniture'!A:A,'Prices Furniture'!E:E)","v":1781},{"$f":"_xlfn.XLOOKUP(A1777,'Lighting Prices'!A:A,'Lighting Prices'!E:E)","v":{"$error":"#N/A"}}]
["@LK-OPR-LAC",{"$f":"_xlfn.XLOOKUP(A1778,'Prices Furniture'!A:A,'Prices Furniture'!E:E)","v":2084},{"$f":"_xlfn.XLOOKUP(A1778,'Lighting Prices'!A:A,'Lighting Prices'!E:E)","v":{"$error":"#N/A"}}]
["@LK-OPR-LPN14D",{"$f":"_xlfn.XLOOKUP(A1779,'Prices Furniture'!A:A,'Prices Furniture'!E:E)","v":1124},{"$f":"_xlfn.XLOOKUP(A1779,'Lighting Prices'!A:A,'Lighting Prices'!E:E)","v":{"$error":"#N/A"}}]
["@LK-OPR-LPN12D3DW",{"$f":"_xlfn.XLOOKUP(A1780,'Prices Furniture'!A:A,'Prices Furniture'!E:E)","v":1523},{"$f":"_xlfn.XLOOKUP(A1780,'Lighting Prices'!A:A,'Lighting Prices'!E:E)","v":{"$error":"#N/A"}}]
["@LK-OPR-LPN12D2DW",{"$f":"_xlfn.XLOOKUP(A1781,'Prices Furniture'!A:A,'Prices Furniture'!E:E)","v":1392},{"$f":"_xlfn.XLOOKUP(A1781,'Lighting Prices'!A:A,'Lighting Prices'!E:E)","v":{"$error":"#N/A"}}]
["@LK-OPR-LBC15",{"$f":"_xlfn.XLOOKUP(A1782,'Prices Furniture'!A:A,'Prices Furniture'!E:E)","v":944},{"$f":"_xlfn.XLOOKUP(A1782,'Lighting Prices'!A:A,'Lighting Prices'!E:E)","v":{"$error":"#N/A"}}]
["@LK-OPR-LBC16",{"$f":"_xlfn.XLOOKUP(A1783,'Prices Furniture'!A:A,'Prices Furniture'!E:E)","v":970},{"$f":"_xlfn.XLOOKUP(A1783,'Lighting Prices'!A:A,'Lighting Prices'!E:E)","v":{"$error":"#N/A"}}]
["@LK-OPR-LBCLM15L",{"$f":"_xlfn.XLOOKUP(A1784,'Prices Furniture'!A:A,'Prices Furniture'!E:E)","v":2782},{"$f":"_xlfn.XLOOKUP(A1784,'Lighting Prices'!A:A,'Lighting Prices'!E:E)","v":{"$error":"#N/A"}}]
["@LK-OPR-LBCLM15R",{"$f":"_xlfn.XLOOKUP(A1785,'Prices Furniture'!A:A,'Prices Furniture'!E:E)","v":2782},{"$f":"_xlfn.XLOOKUP(A1785,'Lighting Prices'!A:A,'Lighting Prices'!E:E)","v":{"$error":"#N/A"}}]
["@LK-OPR-LBCLM16L",{"$f":"_xlfn.XLOOKUP(A1786,'Prices Furniture'!A:A,'Prices Furniture'!E:E)","v":2934},{"$f":"_xlfn.XLOOKUP(A1786,'Lighting Prices'!A:A,'Lighting Prices'!E:E)","v":{"$error":"#N/A"}}]
["@LK-OPR-LBCLM16R",{"$f":"_xlfn.XLOOKUP(A1787,'Prices Furniture'!A:A,'Prices Furniture'!E:E)","v":2934},{"$f":"_xlfn.XLOOKUP(A1787,'Lighting Prices'!A:A,'Lighting Prices'!E:E)","v":{"$error":"#N/A"}}]
["@LK-OPR-LL6EA",{"$f":"_xlfn.XLOOKUP(A1788,'Prices Furniture'!A:A,'Prices Furniture'!E:E)","v":836},{"$f":"_xlfn.XLOOKUP(A1788,'Lighting Prices'!A:A,'Lighting Prices'!E:E)","v":{"$error":"#N/A"}}]
["@LK-OPR-LL6CU",{"$f":"_xlfn.XLOOKUP(A1789,'Prices Furniture'!A:A,'Prices Furniture'!E:E)","v":786},{"$f":"_xlfn.XLOOKUP(A1789,'Lighting Prices'!A:A,'Lighting Prices'!E:E)","v":{"$error":"#N/A"}}]
["@LK-OPR-LL10CU",{"$f":"_xlfn.XLOOKUP(A1790,'Prices Furniture'!A:A,'Prices Furniture'!E:E)","v":1235},{"$f":"_xlfn.XLOOKUP(A1790,'Lighting Prices'!A:A,'Lighting Prices'!E:E)","v":{"$error":"#N/A"}}]
["@LK-OPR-LL10CUS",{"$f":"_xlfn.XLOOKUP(A1791,'Prices Furniture'!A:A,'Prices Furniture'!E:E)","v":1334},{"$f":"_xlfn.XLOOKUP(A1791,'Lighting Prices'!A:A,'Lighting Prices'!E:E)","v":{"$error":"#N/A"}}]
["@LK-OPR-LL10CB",{"$f":"_xlfn.XLOOKUP(A1792,'Prices Furniture'!A:A,'Prices Furniture'!E:E)","v":1245},{"$f":"_xlfn.XLOOKUP(A1792,'Lighting Prices'!A:A,'Lighting Prices'!E:E)","v":{"$error":"#N/A"}}]
["@LK-OPR-AD60ICH",{"$f":"_xlfn.XLOOKUP(A1793,'Prices Furniture'!A:A,'Prices Furniture'!E:E)","v":95},{"$f":"_xlfn.XLOOKUP(A1793,'Lighting Prices'!A:A,'Lighting Prices'!E:E)","v":{"$error":"#N/A"}}]
["@LK-OPR-AD60FD",{"$f":"_xlfn.XLOOKUP(A1794,'Prices Furniture'!A:A,'Prices Furniture'!E:E)","v":131},{"$f":"_xlfn.XLOOKUP(A1794,'Lighting Prices'!A:A,'Lighting Prices'!E:E)","v":{"$error":"#N/A"}}]
["@LK-OPR-AD45I",{"$f":"_xlfn.XLOOKUP(A1795,'Prices Furniture'!A:A,'Prices Furniture'!E:E)","v":107},{"$f":"_xlfn.XLOOKUP(A1795,'Lighting Prices'!A:A,'Lighting Prices'!E:E)","v":{"$error":"#N/A"}}]
["@LK-OPR-AD60S",{"$f":"_xlfn.XLOOKUP(A1796,'Prices Furniture'!A:A,'Prices Furniture'!E:E)","v":129},{"$f":"_xlfn.XLOOKUP(A1796,'Lighting Prices'!A:A,'Lighting Prices'!E:E)","v":{"$error":"#N/A"}}]
["@LK-OPR-BLD9",{"$f":"_xlfn.XLOOKUP(A1797,'Prices Furniture'!A:A,'Prices Furniture'!E:E)","v":133},{"$f":"_xlfn.XLOOKUP(A1797,'Lighting Prices'!A:A,'Lighting Prices'!E:E)","v":{"$error":"#N/A"}}]
["@LK-OPR-CH-SO",{"$f":"_xlfn.XLOOKUP(A1798,'Prices Furniture'!A:A,'Prices Furniture'!E:E)","v":654},{"$f":"_xlfn.XLOOKUP(A1798,'Lighting Prices'!A:A,'Lighting Prices'!E:E)","v":{"$error":"#N/A"}}]
["@LK-OPR-CH-MW",{"$f":"_xlfn.XLOOKUP(A1799,'Prices Furniture'!A:A,'Prices Furniture'!E:E)","v":700},{"$f":"_xlfn.XLOOKUP(A1799,'Lighting Prices'!A:A,'Lighting Prices'!E:E)","v":{"$error":"#N/A"}}]
["@LK-OPR-CH-ST",{"$f":"_xlfn.XLOOKUP(A1800,'Prices Furniture'!A:A,'Prices Furniture'!E:E)","v":880},{"$f":"_xlfn.XLOOKUP(A1800,'Lighting Prices'!A:A,'Lighting Prices'!E:E)","v":{"$error":"#N/A"}}]
["@LK-OPR-TCH-SO",{"$f":"_xlfn.XLOOKUP(A1801,'Prices Furniture'!A:A,'Prices Furniture'!E:E)","v":846},{"$f":"_xlfn.XLOOKUP(A1801,'Lighting Prices'!A:A,'Lighting Prices'!E:E)","v":{"$error":"#N/A"}}]
["@LK-OPR-TCH-MW",{"$f":"_xlfn.XLOOKUP(A1802,'Prices Furniture'!A:A,'Prices Furniture'!E:E)","v":759},{"$f":"_xlfn.XLOOKUP(A1802,'Lighting Prices'!A:A,'Lighting Prices'!E:E)","v":{"$error":"#N/A"}}]
["@LK-OPR-TCH-ST",{"$f":"_xlfn.XLOOKUP(A1803,'Prices Furniture'!A:A,'Prices Furniture'!E:E)","v":918},{"$f":"_xlfn.XLOOKUP(A1803,'Lighting Prices'!A:A,'Lighting Prices'!E:E)","v":{"$error":"#N/A"}}]
["@LK-OPR-AH-SOT",{"$f":"_xlfn.XLOOKUP(A1804,'Prices Furniture'!A:A,'Prices Furniture'!E:E)","v":876},{"$f":"_xlfn.XLOOKUP(A1804,'Lighting Prices'!A:A,'Lighting Prices'!E:E)","v":{"$error":"#N/A"}}]
["@LK-OPR-LP5T",{"$f":"_xlfn.XLOOKUP(A1805,'Prices Furniture'!A:A,'Prices Furniture'!E:E)","v":1915},{"$f":"_xlfn.XLOOKUP(A1805,'Lighting Prices'!A:A,'Lighting Prices'!E:E)","v":{"$error":"#N/A"}}]
["@LK-OPR-LL8LS",{"$f":"_xlfn.XLOOKUP(A1806,'Prices Furniture'!A:A,'Prices Furniture'!E:E)","v":1364},{"$f":"_xlfn.XLOOKUP(A1806,'Lighting Prices'!A:A,'Lighting Prices'!E:E)","v":{"$error":"#N/A"}}]
["@LK-OPR-BHD3",{"$f":"_xlfn.XLOOKUP(A1807,'Prices Furniture'!A:A,'Prices Furniture'!E:E)","v":1256},{"$f":"_xlfn.XLOOKUP(A1807,'Lighting Prices'!A:A,'Lighting Prices'!E:E)","v":{"$error":"#N/A"}}]
["@LK-OPR-BHD4",{"$f":"_xlfn.XLOOKUP(A1808,'Prices Furniture'!A:A,'Prices Furniture'!E:E)","v":1354},{"$f":"_xlfn.XLOOKUP(A1808,'Lighting Prices'!A:A,'Lighting Prices'!E:E)","v":{"$error":"#N/A"}}]
["@LK-OPR-BHD5",{"$f":"_xlfn.XLOOKUP(A1809,'Prices Furniture'!A:A,'Prices Furniture'!E:E)","v":1480},{"$f":"_xlfn.XLOOKUP(A1809,'Lighting Prices'!A:A,'Lighting Prices'!E:E)","v":{"$error":"#N/A"}}]
["@LK-OPR-BHD6",{"$f":"_xlfn.XLOOKUP(A1810,'Prices Furniture'!A:A,'Prices Furniture'!E:E)","v":1592},{"$f":"_xlfn.XLOOKUP(A1810,'Lighting Prices'!A:A,'Lighting Prices'!E:E)","v":{"$error":"#N/A"}}]
["LK-A-OPR-WREP72",{"$f":"_xlfn.XLOOKUP(A1811,'Prices Furniture'!A:A,'Prices Furniture'!E:E)","v":77},{"$f":"_xlfn.XLOOKUP(A1811,'Lighting Prices'!A:A,'Lighting Prices'!E:E)","v":{"$error":"#N/A"}}]
["LK-A-OPR-PWEP72",{"$f":"_xlfn.XLOOKUP(A1812,'Prices Furniture'!A:A,'Prices Furniture'!E:E)","v":92},{"$f":"_xlfn.XLOOKUP(A1812,'Lighting Prices'!A:A,'Lighting Prices'!E:E)","v":{"$error":"#N/A"}}]
["LK-A-OPR-PWEP20",{"$f":"_xlfn.XLOOKUP(A1813,'Prices Furniture'!A:A,'Prices Furniture'!E:E)","v":200},{"$f":"_xlfn.XLOOKUP(A1813,'Lighting Prices'!A:A,'Lighting Prices'!E:E)","v":{"$error":"#N/A"}}]
["LK-A-OPR-ESP",{"$f":"_xlfn.XLOOKUP(A1814,'Prices Furniture'!A:A,'Prices Furniture'!E:E)","v":135},{"$f":"_xlfn.XLOOKUP(A1814,'Lighting Prices'!A:A,'Lighting Prices'!E:E)","v":{"$error":"#N/A"}}]
["LK-A-OPR-LUP",{"$f":"_xlfn.XLOOKUP(A1815,'Prices Furniture'!A:A,'Prices Furniture'!E:E)","v":391},{"$f":"_xlfn.XLOOKUP(A1815,'Lighting Prices'!A:A,'Lighting Prices'!E:E)","v":{"$error":"#N/A"}}]
["LK-A-OPR-PTEP",{"$f":"_xlfn.XLOOKUP(A1816,'Prices Furniture'!A:A,'Prices Furniture'!E:E)","v":305},{"$f":"_xlfn.XLOOKUP(A1816,'Lighting Prices'!A:A,'Lighting Prices'!E:E)","v":{"$error":"#N/A"}}]
["LK-A-OPR-PL",{"$f":"_xlfn.XLOOKUP(A1817,'Prices Furniture'!A:A,'Prices Furniture'!E:E)","v":90},{"$f":"_xlfn.XLOOKUP(A1817,'Lighting Prices'!A:A,'Lighting Prices'!E:E)","v":{"$error":"#N/A"}}]
["LK-A-OPR-SCCRN",{"$f":"_xlfn.XLOOKUP(A1818,'Prices Furniture'!A:A,'Prices Furniture'!E:E)","v":113},{"$f":"_xlfn.XLOOKUP(A1818,'Lighting Prices'!A:A,'Lighting Prices'!E:E)","v":{"$error":"#N/A"}}]
["LK-A-OPR-BLPEL",{"$f":"_xlfn.XLOOKUP(A1819,'Prices Furniture'!A:A,'Prices Furniture'!E:E)","v":86},{"$f":"_xlfn.XLOOKUP(A1819,'Lighting Prices'!A:A,'Lighting Prices'!E:E)","v":{"$error":"#N/A"}}]
["LK-A-OPR-CVP",{"$f":"_xlfn.XLOOKUP(A1820,'Prices Furniture'!A:A,'Prices Furniture'!E:E)","v":123},{"$f":"_xlfn.XLOOKUP(A1820,'Lighting Prices'!A:A,'Lighting Prices'!E:E)","v":{"$error":"#N/A"}}]
["LK-A-OPR-CPBM",{"$f":"_xlfn.XLOOKUP(A1821,'Prices Furniture'!A:A,'Prices Furniture'!E:E)","v":109},{"$f":"_xlfn.XLOOKUP(A1821,'Lighting Prices'!A:A,'Lighting Prices'!E:E)","v":{"$error":"#N/A"}}]
["LK-A-OPR-CPBC",{"$f":"_xlfn.XLOOKUP(A1822,'Prices Furniture'!A:A,'Prices Furniture'!E:E)","v":116},{"$f":"_xlfn.XLOOKUP(A1822,'Lighting Prices'!A:A,'Lighting Prices'!E:E)","v":{"$error":"#N/A"}}]
["LK-A-OPR-ET",{"$f":"_xlfn.XLOOKUP(A1823,'Prices Furniture'!A:A,'Prices Furniture'!E:E)","v":37},{"$f":"_xlfn.XLOOKUP(A1823,'Lighting Prices'!A:A,'Lighting Prices'!E:E)","v":{"$error":"#N/A"}}]
["@LK-OPS-BP15TY",{"$f":"_xlfn.XLOOKUP(A1824,'Prices Furniture'!A:A,'Prices Furniture'!E:E)","v":408},{"$f":"_xlfn.XLOOKUP(A1824,'Lighting Prices'!A:A,'Lighting Prices'!E:E)","v":{"$error":"#N/A"}}]
["@LK-OPS-BP3TY",{"$f":"_xlfn.XLOOKUP(A1825,'Prices Furniture'!A:A,'Prices Furniture'!E:E)","v":634},{"$f":"_xlfn.XLOOKUP(A1825,'Lighting Prices'!A:A,'Lighting Prices'!E:E)","v":{"$error":"#N/A"}}]
["@LK-OPS-BH15",{"$f":"_xlfn.XLOOKUP(A1826,'Prices Furniture'!A:A,'Prices Furniture'!E:E)","v":228},{"$f":"_xlfn.XLOOKUP(A1826,'Lighting Prices'!A:A,'Lighting Prices'!E:E)","v":{"$error":"#N/A"}}]
["@LK-OPS-BH30",{"$f":"_xlfn.XLOOKUP(A1827,'Prices Furniture'!A:A,'Prices Furniture'!E:E)","v":239},{"$f":"_xlfn.XLOOKUP(A1827,'Lighting Prices'!A:A,'Lighting Prices'!E:E)","v":{"$error":"#N/A"}}]
["@LK-OPS-BH3B",{"$f":"_xlfn.XLOOKUP(A1828,'Prices Furniture'!A:A,'Prices Furniture'!E:E)","v":607},{"$f":"_xlfn.XLOOKUP(A1828,'Lighting Prices'!A:A,'Lighting Prices'!E:E)","v":{"$error":"#N/A"}}]
["@LK-OPS-BH35",{"$f":"_xlfn.XLOOKUP(A1829,'Prices Furniture'!A:A,'Prices Furniture'!E:E)","v":245},{"$f":"_xlfn.XLOOKUP(A1829,'Lighting Prices'!A:A,'Lighting Prices'!E:E)","v":{"$error":"#N/A"}}]
["@LK-OPS-BH40",{"$f":"_xlfn.XLOOKUP(A1830,'Prices Furniture'!A:A,'Prices Furniture'!E:E)","v":249},{"$f":"_xlfn.XLOOKUP(A1830,'Lighting Prices'!A:A,'Lighting Prices'!E:E)","v":{"$error":"#N/A"}}]
["@LK-OPS-BH4B",{"$f":"_xlfn.XLOOKUP(A1831,'Prices Furniture'!A:A,'Prices Furniture'!E:E)","v":682},{"$f":"_xlfn.XLOOKUP(A1831,'Lighting Prices'!A:A,'Lighting Prices'!E:E)","v":{"$error":"#N/A"}}]
["@LK-OPS-BH45",{"$f":"_xlfn.XLOOKUP(A1832,'Prices Furniture'!A:A,'Prices Furniture'!E:E)","v":272},{"$f":"_xlfn.XLOOKUP(A1832,'Lighting Prices'!A:A,'Lighting Prices'!E:E)","v":{"$error":"#N/A"}}]
["@LK-OPS-BH45B",{"$f":"_xlfn.XLOOKUP(A1833,'Prices Furniture'!A:A,'Prices Furniture'!E:E)","v":710},{"$f":"_xlfn.XLOOKUP(A1833,'Lighting Prices'!A:A,'Lighting Prices'!E:E)","v":{"$error":"#N/A"}}]
["@LK-OPS-BH50",{"$f":"_xlfn.XLOOKUP(A1834,'Prices Furniture'!A:A,'Prices Furniture'!E:E)","v":283},{"$f":"_xlfn.XLOOKUP(A1834,'Lighting Prices'!A:A,'Lighting Prices'!E:E)","v":{"$error":"#N/A"}}]
["@LK-OPS-BH5B",{"$f":"_xlfn.XLOOKUP(A1835,'Prices Furniture'!A:A,'Prices Furniture'!E:E)","v":727},{"$f":"_xlfn.XLOOKUP(A1835,'Lighting Prices'!A:A,'Lighting Prices'!E:E)","v":{"$error":"#N/A"}}]
["@LK-OPS-BH50S",{"$f":"_xlfn.XLOOKUP(A1836,'Prices Furniture'!A:A,'Prices Furniture'!E:E)","v":313},{"$f":"_xlfn.XLOOKUP(A1836,'Lighting Prices'!A:A,'Lighting Prices'!E:E)","v":{"$error":"#N/A"}}]
["@LK-OPS-BH60",{"$f":"_xlfn.XLOOKUP(A1837,'Prices Furniture'!A:A,'Prices Furniture'!E:E)","v":319},{"$f":"_xlfn.XLOOKUP(A1837,'Lighting Prices'!A:A,'Lighting Prices'!E:E)","v":{"$error":"#N/A"}}]
["@LK-OPS-BH6B4",{"$f":"_xlfn.XLOOKUP(A1838,'Prices Furniture'!A:A,'Prices Furniture'!E:E)","v":852},{"$f":"_xlfn.XLOOKUP(A1838,'Lighting Prices'!A:A,'Lighting Prices'!E:E)","v":{"$error":"#N/A"}}]
["@LK-OPS-BH6B2",{"$f":"_xlfn.XLOOKUP(A1839,'Prices Furniture'!A:A,'Prices Furniture'!E:E)","v":800},{"$f":"_xlfn.XLOOKUP(A1839,'Lighting Prices'!A:A,'Lighting Prices'!E:E)","v":{"$error":"#N/A"}}]
["@LK-OPS-BH60S",{"$f":"_xlfn.XLOOKUP(A1840,'Prices Furniture'!A:A,'Prices Furniture'!E:E)","v":365},{"$f":"_xlfn.XLOOKUP(A1840,'Lighting Prices'!A:A,'Lighting Prices'!E:E)","v":{"$error":"#N/A"}}]
["@LK-OPS-BH70",{"$f":"_xlfn.XLOOKUP(A1841,'Prices Furniture'!A:A,'Prices Furniture'!E:E)","v":388},{"$f":"_xlfn.XLOOKUP(A1841,'Lighting Prices'!A:A,'Lighting Prices'!E:E)","v":{"$error":"#N/A"}}]
["@LK-OPS-BH80",{"$f":"_xlfn.XLOOKUP(A1842,'Prices Furniture'!A:A,'Prices Furniture'!E:E)","v":394},{"$f":"_xlfn.XLOOKUP(A1842,'Lighting Prices'!A:A,'Lighting Prices'!E:E)","v":{"$error":"#N/A"}}]
["@LK-OPS-BH80S",{"$f":"_xlfn.XLOOKUP(A1843,'Prices Furniture'!A:A,'Prices Furniture'!E:E)","v":440},{"$f":"_xlfn.XLOOKUP(A1843,'Lighting Prices'!A:A,'Lighting Prices'!E:E)","v":{"$error":"#N/A"}}]
["@LK-OPS-BH90",{"$f":"_xlfn.XLOOKUP(A1844,'Prices Furniture'!A:A,'Prices Furniture'!E:E)","v":418},{"$f":"_xlfn.XLOOKUP(A1844,'Lighting Prices'!A:A,'Lighting Prices'!E:E)","v":{"$error":"#N/A"}}]
["@LK-OPS-BH90S",{"$f":"_xlfn.XLOOKUP(A1845,'Prices Furniture'!A:A,'Prices Furniture'!E:E)","v":464},{"$f":"_xlfn.XLOOKUP(A1845,'Lighting Prices'!A:A,'Lighting Prices'!E:E)","v":{"$error":"#N/A"}}]
["@LK-OPS-BH100",{"$f":"_xlfn.XLOOKUP(A1846,'Prices Furniture'!A:A,'Prices Furniture'!E:E)","v":439},{"$f":"_xlfn.XLOOKUP(A1846,'Lighting Prices'!A:A,'Lighting Prices'!E:E)","v":{"$error":"#N/A"}}]
["@LK-OPS-BH10S",{"$f":"_xlfn.XLOOKUP(A1847,'Prices Furniture'!A:A,'Prices Furniture'!E:E)","v":485},{"$f":"_xlfn.XLOOKUP(A1847,'Lighting Prices'!A:A,'Lighting Prices'!E:E)","v":{"$error":"#N/A"}}]
["@LK-OPS-BC83",{"$f":"_xlfn.XLOOKUP(A1848,'Prices Furniture'!A:A,'Prices Furniture'!E:E)","v":374},{"$f":"_xlfn.XLOOKUP(A1848,'Lighting Prices'!A:A,'Lighting Prices'!E:E)","v":{"$error":"#N/A"}}]
["@LK-OPS-BC84",{"$f":"_xlfn.XLOOKUP(A1849,'Prices Furniture'!A:A,'Prices Furniture'!E:E)","v":380},{"$f":"_xlfn.XLOOKUP(A1849,'Lighting Prices'!A:A,'Lighting Prices'!E:E)","v":{"$error":"#N/A"}}]
["@LK-OPS-BC845",{"$f":"_xlfn.XLOOKUP(A1850,'Prices Furniture'!A:A,'Prices Furniture'!E:E)","v":392},{"$f":"_xlfn.XLOOKUP(A1850,'Lighting Prices'!A:A,'Lighting Prices'!E:E)","v":{"$error":"#N/A"}}]
["@LK-OPS-BC945",{"$f":"_xlfn.XLOOKUP(A1851,'Prices Furniture'!A:A,'Prices Furniture'!E:E)","v":390},{"$f":"_xlfn.XLOOKUP(A1851,'Lighting Prices'!A:A,'Lighting Prices'!E:E)","v":{"$error":"#N/A"}}]
["@LK-OPS-BC145",{"$f":"_xlfn.XLOOKUP(A1852,'Prices Furniture'!A:A,'Prices Furniture'!E:E)","v":397},{"$f":"_xlfn.XLOOKUP(A1852,'Lighting Prices'!A:A,'Lighting Prices'!E:E)","v":{"$error":"#N/A"}}]
["@LK-OPS-BC15",{"$f":"_xlfn.XLOOKUP(A1853,'Prices Furniture'!A:A,'Prices Furniture'!E:E)","v":405},{"$f":"_xlfn.XLOOKUP(A1853,'Lighting Prices'!A:A,'Lighting Prices'!E:E)","v":{"$error":"#N/A"}}]
["@LK-OPS-BC16",{"$f":"_xlfn.XLOOKUP(A1854,'Prices Furniture'!A:A,'Prices Furniture'!E:E)","v":421},{"$f":"_xlfn.XLOOKUP(A1854,'Lighting Prices'!A:A,'Lighting Prices'!E:E)","v":{"$error":"#N/A"}}]
["@LK-OPS-BCL15L",{"$f":"_xlfn.XLOOKUP(A1855,'Prices Furniture'!A:A,'Prices Furniture'!E:E)","v":1270},{"$f":"_xlfn.XLOOKUP(A1855,'Lighting Prices'!A:A,'Lighting Prices'!E:E)","v":{"$error":"#N/A"}}]
["@LK-OPS-BCL15R",{"$f":"_xlfn.XLOOKUP(A1856,'Prices Furniture'!A:A,'Prices Furniture'!E:E)","v":1270},{"$f":"_xlfn.XLOOKUP(A1856,'Lighting Prices'!A:A,'Lighting Prices'!E:E)","v":{"$error":"#N/A"}}]
["@LK-OPS-BCL16L",{"$f":"_xlfn.XLOOKUP(A1857,'Prices Furniture'!A:A,'Prices Furniture'!E:E)","v":1349},{"$f":"_xlfn.XLOOKUP(A1857,'Lighting Prices'!A:A,'Lighting Prices'!E:E)","v":{"$error":"#N/A"}}]
["@LK-OPS-BCL16R",{"$f":"_xlfn.XLOOKUP(A1858,'Prices Furniture'!A:A,'Prices Furniture'!E:E)","v":1349},{"$f":"_xlfn.XLOOKUP(A1858,'Lighting Prices'!A:A,'Lighting Prices'!E:E)","v":{"$error":"#N/A"}}]
["@LK-OPS-BCO945",{"$f":"_xlfn.XLOOKUP(A1859,'Prices Furniture'!A:A,'Prices Furniture'!E:E)","v":1400},{"$f":"_xlfn.XLOOKUP(A1859,'Lighting Prices'!A:A,'Lighting Prices'!E:E)","v":{"$error":"#N/A"}}]
["@LK-OPS-BCO145",{"$f":"_xlfn.XLOOKUP(A1860,'Prices Furniture'!A:A,'Prices Furniture'!E:E)","v":1407},{"$f":"_xlfn.XLOOKUP(A1860,'Lighting Prices'!A:A,'Lighting Prices'!E:E)","v":{"$error":"#N/A"}}]
["@LK-OPS-BCO15",{"$f":"_xlfn.XLOOKUP(A1861,'Prices Furniture'!A:A,'Prices Furniture'!E:E)","v":1415},{"$f":"_xlfn.XLOOKUP(A1861,'Lighting Prices'!A:A,'Lighting Prices'!E:E)","v":{"$error":"#N/A"}}]
["@LK-OPS-BCO16",{"$f":"_xlfn.XLOOKUP(A1862,'Prices Furniture'!A:A,'Prices Furniture'!E:E)","v":1431},{"$f":"_xlfn.XLOOKUP(A1862,'Lighting Prices'!A:A,'Lighting Prices'!E:E)","v":{"$error":"#N/A"}}]
["@LK-OPS-BCL9",{"$f":"_xlfn.XLOOKUP(A1863,'Prices Furniture'!A:A,'Prices Furniture'!E:E)","v":618},{"$f":"_xlfn.XLOOKUP(A1863,'Lighting Prices'!A:A,'Lighting Prices'!E:E)","v":{"$error":"#N/A"}}]
["@LK-OPS-BSU6495",{"$f":"_xlfn.XLOOKUP(A1864,'Prices Furniture'!A:A,'Prices Furniture'!E:E)","v":285},{"$f":"_xlfn.XLOOKUP(A1864,'Lighting Prices'!A:A,'Lighting Prices'!E:E)","v":{"$error":"#N/A"}}]
["@LK-OPS-BSU6450",{"$f":"_xlfn.XLOOKUP(A1865,'Prices Furniture'!A:A,'Prices Furniture'!E:E)","v":283},{"$f":"_xlfn.XLOOKUP(A1865,'Lighting Prices'!A:A,'Lighting Prices'!E:E)","v":{"$error":"#N/A"}}]
["@LK-OPS-BD54",{"$f":"_xlfn.XLOOKUP(A1866,'Prices Furniture'!A:A,'Prices Furniture'!E:E)","v":846},{"$f":"_xlfn.XLOOKUP(A1866,'Lighting Prices'!A:A,'Lighting Prices'!E:E)","v":{"$error":"#N/A"}}]
["@LK-OPS-BD53",{"$f":"_xlfn.XLOOKUP(A1867,'Prices Furniture'!A:A,'Prices Furniture'!E:E)","v":714},{"$f":"_xlfn.XLOOKUP(A1867,'Lighting Prices'!A:A,'Lighting Prices'!E:E)","v":{"$error":"#N/A"}}]
["@LK-OPS-BD63",{"$f":"_xlfn.XLOOKUP(A1868,'Prices Furniture'!A:A,'Prices Furniture'!E:E)","v":806},{"$f":"_xlfn.XLOOKUP(A1868,'Lighting Prices'!A:A,'Lighting Prices'!E:E)","v":{"$error":"#N/A"}}]
["@LK-OPS-BD83",{"$f":"_xlfn.XLOOKUP(A1869,'Prices Furniture'!A:A,'Prices Furniture'!E:E)","v":813},{"$f":"_xlfn.XLOOKUP(A1869,'Lighting Prices'!A:A,'Lighting Prices'!E:E)","v":{"$error":"#N/A"}}]
["@LK-OPS-BD93",{"$f":"_xlfn.XLOOKUP(A1870,'Prices Furniture'!A:A,'Prices Furniture'!E:E)","v":828},{"$f":"_xlfn.XLOOKUP(A1870,'Lighting Prices'!A:A,'Lighting Prices'!E:E)","v":{"$error":"#N/A"}}]
["@LK-OPS-BD13",{"$f":"_xlfn.XLOOKUP(A1871,'Prices Furniture'!A:A,'Prices Furniture'!E:E)","v":845},{"$f":"_xlfn.XLOOKUP(A1871,'Lighting Prices'!A:A,'Lighting Prices'!E:E)","v":{"$error":"#N/A"}}]
["@LK-OPS-BD62",{"$f":"_xlfn.XLOOKUP(A1872,'Prices Furniture'!A:A,'Prices Furniture'!E:E)","v":683},{"$f":"_xlfn.XLOOKUP(A1872,'Lighting Prices'!A:A,'Lighting Prices'!E:E)","v":{"$error":"#N/A"}}]
["@LK-OPS-BD92",{"$f":"_xlfn.XLOOKUP(A1873,'Prices Furniture'!A:A,'Prices Furniture'!E:E)","v":700},{"$f":"_xlfn.XLOOKUP(A1873,'Lighting Prices'!A:A,'Lighting Prices'!E:E)","v":{"$error":"#N/A"}}]
["@LK-OPS-BD62I",{"$f":"_xlfn.XLOOKUP(A1874,'Prices Furniture'!A:A,'Prices Furniture'!E:E)","v":859},{"$f":"_xlfn.XLOOKUP(A1874,'Lighting Prices'!A:A,'Lighting Prices'!E:E)","v":{"$error":"#N/A"}}]
["@LK-OPS-BD92I",{"$f":"_xlfn.XLOOKUP(A1875,'Prices Furniture'!A:A,'Prices Furniture'!E:E)","v":901},{"$f":"_xlfn.XLOOKUP(A1875,'Lighting Prices'!A:A,'Lighting Prices'!E:E)","v":{"$error":"#N/A"}}]
["@LK-OPS-BD635L",{"$f":"_xlfn.XLOOKUP(A1876,'Prices Furniture'!A:A,'Prices Furniture'!E:E)","v":384},{"$f":"_xlfn.XLOOKUP(A1876,'Lighting Prices'!A:A,'Lighting Prices'!E:E)","v":{"$error":"#N/A"}}]
["@LK-OPS-W30",{"$f":"_xlfn.XLOOKUP(A1877,'Prices Furniture'!A:A,'Prices Furniture'!E:E)","v":221},{"$f":"_xlfn.XLOOKUP(A1877,'Lighting Prices'!A:A,'Lighting Prices'!E:E)","v":{"$error":"#N/A"}}]
["@LK-OPS-W35",{"$f":"_xlfn.XLOOKUP(A1878,'Prices Furniture'!A:A,'Prices Furniture'!E:E)","v":227},{"$f":"_xlfn.XLOOKUP(A1878,'Lighting Prices'!A:A,'Lighting Prices'!E:E)","v":{"$error":"#N/A"}}]
["@LK-OPS-W40",{"$f":"_xlfn.XLOOKUP(A1879,'Prices Furniture'!A:A,'Prices Furniture'!E:E)","v":235},{"$f":"_xlfn.XLOOKUP(A1879,'Lighting Prices'!A:A,'Lighting Prices'!E:E)","v":{"$error":"#N/A"}}]
["@LK-OPS-W45",{"$f":"_xlfn.XLOOKUP(A1880,'Prices Furniture'!A:A,'Prices Furniture'!E:E)","v":252},{"$f":"_xlfn.XLOOKUP(A1880,'Lighting Prices'!A:A,'Lighting Prices'!E:E)","v":{"$error":"#N/A"}}]
["@LK-OPS-W50",{"$f":"_xlfn.XLOOKUP(A1881,'Prices Furniture'!A:A,'Prices Furniture'!E:E)","v":266},{"$f":"_xlfn.XLOOKUP(A1881,'Lighting Prices'!A:A,'Lighting Prices'!E:E)","v":{"$error":"#N/A"}}]
["@LK-OPS-W60",{"$f":"_xlfn.XLOOKUP(A1882,'Prices Furniture'!A:A,'Prices Furniture'!E:E)","v":290},{"$f":"_xlfn.XLOOKUP(A1882,'Lighting Prices'!A:A,'Lighting Prices'!E:E)","v":{"$error":"#N/A"}}]
["@LK-OPS-W70",{"$f":"_xlfn.XLOOKUP(A1883,'Prices Furniture'!A:A,'Prices Furniture'!E:E)","v":383},{"$f":"_xlfn.XLOOKUP(A1883,'Lighting Prices'!A:A,'Lighting Prices'!E:E)","v":{"$error":"#N/A"}}]
["@LK-OPS-W80",{"$f":"_xlfn.XLOOKUP(A1884,'Prices Furniture'!A:A,'Prices Furniture'!E:E)","v":389},{"$f":"_xlfn.XLOOKUP(A1884,'Lighting Prices'!A:A,'Lighting Prices'!E:E)","v":{"$error":"#N/A"}}]
["@LK-OPS-W90",{"$f":"_xlfn.XLOOKUP(A1885,'Prices Furniture'!A:A,'Prices Furniture'!E:E)","v":409},{"$f":"_xlfn.XLOOKUP(A1885,'Lighting Prices'!A:A,'Lighting Prices'!E:E)","v":{"$error":"#N/A"}}]
["@LK-OPS-W100",{"$f":"_xlfn.XLOOKUP(A1886,'Prices Furniture'!A:A,'Prices Furniture'!E:E)","v":434},{"$f":"_xlfn.XLOOKUP(A1886,'Lighting Prices'!A:A,'Lighting Prices'!E:E)","v":{"$error":"#N/A"}}]
["@LK-OPS-WC6",{"$f":"_xlfn.XLOOKUP(A1887,'Prices Furniture'!A:A,'Prices Furniture'!E:E)","v":309},{"$f":"_xlfn.XLOOKUP(A1887,'Lighting Prices'!A:A,'Lighting Prices'!E:E)","v":{"$error":"#N/A"}}]
["@LK-OPS-WC9",{"$f":"_xlfn.XLOOKUP(A1888,'Prices Furniture'!A:A,'Prices Furniture'!E:E)","v":371},{"$f":"_xlfn.XLOOKUP(A1888,'Lighting Prices'!A:A,'Lighting Prices'!E:E)","v":{"$error":"#N/A"}}]
["@LK-OPS-WCL65",{"$f":"_xlfn.XLOOKUP(A1889,'Prices Furniture'!A:A,'Prices Furniture'!E:E)","v":553},{"$f":"_xlfn.XLOOKUP(A1889,'Lighting Prices'!A:A,'Lighting Prices'!E:E)","v":{"$error":"#N/A"}}]
["@LK-OPS-WM60",{"$f":"_xlfn.XLOOKUP(A1890,'Prices Furniture'!A:A,'Prices Furniture'!E:E)","v":361},{"$f":"_xlfn.XLOOKUP(A1890,'Lighting Prices'!A:A,'Lighting Prices'!E:E)","v":{"$error":"#N/A"}}]
["@LK-OPS-WBHU",{"$f":"_xlfn.XLOOKUP(A1891,'Prices Furniture'!A:A,'Prices Furniture'!E:E)","v":282},{"$f":"_xlfn.XLOOKUP(A1891,'Lighting Prices'!A:A,'Lighting Prices'!E:E)","v":{"$error":"#N/A"}}]
["@LK-OPS-WBI60",{"$f":"_xlfn.XLOOKUP(A1892,'Prices Furniture'!A:A,'Prices Furniture'!E:E)","v":663},{"$f":"_xlfn.XLOOKUP(A1892,'Lighting Prices'!A:A,'Lighting Prices'!E:E)","v":{"$error":"#N/A"}}]
["@LK-OPS-WBI90",{"$f":"_xlfn.XLOOKUP(A1893,'Prices Furniture'!A:A,'Prices Furniture'!E:E)","v":695},{"$f":"_xlfn.XLOOKUP(A1893,'Lighting Prices'!A:A,'Lighting Prices'!E:E)","v":{"$error":"#N/A"}}]
["@LK-OPS-WGS5",{"$f":"_xlfn.XLOOKUP(A1894,'Prices Furniture'!A:A,'Prices Furniture'!E:E)","v":434},{"$f":"_xlfn.XLOOKUP(A1894,'Lighting Prices'!A:A,'Lighting Prices'!E:E)","v":{"$error":"#N/A"}}]
["@LK-OPS-WGS6",{"$f":"_xlfn.XLOOKUP(A1895,'Prices Furniture'!A:A,'Prices Furniture'!E:E)","v":476},{"$f":"_xlfn.XLOOKUP(A1895,'Lighting Prices'!A:A,'Lighting Prices'!E:E)","v":{"$error":"#N/A"}}]
["@LK-OPS-WGR5",{"$f":"_xlfn.XLOOKUP(A1896,'Prices Furniture'!A:A,'Prices Furniture'!E:E)","v":434},{"$f":"_xlfn.XLOOKUP(A1896,'Lighting Prices'!A:A,'Lighting Prices'!E:E)","v":{"$error":"#N/A"}}]
["@LK-OPS-WGR6",{"$f":"_xlfn.XLOOKUP(A1897,'Prices Furniture'!A:A,'Prices Furniture'!E:E)","v":476},{"$f":"_xlfn.XLOOKUP(A1897,'Lighting Prices'!A:A,'Lighting Prices'!E:E)","v":{"$error":"#N/A"}}]
["@LK-OPS-WB62",{"$f":"_xlfn.XLOOKUP(A1898,'Prices Furniture'!A:A,'Prices Furniture'!E:E)","v":237},{"$f":"_xlfn.XLOOKUP(A1898,'Lighting Prices'!A:A,'Lighting Prices'!E:E)","v":{"$error":"#N/A"}}]
["@LK-OPS-WB82",{"$f":"_xlfn.XLOOKUP(A1899,'Prices Furniture'!A:A,'Prices Furniture'!E:E)","v":295},{"$f":"_xlfn.XLOOKUP(A1899,'Lighting Prices'!A:A,'Lighting Prices'!E:E)","v":{"$error":"#N/A"}}]
["@LK-OPS-WB92",{"$f":"_xlfn.XLOOKUP(A1900,'Prices Furniture'!A:A,'Prices Furniture'!E:E)","v":312},{"$f":"_xlfn.XLOOKUP(A1900,'Lighting Prices'!A:A,'Lighting Prices'!E:E)","v":{"$error":"#N/A"}}]
["@LK-OPS-WB12",{"$f":"_xlfn.XLOOKUP(A1901,'Prices Furniture'!A:A,'Prices Furniture'!E:E)","v":338},{"$f":"_xlfn.XLOOKUP(A1901,'Lighting Prices'!A:A,'Lighting Prices'!E:E)","v":{"$error":"#N/A"}}]
["@LK-OPS-WB63",{"$f":"_xlfn.XLOOKUP(A1902,'Prices Furniture'!A:A,'Prices Furniture'!E:E)","v":295},{"$f":"_xlfn.XLOOKUP(A1902,'Lighting Prices'!A:A,'Lighting Prices'!E:E)","v":{"$error":"#N/A"}}]
["@LK-OPS-WB93",{"$f":"_xlfn.XLOOKUP(A1903,'Prices Furniture'!A:A,'Prices Furniture'!E:E)","v":344},{"$f":"_xlfn.XLOOKUP(A1903,'Lighting Prices'!A:A,'Lighting Prices'!E:E)","v":{"$error":"#N/A"}}]
["@LK-OPS-AH-F55",{"$f":"_xlfn.XLOOKUP(A1904,'Prices Furniture'!A:A,'Prices Furniture'!E:E)","v":735},{"$f":"_xlfn.XLOOKUP(A1904,'Lighting Prices'!A:A,'Lighting Prices'!E:E)","v":{"$error":"#N/A"}}]
["@LK-OPS-AH-F73",{"$f":"_xlfn.XLOOKUP(A1905,'Prices Furniture'!A:A,'Prices Furniture'!E:E)","v":711},{"$f":"_xlfn.XLOOKUP(A1905,'Lighting Prices'!A:A,'Lighting Prices'!E:E)","v":{"$error":"#N/A"}}]
["@LK-OPS-AH-DO",{"$f":"_xlfn.XLOOKUP(A1906,'Prices Furniture'!A:A,'Prices Furniture'!E:E)","v":731},{"$f":"_xlfn.XLOOKUP(A1906,'Lighting Prices'!A:A,'Lighting Prices'!E:E)","v":{"$error":"#N/A"}}]
["@LK-OPS-AH-DO2D",{"$f":"_xlfn.XLOOKUP(A1907,'Prices Furniture'!A:A,'Prices Furniture'!E:E)","v":1058},{"$f":"_xlfn.XLOOKUP(A1907,'Lighting Prices'!A:A,'Lighting Prices'!E:E)","v":{"$error":"#N/A"}}]
["@LK-OPS-AH-DMW",{"$f":"_xlfn.XLOOKUP(A1908,'Prices Furniture'!A:A,'Prices Furniture'!E:E)","v":927},{"$f":"_xlfn.XLOOKUP(A1908,'Lighting Prices'!A:A,'Lighting Prices'!E:E)","v":{"$error":"#N/A"}}]
["@LK-OPS-AH-SO",{"$f":"_xlfn.XLOOKUP(A1909,'Prices Furniture'!A:A,'Prices Furniture'!E:E)","v":750},{"$f":"_xlfn.XLOOKUP(A1909,'Lighting Prices'!A:A,'Lighting Prices'!E:E)","v":{"$error":"#N/A"}}]
["@LK-OPS-AH-SO1D",{"$f":"_xlfn.XLOOKUP(A1910,'Prices Furniture'!A:A,'Prices Furniture'!E:E)","v":896},{"$f":"_xlfn.XLOOKUP(A1910,'Lighting Prices'!A:A,'Lighting Prices'!E:E)","v":{"$error":"#N/A"}}]
["@LK-OPS-AH-SO2D",{"$f":"_xlfn.XLOOKUP(A1911,'Prices Furniture'!A:A,'Prices Furniture'!E:E)","v":1112},{"$f":"_xlfn.XLOOKUP(A1911,'Lighting Prices'!A:A,'Lighting Prices'!E:E)","v":{"$error":"#N/A"}}]
["@LK-OPS-AH-SO3D",{"$f":"_xlfn.XLOOKUP(A1912,'Prices Furniture'!A:A,'Prices Furniture'!E:E)","v":1261},{"$f":"_xlfn.XLOOKUP(A1912,'Lighting Prices'!A:A,'Lighting Prices'!E:E)","v":{"$error":"#N/A"}}]
["@LK-OPS-AH-SMW",{"$f":"_xlfn.XLOOKUP(A1913,'Prices Furniture'!A:A,'Prices Furniture'!E:E)","v":786},{"$f":"_xlfn.XLOOKUP(A1913,'Lighting Prices'!A:A,'Lighting Prices'!E:E)","v":{"$error":"#N/A"}}]
["@LK-OPS-AH-SM2D",{"$f":"_xlfn.XLOOKUP(A1914,'Prices Furniture'!A:A,'Prices Furniture'!E:E)","v":1074},{"$f":"_xlfn.XLOOKUP(A1914,'Lighting Prices'!A:A,'Lighting Prices'!E:E)","v":{"$error":"#N/A"}}]
["@LK-OPS-AH-CO",{"$f":"_xlfn.XLOOKUP(A1915,'Prices Furniture'!A:A,'Prices Furniture'!E:E)","v":823},{"$f":"_xlfn.XLOOKUP(A1915,'Lighting Prices'!A:A,'Lighting Prices'!E:E)","v":{"$error":"#N/A"}}]
["@LK-OPS-BOH6",{"$f":"_xlfn.XLOOKUP(A1916,'Prices Furniture'!A:A,'Prices Furniture'!E:E)","v":199},{"$f":"_xlfn.XLOOKUP(A1916,'Lighting Prices'!A:A,'Lighting Prices'!E:E)","v":{"$error":"#N/A"}}]
["@LK-OPS-BOHD6",{"$f":"_xlfn.XLOOKUP(A1917,'Prices Furniture'!A:A,'Prices Furniture'!E:E)","v":312},{"$f":"_xlfn.XLOOKUP(A1917,'Lighting Prices'!A:A,'Lighting Prices'!E:E)","v":{"$error":"#N/A"}}]
["@LK-OPS-L3",{"$f":"_xlfn.XLOOKUP(A1918,'Prices Furniture'!A:A,'Prices Furniture'!E:E)","v":663},{"$f":"_xlfn.XLOOKUP(A1918,'Lighting Prices'!A:A,'Lighting Prices'!E:E)","v":{"$error":"#N/A"}}]
["@LK-OPS-L5",{"$f":"_xlfn.XLOOKUP(A1919,'Prices Furniture'!A:A,'Prices Furniture'!E:E)","v":723},{"$f":"_xlfn.XLOOKUP(A1919,'Lighting Prices'!A:A,'Lighting Prices'!E:E)","v":{"$error":"#N/A"}}]
["@LK-OPS-L6",{"$f":"_xlfn.XLOOKUP(A1920,'Prices Furniture'!A:A,'Prices Furniture'!E:E)","v":794},{"$f":"_xlfn.XLOOKUP(A1920,'Lighting Prices'!A:A,'Lighting Prices'!E:E)","v":{"$error":"#N/A"}}]
["@LK-OPS-LP3",{"$f":"_xlfn.XLOOKUP(A1921,'Prices Furniture'!A:A,'Prices Furniture'!E:E)","v":1445},{"$f":"_xlfn.XLOOKUP(A1921,'Lighting Prices'!A:A,'Lighting Prices'!E:E)","v":{"$error":"#N/A"}}]
["@LK-OPS-LT3",{"$f":"_xlfn.XLOOKUP(A1922,'Prices Furniture'!A:A,'Prices Furniture'!E:E)","v":1764},{"$f":"_xlfn.XLOOKUP(A1922,'Lighting Prices'!A:A,'Lighting Prices'!E:E)","v":{"$error":"#N/A"}}]
["@LK-OPS-LT5",{"$f":"_xlfn.XLOOKUP(A1923,'Prices Furniture'!A:A,'Prices Furniture'!E:E)","v":1892},{"$f":"_xlfn.XLOOKUP(A1923,'Lighting Prices'!A:A,'Lighting Prices'!E:E)","v":{"$error":"#N/A"}}]
["@LK-OPS-LT6",{"$f":"_xlfn.XLOOKUP(A1924,'Prices Furniture'!A:A,'Prices Furniture'!E:E)","v":2029},{"$f":"_xlfn.XLOOKUP(A1924,'Lighting Prices'!A:A,'Lighting Prices'!E:E)","v":{"$error":"#N/A"}}]
["@LK-OPS-LP6T",{"$f":"_xlfn.XLOOKUP(A1925,'Prices Furniture'!A:A,'Prices Furniture'!E:E)","v":1980},{"$f":"_xlfn.XLOOKUP(A1925,'Lighting Prices'!A:A,'Lighting Prices'!E:E)","v":{"$error":"#N/A"}}]
["@LK-OPS-LP5TS",{"$f":"_xlfn.XLOOKUP(A1926,'Prices Furniture'!A:A,'Prices Furniture'!E:E)","v":1657},{"$f":"_xlfn.XLOOKUP(A1926,'Lighting Prices'!A:A,'Lighting Prices'!E:E)","v":{"$error":"#N/A"}}]
["@LK-OPS-LP6TS",{"$f":"_xlfn.XLOOKUP(A1927,'Prices Furniture'!A:A,'Prices Furniture'!E:E)","v":1781},{"$f":"_xlfn.XLOOKUP(A1927,'Lighting Prices'!A:A,'Lighting Prices'!E:E)","v":{"$error":"#N/A"}}]
["@LK-OPS-LAC",{"$f":"_xlfn.XLOOKUP(A1928,'Prices Furniture'!A:A,'Prices Furniture'!E:E)","v":2084},{"$f":"_xlfn.XLOOKUP(A1928,'Lighting Prices'!A:A,'Lighting Prices'!E:E)","v":{"$error":"#N/A"}}]
["@LK-OPS-LPN14D",{"$f":"_xlfn.XLOOKUP(A1929,'Prices Furniture'!A:A,'Prices Furniture'!E:E)","v":1124},{"$f":"_xlfn.XLOOKUP(A1929,'Lighting Prices'!A:A,'Lighting Prices'!E:E)","v":{"$error":"#N/A"}}]
["@LK-OPS-LPN12D3DW",{"$f":"_xlfn.XLOOKUP(A1930,'Prices Furniture'!A:A,'Prices Furniture'!E:E)","v":1523},{"$f":"_xlfn.XLOOKUP(A1930,'Lighting Prices'!A:A,'Lighting Prices'!E:E)","v":{"$error":"#N/A"}}]
["@LK-OPS-LPN12D2DW",{"$f":"_xlfn.XLOOKUP(A1931,'Prices Furniture'!A:A,'Prices Furniture'!E:E)","v":1392},{"$f":"_xlfn.XLOOKUP(A1931,'Lighting Prices'!A:A,'Lighting Prices'!E:E)","v":{"$error":"#N/A"}}]
["@LK-OPS-LBC15",{"$f":"_xlfn.XLOOKUP(A1932,'Prices Furniture'!A:A,'Prices Furniture'!E:E)","v":944},{"$f":"_xlfn.XLOOKUP(A1932,'Lighting Prices'!A:A,'Lighting Prices'!E:E)","v":{"$error":"#N/A"}}]
["@LK-OPS-LBC16",{"$f":"_xlfn.XLOOKUP(A1933,'Prices Furniture'!A:A,'Prices Furniture'!E:E)","v":970},{"$f":"_xlfn.XLOOKUP(A1933,'Lighting Prices'!A:A,'Lighting Prices'!E:E)","v":{"$error":"#N/A"}}]
["@LK-OPS-LBCLM15L",{"$f":"_xlfn.XLOOKUP(A1934,'Prices Furniture'!A:A,'Prices Furniture'!E:E)","v":2782},{"$f":"_xlfn.XLOOKUP(A1934,'Lighting Prices'!A:A,'Lighting Prices'!E:E)","v":{"$error":"#N/A"}}]
["@LK-OPS-LBCLM15R",{"$f":"_xlfn.XLOOKUP(A1935,'Prices Furniture'!A:A,'Prices Furniture'!E:E)","v":2782},{"$f":"_xlfn.XLOOKUP(A1935,'Lighting Prices'!A:A,'Lighting Prices'!E:E)","v":{"$error":"#N/A"}}]
["@LK-OPS-LBCLM16L",{"$f":"_xlfn.XLOOKUP(A1936,'Prices Furniture'!A:A,'Prices Furniture'!E:E)","v":2934},{"$f":"_xlfn.XLOOKUP(A1936,'Lighting Prices'!A:A,'Lighting Prices'!E:E)","v":{"$error":"#N/A"}}]
["@LK-OPS-LBCLM16R",{"$f":"_xlfn.XLOOKUP(A1937,'Prices Furniture'!A:A,'Prices Furniture'!E:E)","v":2934},{"$f":"_xlfn.XLOOKUP(A1937,'Lighting Prices'!A:A,'Lighting Prices'!E:E)","v":{"$error":"#N/A"}}]
["@LK-OPS-LL6EA",{"$f":"_xlfn.XLOOKUP(A1938,'Prices Furniture'!A:A,'Prices Furniture'!E:E)","v":836},{"$f":"_xlfn.XLOOKUP(A1938,'Lighting Prices'!A:A,'Lighting Prices'!E:E)","v":{"$error":"#N/A"}}]
["@LK-OPS-LL6CU",{"$f":"_xlfn.XLOOKUP(A1939,'Prices Furniture'!A:A,'Prices Furniture'!E:E)","v":786},{"$f":"_xlfn.XLOOKUP(A1939,'Lighting Prices'!A:A,'Lighting Prices'!E:E)","v":{"$error":"#N/A"}}]
["@LK-OPS-LL10CU",{"$f":"_xlfn.XLOOKUP(A1940,'Prices Furniture'!A:A,'Prices Furniture'!E:E)","v":1235},{"$f":"_xlfn.XLOOKUP(A1940,'Lighting Prices'!A:A,'Lighting Prices'!E:E)","v":{"$error":"#N/A"}}]
["@LK-OPS-LL10CUS",{"$f":"_xlfn.XLOOKUP(A1941,'Prices Furniture'!A:A,'Prices Furniture'!E:E)","v":1334},{"$f":"_xlfn.XLOOKUP(A1941,'Lighting Prices'!A:A,'Lighting Prices'!E:E)","v":{"$error":"#N/A"}}]
["@LK-OPS-LL10CB",{"$f":"_xlfn.XLOOKUP(A1942,'Prices Furniture'!A:A,'Prices Furniture'!E:E)","v":1245},{"$f":"_xlfn.XLOOKUP(A1942,'Lighting Prices'!A:A,'Lighting Prices'!E:E)","v":{"$error":"#N/A"}}]
["@LK-OPS-AD60ICH",{"$f":"_xlfn.XLOOKUP(A1943,'Prices Furniture'!A:A,'Prices Furniture'!E:E)","v":95},{"$f":"_xlfn.XLOOKUP(A1943,'Lighting Prices'!A:A,'Lighting Prices'!E:E)","v":{"$error":"#N/A"}}]
["@LK-OPS-AD60FD",{"$f":"_xlfn.XLOOKUP(A1944,'Prices Furniture'!A:A,'Prices Furniture'!E:E)","v":131},{"$f":"_xlfn.XLOOKUP(A1944,'Lighting Prices'!A:A,'Lighting Prices'!E:E)","v":{"$error":"#N/A"}}]
["@LK-OPS-AD45I",{"$f":"_xlfn.XLOOKUP(A1945,'Prices Furniture'!A:A,'Prices Furniture'!E:E)","v":107},{"$f":"_xlfn.XLOOKUP(A1945,'Lighting Prices'!A:A,'Lighting Prices'!E:E)","v":{"$error":"#N/A"}}]
["@LK-OPS-AD60S",{"$f":"_xlfn.XLOOKUP(A1946,'Prices Furniture'!A:A,'Prices Furniture'!E:E)","v":129},{"$f":"_xlfn.XLOOKUP(A1946,'Lighting Prices'!A:A,'Lighting Prices'!E:E)","v":{"$error":"#N/A"}}]
["@LK-OPS-BLD9",{"$f":"_xlfn.XLOOKUP(A1947,'Prices Furniture'!A:A,'Prices Furniture'!E:E)","v":133},{"$f":"_xlfn.XLOOKUP(A1947,'Lighting Prices'!A:A,'Lighting Prices'!E:E)","v":{"$error":"#N/A"}}]
["@LK-OPS-CH-SO",{"$f":"_xlfn.XLOOKUP(A1948,'Prices Furniture'!A:A,'Prices Furniture'!E:E)","v":654},{"$f":"_xlfn.XLOOKUP(A1948,'Lighting Prices'!A:A,'Lighting Prices'!E:E)","v":{"$error":"#N/A"}}]
["@LK-OPS-CH-MW",{"$f":"_xlfn.XLOOKUP(A1949,'Prices Furniture'!A:A,'Prices Furniture'!E:E)","v":700},{"$f":"_xlfn.XLOOKUP(A1949,'Lighting Prices'!A:A,'Lighting Prices'!E:E)","v":{"$error":"#N/A"}}]
["@LK-OPS-CH-ST",{"$f":"_xlfn.XLOOKUP(A1950,'Prices Furniture'!A:A,'Prices Furniture'!E:E)","v":880},{"$f":"_xlfn.XLOOKUP(A1950,'Lighting Prices'!A:A,'Lighting Prices'!E:E)","v":{"$error":"#N/A"}}]
["@LK-OPS-TCH-SO",{"$f":"_xlfn.XLOOKUP(A1951,'Prices Furniture'!A:A,'Prices Furniture'!E:E)","v":846},{"$f":"_xlfn.XLOOKUP(A1951,'Lighting Prices'!A:A,'Lighting Prices'!E:E)","v":{"$error":"#N/A"}}]
["@LK-OPS-TCH-MW",{"$f":"_xlfn.XLOOKUP(A1952,'Prices Furniture'!A:A,'Prices Furniture'!E:E)","v":759},{"$f":"_xlfn.XLOOKUP(A1952,'Lighting Prices'!A:A,'Lighting Prices'!E:E)","v":{"$error":"#N/A"}}]
["@LK-OPS-TCH-ST",{"$f":"_xlfn.XLOOKUP(A1953,'Prices Furniture'!A:A,'Prices Furniture'!E:E)","v":918},{"$f":"_xlfn.XLOOKUP(A1953,'Lighting Prices'!A:A,'Lighting Prices'!E:E)","v":{"$error":"#N/A"}}]
["@LK-OPS-AH-SOT",{"$f":"_xlfn.XLOOKUP(A1954,'Prices Furniture'!A:A,'Prices Furniture'!E:E)","v":876},{"$f":"_xlfn.XLOOKUP(A1954,'Lighting Prices'!A:A,'Lighting Prices'!E:E)","v":{"$error":"#N/A"}}]
["@LK-OPS-LP5T",{"$f":"_xlfn.XLOOKUP(A1955,'Prices Furniture'!A:A,'Prices Furniture'!E:E)","v":1915},{"$f":"_xlfn.XLOOKUP(A1955,'Lighting Prices'!A:A,'Lighting Prices'!E:E)","v":{"$error":"#N/A"}}]
["@LK-OPS-LL8LS",{"$f":"_xlfn.XLOOKUP(A1956,'Prices Furniture'!A:A,'Prices Furniture'!E:E)","v":1364},{"$f":"_xlfn.XLOOKUP(A1956,'Lighting Prices'!A:A,'Lighting Prices'!E:E)","v":{"$error":"#N/A"}}]
["@LK-OPS-BHD3",{"$f":"_xlfn.XLOOKUP(A1957,'Prices Furniture'!A:A,'Prices Furniture'!E:E)","v":628},{"$f":"_xlfn.XLOOKUP(A1957,'Lighting Prices'!A:A,'Lighting Prices'!E:E)","v":{"$error":"#N/A"}}]
["@LK-OPS-BHD4",{"$f":"_xlfn.XLOOKUP(A1958,'Prices Furniture'!A:A,'Prices Furniture'!E:E)","v":677},{"$f":"_xlfn.XLOOKUP(A1958,'Lighting Prices'!A:A,'Lighting Prices'!E:E)","v":{"$error":"#N/A"}}]
["@LK-OPS-BHD5",{"$f":"_xlfn.XLOOKUP(A1959,'Prices Furniture'!A:A,'Prices Furniture'!E:E)","v":740},{"$f":"_xlfn.XLOOKUP(A1959,'Lighting Prices'!A:A,'Lighting Prices'!E:E)","v":{"$error":"#N/A"}}]
["@LK-OPS-BHD6",{"$f":"_xlfn.XLOOKUP(A1960,'Prices Furniture'!A:A,'Prices Furniture'!E:E)","v":796},{"$f":"_xlfn.XLOOKUP(A1960,'Lighting Prices'!A:A,'Lighting Prices'!E:E)","v":{"$error":"#N/A"}}]
["LK-A-OPS-WREP72",{"$f":"_xlfn.XLOOKUP(A1961,'Prices Furniture'!A:A,'Prices Furniture'!E:E)","v":77},{"$f":"_xlfn.XLOOKUP(A1961,'Lighting Prices'!A:A,'Lighting Prices'!E:E)","v":{"$error":"#N/A"}}]
["LK-A-OPS-PWEP72",{"$f":"_xlfn.XLOOKUP(A1962,'Prices Furniture'!A:A,'Prices Furniture'!E:E)","v":92},{"$f":"_xlfn.XLOOKUP(A1962,'Lighting Prices'!A:A,'Lighting Prices'!E:E)","v":{"$error":"#N/A"}}]
["LK-A-OPS-PWEP20",{"$f":"_xlfn.XLOOKUP(A1963,'Prices Furniture'!A:A,'Prices Furniture'!E:E)","v":200},{"$f":"_xlfn.XLOOKUP(A1963,'Lighting Prices'!A:A,'Lighting Prices'!E:E)","v":{"$error":"#N/A"}}]
["LK-A-OPS-ESP",{"$f":"_xlfn.XLOOKUP(A1964,'Prices Furniture'!A:A,'Prices Furniture'!E:E)","v":135},{"$f":"_xlfn.XLOOKUP(A1964,'Lighting Prices'!A:A,'Lighting Prices'!E:E)","v":{"$error":"#N/A"}}]
["LK-A-OPS-LUP",{"$f":"_xlfn.XLOOKUP(A1965,'Prices Furniture'!A:A,'Prices Furniture'!E:E)","v":391},{"$f":"_xlfn.XLOOKUP(A1965,'Lighting Prices'!A:A,'Lighting Prices'!E:E)","v":{"$error":"#N/A"}}]
["LK-A-OPS-PTEP",{"$f":"_xlfn.XLOOKUP(A1966,'Prices Furniture'!A:A,'Prices Furniture'!E:E)","v":305},{"$f":"_xlfn.XLOOKUP(A1966,'Lighting Prices'!A:A,'Lighting Prices'!E:E)","v":{"$error":"#N/A"}}]
["LK-A-OPS-PL",{"$f":"_xlfn.XLOOKUP(A1967,'Prices Furniture'!A:A,'Prices Furniture'!E:E)","v":90},{"$f":"_xlfn.XLOOKUP(A1967,'Lighting Prices'!A:A,'Lighting Prices'!E:E)","v":{"$error":"#N/A"}}]
["LK-A-OPS-SCCRN",{"$f":"_xlfn.XLOOKUP(A1968,'Prices Furniture'!A:A,'Prices Furniture'!E:E)","v":113},{"$f":"_xlfn.XLOOKUP(A1968,'Lighting Prices'!A:A,'Lighting Prices'!E:E)","v":{"$error":"#N/A"}}]
["LK-A-OPS-BLPEL",{"$f":"_xlfn.XLOOKUP(A1969,'Prices Furniture'!A:A,'Prices Furniture'!E:E)","v":86},{"$f":"_xlfn.XLOOKUP(A1969,'Lighting Prices'!A:A,'Lighting Prices'!E:E)","v":{"$error":"#N/A"}}]
["LK-A-OPS-CVP",{"$f":"_xlfn.XLOOKUP(A1970,'Prices Furniture'!A:A,'Prices Furniture'!E:E)","v":123},{"$f":"_xlfn.XLOOKUP(A1970,'Lighting Prices'!A:A,'Lighting Prices'!E:E)","v":{"$error":"#N/A"}}]
["LK-A-OPS-CPBM",{"$f":"_xlfn.XLOOKUP(A1971,'Prices Furniture'!A:A,'Prices Furniture'!E:E)","v":109},{"$f":"_xlfn.XLOOKUP(A1971,'Lighting Prices'!A:A,'Lighting Prices'!E:E)","v":{"$error":"#N/A"}}]
["LK-A-OPS-CPBC",{"$f":"_xlfn.XLOOKUP(A1972,'Prices Furniture'!A:A,'Prices Furniture'!E:E)","v":116},{"$f":"_xlfn.XLOOKUP(A1972,'Lighting Prices'!A:A,'Lighting Prices'!E:E)","v":{"$error":"#N/A"}}]
["LK-A-OPS-ET",{"$f":"_xlfn.XLOOKUP(A1973,'Prices Furniture'!A:A,'Prices Furniture'!E:E)","v":37},{"$f":"_xlfn.XLOOKUP(A1973,'Lighting Prices'!A:A,'Lighting Prices'!E:E)","v":{"$error":"#N/A"}}]
["@LK-CSW-BP15TY",{"$f":"_xlfn.XLOOKUP(A1974,'Prices Furniture'!A:A,'Prices Furniture'!E:E)","v":410},{"$f":"_xlfn.XLOOKUP(A1974,'Lighting Prices'!A:A,'Lighting Prices'!E:E)","v":{"$error":"#N/A"}}]
["@LK-CSW-BP3TY",{"$f":"_xlfn.XLOOKUP(A1975,'Prices Furniture'!A:A,'Prices Furniture'!E:E)","v":635},{"$f":"_xlfn.XLOOKUP(A1975,'Lighting Prices'!A:A,'Lighting Prices'!E:E)","v":{"$error":"#N/A"}}]
["@LK-CSW-BH15",{"$f":"_xlfn.XLOOKUP(A1976,'Prices Furniture'!A:A,'Prices Furniture'!E:E)","v":230},{"$f":"_xlfn.XLOOKUP(A1976,'Lighting Prices'!A:A,'Lighting Prices'!E:E)","v":{"$error":"#N/A"}}]
["@LK-CSW-BH30",{"$f":"_xlfn.XLOOKUP(A1977,'Prices Furniture'!A:A,'Prices Furniture'!E:E)","v":240},{"$f":"_xlfn.XLOOKUP(A1977,'Lighting Prices'!A:A,'Lighting Prices'!E:E)","v":{"$error":"#N/A"}}]
["@LK-CSW-BH3B",{"$f":"_xlfn.XLOOKUP(A1978,'Prices Furniture'!A:A,'Prices Furniture'!E:E)","v":608},{"$f":"_xlfn.XLOOKUP(A1978,'Lighting Prices'!A:A,'Lighting Prices'!E:E)","v":{"$error":"#N/A"}}]
["@LK-CSW-BH35",{"$f":"_xlfn.XLOOKUP(A1979,'Prices Furniture'!A:A,'Prices Furniture'!E:E)","v":247},{"$f":"_xlfn.XLOOKUP(A1979,'Lighting Prices'!A:A,'Lighting Prices'!E:E)","v":{"$error":"#N/A"}}]
["@LK-CSW-BH40",{"$f":"_xlfn.XLOOKUP(A1980,'Prices Furniture'!A:A,'Prices Furniture'!E:E)","v":250},{"$f":"_xlfn.XLOOKUP(A1980,'Lighting Prices'!A:A,'Lighting Prices'!E:E)","v":{"$error":"#N/A"}}]
["@LK-CSW-BH4B",{"$f":"_xlfn.XLOOKUP(A1981,'Prices Furniture'!A:A,'Prices Furniture'!E:E)","v":683},{"$f":"_xlfn.XLOOKUP(A1981,'Lighting Prices'!A:A,'Lighting Prices'!E:E)","v":{"$error":"#N/A"}}]
["@LK-CSW-BH45",{"$f":"_xlfn.XLOOKUP(A1982,'Prices Furniture'!A:A,'Prices Furniture'!E:E)","v":273},{"$f":"_xlfn.XLOOKUP(A1982,'Lighting Prices'!A:A,'Lighting Prices'!E:E)","v":{"$error":"#N/A"}}]
["@LK-CSW-BH45B",{"$f":"_xlfn.XLOOKUP(A1983,'Prices Furniture'!A:A,'Prices Furniture'!E:E)","v":711},{"$f":"_xlfn.XLOOKUP(A1983,'Lighting Prices'!A:A,'Lighting Prices'!E:E)","v":{"$error":"#N/A"}}]
["@LK-CSW-BH50",{"$f":"_xlfn.XLOOKUP(A1984,'Prices Furniture'!A:A,'Prices Furniture'!E:E)","v":284},{"$f":"_xlfn.XLOOKUP(A1984,'Lighting Prices'!A:A,'Lighting Prices'!E:E)","v":{"$error":"#N/A"}}]
["@LK-CSW-BH5B",{"$f":"_xlfn.XLOOKUP(A1985,'Prices Furniture'!A:A,'Prices Furniture'!E:E)","v":728},{"$f":"_xlfn.XLOOKUP(A1985,'Lighting Prices'!A:A,'Lighting Prices'!E:E)","v":{"$error":"#N/A"}}]
["@LK-CSW-BH50S",{"$f":"_xlfn.XLOOKUP(A1986,'Prices Furniture'!A:A,'Prices Furniture'!E:E)","v":314},{"$f":"_xlfn.XLOOKUP(A1986,'Lighting Prices'!A:A,'Lighting Prices'!E:E)","v":{"$error":"#N/A"}}]
["@LK-CSW-BH60",{"$f":"_xlfn.XLOOKUP(A1987,'Prices Furniture'!A:A,'Prices Furniture'!E:E)","v":320},{"$f":"_xlfn.XLOOKUP(A1987,'Lighting Prices'!A:A,'Lighting Prices'!E:E)","v":{"$error":"#N/A"}}]
["@LK-CSW-BH6B4",{"$f":"_xlfn.XLOOKUP(A1988,'Prices Furniture'!A:A,'Prices Furniture'!E:E)","v":853},{"$f":"_xlfn.XLOOKUP(A1988,'Lighting Prices'!A:A,'Lighting Prices'!E:E)","v":{"$error":"#N/A"}}]
["@LK-CSW-BH6B2",{"$f":"_xlfn.XLOOKUP(A1989,'Prices Furniture'!A:A,'Prices Furniture'!E:E)","v":801},{"$f":"_xlfn.XLOOKUP(A1989,'Lighting Prices'!A:A,'Lighting Prices'!E:E)","v":{"$error":"#N/A"}}]
["@LK-CSW-BH60S",{"$f":"_xlfn.XLOOKUP(A1990,'Prices Furniture'!A:A,'Prices Furniture'!E:E)","v":366},{"$f":"_xlfn.XLOOKUP(A1990,'Lighting Prices'!A:A,'Lighting Prices'!E:E)","v":{"$error":"#N/A"}}]
["@LK-CSW-BH70",{"$f":"_xlfn.XLOOKUP(A1991,'Prices Furniture'!A:A,'Prices Furniture'!E:E)","v":392},{"$f":"_xlfn.XLOOKUP(A1991,'Lighting Prices'!A:A,'Lighting Prices'!E:E)","v":{"$error":"#N/A"}}]
["@LK-CSW-BH80",{"$f":"_xlfn.XLOOKUP(A1992,'Prices Furniture'!A:A,'Prices Furniture'!E:E)","v":396},{"$f":"_xlfn.XLOOKUP(A1992,'Lighting Prices'!A:A,'Lighting Prices'!E:E)","v":{"$error":"#N/A"}}]
["@LK-CSW-BH80S",{"$f":"_xlfn.XLOOKUP(A1993,'Prices Furniture'!A:A,'Prices Furniture'!E:E)","v":442},{"$f":"_xlfn.XLOOKUP(A1993,'Lighting Prices'!A:A,'Lighting Prices'!E:E)","v":{"$error":"#N/A"}}]
["@LK-CSW-BH90",{"$f":"_xlfn.XLOOKUP(A1994,'Prices Furniture'!A:A,'Prices Furniture'!E:E)","v":420},{"$f":"_xlfn.XLOOKUP(A1994,'Lighting Prices'!A:A,'Lighting Prices'!E:E)","v":{"$error":"#N/A"}}]
["@LK-CSW-BH90S",{"$f":"_xlfn.XLOOKUP(A1995,'Prices Furniture'!A:A,'Prices Furniture'!E:E)","v":466},{"$f":"_xlfn.XLOOKUP(A1995,'Lighting Prices'!A:A,'Lighting Prices'!E:E)","v":{"$error":"#N/A"}}]
["@LK-CSW-BH100",{"$f":"_xlfn.XLOOKUP(A1996,'Prices Furniture'!A:A,'Prices Furniture'!E:E)","v":441},{"$f":"_xlfn.XLOOKUP(A1996,'Lighting Prices'!A:A,'Lighting Prices'!E:E)","v":{"$error":"#N/A"}}]
["@LK-CSW-BH10S",{"$f":"_xlfn.XLOOKUP(A1997,'Prices Furniture'!A:A,'Prices Furniture'!E:E)","v":487},{"$f":"_xlfn.XLOOKUP(A1997,'Lighting Prices'!A:A,'Lighting Prices'!E:E)","v":{"$error":"#N/A"}}]
["@LK-CSW-BC83",{"$f":"_xlfn.XLOOKUP(A1998,'Prices Furniture'!A:A,'Prices Furniture'!E:E)","v":375},{"$f":"_xlfn.XLOOKUP(A1998,'Lighting Prices'!A:A,'Lighting Prices'!E:E)","v":{"$error":"#N/A"}}]
["@LK-CSW-BC84",{"$f":"_xlfn.XLOOKUP(A1999,'Prices Furniture'!A:A,'Prices Furniture'!E:E)","v":381},{"$f":"_xlfn.XLOOKUP(A1999,'Lighting Prices'!A:A,'Lighting Prices'!E:E)","v":{"$error":"#N/A"}}]
["@LK-CSW-BC845",{"$f":"_xlfn.XLOOKUP(A2000,'Prices Furniture'!A:A,'Prices Furniture'!E:E)","v":393},{"$f":"_xlfn.XLOOKUP(A2000,'Lighting Prices'!A:A,'Lighting Prices'!E:E)","v":{"$error":"#N/A"}}]
["@LK-CSW-BC945",{"$f":"_xlfn.XLOOKUP(A2001,'Prices Furniture'!A:A,'Prices Furniture'!E:E)","v":393},{"$f":"_xlfn.XLOOKUP(A2001,'Lighting Prices'!A:A,'Lighting Prices'!E:E)","v":{"$error":"#N/A"}}]
["@LK-CSW-BC145",{"$f":"_xlfn.XLOOKUP(A2002,'Prices Furniture'!A:A,'Prices Furniture'!E:E)","v":398},{"$f":"_xlfn.XLOOKUP(A2002,'Lighting Prices'!A:A,'Lighting Prices'!E:E)","v":{"$error":"#N/A"}}]
["@LK-CSW-BC15",{"$f":"_xlfn.XLOOKUP(A2003,'Prices Furniture'!A:A,'Prices Furniture'!E:E)","v":406},{"$f":"_xlfn.XLOOKUP(A2003,'Lighting Prices'!A:A,'Lighting Prices'!E:E)","v":{"$error":"#N/A"}}]
["@LK-CSW-BC16",{"$f":"_xlfn.XLOOKUP(A2004,'Prices Furniture'!A:A,'Prices Furniture'!E:E)","v":422},{"$f":"_xlfn.XLOOKUP(A2004,'Lighting Prices'!A:A,'Lighting Prices'!E:E)","v":{"$error":"#N/A"}}]
["@LK-CSW-BCL15L",{"$f":"_xlfn.XLOOKUP(A2005,'Prices Furniture'!A:A,'Prices Furniture'!E:E)","v":1271},{"$f":"_xlfn.XLOOKUP(A2005,'Lighting Prices'!A:A,'Lighting Prices'!E:E)","v":{"$error":"#N/A"}}]
["@LK-CSW-BCL15R",{"$f":"_xlfn.XLOOKUP(A2006,'Prices Furniture'!A:A,'Prices Furniture'!E:E)","v":1271},{"$f":"_xlfn.XLOOKUP(A2006,'Lighting Prices'!A:A,'Lighting Prices'!E:E)","v":{"$error":"#N/A"}}]
["@LK-CSW-BCL16L",{"$f":"_xlfn.XLOOKUP(A2007,'Prices Furniture'!A:A,'Prices Furniture'!E:E)","v":1350},{"$f":"_xlfn.XLOOKUP(A2007,'Lighting Prices'!A:A,'Lighting Prices'!E:E)","v":{"$error":"#N/A"}}]
["@LK-CSW-BCL16R",{"$f":"_xlfn.XLOOKUP(A2008,'Prices Furniture'!A:A,'Prices Furniture'!E:E)","v":1350},{"$f":"_xlfn.XLOOKUP(A2008,'Lighting Prices'!A:A,'Lighting Prices'!E:E)","v":{"$error":"#N/A"}}]
["@LK-CSW-BCO945",{"$f":"_xlfn.XLOOKUP(A2009,'Prices Furniture'!A:A,'Prices Furniture'!E:E)","v":1403},{"$f":"_xlfn.XLOOKUP(A2009,'Lighting Prices'!A:A,'Lighting Prices'!E:E)","v":{"$error":"#N/A"}}]
["@LK-CSW-BCO145",{"$f":"_xlfn.XLOOKUP(A2010,'Prices Furniture'!A:A,'Prices Furniture'!E:E)","v":1408},{"$f":"_xlfn.XLOOKUP(A2010,'Lighting Prices'!A:A,'Lighting Prices'!E:E)","v":{"$error":"#N/A"}}]
["@LK-CSW-BCO15",{"$f":"_xlfn.XLOOKUP(A2011,'Prices Furniture'!A:A,'Prices Furniture'!E:E)","v":1416},{"$f":"_xlfn.XLOOKUP(A2011,'Lighting Prices'!A:A,'Lighting Prices'!E:E)","v":{"$error":"#N/A"}}]
["@LK-CSW-BCO16",{"$f":"_xlfn.XLOOKUP(A2012,'Prices Furniture'!A:A,'Prices Furniture'!E:E)","v":1432},{"$f":"_xlfn.XLOOKUP(A2012,'Lighting Prices'!A:A,'Lighting Prices'!E:E)","v":{"$error":"#N/A"}}]
["@LK-CSW-BCL9",{"$f":"_xlfn.XLOOKUP(A2013,'Prices Furniture'!A:A,'Prices Furniture'!E:E)","v":622},{"$f":"_xlfn.XLOOKUP(A2013,'Lighting Prices'!A:A,'Lighting Prices'!E:E)","v":{"$error":"#N/A"}}]
["@LK-CSW-BHCV",{"$f":"_xlfn.XLOOKUP(A2014,'Prices Furniture'!A:A,'Prices Furniture'!E:E)","v":625},{"$f":"_xlfn.XLOOKUP(A2014,'Lighting Prices'!A:A,'Lighting Prices'!E:E)","v":{"$error":"#N/A"}}]
["@LK-CSW-BSU6495",{"$f":"_xlfn.XLOOKUP(A2015,'Prices Furniture'!A:A,'Prices Furniture'!E:E)","v":284},{"$f":"_xlfn.XLOOKUP(A2015,'Lighting Prices'!A:A,'Lighting Prices'!E:E)","v":{"$error":"#N/A"}}]
["@LK-CSW-BSU6450",{"$f":"_xlfn.XLOOKUP(A2016,'Prices Furniture'!A:A,'Prices Furniture'!E:E)","v":284},{"$f":"_xlfn.XLOOKUP(A2016,'Lighting Prices'!A:A,'Lighting Prices'!E:E)","v":{"$error":"#N/A"}}]
["@LK-CSW-BDL3",{"$f":"_xlfn.XLOOKUP(A2017,'Prices Furniture'!A:A,'Prices Furniture'!E:E)","v":415},{"$f":"_xlfn.XLOOKUP(A2017,'Lighting Prices'!A:A,'Lighting Prices'!E:E)","v":{"$error":"#N/A"}}]
["@LK-CSW-BDL4",{"$f":"_xlfn.XLOOKUP(A2018,'Prices Furniture'!A:A,'Prices Furniture'!E:E)","v":438},{"$f":"_xlfn.XLOOKUP(A2018,'Lighting Prices'!A:A,'Lighting Prices'!E:E)","v":{"$error":"#N/A"}}]
["@LK-CSW-BDL5",{"$f":"_xlfn.XLOOKUP(A2019,'Prices Furniture'!A:A,'Prices Furniture'!E:E)","v":473},{"$f":"_xlfn.XLOOKUP(A2019,'Lighting Prices'!A:A,'Lighting Prices'!E:E)","v":{"$error":"#N/A"}}]
["@LK-CSW-BDL6",{"$f":"_xlfn.XLOOKUP(A2020,'Prices Furniture'!A:A,'Prices Furniture'!E:E)","v":476},{"$f":"_xlfn.XLOOKUP(A2020,'Lighting Prices'!A:A,'Lighting Prices'!E:E)","v":{"$error":"#N/A"}}]
["@LK-CSW-BDL8",{"$f":"_xlfn.XLOOKUP(A2021,'Prices Furniture'!A:A,'Prices Furniture'!E:E)","v":772},{"$f":"_xlfn.XLOOKUP(A2021,'Lighting Prices'!A:A,'Lighting Prices'!E:E)","v":{"$error":"#N/A"}}]
["@LK-CSW-BDL10",{"$f":"_xlfn.XLOOKUP(A2022,'Prices Furniture'!A:A,'Prices Furniture'!E:E)","v":819},{"$f":"_xlfn.XLOOKUP(A2022,'Lighting Prices'!A:A,'Lighting Prices'!E:E)","v":{"$error":"#N/A"}}]
["@LK-CSW-BDL81DW",{"$f":"_xlfn.XLOOKUP(A2023,'Prices Furniture'!A:A,'Prices Furniture'!E:E)","v":654},{"$f":"_xlfn.XLOOKUP(A2023,'Lighting Prices'!A:A,'Lighting Prices'!E:E)","v":{"$error":"#N/A"}}]
["@LK-CSW-BDL91DW",{"$f":"_xlfn.XLOOKUP(A2024,'Prices Furniture'!A:A,'Prices Furniture'!E:E)","v":679},{"$f":"_xlfn.XLOOKUP(A2024,'Lighting Prices'!A:A,'Lighting Prices'!E:E)","v":{"$error":"#N/A"}}]
["@LK-CSW-BDL101DW",{"$f":"_xlfn.XLOOKUP(A2025,'Prices Furniture'!A:A,'Prices Furniture'!E:E)","v":712},{"$f":"_xlfn.XLOOKUP(A2025,'Lighting Prices'!A:A,'Lighting Prices'!E:E)","v":{"$error":"#N/A"}}]
["@LK-CSW-BDLC83",{"$f":"_xlfn.XLOOKUP(A2026,'Prices Furniture'!A:A,'Prices Furniture'!E:E)","v":550},{"$f":"_xlfn.XLOOKUP(A2026,'Lighting Prices'!A:A,'Lighting Prices'!E:E)","v":{"$error":"#N/A"}}]
["@LK-CSW-BDLC84",{"$f":"_xlfn.XLOOKUP(A2027,'Prices Furniture'!A:A,'Prices Furniture'!E:E)","v":569},{"$f":"_xlfn.XLOOKUP(A2027,'Lighting Prices'!A:A,'Lighting Prices'!E:E)","v":{"$error":"#N/A"}}]
["@LK-CSW-BDLC85",{"$f":"_xlfn.XLOOKUP(A2028,'Prices Furniture'!A:A,'Prices Furniture'!E:E)","v":590},{"$f":"_xlfn.XLOOKUP(A2028,'Lighting Prices'!A:A,'Lighting Prices'!E:E)","v":{"$error":"#N/A"}}]
["@LK-CSW-BDLC15",{"$f":"_xlfn.XLOOKUP(A2029,'Prices Furniture'!A:A,'Prices Furniture'!E:E)","v":595},{"$f":"_xlfn.XLOOKUP(A2029,'Lighting Prices'!A:A,'Lighting Prices'!E:E)","v":{"$error":"#N/A"}}]
["@LK-CSW-BDLC16",{"$f":"_xlfn.XLOOKUP(A2030,'Prices Furniture'!A:A,'Prices Furniture'!E:E)","v":578},{"$f":"_xlfn.XLOOKUP(A2030,'Lighting Prices'!A:A,'Lighting Prices'!E:E)","v":{"$error":"#N/A"}}]
["@LK-CSW-BD54",{"$f":"_xlfn.XLOOKUP(A2031,'Prices Furniture'!A:A,'Prices Furniture'!E:E)","v":867},{"$f":"_xlfn.XLOOKUP(A2031,'Lighting Prices'!A:A,'Lighting Prices'!E:E)","v":{"$error":"#N/A"}}]
["@LK-CSW-BD53",{"$f":"_xlfn.XLOOKUP(A2032,'Prices Furniture'!A:A,'Prices Furniture'!E:E)","v":756},{"$f":"_xlfn.XLOOKUP(A2032,'Lighting Prices'!A:A,'Lighting Prices'!E:E)","v":{"$error":"#N/A"}}]
["@LK-CSW-BD63",{"$f":"_xlfn.XLOOKUP(A2033,'Prices Furniture'!A:A,'Prices Furniture'!E:E)","v":813},{"$f":"_xlfn.XLOOKUP(A2033,'Lighting Prices'!A:A,'Lighting Prices'!E:E)","v":{"$error":"#N/A"}}]
["@LK-CSW-BD83",{"$f":"_xlfn.XLOOKUP(A2034,'Prices Furniture'!A:A,'Prices Furniture'!E:E)","v":816},{"$f":"_xlfn.XLOOKUP(A2034,'Lighting Prices'!A:A,'Lighting Prices'!E:E)","v":{"$error":"#N/A"}}]
["@LK-CSW-BD93",{"$f":"_xlfn.XLOOKUP(A2035,'Prices Furniture'!A:A,'Prices Furniture'!E:E)","v":831},{"$f":"_xlfn.XLOOKUP(A2035,'Lighting Prices'!A:A,'Lighting Prices'!E:E)","v":{"$error":"#N/A"}}]
["@LK-CSW-BD13",{"$f":"_xlfn.XLOOKUP(A2036,'Prices Furniture'!A:A,'Prices Furniture'!E:E)","v":847},{"$f":"_xlfn.XLOOKUP(A2036,'Lighting Prices'!A:A,'Lighting Prices'!E:E)","v":{"$error":"#N/A"}}]
["@LK-CSW-BD62",{"$f":"_xlfn.XLOOKUP(A2037,'Prices Furniture'!A:A,'Prices Furniture'!E:E)","v":693},{"$f":"_xlfn.XLOOKUP(A2037,'Lighting Prices'!A:A,'Lighting Prices'!E:E)","v":{"$error":"#N/A"}}]
["@LK-CSW-BD92",{"$f":"_xlfn.XLOOKUP(A2038,'Prices Furniture'!A:A,'Prices Furniture'!E:E)","v":704},{"$f":"_xlfn.XLOOKUP(A2038,'Lighting Prices'!A:A,'Lighting Prices'!E:E)","v":{"$error":"#N/A"}}]
["@LK-CSW-BD62I",{"$f":"_xlfn.XLOOKUP(A2039,'Prices Furniture'!A:A,'Prices Furniture'!E:E)","v":869},{"$f":"_xlfn.XLOOKUP(A2039,'Lighting Prices'!A:A,'Lighting Prices'!E:E)","v":{"$error":"#N/A"}}]
["@LK-CSW-BD92I",{"$f":"_xlfn.XLOOKUP(A2040,'Prices Furniture'!A:A,'Prices Furniture'!E:E)","v":905},{"$f":"_xlfn.XLOOKUP(A2040,'Lighting Prices'!A:A,'Lighting Prices'!E:E)","v":{"$error":"#N/A"}}]
["@LK-CSW-BD635L",{"$f":"_xlfn.XLOOKUP(A2041,'Prices Furniture'!A:A,'Prices Furniture'!E:E)","v":389},{"$f":"_xlfn.XLOOKUP(A2041,'Lighting Prices'!A:A,'Lighting Prices'!E:E)","v":{"$error":"#N/A"}}]
["@LK-CSW-W30",{"$f":"_xlfn.XLOOKUP(A2042,'Prices Furniture'!A:A,'Prices Furniture'!E:E)","v":222},{"$f":"_xlfn.XLOOKUP(A2042,'Lighting Prices'!A:A,'Lighting Prices'!E:E)","v":{"$error":"#N/A"}}]
["@LK-CSW-W35",{"$f":"_xlfn.XLOOKUP(A2043,'Prices Furniture'!A:A,'Prices Furniture'!E:E)","v":229},{"$f":"_xlfn.XLOOKUP(A2043,'Lighting Prices'!A:A,'Lighting Prices'!E:E)","v":{"$error":"#N/A"}}]
["@LK-CSW-W40",{"$f":"_xlfn.XLOOKUP(A2044,'Prices Furniture'!A:A,'Prices Furniture'!E:E)","v":236},{"$f":"_xlfn.XLOOKUP(A2044,'Lighting Prices'!A:A,'Lighting Prices'!E:E)","v":{"$error":"#N/A"}}]
["@LK-CSW-W45",{"$f":"_xlfn.XLOOKUP(A2045,'Prices Furniture'!A:A,'Prices Furniture'!E:E)","v":253},{"$f":"_xlfn.XLOOKUP(A2045,'Lighting Prices'!A:A,'Lighting Prices'!E:E)","v":{"$error":"#N/A"}}]
["@LK-CSW-W50",{"$f":"_xlfn.XLOOKUP(A2046,'Prices Furniture'!A:A,'Prices Furniture'!E:E)","v":267},{"$f":"_xlfn.XLOOKUP(A2046,'Lighting Prices'!A:A,'Lighting Prices'!E:E)","v":{"$error":"#N/A"}}]
["@LK-CSW-W60",{"$f":"_xlfn.XLOOKUP(A2047,'Prices Furniture'!A:A,'Prices Furniture'!E:E)","v":291},{"$f":"_xlfn.XLOOKUP(A2047,'Lighting Prices'!A:A,'Lighting Prices'!E:E)","v":{"$error":"#N/A"}}]
["@LK-CSW-W70",{"$f":"_xlfn.XLOOKUP(A2048,'Prices Furniture'!A:A,'Prices Furniture'!E:E)","v":387},{"$f":"_xlfn.XLOOKUP(A2048,'Lighting Prices'!A:A,'Lighting Prices'!E:E)","v":{"$error":"#N/A"}}]
["@LK-CSW-W80",{"$f":"_xlfn.XLOOKUP(A2049,'Prices Furniture'!A:A,'Prices Furniture'!E:E)","v":391},{"$f":"_xlfn.XLOOKUP(A2049,'Lighting Prices'!A:A,'Lighting Prices'!E:E)","v":{"$error":"#N/A"}}]
["@LK-CSW-W90",{"$f":"_xlfn.XLOOKUP(A2050,'Prices Furniture'!A:A,'Prices Furniture'!E:E)","v":411},{"$f":"_xlfn.XLOOKUP(A2050,'Lighting Prices'!A:A,'Lighting Prices'!E:E)","v":{"$error":"#N/A"}}]
["@LK-CSW-W100",{"$f":"_xlfn.XLOOKUP(A2051,'Prices Furniture'!A:A,'Prices Furniture'!E:E)","v":436},{"$f":"_xlfn.XLOOKUP(A2051,'Lighting Prices'!A:A,'Lighting Prices'!E:E)","v":{"$error":"#N/A"}}]
["@LK-CSW-WC6",{"$f":"_xlfn.XLOOKUP(A2052,'Prices Furniture'!A:A,'Prices Furniture'!E:E)","v":310},{"$f":"_xlfn.XLOOKUP(A2052,'Lighting Prices'!A:A,'Lighting Prices'!E:E)","v":{"$error":"#N/A"}}]
["@LK-CSW-WC9",{"$f":"_xlfn.XLOOKUP(A2053,'Prices Furniture'!A:A,'Prices Furniture'!E:E)","v":372},{"$f":"_xlfn.XLOOKUP(A2053,'Lighting Prices'!A:A,'Lighting Prices'!E:E)","v":{"$error":"#N/A"}}]
["@LK-CSW-WCL65",{"$f":"_xlfn.XLOOKUP(A2054,'Prices Furniture'!A:A,'Prices Furniture'!E:E)","v":547},{"$f":"_xlfn.XLOOKUP(A2054,'Lighting Prices'!A:A,'Lighting Prices'!E:E)","v":{"$error":"#N/A"}}]
["@LK-CSW-WM60",{"$f":"_xlfn.XLOOKUP(A2055,'Prices Furniture'!A:A,'Prices Furniture'!E:E)","v":377},{"$f":"_xlfn.XLOOKUP(A2055,'Lighting Prices'!A:A,'Lighting Prices'!E:E)","v":{"$error":"#N/A"}}]
["@LK-CSW-WBHU",{"$f":"_xlfn.XLOOKUP(A2056,'Prices Furniture'!A:A,'Prices Furniture'!E:E)","v":297},{"$f":"_xlfn.XLOOKUP(A2056,'Lighting Prices'!A:A,'Lighting Prices'!E:E)","v":{"$error":"#N/A"}}]
["@LK-CSW-WBI60",{"$f":"_xlfn.XLOOKUP(A2057,'Prices Furniture'!A:A,'Prices Furniture'!E:E)","v":673},{"$f":"_xlfn.XLOOKUP(A2057,'Lighting Prices'!A:A,'Lighting Prices'!E:E)","v":{"$error":"#N/A"}}]
["@LK-CSW-WBI90",{"$f":"_xlfn.XLOOKUP(A2058,'Prices Furniture'!A:A,'Prices Furniture'!E:E)","v":703},{"$f":"_xlfn.XLOOKUP(A2058,'Lighting Prices'!A:A,'Lighting Prices'!E:E)","v":{"$error":"#N/A"}}]
["@LK-CSW-WG5",{"$f":"_xlfn.XLOOKUP(A2059,'Prices Furniture'!A:A,'Prices Furniture'!E:E)","v":265},{"$f":"_xlfn.XLOOKUP(A2059,'Lighting Prices'!A:A,'Lighting Prices'!E:E)","v":{"$error":"#N/A"}}]
["@LK-CSW-WDR50",{"$f":"_xlfn.XLOOKUP(A2060,'Prices Furniture'!A:A,'Prices Furniture'!E:E)","v":624},{"$f":"_xlfn.XLOOKUP(A2060,'Lighting Prices'!A:A,'Lighting Prices'!E:E)","v":{"$error":"#N/A"}}]
["@LK-CSW-WCV",{"$f":"_xlfn.XLOOKUP(A2061,'Prices Furniture'!A:A,'Prices Furniture'!E:E)","v":593},{"$f":"_xlfn.XLOOKUP(A2061,'Lighting Prices'!A:A,'Lighting Prices'!E:E)","v":{"$error":"#N/A"}}]
["@LK-CSW-WB62",{"$f":"_xlfn.XLOOKUP(A2062,'Prices Furniture'!A:A,'Prices Furniture'!E:E)","v":243},{"$f":"_xlfn.XLOOKUP(A2062,'Lighting Prices'!A:A,'Lighting Prices'!E:E)","v":{"$error":"#N/A"}}]
["@LK-CSW-WB82",{"$f":"_xlfn.XLOOKUP(A2063,'Prices Furniture'!A:A,'Prices Furniture'!E:E)","v":285},{"$f":"_xlfn.XLOOKUP(A2063,'Lighting Prices'!A:A,'Lighting Prices'!E:E)","v":{"$error":"#N/A"}}]
["@LK-CSW-WB92",{"$f":"_xlfn.XLOOKUP(A2064,'Prices Furniture'!A:A,'Prices Furniture'!E:E)","v":314},{"$f":"_xlfn.XLOOKUP(A2064,'Lighting Prices'!A:A,'Lighting Prices'!E:E)","v":{"$error":"#N/A"}}]
["@LK-CSW-WB12",{"$f":"_xlfn.XLOOKUP(A2065,'Prices Furniture'!A:A,'Prices Furniture'!E:E)","v":329},{"$f":"_xlfn.XLOOKUP(A2065,'Lighting Prices'!A:A,'Lighting Prices'!E:E)","v":{"$error":"#N/A"}}]
["@LK-CSW-WB63",{"$f":"_xlfn.XLOOKUP(A2066,'Prices Furniture'!A:A,'Prices Furniture'!E:E)","v":300},{"$f":"_xlfn.XLOOKUP(A2066,'Lighting Prices'!A:A,'Lighting Prices'!E:E)","v":{"$error":"#N/A"}}]
["@LK-CSW-WB83",{"$f":"_xlfn.XLOOKUP(A2067,'Prices Furniture'!A:A,'Prices Furniture'!E:E)","v":330},{"$f":"_xlfn.XLOOKUP(A2067,'Lighting Prices'!A:A,'Lighting Prices'!E:E)","v":{"$error":"#N/A"}}]
["@LK-CSW-WB93",{"$f":"_xlfn.XLOOKUP(A2068,'Prices Furniture'!A:A,'Prices Furniture'!E:E)","v":348},{"$f":"_xlfn.XLOOKUP(A2068,'Lighting Prices'!A:A,'Lighting Prices'!E:E)","v":{"$error":"#N/A"}}]
["@LK-CSW-WB13",{"$f":"_xlfn.XLOOKUP(A2069,'Prices Furniture'!A:A,'Prices Furniture'!E:E)","v":353},{"$f":"_xlfn.XLOOKUP(A2069,'Lighting Prices'!A:A,'Lighting Prices'!E:E)","v":{"$error":"#N/A"}}]
["@LK-CSW-AH-F55",{"$f":"_xlfn.XLOOKUP(A2070,'Prices Furniture'!A:A,'Prices Furniture'!E:E)","v":743},{"$f":"_xlfn.XLOOKUP(A2070,'Lighting Prices'!A:A,'Lighting Prices'!E:E)","v":{"$error":"#N/A"}}]
["@LK-CSW-AH-F73",{"$f":"_xlfn.XLOOKUP(A2071,'Prices Furniture'!A:A,'Prices Furniture'!E:E)","v":726},{"$f":"_xlfn.XLOOKUP(A2071,'Lighting Prices'!A:A,'Lighting Prices'!E:E)","v":{"$error":"#N/A"}}]
["@LK-CSW-AH-DO",{"$f":"_xlfn.XLOOKUP(A2072,'Prices Furniture'!A:A,'Prices Furniture'!E:E)","v":723},{"$f":"_xlfn.XLOOKUP(A2072,'Lighting Prices'!A:A,'Lighting Prices'!E:E)","v":{"$error":"#N/A"}}]
["@LK-CSW-AH-DO2D",{"$f":"_xlfn.XLOOKUP(A2073,'Prices Furniture'!A:A,'Prices Furniture'!E:E)","v":1061},{"$f":"_xlfn.XLOOKUP(A2073,'Lighting Prices'!A:A,'Lighting Prices'!E:E)","v":{"$error":"#N/A"}}]
["@LK-CSW-AH-DMW",{"$f":"_xlfn.XLOOKUP(A2074,'Prices Furniture'!A:A,'Prices Furniture'!E:E)","v":945},{"$f":"_xlfn.XLOOKUP(A2074,'Lighting Prices'!A:A,'Lighting Prices'!E:E)","v":{"$error":"#N/A"}}]
["@LK-CSW-AH-SO",{"$f":"_xlfn.XLOOKUP(A2075,'Prices Furniture'!A:A,'Prices Furniture'!E:E)","v":751},{"$f":"_xlfn.XLOOKUP(A2075,'Lighting Prices'!A:A,'Lighting Prices'!E:E)","v":{"$error":"#N/A"}}]
["@LK-CSW-AH-SO1D",{"$f":"_xlfn.XLOOKUP(A2076,'Prices Furniture'!A:A,'Prices Furniture'!E:E)","v":899},{"$f":"_xlfn.XLOOKUP(A2076,'Lighting Prices'!A:A,'Lighting Prices'!E:E)","v":{"$error":"#N/A"}}]
["@LK-CSW-AH-SO2D",{"$f":"_xlfn.XLOOKUP(A2077,'Prices Furniture'!A:A,'Prices Furniture'!E:E)","v":1120},{"$f":"_xlfn.XLOOKUP(A2077,'Lighting Prices'!A:A,'Lighting Prices'!E:E)","v":{"$error":"#N/A"}}]
["@LK-CSW-AH-SO3D",{"$f":"_xlfn.XLOOKUP(A2078,'Prices Furniture'!A:A,'Prices Furniture'!E:E)","v":1273},{"$f":"_xlfn.XLOOKUP(A2078,'Lighting Prices'!A:A,'Lighting Prices'!E:E)","v":{"$error":"#N/A"}}]
["@LK-CSW-AH-SMW",{"$f":"_xlfn.XLOOKUP(A2079,'Prices Furniture'!A:A,'Prices Furniture'!E:E)","v":798},{"$f":"_xlfn.XLOOKUP(A2079,'Lighting Prices'!A:A,'Lighting Prices'!E:E)","v":{"$error":"#N/A"}}]
["@LK-CSW-AH-SM2D",{"$f":"_xlfn.XLOOKUP(A2080,'Prices Furniture'!A:A,'Prices Furniture'!E:E)","v":1090},{"$f":"_xlfn.XLOOKUP(A2080,'Lighting Prices'!A:A,'Lighting Prices'!E:E)","v":{"$error":"#N/A"}}]
["@LK-CSW-AH-CO",{"$f":"_xlfn.XLOOKUP(A2081,'Prices Furniture'!A:A,'Prices Furniture'!E:E)","v":835},{"$f":"_xlfn.XLOOKUP(A2081,'Lighting Prices'!A:A,'Lighting Prices'!E:E)","v":{"$error":"#N/A"}}]
["@LK-CSW-BOH6",{"$f":"_xlfn.XLOOKUP(A2082,'Prices Furniture'!A:A,'Prices Furniture'!E:E)","v":209},{"$f":"_xlfn.XLOOKUP(A2082,'Lighting Prices'!A:A,'Lighting Prices'!E:E)","v":{"$error":"#N/A"}}]
["@LK-CSW-BOHD6",{"$f":"_xlfn.XLOOKUP(A2083,'Prices Furniture'!A:A,'Prices Furniture'!E:E)","v":322},{"$f":"_xlfn.XLOOKUP(A2083,'Lighting Prices'!A:A,'Lighting Prices'!E:E)","v":{"$error":"#N/A"}}]
["@LK-CSW-L3",{"$f":"_xlfn.XLOOKUP(A2084,'Prices Furniture'!A:A,'Prices Furniture'!E:E)","v":678},{"$f":"_xlfn.XLOOKUP(A2084,'Lighting Prices'!A:A,'Lighting Prices'!E:E)","v":{"$error":"#N/A"}}]
["@LK-CSW-L4",{"$f":"_xlfn.XLOOKUP(A2085,'Prices Furniture'!A:A,'Prices Furniture'!E:E)","v":708},{"$f":"_xlfn.XLOOKUP(A2085,'Lighting Prices'!A:A,'Lighting Prices'!E:E)","v":{"$error":"#N/A"}}]
["@LK-CSW-L5",{"$f":"_xlfn.XLOOKUP(A2086,'Prices Furniture'!A:A,'Prices Furniture'!E:E)","v":737},{"$f":"_xlfn.XLOOKUP(A2086,'Lighting Prices'!A:A,'Lighting Prices'!E:E)","v":{"$error":"#N/A"}}]
["@LK-CSW-L6",{"$f":"_xlfn.XLOOKUP(A2087,'Prices Furniture'!A:A,'Prices Furniture'!E:E)","v":809},{"$f":"_xlfn.XLOOKUP(A2087,'Lighting Prices'!A:A,'Lighting Prices'!E:E)","v":{"$error":"#N/A"}}]
["@LK-CSW-LP3",{"$f":"_xlfn.XLOOKUP(A2088,'Prices Furniture'!A:A,'Prices Furniture'!E:E)","v":1465},{"$f":"_xlfn.XLOOKUP(A2088,'Lighting Prices'!A:A,'Lighting Prices'!E:E)","v":{"$error":"#N/A"}}]
["@LK-CSW-LT3",{"$f":"_xlfn.XLOOKUP(A2089,'Prices Furniture'!A:A,'Prices Furniture'!E:E)","v":1779},{"$f":"_xlfn.XLOOKUP(A2089,'Lighting Prices'!A:A,'Lighting Prices'!E:E)","v":{"$error":"#N/A"}}]
["@LK-CSW-LT5",{"$f":"_xlfn.XLOOKUP(A2090,'Prices Furniture'!A:A,'Prices Furniture'!E:E)","v":1906},{"$f":"_xlfn.XLOOKUP(A2090,'Lighting Prices'!A:A,'Lighting Prices'!E:E)","v":{"$error":"#N/A"}}]
["@LK-CSW-LT6",{"$f":"_xlfn.XLOOKUP(A2091,'Prices Furniture'!A:A,'Prices Furniture'!E:E)","v":2044},{"$f":"_xlfn.XLOOKUP(A2091,'Lighting Prices'!A:A,'Lighting Prices'!E:E)","v":{"$error":"#N/A"}}]
["@LK-CSW-LP6T",{"$f":"_xlfn.XLOOKUP(A2092,'Prices Furniture'!A:A,'Prices Furniture'!E:E)","v":1995},{"$f":"_xlfn.XLOOKUP(A2092,'Lighting Prices'!A:A,'Lighting Prices'!E:E)","v":{"$error":"#N/A"}}]
["@LK-CSW-LP5TS",{"$f":"_xlfn.XLOOKUP(A2093,'Prices Furniture'!A:A,'Prices Furniture'!E:E)","v":1671},{"$f":"_xlfn.XLOOKUP(A2093,'Lighting Prices'!A:A,'Lighting Prices'!E:E)","v":{"$error":"#N/A"}}]
["@LK-CSW-LP6TS",{"$f":"_xlfn.XLOOKUP(A2094,'Prices Furniture'!A:A,'Prices Furniture'!E:E)","v":1796},{"$f":"_xlfn.XLOOKUP(A2094,'Lighting Prices'!A:A,'Lighting Prices'!E:E)","v":{"$error":"#N/A"}}]
["@LK-CSW-TLP3",{"$f":"_xlfn.XLOOKUP(A2095,'Prices Furniture'!A:A,'Prices Furniture'!E:E)","v":1501},{"$f":"_xlfn.XLOOKUP(A2095,'Lighting Prices'!A:A,'Lighting Prices'!E:E)","v":{"$error":"#N/A"}}]
["@LK-CSW-TLT3",{"$f":"_xlfn.XLOOKUP(A2096,'Prices Furniture'!A:A,'Prices Furniture'!E:E)","v":1815},{"$f":"_xlfn.XLOOKUP(A2096,'Lighting Prices'!A:A,'Lighting Prices'!E:E)","v":{"$error":"#N/A"}}]
["@LK-CSW-TLT5",{"$f":"_xlfn.XLOOKUP(A2097,'Prices Furniture'!A:A,'Prices Furniture'!E:E)","v":1942},{"$f":"_xlfn.XLOOKUP(A2097,'Lighting Prices'!A:A,'Lighting Prices'!E:E)","v":{"$error":"#N/A"}}]
["@LK-CSW-TLT6",{"$f":"_xlfn.XLOOKUP(A2098,'Prices Furniture'!A:A,'Prices Furniture'!E:E)","v":2063},{"$f":"_xlfn.XLOOKUP(A2098,'Lighting Prices'!A:A,'Lighting Prices'!E:E)","v":{"$error":"#N/A"}}]
["@LK-CSW-TLP6T",{"$f":"_xlfn.XLOOKUP(A2099,'Prices Furniture'!A:A,'Prices Furniture'!E:E)","v":2014},{"$f":"_xlfn.XLOOKUP(A2099,'Lighting Prices'!A:A,'Lighting Prices'!E:E)","v":{"$error":"#N/A"}}]
["@LK-CSW-TLP5TS",{"$f":"_xlfn.XLOOKUP(A2100,'Prices Furniture'!A:A,'Prices Furniture'!E:E)","v":1707},{"$f":"_xlfn.XLOOKUP(A2100,'Lighting Prices'!A:A,'Lighting Prices'!E:E)","v":{"$error":"#N/A"}}]
["@LK-CSW-TLP6TS",{"$f":"_xlfn.XLOOKUP(A2101,'Prices Furniture'!A:A,'Prices Furniture'!E:E)","v":1815},{"$f":"_xlfn.XLOOKUP(A2101,'Lighting Prices'!A:A,'Lighting Prices'!E:E)","v":{"$error":"#N/A"}}]
["@LK-CSW-LAC",{"$f":"_xlfn.XLOOKUP(A2102,'Prices Furniture'!A:A,'Prices Furniture'!E:E)","v":2099},{"$f":"_xlfn.XLOOKUP(A2102,'Lighting Prices'!A:A,'Lighting Prices'!E:E)","v":{"$error":"#N/A"}}]
["@LK-CSW-TLAC",{"$f":"_xlfn.XLOOKUP(A2103,'Prices Furniture'!A:A,'Prices Furniture'!E:E)","v":2477},{"$f":"_xlfn.XLOOKUP(A2103,'Lighting Prices'!A:A,'Lighting Prices'!E:E)","v":{"$error":"#N/A"}}]
["@LK-CSW-LBP10",{"$f":"_xlfn.XLOOKUP(A2104,'Prices Furniture'!A:A,'Prices Furniture'!E:E)","v":2169},{"$f":"_xlfn.XLOOKUP(A2104,'Lighting Prices'!A:A,'Lighting Prices'!E:E)","v":{"$error":"#N/A"}}]
["@LK-CSW-TLBP10",{"$f":"_xlfn.XLOOKUP(A2105,'Prices Furniture'!A:A,'Prices Furniture'!E:E)","v":2276},{"$f":"_xlfn.XLOOKUP(A2105,'Lighting Prices'!A:A,'Lighting Prices'!E:E)","v":{"$error":"#N/A"}}]
["@LK-CSW-LPN14D",{"$f":"_xlfn.XLOOKUP(A2106,'Prices Furniture'!A:A,'Prices Furniture'!E:E)","v":1152},{"$f":"_xlfn.XLOOKUP(A2106,'Lighting Prices'!A:A,'Lighting Prices'!E:E)","v":{"$error":"#N/A"}}]
["@LK-CSW-LPN14D1DW",{"$f":"_xlfn.XLOOKUP(A2107,'Prices Furniture'!A:A,'Prices Furniture'!E:E)","v":1410},{"$f":"_xlfn.XLOOKUP(A2107,'Lighting Prices'!A:A,'Lighting Prices'!E:E)","v":{"$error":"#N/A"}}]
["@LK-CSW-LPN12D3DW",{"$f":"_xlfn.XLOOKUP(A2108,'Prices Furniture'!A:A,'Prices Furniture'!E:E)","v":1551},{"$f":"_xlfn.XLOOKUP(A2108,'Lighting Prices'!A:A,'Lighting Prices'!E:E)","v":{"$error":"#N/A"}}]
["@LK-CSW-LPN12D2DW",{"$f":"_xlfn.XLOOKUP(A2109,'Prices Furniture'!A:A,'Prices Furniture'!E:E)","v":1414},{"$f":"_xlfn.XLOOKUP(A2109,'Lighting Prices'!A:A,'Lighting Prices'!E:E)","v":{"$error":"#N/A"}}]
["@LK-CSW-LBC15",{"$f":"_xlfn.XLOOKUP(A2110,'Prices Furniture'!A:A,'Prices Furniture'!E:E)","v":958},{"$f":"_xlfn.XLOOKUP(A2110,'Lighting Prices'!A:A,'Lighting Prices'!E:E)","v":{"$error":"#N/A"}}]
["@LK-CSW-LBC16",{"$f":"_xlfn.XLOOKUP(A2111,'Prices Furniture'!A:A,'Prices Furniture'!E:E)","v":985},{"$f":"_xlfn.XLOOKUP(A2111,'Lighting Prices'!A:A,'Lighting Prices'!E:E)","v":{"$error":"#N/A"}}]
["@LK-CSW-LBCLM15L",{"$f":"_xlfn.XLOOKUP(A2112,'Prices Furniture'!A:A,'Prices Furniture'!E:E)","v":2796},{"$f":"_xlfn.XLOOKUP(A2112,'Lighting Prices'!A:A,'Lighting Prices'!E:E)","v":{"$error":"#N/A"}}]
["@LK-CSW-LBCLM15R",{"$f":"_xlfn.XLOOKUP(A2113,'Prices Furniture'!A:A,'Prices Furniture'!E:E)","v":2796},{"$f":"_xlfn.XLOOKUP(A2113,'Lighting Prices'!A:A,'Lighting Prices'!E:E)","v":{"$error":"#N/A"}}]
["@LK-CSW-LBCLM16L",{"$f":"_xlfn.XLOOKUP(A2114,'Prices Furniture'!A:A,'Prices Furniture'!E:E)","v":2949},{"$f":"_xlfn.XLOOKUP(A2114,'Lighting Prices'!A:A,'Lighting Prices'!E:E)","v":{"$error":"#N/A"}}]
["@LK-CSW-LBCLM16R",{"$f":"_xlfn.XLOOKUP(A2115,'Prices Furniture'!A:A,'Prices Furniture'!E:E)","v":2949},{"$f":"_xlfn.XLOOKUP(A2115,'Lighting Prices'!A:A,'Lighting Prices'!E:E)","v":{"$error":"#N/A"}}]
["@LK-CSW-TLPN14D",{"$f":"_xlfn.XLOOKUP(A2116,'Prices Furniture'!A:A,'Prices Furniture'!E:E)","v":1323},{"$f":"_xlfn.XLOOKUP(A2116,'Lighting Prices'!A:A,'Lighting Prices'!E:E)","v":{"$error":"#N/A"}}]
["@LK-CSW-TLBC15",{"$f":"_xlfn.XLOOKUP(A2117,'Prices Furniture'!A:A,'Prices Furniture'!E:E)","v":1112},{"$f":"_xlfn.XLOOKUP(A2117,'Lighting Prices'!A:A,'Lighting Prices'!E:E)","v":{"$error":"#N/A"}}]
["@LK-CSW-TLBC16",{"$f":"_xlfn.XLOOKUP(A2118,'Prices Furniture'!A:A,'Prices Furniture'!E:E)","v":1122},{"$f":"_xlfn.XLOOKUP(A2118,'Lighting Prices'!A:A,'Lighting Prices'!E:E)","v":{"$error":"#N/A"}}]
["@LK-CSW-TLBCLM15L",{"$f":"_xlfn.XLOOKUP(A2119,'Prices Furniture'!A:A,'Prices Furniture'!E:E)","v":2950},{"$f":"_xlfn.XLOOKUP(A2119,'Lighting Prices'!A:A,'Lighting Prices'!E:E)","v":{"$error":"#N/A"}}]
["@LK-CSW-TLBCLM15R",{"$f":"_xlfn.XLOOKUP(A2120,'Prices Furniture'!A:A,'Prices Furniture'!E:E)","v":2950},{"$f":"_xlfn.XLOOKUP(A2120,'Lighting Prices'!A:A,'Lighting Prices'!E:E)","v":{"$error":"#N/A"}}]
["@LK-CSW-TLBCLM16L",{"$f":"_xlfn.XLOOKUP(A2121,'Prices Furniture'!A:A,'Prices Furniture'!E:E)","v":3086},{"$f":"_xlfn.XLOOKUP(A2121,'Lighting Prices'!A:A,'Lighting Prices'!E:E)","v":{"$error":"#N/A"}}]
["@LK-CSW-TLBCLM16R",{"$f":"_xlfn.XLOOKUP(A2122,'Prices Furniture'!A:A,'Prices Furniture'!E:E)","v":3086},{"$f":"_xlfn.XLOOKUP(A2122,'Lighting Prices'!A:A,'Lighting Prices'!E:E)","v":{"$error":"#N/A"}}]
["@LK-CSW-LL6EA",{"$f":"_xlfn.XLOOKUP(A2123,'Prices Furniture'!A:A,'Prices Furniture'!E:E)","v":851},{"$f":"_xlfn.XLOOKUP(A2123,'Lighting Prices'!A:A,'Lighting Prices'!E:E)","v":{"$error":"#N/A"}}]
["@LK-CSW-LL6CU",{"$f":"_xlfn.XLOOKUP(A2124,'Prices Furniture'!A:A,'Prices Furniture'!E:E)","v":801},{"$f":"_xlfn.XLOOKUP(A2124,'Lighting Prices'!A:A,'Lighting Prices'!E:E)","v":{"$error":"#N/A"}}]
["@LK-CSW-LL10CU",{"$f":"_xlfn.XLOOKUP(A2125,'Prices Furniture'!A:A,'Prices Furniture'!E:E)","v":1263},{"$f":"_xlfn.XLOOKUP(A2125,'Lighting Prices'!A:A,'Lighting Prices'!E:E)","v":{"$error":"#N/A"}}]
["@LK-CSW-LL10CUS",{"$f":"_xlfn.XLOOKUP(A2126,'Prices Furniture'!A:A,'Prices Furniture'!E:E)","v":1362},{"$f":"_xlfn.XLOOKUP(A2126,'Lighting Prices'!A:A,'Lighting Prices'!E:E)","v":{"$error":"#N/A"}}]
["@LK-CSW-LL10CB",{"$f":"_xlfn.XLOOKUP(A2127,'Prices Furniture'!A:A,'Prices Furniture'!E:E)","v":1273},{"$f":"_xlfn.XLOOKUP(A2127,'Lighting Prices'!A:A,'Lighting Prices'!E:E)","v":{"$error":"#N/A"}}]
["@LK-CSW-TLL6EA",{"$f":"_xlfn.XLOOKUP(A2128,'Prices Furniture'!A:A,'Prices Furniture'!E:E)","v":946},{"$f":"_xlfn.XLOOKUP(A2128,'Lighting Prices'!A:A,'Lighting Prices'!E:E)","v":{"$error":"#N/A"}}]
["@LK-CSW-TLL6CU",{"$f":"_xlfn.XLOOKUP(A2129,'Prices Furniture'!A:A,'Prices Furniture'!E:E)","v":896},{"$f":"_xlfn.XLOOKUP(A2129,'Lighting Prices'!A:A,'Lighting Prices'!E:E)","v":{"$error":"#N/A"}}]
["@LK-CSW-TLL10CU",{"$f":"_xlfn.XLOOKUP(A2130,'Prices Furniture'!A:A,'Prices Furniture'!E:E)","v":1434},{"$f":"_xlfn.XLOOKUP(A2130,'Lighting Prices'!A:A,'Lighting Prices'!E:E)","v":{"$error":"#N/A"}}]
["@LK-CSW-TLL10CUS",{"$f":"_xlfn.XLOOKUP(A2131,'Prices Furniture'!A:A,'Prices Furniture'!E:E)","v":1533},{"$f":"_xlfn.XLOOKUP(A2131,'Lighting Prices'!A:A,'Lighting Prices'!E:E)","v":{"$error":"#N/A"}}]
["@LK-CSW-TLL10CB",{"$f":"_xlfn.XLOOKUP(A2132,'Prices Furniture'!A:A,'Prices Furniture'!E:E)","v":1444},{"$f":"_xlfn.XLOOKUP(A2132,'Lighting Prices'!A:A,'Lighting Prices'!E:E)","v":{"$error":"#N/A"}}]
["@LK-CSW-AD60ICH",{"$f":"_xlfn.XLOOKUP(A2133,'Prices Furniture'!A:A,'Prices Furniture'!E:E)","v":96},{"$f":"_xlfn.XLOOKUP(A2133,'Lighting Prices'!A:A,'Lighting Prices'!E:E)","v":{"$error":"#N/A"}}]
["@LK-CSW-AD60FD",{"$f":"_xlfn.XLOOKUP(A2134,'Prices Furniture'!A:A,'Prices Furniture'!E:E)","v":132},{"$f":"_xlfn.XLOOKUP(A2134,'Lighting Prices'!A:A,'Lighting Prices'!E:E)","v":{"$error":"#N/A"}}]
["@LK-CSW-AD45I",{"$f":"_xlfn.XLOOKUP(A2135,'Prices Furniture'!A:A,'Prices Furniture'!E:E)","v":108},{"$f":"_xlfn.XLOOKUP(A2135,'Lighting Prices'!A:A,'Lighting Prices'!E:E)","v":{"$error":"#N/A"}}]
["@LK-CSW-AD60S",{"$f":"_xlfn.XLOOKUP(A2136,'Prices Furniture'!A:A,'Prices Furniture'!E:E)","v":122},{"$f":"_xlfn.XLOOKUP(A2136,'Lighting Prices'!A:A,'Lighting Prices'!E:E)","v":{"$error":"#N/A"}}]
["@LK-CSW-BLD9",{"$f":"_xlfn.XLOOKUP(A2137,'Prices Furniture'!A:A,'Prices Furniture'!E:E)","v":148},{"$f":"_xlfn.XLOOKUP(A2137,'Lighting Prices'!A:A,'Lighting Prices'!E:E)","v":{"$error":"#N/A"}}]
["@LK-CSW-TW30",{"$f":"_xlfn.XLOOKUP(A2138,'Prices Furniture'!A:A,'Prices Furniture'!E:E)","v":272},{"$f":"_xlfn.XLOOKUP(A2138,'Lighting Prices'!A:A,'Lighting Prices'!E:E)","v":{"$error":"#N/A"}}]
["@LK-CSW-TW40",{"$f":"_xlfn.XLOOKUP(A2139,'Prices Furniture'!A:A,'Prices Furniture'!E:E)","v":289},{"$f":"_xlfn.XLOOKUP(A2139,'Lighting Prices'!A:A,'Lighting Prices'!E:E)","v":{"$error":"#N/A"}}]
["@LK-CSW-TW45",{"$f":"_xlfn.XLOOKUP(A2140,'Prices Furniture'!A:A,'Prices Furniture'!E:E)","v":300},{"$f":"_xlfn.XLOOKUP(A2140,'Lighting Prices'!A:A,'Lighting Prices'!E:E)","v":{"$error":"#N/A"}}]
["@LK-CSW-TW50",{"$f":"_xlfn.XLOOKUP(A2141,'Prices Furniture'!A:A,'Prices Furniture'!E:E)","v":319},{"$f":"_xlfn.XLOOKUP(A2141,'Lighting Prices'!A:A,'Lighting Prices'!E:E)","v":{"$error":"#N/A"}}]
["@LK-CSW-TW60",{"$f":"_xlfn.XLOOKUP(A2142,'Prices Furniture'!A:A,'Prices Furniture'!E:E)","v":327},{"$f":"_xlfn.XLOOKUP(A2142,'Lighting Prices'!A:A,'Lighting Prices'!E:E)","v":{"$error":"#N/A"}}]
["@LK-CSW-TW80",{"$f":"_xlfn.XLOOKUP(A2143,'Prices Furniture'!A:A,'Prices Furniture'!E:E)","v":460},{"$f":"_xlfn.XLOOKUP(A2143,'Lighting Prices'!A:A,'Lighting Prices'!E:E)","v":{"$error":"#N/A"}}]
["@LK-CSW-TW90",{"$f":"_xlfn.XLOOKUP(A2144,'Prices Furniture'!A:A,'Prices Furniture'!E:E)","v":474},{"$f":"_xlfn.XLOOKUP(A2144,'Lighting Prices'!A:A,'Lighting Prices'!E:E)","v":{"$error":"#N/A"}}]
["@LK-CSW-TW100",{"$f":"_xlfn.XLOOKUP(A2145,'Prices Furniture'!A:A,'Prices Furniture'!E:E)","v":502},{"$f":"_xlfn.XLOOKUP(A2145,'Lighting Prices'!A:A,'Lighting Prices'!E:E)","v":{"$error":"#N/A"}}]
["@LK-CSW-TWC6",{"$f":"_xlfn.XLOOKUP(A2146,'Prices Furniture'!A:A,'Prices Furniture'!E:E)","v":378},{"$f":"_xlfn.XLOOKUP(A2146,'Lighting Prices'!A:A,'Lighting Prices'!E:E)","v":{"$error":"#N/A"}}]
["@LK-CSW-TWC9",{"$f":"_xlfn.XLOOKUP(A2147,'Prices Furniture'!A:A,'Prices Furniture'!E:E)","v":422},{"$f":"_xlfn.XLOOKUP(A2147,'Lighting Prices'!A:A,'Lighting Prices'!E:E)","v":{"$error":"#N/A"}}]
["@LK-CSW-TAH-F55",{"$f":"_xlfn.XLOOKUP(A2148,'Prices Furniture'!A:A,'Prices Furniture'!E:E)","v":788},{"$f":"_xlfn.XLOOKUP(A2148,'Lighting Prices'!A:A,'Lighting Prices'!E:E)","v":{"$error":"#N/A"}}]
["@LK-CSW-TAH-F73",{"$f":"_xlfn.XLOOKUP(A2149,'Prices Furniture'!A:A,'Prices Furniture'!E:E)","v":806},{"$f":"_xlfn.XLOOKUP(A2149,'Lighting Prices'!A:A,'Lighting Prices'!E:E)","v":{"$error":"#N/A"}}]
["@LK-CSW-TAH-DO",{"$f":"_xlfn.XLOOKUP(A2150,'Prices Furniture'!A:A,'Prices Furniture'!E:E)","v":849},{"$f":"_xlfn.XLOOKUP(A2150,'Lighting Prices'!A:A,'Lighting Prices'!E:E)","v":{"$error":"#N/A"}}]
["@LK-CSW-TAH-DO2D",{"$f":"_xlfn.XLOOKUP(A2151,'Prices Furniture'!A:A,'Prices Furniture'!E:E)","v":1169},{"$f":"_xlfn.XLOOKUP(A2151,'Lighting Prices'!A:A,'Lighting Prices'!E:E)","v":{"$error":"#N/A"}}]
["@LK-CSW-TAH-SO",{"$f":"_xlfn.XLOOKUP(A2152,'Prices Furniture'!A:A,'Prices Furniture'!E:E)","v":854},{"$f":"_xlfn.XLOOKUP(A2152,'Lighting Prices'!A:A,'Lighting Prices'!E:E)","v":{"$error":"#N/A"}}]
["@LK-CSW-TAH-SO2D",{"$f":"_xlfn.XLOOKUP(A2153,'Prices Furniture'!A:A,'Prices Furniture'!E:E)","v":1228},{"$f":"_xlfn.XLOOKUP(A2153,'Lighting Prices'!A:A,'Lighting Prices'!E:E)","v":{"$error":"#N/A"}}]
["@LK-CSW-TAH-SMW",{"$f":"_xlfn.XLOOKUP(A2154,'Prices Furniture'!A:A,'Prices Furniture'!E:E)","v":843},{"$f":"_xlfn.XLOOKUP(A2154,'Lighting Prices'!A:A,'Lighting Prices'!E:E)","v":{"$error":"#N/A"}}]
["@LK-CSW-TAH-CO",{"$f":"_xlfn.XLOOKUP(A2155,'Prices Furniture'!A:A,'Prices Furniture'!E:E)","v":849},{"$f":"_xlfn.XLOOKUP(A2155,'Lighting Prices'!A:A,'Lighting Prices'!E:E)","v":{"$error":"#N/A"}}]
["@LK-CSW-TL3",{"$f":"_xlfn.XLOOKUP(A2156,'Prices Furniture'!A:A,'Prices Furniture'!E:E)","v":714},{"$f":"_xlfn.XLOOKUP(A2156,'Lighting Prices'!A:A,'Lighting Prices'!E:E)","v":{"$error":"#N/A"}}]
["@LK-CSW-TL4",{"$f":"_xlfn.XLOOKUP(A2157,'Prices Furniture'!A:A,'Prices Furniture'!E:E)","v":745},{"$f":"_xlfn.XLOOKUP(A2157,'Lighting Prices'!A:A,'Lighting Prices'!E:E)","v":{"$error":"#N/A"}}]
["@LK-CSW-TL5",{"$f":"_xlfn.XLOOKUP(A2158,'Prices Furniture'!A:A,'Prices Furniture'!E:E)","v":773},{"$f":"_xlfn.XLOOKUP(A2158,'Lighting Prices'!A:A,'Lighting Prices'!E:E)","v":{"$error":"#N/A"}}]
["@LK-CSW-TL6",{"$f":"_xlfn.XLOOKUP(A2159,'Prices Furniture'!A:A,'Prices Furniture'!E:E)","v":828},{"$f":"_xlfn.XLOOKUP(A2159,'Lighting Prices'!A:A,'Lighting Prices'!E:E)","v":{"$error":"#N/A"}}]
["@LK-CSW-MANTLE",{"$f":"_xlfn.XLOOKUP(A2160,'Prices Furniture'!A:A,'Prices Furniture'!E:E)","v":1910},{"$f":"_xlfn.XLOOKUP(A2160,'Lighting Prices'!A:A,'Lighting Prices'!E:E)","v":{"$error":"#N/A"}}]
["@LK-CSW-CH-SO",{"$f":"_xlfn.XLOOKUP(A2161,'Prices Furniture'!A:A,'Prices Furniture'!E:E)","v":656},{"$f":"_xlfn.XLOOKUP(A2161,'Lighting Prices'!A:A,'Lighting Prices'!E:E)","v":{"$error":"#N/A"}}]
["@LK-CSW-CH-MW",{"$f":"_xlfn.XLOOKUP(A2162,'Prices Furniture'!A:A,'Prices Furniture'!E:E)","v":705},{"$f":"_xlfn.XLOOKUP(A2162,'Lighting Prices'!A:A,'Lighting Prices'!E:E)","v":{"$error":"#N/A"}}]
["@LK-CSW-CH-ST",{"$f":"_xlfn.XLOOKUP(A2163,'Prices Furniture'!A:A,'Prices Furniture'!E:E)","v":897},{"$f":"_xlfn.XLOOKUP(A2163,'Lighting Prices'!A:A,'Lighting Prices'!E:E)","v":{"$error":"#N/A"}}]
["@LK-CSW-TCH-SO",{"$f":"_xlfn.XLOOKUP(A2164,'Prices Furniture'!A:A,'Prices Furniture'!E:E)","v":858},{"$f":"_xlfn.XLOOKUP(A2164,'Lighting Prices'!A:A,'Lighting Prices'!E:E)","v":{"$error":"#N/A"}}]
["@LK-CSW-TCH-MW",{"$f":"_xlfn.XLOOKUP(A2165,'Prices Furniture'!A:A,'Prices Furniture'!E:E)","v":794},{"$f":"_xlfn.XLOOKUP(A2165,'Lighting Prices'!A:A,'Lighting Prices'!E:E)","v":{"$error":"#N/A"}}]
["@LK-CSW-TCH-ST",{"$f":"_xlfn.XLOOKUP(A2166,'Prices Furniture'!A:A,'Prices Furniture'!E:E)","v":945},{"$f":"_xlfn.XLOOKUP(A2166,'Lighting Prices'!A:A,'Lighting Prices'!E:E)","v":{"$error":"#N/A"}}]
["@LK-CSW-AH-SOT",{"$f":"_xlfn.XLOOKUP(A2167,'Prices Furniture'!A:A,'Prices Furniture'!E:E)","v":889},{"$f":"_xlfn.XLOOKUP(A2167,'Lighting Prices'!A:A,'Lighting Prices'!E:E)","v":{"$error":"#N/A"}}]
["@LK-CSW-TAH-SOT",{"$f":"_xlfn.XLOOKUP(A2168,'Prices Furniture'!A:A,'Prices Furniture'!E:E)","v":716},{"$f":"_xlfn.XLOOKUP(A2168,'Lighting Prices'!A:A,'Lighting Prices'!E:E)","v":{"$error":"#N/A"}}]
["@LK-CSW-LP4",{"$f":"_xlfn.XLOOKUP(A2169,'Prices Furniture'!A:A,'Prices Furniture'!E:E)","v":1619},{"$f":"_xlfn.XLOOKUP(A2169,'Lighting Prices'!A:A,'Lighting Prices'!E:E)","v":{"$error":"#N/A"}}]
["@LK-CSW-TLP4",{"$f":"_xlfn.XLOOKUP(A2170,'Prices Furniture'!A:A,'Prices Furniture'!E:E)","v":1656},{"$f":"_xlfn.XLOOKUP(A2170,'Lighting Prices'!A:A,'Lighting Prices'!E:E)","v":{"$error":"#N/A"}}]
["@LK-CSW-LP5T",{"$f":"_xlfn.XLOOKUP(A2171,'Prices Furniture'!A:A,'Prices Furniture'!E:E)","v":1929},{"$f":"_xlfn.XLOOKUP(A2171,'Lighting Prices'!A:A,'Lighting Prices'!E:E)","v":{"$error":"#N/A"}}]
["@LK-CSW-TLP5T",{"$f":"_xlfn.XLOOKUP(A2172,'Prices Furniture'!A:A,'Prices Furniture'!E:E)","v":1965},{"$f":"_xlfn.XLOOKUP(A2172,'Lighting Prices'!A:A,'Lighting Prices'!E:E)","v":{"$error":"#N/A"}}]
["@LK-CSW-LL8LS",{"$f":"_xlfn.XLOOKUP(A2173,'Prices Furniture'!A:A,'Prices Furniture'!E:E)","v":1402},{"$f":"_xlfn.XLOOKUP(A2173,'Lighting Prices'!A:A,'Lighting Prices'!E:E)","v":{"$error":"#N/A"}}]
["@LK-CSW-TLL8LS",{"$f":"_xlfn.XLOOKUP(A2174,'Prices Furniture'!A:A,'Prices Furniture'!E:E)","v":1575},{"$f":"_xlfn.XLOOKUP(A2174,'Lighting Prices'!A:A,'Lighting Prices'!E:E)","v":{"$error":"#N/A"}}]
["@LK-CSW-W357",{"$f":"_xlfn.XLOOKUP(A2175,'Prices Furniture'!A:A,'Prices Furniture'!E:E)","v":249},{"$f":"_xlfn.XLOOKUP(A2175,'Lighting Prices'!A:A,'Lighting Prices'!E:E)","v":{"$error":"#N/A"}}]
["@LK-CSW-W457",{"$f":"_xlfn.XLOOKUP(A2176,'Prices Furniture'!A:A,'Prices Furniture'!E:E)","v":263},{"$f":"_xlfn.XLOOKUP(A2176,'Lighting Prices'!A:A,'Lighting Prices'!E:E)","v":{"$error":"#N/A"}}]
["@LK-CSW-W4557",{"$f":"_xlfn.XLOOKUP(A2177,'Prices Furniture'!A:A,'Prices Furniture'!E:E)","v":278},{"$f":"_xlfn.XLOOKUP(A2177,'Lighting Prices'!A:A,'Lighting Prices'!E:E)","v":{"$error":"#N/A"}}]
["@LK-CSW-W557",{"$f":"_xlfn.XLOOKUP(A2178,'Prices Furniture'!A:A,'Prices Furniture'!E:E)","v":292},{"$f":"_xlfn.XLOOKUP(A2178,'Lighting Prices'!A:A,'Lighting Prices'!E:E)","v":{"$error":"#N/A"}}]
["@LK-CSW-W657",{"$f":"_xlfn.XLOOKUP(A2179,'Prices Furniture'!A:A,'Prices Furniture'!E:E)","v":281},{"$f":"_xlfn.XLOOKUP(A2179,'Lighting Prices'!A:A,'Lighting Prices'!E:E)","v":{"$error":"#N/A"}}]
["@LK-CSW-W857",{"$f":"_xlfn.XLOOKUP(A2180,'Prices Furniture'!A:A,'Prices Furniture'!E:E)","v":445},{"$f":"_xlfn.XLOOKUP(A2180,'Lighting Prices'!A:A,'Lighting Prices'!E:E)","v":{"$error":"#N/A"}}]
["@LK-CSW-W957",{"$f":"_xlfn.XLOOKUP(A2181,'Prices Furniture'!A:A,'Prices Furniture'!E:E)","v":461},{"$f":"_xlfn.XLOOKUP(A2181,'Lighting Prices'!A:A,'Lighting Prices'!E:E)","v":{"$error":"#N/A"}}]
["@LK-CSW-W157",{"$f":"_xlfn.XLOOKUP(A2182,'Prices Furniture'!A:A,'Prices Furniture'!E:E)","v":486},{"$f":"_xlfn.XLOOKUP(A2182,'Lighting Prices'!A:A,'Lighting Prices'!E:E)","v":{"$error":"#N/A"}}]
["@LK-CSW-WC657",{"$f":"_xlfn.XLOOKUP(A2183,'Prices Furniture'!A:A,'Prices Furniture'!E:E)","v":396},{"$f":"_xlfn.XLOOKUP(A2183,'Lighting Prices'!A:A,'Lighting Prices'!E:E)","v":{"$error":"#N/A"}}]
["@LK-CSW-WC957",{"$f":"_xlfn.XLOOKUP(A2184,'Prices Furniture'!A:A,'Prices Furniture'!E:E)","v":421},{"$f":"_xlfn.XLOOKUP(A2184,'Lighting Prices'!A:A,'Lighting Prices'!E:E)","v":{"$error":"#N/A"}}]
["@LK-CSW-BHD3",{"$f":"_xlfn.XLOOKUP(A2185,'Prices Furniture'!A:A,'Prices Furniture'!E:E)","v":629},{"$f":"_xlfn.XLOOKUP(A2185,'Lighting Prices'!A:A,'Lighting Prices'!E:E)","v":{"$error":"#N/A"}}]
["@LK-CSW-BHD4",{"$f":"_xlfn.XLOOKUP(A2186,'Prices Furniture'!A:A,'Prices Furniture'!E:E)","v":678},{"$f":"_xlfn.XLOOKUP(A2186,'Lighting Prices'!A:A,'Lighting Prices'!E:E)","v":{"$error":"#N/A"}}]
["@LK-CSW-BHD5",{"$f":"_xlfn.XLOOKUP(A2187,'Prices Furniture'!A:A,'Prices Furniture'!E:E)","v":741},{"$f":"_xlfn.XLOOKUP(A2187,'Lighting Prices'!A:A,'Lighting Prices'!E:E)","v":{"$error":"#N/A"}}]
["@LK-CSW-BHD6",{"$f":"_xlfn.XLOOKUP(A2188,'Prices Furniture'!A:A,'Prices Furniture'!E:E)","v":797},{"$f":"_xlfn.XLOOKUP(A2188,'Lighting Prices'!A:A,'Lighting Prices'!E:E)","v":{"$error":"#N/A"}}]
["LK-A-CSW-WREP72",{"$f":"_xlfn.XLOOKUP(A2189,'Prices Furniture'!A:A,'Prices Furniture'!E:E)","v":77},{"$f":"_xlfn.XLOOKUP(A2189,'Lighting Prices'!A:A,'Lighting Prices'!E:E)","v":{"$error":"#N/A"}}]
["LK-A-CSW-PWEP72",{"$f":"_xlfn.XLOOKUP(A2190,'Prices Furniture'!A:A,'Prices Furniture'!E:E)","v":80},{"$f":"_xlfn.XLOOKUP(A2190,'Lighting Prices'!A:A,'Lighting Prices'!E:E)","v":{"$error":"#N/A"}}]
["LK-A-CSW-PWEP20",{"$f":"_xlfn.XLOOKUP(A2191,'Prices Furniture'!A:A,'Prices Furniture'!E:E)","v":200},{"$f":"_xlfn.XLOOKUP(A2191,'Lighting Prices'!A:A,'Lighting Prices'!E:E)","v":{"$error":"#N/A"}}]
["LK-A-CSW-ESP",{"$f":"_xlfn.XLOOKUP(A2192,'Prices Furniture'!A:A,'Prices Furniture'!E:E)","v":123},{"$f":"_xlfn.XLOOKUP(A2192,'Lighting Prices'!A:A,'Lighting Prices'!E:E)","v":{"$error":"#N/A"}}]
["LK-A-CSW-LUP",{"$f":"_xlfn.XLOOKUP(A2193,'Prices Furniture'!A:A,'Prices Furniture'!E:E)","v":391},{"$f":"_xlfn.XLOOKUP(A2193,'Lighting Prices'!A:A,'Lighting Prices'!E:E)","v":{"$error":"#N/A"}}]
["LK-A-CSW-PTEP",{"$f":"_xlfn.XLOOKUP(A2194,'Prices Furniture'!A:A,'Prices Furniture'!E:E)","v":240},{"$f":"_xlfn.XLOOKUP(A2194,'Lighting Prices'!A:A,'Lighting Prices'!E:E)","v":{"$error":"#N/A"}}]
["LK-C-LAO-57OU",{"$f":"_xlfn.XLOOKUP(A2195,'Prices Furniture'!A:A,'Prices Furniture'!E:E)","v":188},{"$f":"_xlfn.XLOOKUP(A2195,'Lighting Prices'!A:A,'Lighting Prices'!E:E)","v":{"$error":"#N/A"}}]
["LK-A-LAO-WR72",{"$f":"_xlfn.XLOOKUP(A2196,'Prices Furniture'!A:A,'Prices Furniture'!E:E)","v":200},{"$f":"_xlfn.XLOOKUP(A2196,'Lighting Prices'!A:A,'Lighting Prices'!E:E)","v":{"$error":"#N/A"}}]
["LK-A-CSW-BPIL",{"$f":"_xlfn.XLOOKUP(A2197,'Prices Furniture'!A:A,'Prices Furniture'!E:E)","v":231},{"$f":"_xlfn.XLOOKUP(A2197,'Lighting Prices'!A:A,'Lighting Prices'!E:E)","v":{"$error":"#N/A"}}]
["LK-A-CSW-PL",{"$f":"_xlfn.XLOOKUP(A2198,'Prices Furniture'!A:A,'Prices Furniture'!E:E)","v":90},{"$f":"_xlfn.XLOOKUP(A2198,'Lighting Prices'!A:A,'Lighting Prices'!E:E)","v":{"$error":"#N/A"}}]
["LK-A-CSW-CVPL",{"$f":"_xlfn.XLOOKUP(A2199,'Prices Furniture'!A:A,'Prices Furniture'!E:E)","v":181},{"$f":"_xlfn.XLOOKUP(A2199,'Lighting Prices'!A:A,'Lighting Prices'!E:E)","v":{"$error":"#N/A"}}]
["LK-A-CSW-SCCRN",{"$f":"_xlfn.XLOOKUP(A2200,'Prices Furniture'!A:A,'Prices Furniture'!E:E)","v":113},{"$f":"_xlfn.XLOOKUP(A2200,'Lighting Prices'!A:A,'Lighting Prices'!E:E)","v":{"$error":"#N/A"}}]
["LK-A-CSW-CSC",{"$f":"_xlfn.XLOOKUP(A2201,'Prices Furniture'!A:A,'Prices Furniture'!E:E)","v":181},{"$f":"_xlfn.XLOOKUP(A2201,'Lighting Prices'!A:A,'Lighting Prices'!E:E)","v":{"$error":"#N/A"}}]
["LK-A-CSW-BLPEL",{"$f":"_xlfn.XLOOKUP(A2202,'Prices Furniture'!A:A,'Prices Furniture'!E:E)","v":86},{"$f":"_xlfn.XLOOKUP(A2202,'Lighting Prices'!A:A,'Lighting Prices'!E:E)","v":{"$error":"#N/A"}}]
["LK-A-CSW-CVBUL",{"$f":"_xlfn.XLOOKUP(A2203,'Prices Furniture'!A:A,'Prices Furniture'!E:E)","v":180},{"$f":"_xlfn.XLOOKUP(A2203,'Lighting Prices'!A:A,'Lighting Prices'!E:E)","v":{"$error":"#N/A"}}]
["LK-A-CSW-CVP",{"$f":"_xlfn.XLOOKUP(A2204,'Prices Furniture'!A:A,'Prices Furniture'!E:E)","v":123},{"$f":"_xlfn.XLOOKUP(A2204,'Lighting Prices'!A:A,'Lighting Prices'!E:E)","v":{"$error":"#N/A"}}]
["LK-A-CSW-CPBM",{"$f":"_xlfn.XLOOKUP(A2205,'Prices Furniture'!A:A,'Prices Furniture'!E:E)","v":116},{"$f":"_xlfn.XLOOKUP(A2205,'Lighting Prices'!A:A,'Lighting Prices'!E:E)","v":{"$error":"#N/A"}}]
["LK-A-CSW-CPBC",{"$f":"_xlfn.XLOOKUP(A2206,'Prices Furniture'!A:A,'Prices Furniture'!E:E)","v":116},{"$f":"_xlfn.XLOOKUP(A2206,'Lighting Prices'!A:A,'Lighting Prices'!E:E)","v":{"$error":"#N/A"}}]
["LK-A-CSW-ET",{"$f":"_xlfn.XLOOKUP(A2207,'Prices Furniture'!A:A,'Prices Furniture'!E:E)","v":37},{"$f":"_xlfn.XLOOKUP(A2207,'Lighting Prices'!A:A,'Lighting Prices'!E:E)","v":{"$error":"#N/A"}}]
["@LK-DGW-BP15TY",{"$f":"_xlfn.XLOOKUP(A2208,'Prices Furniture'!A:A,'Prices Furniture'!E:E)","v":410},{"$f":"_xlfn.XLOOKUP(A2208,'Lighting Prices'!A:A,'Lighting Prices'!E:E)","v":{"$error":"#N/A"}}]
["@LK-DGW-BP3TY",{"$f":"_xlfn.XLOOKUP(A2209,'Prices Furniture'!A:A,'Prices Furniture'!E:E)","v":635},{"$f":"_xlfn.XLOOKUP(A2209,'Lighting Prices'!A:A,'Lighting Prices'!E:E)","v":{"$error":"#N/A"}}]
["@LK-DGW-BH15",{"$f":"_xlfn.XLOOKUP(A2210,'Prices Furniture'!A:A,'Prices Furniture'!E:E)","v":230},{"$f":"_xlfn.XLOOKUP(A2210,'Lighting Prices'!A:A,'Lighting Prices'!E:E)","v":{"$error":"#N/A"}}]
["@LK-DGW-BH30",{"$f":"_xlfn.XLOOKUP(A2211,'Prices Furniture'!A:A,'Prices Furniture'!E:E)","v":240},{"$f":"_xlfn.XLOOKUP(A2211,'Lighting Prices'!A:A,'Lighting Prices'!E:E)","v":{"$error":"#N/A"}}]
["@LK-DGW-BH3B",{"$f":"_xlfn.XLOOKUP(A2212,'Prices Furniture'!A:A,'Prices Furniture'!E:E)","v":608},{"$f":"_xlfn.XLOOKUP(A2212,'Lighting Prices'!A:A,'Lighting Prices'!E:E)","v":{"$error":"#N/A"}}]
["@LK-DGW-BH35",{"$f":"_xlfn.XLOOKUP(A2213,'Prices Furniture'!A:A,'Prices Furniture'!E:E)","v":247},{"$f":"_xlfn.XLOOKUP(A2213,'Lighting Prices'!A:A,'Lighting Prices'!E:E)","v":{"$error":"#N/A"}}]
["@LK-DGW-BH40",{"$f":"_xlfn.XLOOKUP(A2214,'Prices Furniture'!A:A,'Prices Furniture'!E:E)","v":250},{"$f":"_xlfn.XLOOKUP(A2214,'Lighting Prices'!A:A,'Lighting Prices'!E:E)","v":{"$error":"#N/A"}}]
["@LK-DGW-BH4B",{"$f":"_xlfn.XLOOKUP(A2215,'Prices Furniture'!A:A,'Prices Furniture'!E:E)","v":683},{"$f":"_xlfn.XLOOKUP(A2215,'Lighting Prices'!A:A,'Lighting Prices'!E:E)","v":{"$error":"#N/A"}}]
["@LK-DGW-BH45",{"$f":"_xlfn.XLOOKUP(A2216,'Prices Furniture'!A:A,'Prices Furniture'!E:E)","v":273},{"$f":"_xlfn.XLOOKUP(A2216,'Lighting Prices'!A:A,'Lighting Prices'!E:E)","v":{"$error":"#N/A"}}]
["@LK-DGW-BH45B",{"$f":"_xlfn.XLOOKUP(A2217,'Prices Furniture'!A:A,'Prices Furniture'!E:E)","v":711},{"$f":"_xlfn.XLOOKUP(A2217,'Lighting Prices'!A:A,'Lighting Prices'!E:E)","v":{"$error":"#N/A"}}]
["@LK-DGW-BH50",{"$f":"_xlfn.XLOOKUP(A2218,'Prices Furniture'!A:A,'Prices Furniture'!E:E)","v":284},{"$f":"_xlfn.XLOOKUP(A2218,'Lighting Prices'!A:A,'Lighting Prices'!E:E)","v":{"$error":"#N/A"}}]
["@LK-DGW-BH5B",{"$f":"_xlfn.XLOOKUP(A2219,'Prices Furniture'!A:A,'Prices Furniture'!E:E)","v":728},{"$f":"_xlfn.XLOOKUP(A2219,'Lighting Prices'!A:A,'Lighting Prices'!E:E)","v":{"$error":"#N/A"}}]
["@LK-DGW-BH50S",{"$f":"_xlfn.XLOOKUP(A2220,'Prices Furniture'!A:A,'Prices Furniture'!E:E)","v":314},{"$f":"_xlfn.XLOOKUP(A2220,'Lighting Prices'!A:A,'Lighting Prices'!E:E)","v":{"$error":"#N/A"}}]
["@LK-DGW-BH60",{"$f":"_xlfn.XLOOKUP(A2221,'Prices Furniture'!A:A,'Prices Furniture'!E:E)","v":320},{"$f":"_xlfn.XLOOKUP(A2221,'Lighting Prices'!A:A,'Lighting Prices'!E:E)","v":{"$error":"#N/A"}}]
["@LK-DGW-BH6B4",{"$f":"_xlfn.XLOOKUP(A2222,'Prices Furniture'!A:A,'Prices Furniture'!E:E)","v":853},{"$f":"_xlfn.XLOOKUP(A2222,'Lighting Prices'!A:A,'Lighting Prices'!E:E)","v":{"$error":"#N/A"}}]
["@LK-DGW-BH6B2",{"$f":"_xlfn.XLOOKUP(A2223,'Prices Furniture'!A:A,'Prices Furniture'!E:E)","v":801},{"$f":"_xlfn.XLOOKUP(A2223,'Lighting Prices'!A:A,'Lighting Prices'!E:E)","v":{"$error":"#N/A"}}]
["@LK-DGW-BH60S",{"$f":"_xlfn.XLOOKUP(A2224,'Prices Furniture'!A:A,'Prices Furniture'!E:E)","v":366},{"$f":"_xlfn.XLOOKUP(A2224,'Lighting Prices'!A:A,'Lighting Prices'!E:E)","v":{"$error":"#N/A"}}]
["@LK-DGW-BH70",{"$f":"_xlfn.XLOOKUP(A2225,'Prices Furniture'!A:A,'Prices Furniture'!E:E)","v":392},{"$f":"_xlfn.XLOOKUP(A2225,'Lighting Prices'!A:A,'Lighting Prices'!E:E)","v":{"$error":"#N/A"}}]
["@LK-DGW-BH80",{"$f":"_xlfn.XLOOKUP(A2226,'Prices Furniture'!A:A,'Prices Furniture'!E:E)","v":396},{"$f":"_xlfn.XLOOKUP(A2226,'Lighting Prices'!A:A,'Lighting Prices'!E:E)","v":{"$error":"#N/A"}}]
["@LK-DGW-BH80S",{"$f":"_xlfn.XLOOKUP(A2227,'Prices Furniture'!A:A,'Prices Furniture'!E:E)","v":442},{"$f":"_xlfn.XLOOKUP(A2227,'Lighting Prices'!A:A,'Lighting Prices'!E:E)","v":{"$error":"#N/A"}}]
["@LK-DGW-BH90",{"$f":"_xlfn.XLOOKUP(A2228,'Prices Furniture'!A:A,'Prices Furniture'!E:E)","v":420},{"$f":"_xlfn.XLOOKUP(A2228,'Lighting Prices'!A:A,'Lighting Prices'!E:E)","v":{"$error":"#N/A"}}]
["@LK-DGW-BH90S",{"$f":"_xlfn.XLOOKUP(A2229,'Prices Furniture'!A:A,'Prices Furniture'!E:E)","v":466},{"$f":"_xlfn.XLOOKUP(A2229,'Lighting Prices'!A:A,'Lighting Prices'!E:E)","v":{"$error":"#N/A"}}]
["@LK-DGW-BH100",{"$f":"_xlfn.XLOOKUP(A2230,'Prices Furniture'!A:A,'Prices Furniture'!E:E)","v":441},{"$f":"_xlfn.XLOOKUP(A2230,'Lighting Prices'!A:A,'Lighting Prices'!E:E)","v":{"$error":"#N/A"}}]
["@LK-DGW-BH10S",{"$f":"_xlfn.XLOOKUP(A2231,'Prices Furniture'!A:A,'Prices Furniture'!E:E)","v":487},{"$f":"_xlfn.XLOOKUP(A2231,'Lighting Prices'!A:A,'Lighting Prices'!E:E)","v":{"$error":"#N/A"}}]
["@LK-DGW-BC83",{"$f":"_xlfn.XLOOKUP(A2232,'Prices Furniture'!A:A,'Prices Furniture'!E:E)","v":375},{"$f":"_xlfn.XLOOKUP(A2232,'Lighting Prices'!A:A,'Lighting Prices'!E:E)","v":{"$error":"#N/A"}}]
["@LK-DGW-BC84",{"$f":"_xlfn.XLOOKUP(A2233,'Prices Furniture'!A:A,'Prices Furniture'!E:E)","v":381},{"$f":"_xlfn.XLOOKUP(A2233,'Lighting Prices'!A:A,'Lighting Prices'!E:E)","v":{"$error":"#N/A"}}]
["@LK-DGW-BC845",{"$f":"_xlfn.XLOOKUP(A2234,'Prices Furniture'!A:A,'Prices Furniture'!E:E)","v":393},{"$f":"_xlfn.XLOOKUP(A2234,'Lighting Prices'!A:A,'Lighting Prices'!E:E)","v":{"$error":"#N/A"}}]
["@LK-DGW-BC945",{"$f":"_xlfn.XLOOKUP(A2235,'Prices Furniture'!A:A,'Prices Furniture'!E:E)","v":393},{"$f":"_xlfn.XLOOKUP(A2235,'Lighting Prices'!A:A,'Lighting Prices'!E:E)","v":{"$error":"#N/A"}}]
["@LK-DGW-BC145",{"$f":"_xlfn.XLOOKUP(A2236,'Prices Furniture'!A:A,'Prices Furniture'!E:E)","v":398},{"$f":"_xlfn.XLOOKUP(A2236,'Lighting Prices'!A:A,'Lighting Prices'!E:E)","v":{"$error":"#N/A"}}]
["@LK-DGW-BC15",{"$f":"_xlfn.XLOOKUP(A2237,'Prices Furniture'!A:A,'Prices Furniture'!E:E)","v":406},{"$f":"_xlfn.XLOOKUP(A2237,'Lighting Prices'!A:A,'Lighting Prices'!E:E)","v":{"$error":"#N/A"}}]
["@LK-DGW-BC16",{"$f":"_xlfn.XLOOKUP(A2238,'Prices Furniture'!A:A,'Prices Furniture'!E:E)","v":422},{"$f":"_xlfn.XLOOKUP(A2238,'Lighting Prices'!A:A,'Lighting Prices'!E:E)","v":{"$error":"#N/A"}}]
["@LK-DGW-BCL15L",{"$f":"_xlfn.XLOOKUP(A2239,'Prices Furniture'!A:A,'Prices Furniture'!E:E)","v":1271},{"$f":"_xlfn.XLOOKUP(A2239,'Lighting Prices'!A:A,'Lighting Prices'!E:E)","v":{"$error":"#N/A"}}]
["@LK-DGW-BCL15R",{"$f":"_xlfn.XLOOKUP(A2240,'Prices Furniture'!A:A,'Prices Furniture'!E:E)","v":1271},{"$f":"_xlfn.XLOOKUP(A2240,'Lighting Prices'!A:A,'Lighting Prices'!E:E)","v":{"$error":"#N/A"}}]
["@LK-DGW-BCL16L",{"$f":"_xlfn.XLOOKUP(A2241,'Prices Furniture'!A:A,'Prices Furniture'!E:E)","v":1350},{"$f":"_xlfn.XLOOKUP(A2241,'Lighting Prices'!A:A,'Lighting Prices'!E:E)","v":{"$error":"#N/A"}}]
["@LK-DGW-BCL16R",{"$f":"_xlfn.XLOOKUP(A2242,'Prices Furniture'!A:A,'Prices Furniture'!E:E)","v":1350},{"$f":"_xlfn.XLOOKUP(A2242,'Lighting Prices'!A:A,'Lighting Prices'!E:E)","v":{"$error":"#N/A"}}]
["@LK-DGW-BCO945",{"$f":"_xlfn.XLOOKUP(A2243,'Prices Furniture'!A:A,'Prices Furniture'!E:E)","v":1403},{"$f":"_xlfn.XLOOKUP(A2243,'Lighting Prices'!A:A,'Lighting Prices'!E:E)","v":{"$error":"#N/A"}}]
["@LK-DGW-BCO145",{"$f":"_xlfn.XLOOKUP(A2244,'Prices Furniture'!A:A,'Prices Furniture'!E:E)","v":1408},{"$f":"_xlfn.XLOOKUP(A2244,'Lighting Prices'!A:A,'Lighting Prices'!E:E)","v":{"$error":"#N/A"}}]
["@LK-DGW-BCO15",{"$f":"_xlfn.XLOOKUP(A2245,'Prices Furniture'!A:A,'Prices Furniture'!E:E)","v":1416},{"$f":"_xlfn.XLOOKUP(A2245,'Lighting Prices'!A:A,'Lighting Prices'!E:E)","v":{"$error":"#N/A"}}]
["@LK-DGW-BCO16",{"$f":"_xlfn.XLOOKUP(A2246,'Prices Furniture'!A:A,'Prices Furniture'!E:E)","v":1432},{"$f":"_xlfn.XLOOKUP(A2246,'Lighting Prices'!A:A,'Lighting Prices'!E:E)","v":{"$error":"#N/A"}}]
["@LK-DGW-BCL9",{"$f":"_xlfn.XLOOKUP(A2247,'Prices Furniture'!A:A,'Prices Furniture'!E:E)","v":622},{"$f":"_xlfn.XLOOKUP(A2247,'Lighting Prices'!A:A,'Lighting Prices'!E:E)","v":{"$error":"#N/A"}}]
["@LK-DGW-BHCV",{"$f":"_xlfn.XLOOKUP(A2248,'Prices Furniture'!A:A,'Prices Furniture'!E:E)","v":625},{"$f":"_xlfn.XLOOKUP(A2248,'Lighting Prices'!A:A,'Lighting Prices'!E:E)","v":{"$error":"#N/A"}}]
["@LK-DGW-BSU6495",{"$f":"_xlfn.XLOOKUP(A2249,'Prices Furniture'!A:A,'Prices Furniture'!E:E)","v":284},{"$f":"_xlfn.XLOOKUP(A2249,'Lighting Prices'!A:A,'Lighting Prices'!E:E)","v":{"$error":"#N/A"}}]
["@LK-DGW-BSU6450",{"$f":"_xlfn.XLOOKUP(A2250,'Prices Furniture'!A:A,'Prices Furniture'!E:E)","v":284},{"$f":"_xlfn.XLOOKUP(A2250,'Lighting Prices'!A:A,'Lighting Prices'!E:E)","v":{"$error":"#N/A"}}]
["@LK-DGW-BDL3",{"$f":"_xlfn.XLOOKUP(A2251,'Prices Furniture'!A:A,'Prices Furniture'!E:E)","v":415},{"$f":"_xlfn.XLOOKUP(A2251,'Lighting Prices'!A:A,'Lighting Prices'!E:E)","v":{"$error":"#N/A"}}]
["@LK-DGW-BDL4",{"$f":"_xlfn.XLOOKUP(A2252,'Prices Furniture'!A:A,'Prices Furniture'!E:E)","v":438},{"$f":"_xlfn.XLOOKUP(A2252,'Lighting Prices'!A:A,'Lighting Prices'!E:E)","v":{"$error":"#N/A"}}]
["@LK-DGW-BDL5",{"$f":"_xlfn.XLOOKUP(A2253,'Prices Furniture'!A:A,'Prices Furniture'!E:E)","v":473},{"$f":"_xlfn.XLOOKUP(A2253,'Lighting Prices'!A:A,'Lighting Prices'!E:E)","v":{"$error":"#N/A"}}]
["@LK-DGW-BDL6",{"$f":"_xlfn.XLOOKUP(A2254,'Prices Furniture'!A:A,'Prices Furniture'!E:E)","v":476},{"$f":"_xlfn.XLOOKUP(A2254,'Lighting Prices'!A:A,'Lighting Prices'!E:E)","v":{"$error":"#N/A"}}]
["@LK-DGW-BDL8",{"$f":"_xlfn.XLOOKUP(A2255,'Prices Furniture'!A:A,'Prices Furniture'!E:E)","v":772},{"$f":"_xlfn.XLOOKUP(A2255,'Lighting Prices'!A:A,'Lighting Prices'!E:E)","v":{"$error":"#N/A"}}]
["@LK-DGW-BDL10",{"$f":"_xlfn.XLOOKUP(A2256,'Prices Furniture'!A:A,'Prices Furniture'!E:E)","v":819},{"$f":"_xlfn.XLOOKUP(A2256,'Lighting Prices'!A:A,'Lighting Prices'!E:E)","v":{"$error":"#N/A"}}]
["@LK-DGW-BDL81DW",{"$f":"_xlfn.XLOOKUP(A2257,'Prices Furniture'!A:A,'Prices Furniture'!E:E)","v":654},{"$f":"_xlfn.XLOOKUP(A2257,'Lighting Prices'!A:A,'Lighting Prices'!E:E)","v":{"$error":"#N/A"}}]
["@LK-DGW-BDL91DW",{"$f":"_xlfn.XLOOKUP(A2258,'Prices Furniture'!A:A,'Prices Furniture'!E:E)","v":679},{"$f":"_xlfn.XLOOKUP(A2258,'Lighting Prices'!A:A,'Lighting Prices'!E:E)","v":{"$error":"#N/A"}}]
["@LK-DGW-BDL101DW",{"$f":"_xlfn.XLOOKUP(A2259,'Prices Furniture'!A:A,'Prices Furniture'!E:E)","v":712},{"$f":"_xlfn.XLOOKUP(A2259,'Lighting Prices'!A:A,'Lighting Prices'!E:E)","v":{"$error":"#N/A"}}]
["@LK-DGW-BDLC83",{"$f":"_xlfn.XLOOKUP(A2260,'Prices Furniture'!A:A,'Prices Furniture'!E:E)","v":550},{"$f":"_xlfn.XLOOKUP(A2260,'Lighting Prices'!A:A,'Lighting Prices'!E:E)","v":{"$error":"#N/A"}}]
["@LK-DGW-BDLC84",{"$f":"_xlfn.XLOOKUP(A2261,'Prices Furniture'!A:A,'Prices Furniture'!E:E)","v":569},{"$f":"_xlfn.XLOOKUP(A2261,'Lighting Prices'!A:A,'Lighting Prices'!E:E)","v":{"$error":"#N/A"}}]
["@LK-DGW-BDLC85",{"$f":"_xlfn.XLOOKUP(A2262,'Prices Furniture'!A:A,'Prices Furniture'!E:E)","v":590},{"$f":"_xlfn.XLOOKUP(A2262,'Lighting Prices'!A:A,'Lighting Prices'!E:E)","v":{"$error":"#N/A"}}]
["@LK-DGW-BDLC15",{"$f":"_xlfn.XLOOKUP(A2263,'Prices Furniture'!A:A,'Prices Furniture'!E:E)","v":595},{"$f":"_xlfn.XLOOKUP(A2263,'Lighting Prices'!A:A,'Lighting Prices'!E:E)","v":{"$error":"#N/A"}}]
["@LK-DGW-BDLC16",{"$f":"_xlfn.XLOOKUP(A2264,'Prices Furniture'!A:A,'Prices Furniture'!E:E)","v":578},{"$f":"_xlfn.XLOOKUP(A2264,'Lighting Prices'!A:A,'Lighting Prices'!E:E)","v":{"$error":"#N/A"}}]
["@LK-DGW-BD54",{"$f":"_xlfn.XLOOKUP(A2265,'Prices Furniture'!A:A,'Prices Furniture'!E:E)","v":867},{"$f":"_xlfn.XLOOKUP(A2265,'Lighting Prices'!A:A,'Lighting Prices'!E:E)","v":{"$error":"#N/A"}}]
["@LK-DGW-BD53",{"$f":"_xlfn.XLOOKUP(A2266,'Prices Furniture'!A:A,'Prices Furniture'!E:E)","v":756},{"$f":"_xlfn.XLOOKUP(A2266,'Lighting Prices'!A:A,'Lighting Prices'!E:E)","v":{"$error":"#N/A"}}]
["@LK-DGW-BD63",{"$f":"_xlfn.XLOOKUP(A2267,'Prices Furniture'!A:A,'Prices Furniture'!E:E)","v":813},{"$f":"_xlfn.XLOOKUP(A2267,'Lighting Prices'!A:A,'Lighting Prices'!E:E)","v":{"$error":"#N/A"}}]
["@LK-DGW-BD83",{"$f":"_xlfn.XLOOKUP(A2268,'Prices Furniture'!A:A,'Prices Furniture'!E:E)","v":816},{"$f":"_xlfn.XLOOKUP(A2268,'Lighting Prices'!A:A,'Lighting Prices'!E:E)","v":{"$error":"#N/A"}}]
["@LK-DGW-BD93",{"$f":"_xlfn.XLOOKUP(A2269,'Prices Furniture'!A:A,'Prices Furniture'!E:E)","v":831},{"$f":"_xlfn.XLOOKUP(A2269,'Lighting Prices'!A:A,'Lighting Prices'!E:E)","v":{"$error":"#N/A"}}]
["@LK-DGW-BD13",{"$f":"_xlfn.XLOOKUP(A2270,'Prices Furniture'!A:A,'Prices Furniture'!E:E)","v":847},{"$f":"_xlfn.XLOOKUP(A2270,'Lighting Prices'!A:A,'Lighting Prices'!E:E)","v":{"$error":"#N/A"}}]
["@LK-DGW-BD62",{"$f":"_xlfn.XLOOKUP(A2271,'Prices Furniture'!A:A,'Prices Furniture'!E:E)","v":693},{"$f":"_xlfn.XLOOKUP(A2271,'Lighting Prices'!A:A,'Lighting Prices'!E:E)","v":{"$error":"#N/A"}}]
["@LK-DGW-BD92",{"$f":"_xlfn.XLOOKUP(A2272,'Prices Furniture'!A:A,'Prices Furniture'!E:E)","v":704},{"$f":"_xlfn.XLOOKUP(A2272,'Lighting Prices'!A:A,'Lighting Prices'!E:E)","v":{"$error":"#N/A"}}]
["@LK-DGW-BD62I",{"$f":"_xlfn.XLOOKUP(A2273,'Prices Furniture'!A:A,'Prices Furniture'!E:E)","v":869},{"$f":"_xlfn.XLOOKUP(A2273,'Lighting Prices'!A:A,'Lighting Prices'!E:E)","v":{"$error":"#N/A"}}]
["@LK-DGW-BD92I",{"$f":"_xlfn.XLOOKUP(A2274,'Prices Furniture'!A:A,'Prices Furniture'!E:E)","v":905},{"$f":"_xlfn.XLOOKUP(A2274,'Lighting Prices'!A:A,'Lighting Prices'!E:E)","v":{"$error":"#N/A"}}]
["@LK-DGW-BD635L",{"$f":"_xlfn.XLOOKUP(A2275,'Prices Furniture'!A:A,'Prices Furniture'!E:E)","v":389},{"$f":"_xlfn.XLOOKUP(A2275,'Lighting Prices'!A:A,'Lighting Prices'!E:E)","v":{"$error":"#N/A"}}]
["@LK-DGW-W30",{"$f":"_xlfn.XLOOKUP(A2276,'Prices Furniture'!A:A,'Prices Furniture'!E:E)","v":222},{"$f":"_xlfn.XLOOKUP(A2276,'Lighting Prices'!A:A,'Lighting Prices'!E:E)","v":{"$error":"#N/A"}}]
["@LK-DGW-W35",{"$f":"_xlfn.XLOOKUP(A2277,'Prices Furniture'!A:A,'Prices Furniture'!E:E)","v":229},{"$f":"_xlfn.XLOOKUP(A2277,'Lighting Prices'!A:A,'Lighting Prices'!E:E)","v":{"$error":"#N/A"}}]
["@LK-DGW-W40",{"$f":"_xlfn.XLOOKUP(A2278,'Prices Furniture'!A:A,'Prices Furniture'!E:E)","v":236},{"$f":"_xlfn.XLOOKUP(A2278,'Lighting Prices'!A:A,'Lighting Prices'!E:E)","v":{"$error":"#N/A"}}]
["@LK-DGW-W45",{"$f":"_xlfn.XLOOKUP(A2279,'Prices Furniture'!A:A,'Prices Furniture'!E:E)","v":253},{"$f":"_xlfn.XLOOKUP(A2279,'Lighting Prices'!A:A,'Lighting Prices'!E:E)","v":{"$error":"#N/A"}}]
["@LK-DGW-W50",{"$f":"_xlfn.XLOOKUP(A2280,'Prices Furniture'!A:A,'Prices Furniture'!E:E)","v":267},{"$f":"_xlfn.XLOOKUP(A2280,'Lighting Prices'!A:A,'Lighting Prices'!E:E)","v":{"$error":"#N/A"}}]
["@LK-DGW-W60",{"$f":"_xlfn.XLOOKUP(A2281,'Prices Furniture'!A:A,'Prices Furniture'!E:E)","v":291},{"$f":"_xlfn.XLOOKUP(A2281,'Lighting Prices'!A:A,'Lighting Prices'!E:E)","v":{"$error":"#N/A"}}]
["@LK-DGW-W70",{"$f":"_xlfn.XLOOKUP(A2282,'Prices Furniture'!A:A,'Prices Furniture'!E:E)","v":387},{"$f":"_xlfn.XLOOKUP(A2282,'Lighting Prices'!A:A,'Lighting Prices'!E:E)","v":{"$error":"#N/A"}}]
["@LK-DGW-W80",{"$f":"_xlfn.XLOOKUP(A2283,'Prices Furniture'!A:A,'Prices Furniture'!E:E)","v":391},{"$f":"_xlfn.XLOOKUP(A2283,'Lighting Prices'!A:A,'Lighting Prices'!E:E)","v":{"$error":"#N/A"}}]
["@LK-DGW-W90",{"$f":"_xlfn.XLOOKUP(A2284,'Prices Furniture'!A:A,'Prices Furniture'!E:E)","v":411},{"$f":"_xlfn.XLOOKUP(A2284,'Lighting Prices'!A:A,'Lighting Prices'!E:E)","v":{"$error":"#N/A"}}]
["@LK-DGW-W100",{"$f":"_xlfn.XLOOKUP(A2285,'Prices Furniture'!A:A,'Prices Furniture'!E:E)","v":436},{"$f":"_xlfn.XLOOKUP(A2285,'Lighting Prices'!A:A,'Lighting Prices'!E:E)","v":{"$error":"#N/A"}}]
["@LK-DGW-WC6",{"$f":"_xlfn.XLOOKUP(A2286,'Prices Furniture'!A:A,'Prices Furniture'!E:E)","v":310},{"$f":"_xlfn.XLOOKUP(A2286,'Lighting Prices'!A:A,'Lighting Prices'!E:E)","v":{"$error":"#N/A"}}]
["@LK-DGW-WC9",{"$f":"_xlfn.XLOOKUP(A2287,'Prices Furniture'!A:A,'Prices Furniture'!E:E)","v":372},{"$f":"_xlfn.XLOOKUP(A2287,'Lighting Prices'!A:A,'Lighting Prices'!E:E)","v":{"$error":"#N/A"}}]
["@LK-DGW-WCL65",{"$f":"_xlfn.XLOOKUP(A2288,'Prices Furniture'!A:A,'Prices Furniture'!E:E)","v":547},{"$f":"_xlfn.XLOOKUP(A2288,'Lighting Prices'!A:A,'Lighting Prices'!E:E)","v":{"$error":"#N/A"}}]
["@LK-DGW-WM60",{"$f":"_xlfn.XLOOKUP(A2289,'Prices Furniture'!A:A,'Prices Furniture'!E:E)","v":377},{"$f":"_xlfn.XLOOKUP(A2289,'Lighting Prices'!A:A,'Lighting Prices'!E:E)","v":{"$error":"#N/A"}}]
["@LK-DGW-WBHU",{"$f":"_xlfn.XLOOKUP(A2290,'Prices Furniture'!A:A,'Prices Furniture'!E:E)","v":297},{"$f":"_xlfn.XLOOKUP(A2290,'Lighting Prices'!A:A,'Lighting Prices'!E:E)","v":{"$error":"#N/A"}}]
["@LK-DGW-WBI60",{"$f":"_xlfn.XLOOKUP(A2291,'Prices Furniture'!A:A,'Prices Furniture'!E:E)","v":673},{"$f":"_xlfn.XLOOKUP(A2291,'Lighting Prices'!A:A,'Lighting Prices'!E:E)","v":{"$error":"#N/A"}}]
["@LK-DGW-WBI90",{"$f":"_xlfn.XLOOKUP(A2292,'Prices Furniture'!A:A,'Prices Furniture'!E:E)","v":703},{"$f":"_xlfn.XLOOKUP(A2292,'Lighting Prices'!A:A,'Lighting Prices'!E:E)","v":{"$error":"#N/A"}}]
["@LK-DGW-WG5",{"$f":"_xlfn.XLOOKUP(A2293,'Prices Furniture'!A:A,'Prices Furniture'!E:E)","v":265},{"$f":"_xlfn.XLOOKUP(A2293,'Lighting Prices'!A:A,'Lighting Prices'!E:E)","v":{"$error":"#N/A"}}]
["@LK-DGW-WDR50",{"$f":"_xlfn.XLOOKUP(A2294,'Prices Furniture'!A:A,'Prices Furniture'!E:E)","v":624},{"$f":"_xlfn.XLOOKUP(A2294,'Lighting Prices'!A:A,'Lighting Prices'!E:E)","v":{"$error":"#N/A"}}]
["@LK-DGW-WCV",{"$f":"_xlfn.XLOOKUP(A2295,'Prices Furniture'!A:A,'Prices Furniture'!E:E)","v":593},{"$f":"_xlfn.XLOOKUP(A2295,'Lighting Prices'!A:A,'Lighting Prices'!E:E)","v":{"$error":"#N/A"}}]
["@LK-DGW-WB62",{"$f":"_xlfn.XLOOKUP(A2296,'Prices Furniture'!A:A,'Prices Furniture'!E:E)","v":243},{"$f":"_xlfn.XLOOKUP(A2296,'Lighting Prices'!A:A,'Lighting Prices'!E:E)","v":{"$error":"#N/A"}}]
["@LK-DGW-WB82",{"$f":"_xlfn.XLOOKUP(A2297,'Prices Furniture'!A:A,'Prices Furniture'!E:E)","v":285},{"$f":"_xlfn.XLOOKUP(A2297,'Lighting Prices'!A:A,'Lighting Prices'!E:E)","v":{"$error":"#N/A"}}]
["@LK-DGW-WB92",{"$f":"_xlfn.XLOOKUP(A2298,'Prices Furniture'!A:A,'Prices Furniture'!E:E)","v":314},{"$f":"_xlfn.XLOOKUP(A2298,'Lighting Prices'!A:A,'Lighting Prices'!E:E)","v":{"$error":"#N/A"}}]
["@LK-DGW-WB12",{"$f":"_xlfn.XLOOKUP(A2299,'Prices Furniture'!A:A,'Prices Furniture'!E:E)","v":329},{"$f":"_xlfn.XLOOKUP(A2299,'Lighting Prices'!A:A,'Lighting Prices'!E:E)","v":{"$error":"#N/A"}}]
["@LK-DGW-WB63",{"$f":"_xlfn.XLOOKUP(A2300,'Prices Furniture'!A:A,'Prices Furniture'!E:E)","v":300},{"$f":"_xlfn.XLOOKUP(A2300,'Lighting Prices'!A:A,'Lighting Prices'!E:E)","v":{"$error":"#N/A"}}]
["@LK-DGW-WB83",{"$f":"_xlfn.XLOOKUP(A2301,'Prices Furniture'!A:A,'Prices Furniture'!E:E)","v":330},{"$f":"_xlfn.XLOOKUP(A2301,'Lighting Prices'!A:A,'Lighting Prices'!E:E)","v":{"$error":"#N/A"}}]
["@LK-DGW-WB93",{"$f":"_xlfn.XLOOKUP(A2302,'Prices Furniture'!A:A,'Prices Furniture'!E:E)","v":348},{"$f":"_xlfn.XLOOKUP(A2302,'Lighting Prices'!A:A,'Lighting Prices'!E:E)","v":{"$error":"#N/A"}}]
["@LK-DGW-WB13",{"$f":"_xlfn.XLOOKUP(A2303,'Prices Furniture'!A:A,'Prices Furniture'!E:E)","v":353},{"$f":"_xlfn.XLOOKUP(A2303,'Lighting Prices'!A:A,'Lighting Prices'!E:E)","v":{"$error":"#N/A"}}]
["@LK-DGW-AH-F55",{"$f":"_xlfn.XLOOKUP(A2304,'Prices Furniture'!A:A,'Prices Furniture'!E:E)","v":743},{"$f":"_xlfn.XLOOKUP(A2304,'Lighting Prices'!A:A,'Lighting Prices'!E:E)","v":{"$error":"#N/A"}}]
["@LK-DGW-AH-F73",{"$f":"_xlfn.XLOOKUP(A2305,'Prices Furniture'!A:A,'Prices Furniture'!E:E)","v":726},{"$f":"_xlfn.XLOOKUP(A2305,'Lighting Prices'!A:A,'Lighting Prices'!E:E)","v":{"$error":"#N/A"}}]
["@LK-DGW-AH-DO",{"$f":"_xlfn.XLOOKUP(A2306,'Prices Furniture'!A:A,'Prices Furniture'!E:E)","v":723},{"$f":"_xlfn.XLOOKUP(A2306,'Lighting Prices'!A:A,'Lighting Prices'!E:E)","v":{"$error":"#N/A"}}]
["@LK-DGW-AH-DO2D",{"$f":"_xlfn.XLOOKUP(A2307,'Prices Furniture'!A:A,'Prices Furniture'!E:E)","v":1061},{"$f":"_xlfn.XLOOKUP(A2307,'Lighting Prices'!A:A,'Lighting Prices'!E:E)","v":{"$error":"#N/A"}}]
["@LK-DGW-AH-DMW",{"$f":"_xlfn.XLOOKUP(A2308,'Prices Furniture'!A:A,'Prices Furniture'!E:E)","v":945},{"$f":"_xlfn.XLOOKUP(A2308,'Lighting Prices'!A:A,'Lighting Prices'!E:E)","v":{"$error":"#N/A"}}]
["@LK-DGW-AH-SO",{"$f":"_xlfn.XLOOKUP(A2309,'Prices Furniture'!A:A,'Prices Furniture'!E:E)","v":751},{"$f":"_xlfn.XLOOKUP(A2309,'Lighting Prices'!A:A,'Lighting Prices'!E:E)","v":{"$error":"#N/A"}}]
["@LK-DGW-AH-SO1D",{"$f":"_xlfn.XLOOKUP(A2310,'Prices Furniture'!A:A,'Prices Furniture'!E:E)","v":899},{"$f":"_xlfn.XLOOKUP(A2310,'Lighting Prices'!A:A,'Lighting Prices'!E:E)","v":{"$error":"#N/A"}}]
["@LK-DGW-AH-SO2D",{"$f":"_xlfn.XLOOKUP(A2311,'Prices Furniture'!A:A,'Prices Furniture'!E:E)","v":1120},{"$f":"_xlfn.XLOOKUP(A2311,'Lighting Prices'!A:A,'Lighting Prices'!E:E)","v":{"$error":"#N/A"}}]
["@LK-DGW-AH-SO3D",{"$f":"_xlfn.XLOOKUP(A2312,'Prices Furniture'!A:A,'Prices Furniture'!E:E)","v":1273},{"$f":"_xlfn.XLOOKUP(A2312,'Lighting Prices'!A:A,'Lighting Prices'!E:E)","v":{"$error":"#N/A"}}]
["@LK-DGW-AH-SMW",{"$f":"_xlfn.XLOOKUP(A2313,'Prices Furniture'!A:A,'Prices Furniture'!E:E)","v":798},{"$f":"_xlfn.XLOOKUP(A2313,'Lighting Prices'!A:A,'Lighting Prices'!E:E)","v":{"$error":"#N/A"}}]
["@LK-DGW-AH-SM2D",{"$f":"_xlfn.XLOOKUP(A2314,'Prices Furniture'!A:A,'Prices Furniture'!E:E)","v":1090},{"$f":"_xlfn.XLOOKUP(A2314,'Lighting Prices'!A:A,'Lighting Prices'!E:E)","v":{"$error":"#N/A"}}]
["@LK-DGW-AH-CO",{"$f":"_xlfn.XLOOKUP(A2315,'Prices Furniture'!A:A,'Prices Furniture'!E:E)","v":835},{"$f":"_xlfn.XLOOKUP(A2315,'Lighting Prices'!A:A,'Lighting Prices'!E:E)","v":{"$error":"#N/A"}}]
["@LK-DGW-BOH6",{"$f":"_xlfn.XLOOKUP(A2316,'Prices Furniture'!A:A,'Prices Furniture'!E:E)","v":209},{"$f":"_xlfn.XLOOKUP(A2316,'Lighting Prices'!A:A,'Lighting Prices'!E:E)","v":{"$error":"#N/A"}}]
["@LK-DGW-BOHD6",{"$f":"_xlfn.XLOOKUP(A2317,'Prices Furniture'!A:A,'Prices Furniture'!E:E)","v":322},{"$f":"_xlfn.XLOOKUP(A2317,'Lighting Prices'!A:A,'Lighting Prices'!E:E)","v":{"$error":"#N/A"}}]
["@LK-DGW-L3",{"$f":"_xlfn.XLOOKUP(A2318,'Prices Furniture'!A:A,'Prices Furniture'!E:E)","v":678},{"$f":"_xlfn.XLOOKUP(A2318,'Lighting Prices'!A:A,'Lighting Prices'!E:E)","v":{"$error":"#N/A"}}]
["@LK-DGW-L4",{"$f":"_xlfn.XLOOKUP(A2319,'Prices Furniture'!A:A,'Prices Furniture'!E:E)","v":708},{"$f":"_xlfn.XLOOKUP(A2319,'Lighting Prices'!A:A,'Lighting Prices'!E:E)","v":{"$error":"#N/A"}}]
["@LK-DGW-L5",{"$f":"_xlfn.XLOOKUP(A2320,'Prices Furniture'!A:A,'Prices Furniture'!E:E)","v":737},{"$f":"_xlfn.XLOOKUP(A2320,'Lighting Prices'!A:A,'Lighting Prices'!E:E)","v":{"$error":"#N/A"}}]
["@LK-DGW-L6",{"$f":"_xlfn.XLOOKUP(A2321,'Prices Furniture'!A:A,'Prices Furniture'!E:E)","v":809},{"$f":"_xlfn.XLOOKUP(A2321,'Lighting Prices'!A:A,'Lighting Prices'!E:E)","v":{"$error":"#N/A"}}]
["@LK-DGW-LP3",{"$f":"_xlfn.XLOOKUP(A2322,'Prices Furniture'!A:A,'Prices Furniture'!E:E)","v":1465},{"$f":"_xlfn.XLOOKUP(A2322,'Lighting Prices'!A:A,'Lighting Prices'!E:E)","v":{"$error":"#N/A"}}]
["@LK-DGW-LT3",{"$f":"_xlfn.XLOOKUP(A2323,'Prices Furniture'!A:A,'Prices Furniture'!E:E)","v":1779},{"$f":"_xlfn.XLOOKUP(A2323,'Lighting Prices'!A:A,'Lighting Prices'!E:E)","v":{"$error":"#N/A"}}]
["@LK-DGW-LT5",{"$f":"_xlfn.XLOOKUP(A2324,'Prices Furniture'!A:A,'Prices Furniture'!E:E)","v":1906},{"$f":"_xlfn.XLOOKUP(A2324,'Lighting Prices'!A:A,'Lighting Prices'!E:E)","v":{"$error":"#N/A"}}]
["@LK-DGW-LT6",{"$f":"_xlfn.XLOOKUP(A2325,'Prices Furniture'!A:A,'Prices Furniture'!E:E)","v":2044},{"$f":"_xlfn.XLOOKUP(A2325,'Lighting Prices'!A:A,'Lighting Prices'!E:E)","v":{"$error":"#N/A"}}]
["@LK-DGW-LP6T",{"$f":"_xlfn.XLOOKUP(A2326,'Prices Furniture'!A:A,'Prices Furniture'!E:E)","v":1995},{"$f":"_xlfn.XLOOKUP(A2326,'Lighting Prices'!A:A,'Lighting Prices'!E:E)","v":{"$error":"#N/A"}}]
["@LK-DGW-LP5TS",{"$f":"_xlfn.XLOOKUP(A2327,'Prices Furniture'!A:A,'Prices Furniture'!E:E)","v":1671},{"$f":"_xlfn.XLOOKUP(A2327,'Lighting Prices'!A:A,'Lighting Prices'!E:E)","v":{"$error":"#N/A"}}]
["@LK-DGW-LP6TS",{"$f":"_xlfn.XLOOKUP(A2328,'Prices Furniture'!A:A,'Prices Furniture'!E:E)","v":1796},{"$f":"_xlfn.XLOOKUP(A2328,'Lighting Prices'!A:A,'Lighting Prices'!E:E)","v":{"$error":"#N/A"}}]
["@LK-DGW-TLP3",{"$f":"_xlfn.XLOOKUP(A2329,'Prices Furniture'!A:A,'Prices Furniture'!E:E)","v":1501},{"$f":"_xlfn.XLOOKUP(A2329,'Lighting Prices'!A:A,'Lighting Prices'!E:E)","v":{"$error":"#N/A"}}]
["@LK-DGW-TLT3",{"$f":"_xlfn.XLOOKUP(A2330,'Prices Furniture'!A:A,'Prices Furniture'!E:E)","v":1815},{"$f":"_xlfn.XLOOKUP(A2330,'Lighting Prices'!A:A,'Lighting Prices'!E:E)","v":{"$error":"#N/A"}}]
["@LK-DGW-TLT5",{"$f":"_xlfn.XLOOKUP(A2331,'Prices Furniture'!A:A,'Prices Furniture'!E:E)","v":1942},{"$f":"_xlfn.XLOOKUP(A2331,'Lighting Prices'!A:A,'Lighting Prices'!E:E)","v":{"$error":"#N/A"}}]
["@LK-DGW-TLT6",{"$f":"_xlfn.XLOOKUP(A2332,'Prices Furniture'!A:A,'Prices Furniture'!E:E)","v":2063},{"$f":"_xlfn.XLOOKUP(A2332,'Lighting Prices'!A:A,'Lighting Prices'!E:E)","v":{"$error":"#N/A"}}]
["@LK-DGW-TLP6T",{"$f":"_xlfn.XLOOKUP(A2333,'Prices Furniture'!A:A,'Prices Furniture'!E:E)","v":2014},{"$f":"_xlfn.XLOOKUP(A2333,'Lighting Prices'!A:A,'Lighting Prices'!E:E)","v":{"$error":"#N/A"}}]
["@LK-DGW-TLP5TS",{"$f":"_xlfn.XLOOKUP(A2334,'Prices Furniture'!A:A,'Prices Furniture'!E:E)","v":1707},{"$f":"_xlfn.XLOOKUP(A2334,'Lighting Prices'!A:A,'Lighting Prices'!E:E)","v":{"$error":"#N/A"}}]
["@LK-DGW-TLP6TS",{"$f":"_xlfn.XLOOKUP(A2335,'Prices Furniture'!A:A,'Prices Furniture'!E:E)","v":1815},{"$f":"_xlfn.XLOOKUP(A2335,'Lighting Prices'!A:A,'Lighting Prices'!E:E)","v":{"$error":"#N/A"}}]
["@LK-DGW-LAC",{"$f":"_xlfn.XLOOKUP(A2336,'Prices Furniture'!A:A,'Prices Furniture'!E:E)","v":2099},{"$f":"_xlfn.XLOOKUP(A2336,'Lighting Prices'!A:A,'Lighting Prices'!E:E)","v":{"$error":"#N/A"}}]
["@LK-DGW-TLAC",{"$f":"_xlfn.XLOOKUP(A2337,'Prices Furniture'!A:A,'Prices Furniture'!E:E)","v":2477},{"$f":"_xlfn.XLOOKUP(A2337,'Lighting Prices'!A:A,'Lighting Prices'!E:E)","v":{"$error":"#N/A"}}]
["@LK-DGW-LBP10",{"$f":"_xlfn.XLOOKUP(A2338,'Prices Furniture'!A:A,'Prices Furniture'!E:E)","v":2169},{"$f":"_xlfn.XLOOKUP(A2338,'Lighting Prices'!A:A,'Lighting Prices'!E:E)","v":{"$error":"#N/A"}}]
["@LK-DGW-TLBP10",{"$f":"_xlfn.XLOOKUP(A2339,'Prices Furniture'!A:A,'Prices Furniture'!E:E)","v":2276},{"$f":"_xlfn.XLOOKUP(A2339,'Lighting Prices'!A:A,'Lighting Prices'!E:E)","v":{"$error":"#N/A"}}]
["@LK-DGW-LPN14D",{"$f":"_xlfn.XLOOKUP(A2340,'Prices Furniture'!A:A,'Prices Furniture'!E:E)","v":1152},{"$f":"_xlfn.XLOOKUP(A2340,'Lighting Prices'!A:A,'Lighting Prices'!E:E)","v":{"$error":"#N/A"}}]
["@LK-DGW-LPN14D1DW",{"$f":"_xlfn.XLOOKUP(A2341,'Prices Furniture'!A:A,'Prices Furniture'!E:E)","v":1410},{"$f":"_xlfn.XLOOKUP(A2341,'Lighting Prices'!A:A,'Lighting Prices'!E:E)","v":{"$error":"#N/A"}}]
["@LK-DGW-LPN12D3DW",{"$f":"_xlfn.XLOOKUP(A2342,'Prices Furniture'!A:A,'Prices Furniture'!E:E)","v":1551},{"$f":"_xlfn.XLOOKUP(A2342,'Lighting Prices'!A:A,'Lighting Prices'!E:E)","v":{"$error":"#N/A"}}]
["@LK-DGW-LPN12D2DW",{"$f":"_xlfn.XLOOKUP(A2343,'Prices Furniture'!A:A,'Prices Furniture'!E:E)","v":1414},{"$f":"_xlfn.XLOOKUP(A2343,'Lighting Prices'!A:A,'Lighting Prices'!E:E)","v":{"$error":"#N/A"}}]
["@LK-DGW-LBC15",{"$f":"_xlfn.XLOOKUP(A2344,'Prices Furniture'!A:A,'Prices Furniture'!E:E)","v":958},{"$f":"_xlfn.XLOOKUP(A2344,'Lighting Prices'!A:A,'Lighting Prices'!E:E)","v":{"$error":"#N/A"}}]
["@LK-DGW-LBC16",{"$f":"_xlfn.XLOOKUP(A2345,'Prices Furniture'!A:A,'Prices Furniture'!E:E)","v":985},{"$f":"_xlfn.XLOOKUP(A2345,'Lighting Prices'!A:A,'Lighting Prices'!E:E)","v":{"$error":"#N/A"}}]
["@LK-DGW-LBCLM15L",{"$f":"_xlfn.XLOOKUP(A2346,'Prices Furniture'!A:A,'Prices Furniture'!E:E)","v":2796},{"$f":"_xlfn.XLOOKUP(A2346,'Lighting Prices'!A:A,'Lighting Prices'!E:E)","v":{"$error":"#N/A"}}]
["@LK-DGW-LBCLM15R",{"$f":"_xlfn.XLOOKUP(A2347,'Prices Furniture'!A:A,'Prices Furniture'!E:E)","v":2796},{"$f":"_xlfn.XLOOKUP(A2347,'Lighting Prices'!A:A,'Lighting Prices'!E:E)","v":{"$error":"#N/A"}}]
["@LK-DGW-LBCLM16L",{"$f":"_xlfn.XLOOKUP(A2348,'Prices Furniture'!A:A,'Prices Furniture'!E:E)","v":2949},{"$f":"_xlfn.XLOOKUP(A2348,'Lighting Prices'!A:A,'Lighting Prices'!E:E)","v":{"$error":"#N/A"}}]
["@LK-DGW-LBCLM16R",{"$f":"_xlfn.XLOOKUP(A2349,'Prices Furniture'!A:A,'Prices Furniture'!E:E)","v":2949},{"$f":"_xlfn.XLOOKUP(A2349,'Lighting Prices'!A:A,'Lighting Prices'!E:E)","v":{"$error":"#N/A"}}]
["@LK-DGW-TLPN14D",{"$f":"_xlfn.XLOOKUP(A2350,'Prices Furniture'!A:A,'Prices Furniture'!E:E)","v":1323},{"$f":"_xlfn.XLOOKUP(A2350,'Lighting Prices'!A:A,'Lighting Prices'!E:E)","v":{"$error":"#N/A"}}]
["@LK-DGW-TLBC15",{"$f":"_xlfn.XLOOKUP(A2351,'Prices Furniture'!A:A,'Prices Furniture'!E:E)","v":1112},{"$f":"_xlfn.XLOOKUP(A2351,'Lighting Prices'!A:A,'Lighting Prices'!E:E)","v":{"$error":"#N/A"}}]
["@LK-DGW-TLBC16",{"$f":"_xlfn.XLOOKUP(A2352,'Prices Furniture'!A:A,'Prices Furniture'!E:E)","v":1122},{"$f":"_xlfn.XLOOKUP(A2352,'Lighting Prices'!A:A,'Lighting Prices'!E:E)","v":{"$error":"#N/A"}}]
["@LK-DGW-TLBCLM15L",{"$f":"_xlfn.XLOOKUP(A2353,'Prices Furniture'!A:A,'Prices Furniture'!E:E)","v":2950},{"$f":"_xlfn.XLOOKUP(A2353,'Lighting Prices'!A:A,'Lighting Prices'!E:E)","v":{"$error":"#N/A"}}]
["@LK-DGW-TLBCLM15R",{"$f":"_xlfn.XLOOKUP(A2354,'Prices Furniture'!A:A,'Prices Furniture'!E:E)","v":2950},{"$f":"_xlfn.XLOOKUP(A2354,'Lighting Prices'!A:A,'Lighting Prices'!E:E)","v":{"$error":"#N/A"}}]
["@LK-DGW-TLBCLM16L",{"$f":"_xlfn.XLOOKUP(A2355,'Prices Furniture'!A:A,'Prices Furniture'!E:E)","v":3086},{"$f":"_xlfn.XLOOKUP(A2355,'Lighting Prices'!A:A,'Lighting Prices'!E:E)","v":{"$error":"#N/A"}}]
["@LK-DGW-TLBCLM16R",{"$f":"_xlfn.XLOOKUP(A2356,'Prices Furniture'!A:A,'Prices Furniture'!E:E)","v":3086},{"$f":"_xlfn.XLOOKUP(A2356,'Lighting Prices'!A:A,'Lighting Prices'!E:E)","v":{"$error":"#N/A"}}]
["@LK-DGW-LL6EA",{"$f":"_xlfn.XLOOKUP(A2357,'Prices Furniture'!A:A,'Prices Furniture'!E:E)","v":851},{"$f":"_xlfn.XLOOKUP(A2357,'Lighting Prices'!A:A,'Lighting Prices'!E:E)","v":{"$error":"#N/A"}}]
["@LK-DGW-LL6CU",{"$f":"_xlfn.XLOOKUP(A2358,'Prices Furniture'!A:A,'Prices Furniture'!E:E)","v":801},{"$f":"_xlfn.XLOOKUP(A2358,'Lighting Prices'!A:A,'Lighting Prices'!E:E)","v":{"$error":"#N/A"}}]
["@LK-DGW-LL10CU",{"$f":"_xlfn.XLOOKUP(A2359,'Prices Furniture'!A:A,'Prices Furniture'!E:E)","v":1263},{"$f":"_xlfn.XLOOKUP(A2359,'Lighting Prices'!A:A,'Lighting Prices'!E:E)","v":{"$error":"#N/A"}}]
["@LK-DGW-LL10CUS",{"$f":"_xlfn.XLOOKUP(A2360,'Prices Furniture'!A:A,'Prices Furniture'!E:E)","v":1362},{"$f":"_xlfn.XLOOKUP(A2360,'Lighting Prices'!A:A,'Lighting Prices'!E:E)","v":{"$error":"#N/A"}}]
["@LK-DGW-LL10CB",{"$f":"_xlfn.XLOOKUP(A2361,'Prices Furniture'!A:A,'Prices Furniture'!E:E)","v":1273},{"$f":"_xlfn.XLOOKUP(A2361,'Lighting Prices'!A:A,'Lighting Prices'!E:E)","v":{"$error":"#N/A"}}]
["@LK-DGW-TLL6EA",{"$f":"_xlfn.XLOOKUP(A2362,'Prices Furniture'!A:A,'Prices Furniture'!E:E)","v":946},{"$f":"_xlfn.XLOOKUP(A2362,'Lighting Prices'!A:A,'Lighting Prices'!E:E)","v":{"$error":"#N/A"}}]
["@LK-DGW-TLL6CU",{"$f":"_xlfn.XLOOKUP(A2363,'Prices Furniture'!A:A,'Prices Furniture'!E:E)","v":896},{"$f":"_xlfn.XLOOKUP(A2363,'Lighting Prices'!A:A,'Lighting Prices'!E:E)","v":{"$error":"#N/A"}}]
["@LK-DGW-TLL10CU",{"$f":"_xlfn.XLOOKUP(A2364,'Prices Furniture'!A:A,'Prices Furniture'!E:E)","v":1434},{"$f":"_xlfn.XLOOKUP(A2364,'Lighting Prices'!A:A,'Lighting Prices'!E:E)","v":{"$error":"#N/A"}}]
["@LK-DGW-TLL10CUS",{"$f":"_xlfn.XLOOKUP(A2365,'Prices Furniture'!A:A,'Prices Furniture'!E:E)","v":1533},{"$f":"_xlfn.XLOOKUP(A2365,'Lighting Prices'!A:A,'Lighting Prices'!E:E)","v":{"$error":"#N/A"}}]
["@LK-DGW-TLL10CB",{"$f":"_xlfn.XLOOKUP(A2366,'Prices Furniture'!A:A,'Prices Furniture'!E:E)","v":1444},{"$f":"_xlfn.XLOOKUP(A2366,'Lighting Prices'!A:A,'Lighting Prices'!E:E)","v":{"$error":"#N/A"}}]
["@LK-DGW-AD60ICH",{"$f":"_xlfn.XLOOKUP(A2367,'Prices Furniture'!A:A,'Prices Furniture'!E:E)","v":96},{"$f":"_xlfn.XLOOKUP(A2367,'Lighting Prices'!A:A,'Lighting Prices'!E:E)","v":{"$error":"#N/A"}}]
["@LK-DGW-AD60FD",{"$f":"_xlfn.XLOOKUP(A2368,'Prices Furniture'!A:A,'Prices Furniture'!E:E)","v":132},{"$f":"_xlfn.XLOOKUP(A2368,'Lighting Prices'!A:A,'Lighting Prices'!E:E)","v":{"$error":"#N/A"}}]
["@LK-DGW-AD45I",{"$f":"_xlfn.XLOOKUP(A2369,'Prices Furniture'!A:A,'Prices Furniture'!E:E)","v":108},{"$f":"_xlfn.XLOOKUP(A2369,'Lighting Prices'!A:A,'Lighting Prices'!E:E)","v":{"$error":"#N/A"}}]
["@LK-DGW-AD60S",{"$f":"_xlfn.XLOOKUP(A2370,'Prices Furniture'!A:A,'Prices Furniture'!E:E)","v":122},{"$f":"_xlfn.XLOOKUP(A2370,'Lighting Prices'!A:A,'Lighting Prices'!E:E)","v":{"$error":"#N/A"}}]
["@LK-DGW-BLD9",{"$f":"_xlfn.XLOOKUP(A2371,'Prices Furniture'!A:A,'Prices Furniture'!E:E)","v":148},{"$f":"_xlfn.XLOOKUP(A2371,'Lighting Prices'!A:A,'Lighting Prices'!E:E)","v":{"$error":"#N/A"}}]
["@LK-DGW-TW30",{"$f":"_xlfn.XLOOKUP(A2372,'Prices Furniture'!A:A,'Prices Furniture'!E:E)","v":272},{"$f":"_xlfn.XLOOKUP(A2372,'Lighting Prices'!A:A,'Lighting Prices'!E:E)","v":{"$error":"#N/A"}}]
["@LK-DGW-TW40",{"$f":"_xlfn.XLOOKUP(A2373,'Prices Furniture'!A:A,'Prices Furniture'!E:E)","v":289},{"$f":"_xlfn.XLOOKUP(A2373,'Lighting Prices'!A:A,'Lighting Prices'!E:E)","v":{"$error":"#N/A"}}]
["@LK-DGW-TW45",{"$f":"_xlfn.XLOOKUP(A2374,'Prices Furniture'!A:A,'Prices Furniture'!E:E)","v":300},{"$f":"_xlfn.XLOOKUP(A2374,'Lighting Prices'!A:A,'Lighting Prices'!E:E)","v":{"$error":"#N/A"}}]
["@LK-DGW-TW50",{"$f":"_xlfn.XLOOKUP(A2375,'Prices Furniture'!A:A,'Prices Furniture'!E:E)","v":319},{"$f":"_xlfn.XLOOKUP(A2375,'Lighting Prices'!A:A,'Lighting Prices'!E:E)","v":{"$error":"#N/A"}}]
["@LK-DGW-TW60",{"$f":"_xlfn.XLOOKUP(A2376,'Prices Furniture'!A:A,'Prices Furniture'!E:E)","v":327},{"$f":"_xlfn.XLOOKUP(A2376,'Lighting Prices'!A:A,'Lighting Prices'!E:E)","v":{"$error":"#N/A"}}]
["@LK-DGW-TW80",{"$f":"_xlfn.XLOOKUP(A2377,'Prices Furniture'!A:A,'Prices Furniture'!E:E)","v":460},{"$f":"_xlfn.XLOOKUP(A2377,'Lighting Prices'!A:A,'Lighting Prices'!E:E)","v":{"$error":"#N/A"}}]
["@LK-DGW-TW90",{"$f":"_xlfn.XLOOKUP(A2378,'Prices Furniture'!A:A,'Prices Furniture'!E:E)","v":474},{"$f":"_xlfn.XLOOKUP(A2378,'Lighting Prices'!A:A,'Lighting Prices'!E:E)","v":{"$error":"#N/A"}}]
["@LK-DGW-TW100",{"$f":"_xlfn.XLOOKUP(A2379,'Prices Furniture'!A:A,'Prices Furniture'!E:E)","v":502},{"$f":"_xlfn.XLOOKUP(A2379,'Lighting Prices'!A:A,'Lighting Prices'!E:E)","v":{"$error":"#N/A"}}]
["@LK-DGW-TWC6",{"$f":"_xlfn.XLOOKUP(A2380,'Prices Furniture'!A:A,'Prices Furniture'!E:E)","v":378},{"$f":"_xlfn.XLOOKUP(A2380,'Lighting Prices'!A:A,'Lighting Prices'!E:E)","v":{"$error":"#N/A"}}]
["@LK-DGW-TWC9",{"$f":"_xlfn.XLOOKUP(A2381,'Prices Furniture'!A:A,'Prices Furniture'!E:E)","v":422},{"$f":"_xlfn.XLOOKUP(A2381,'Lighting Prices'!A:A,'Lighting Prices'!E:E)","v":{"$error":"#N/A"}}]
["@LK-DGW-TAH-F55",{"$f":"_xlfn.XLOOKUP(A2382,'Prices Furniture'!A:A,'Prices Furniture'!E:E)","v":788},{"$f":"_xlfn.XLOOKUP(A2382,'Lighting Prices'!A:A,'Lighting Prices'!E:E)","v":{"$error":"#N/A"}}]
["@LK-DGW-TAH-F73",{"$f":"_xlfn.XLOOKUP(A2383,'Prices Furniture'!A:A,'Prices Furniture'!E:E)","v":806},{"$f":"_xlfn.XLOOKUP(A2383,'Lighting Prices'!A:A,'Lighting Prices'!E:E)","v":{"$error":"#N/A"}}]
["@LK-DGW-TAH-DO",{"$f":"_xlfn.XLOOKUP(A2384,'Prices Furniture'!A:A,'Prices Furniture'!E:E)","v":849},{"$f":"_xlfn.XLOOKUP(A2384,'Lighting Prices'!A:A,'Lighting Prices'!E:E)","v":{"$error":"#N/A"}}]
["@LK-DGW-TAH-DO2D",{"$f":"_xlfn.XLOOKUP(A2385,'Prices Furniture'!A:A,'Prices Furniture'!E:E)","v":1169},{"$f":"_xlfn.XLOOKUP(A2385,'Lighting Prices'!A:A,'Lighting Prices'!E:E)","v":{"$error":"#N/A"}}]
["@LK-DGW-TAH-SO",{"$f":"_xlfn.XLOOKUP(A2386,'Prices Furniture'!A:A,'Prices Furniture'!E:E)","v":854},{"$f":"_xlfn.XLOOKUP(A2386,'Lighting Prices'!A:A,'Lighting Prices'!E:E)","v":{"$error":"#N/A"}}]
["@LK-DGW-TAH-SO2D",{"$f":"_xlfn.XLOOKUP(A2387,'Prices Furniture'!A:A,'Prices Furniture'!E:E)","v":1228},{"$f":"_xlfn.XLOOKUP(A2387,'Lighting Prices'!A:A,'Lighting Prices'!E:E)","v":{"$error":"#N/A"}}]
["@LK-DGW-TAH-SMW",{"$f":"_xlfn.XLOOKUP(A2388,'Prices Furniture'!A:A,'Prices Furniture'!E:E)","v":843},{"$f":"_xlfn.XLOOKUP(A2388,'Lighting Prices'!A:A,'Lighting Prices'!E:E)","v":{"$error":"#N/A"}}]
["@LK-DGW-TAH-CO",{"$f":"_xlfn.XLOOKUP(A2389,'Prices Furniture'!A:A,'Prices Furniture'!E:E)","v":849},{"$f":"_xlfn.XLOOKUP(A2389,'Lighting Prices'!A:A,'Lighting Prices'!E:E)","v":{"$error":"#N/A"}}]
["@LK-DGW-TL3",{"$f":"_xlfn.XLOOKUP(A2390,'Prices Furniture'!A:A,'Prices Furniture'!E:E)","v":714},{"$f":"_xlfn.XLOOKUP(A2390,'Lighting Prices'!A:A,'Lighting Prices'!E:E)","v":{"$error":"#N/A"}}]
["@LK-DGW-TL4",{"$f":"_xlfn.XLOOKUP(A2391,'Prices Furniture'!A:A,'Prices Furniture'!E:E)","v":745},{"$f":"_xlfn.XLOOKUP(A2391,'Lighting Prices'!A:A,'Lighting Prices'!E:E)","v":{"$error":"#N/A"}}]
["@LK-DGW-TL5",{"$f":"_xlfn.XLOOKUP(A2392,'Prices Furniture'!A:A,'Prices Furniture'!E:E)","v":773},{"$f":"_xlfn.XLOOKUP(A2392,'Lighting Prices'!A:A,'Lighting Prices'!E:E)","v":{"$error":"#N/A"}}]
["@LK-DGW-TL6",{"$f":"_xlfn.XLOOKUP(A2393,'Prices Furniture'!A:A,'Prices Furniture'!E:E)","v":828},{"$f":"_xlfn.XLOOKUP(A2393,'Lighting Prices'!A:A,'Lighting Prices'!E:E)","v":{"$error":"#N/A"}}]
["@LK-DGW-MANTLE",{"$f":"_xlfn.XLOOKUP(A2394,'Prices Furniture'!A:A,'Prices Furniture'!E:E)","v":1910},{"$f":"_xlfn.XLOOKUP(A2394,'Lighting Prices'!A:A,'Lighting Prices'!E:E)","v":{"$error":"#N/A"}}]
["@LK-DGW-CH-SO",{"$f":"_xlfn.XLOOKUP(A2395,'Prices Furniture'!A:A,'Prices Furniture'!E:E)","v":656},{"$f":"_xlfn.XLOOKUP(A2395,'Lighting Prices'!A:A,'Lighting Prices'!E:E)","v":{"$error":"#N/A"}}]
["@LK-DGW-CH-MW",{"$f":"_xlfn.XLOOKUP(A2396,'Prices Furniture'!A:A,'Prices Furniture'!E:E)","v":705},{"$f":"_xlfn.XLOOKUP(A2396,'Lighting Prices'!A:A,'Lighting Prices'!E:E)","v":{"$error":"#N/A"}}]
["@LK-DGW-CH-ST",{"$f":"_xlfn.XLOOKUP(A2397,'Prices Furniture'!A:A,'Prices Furniture'!E:E)","v":897},{"$f":"_xlfn.XLOOKUP(A2397,'Lighting Prices'!A:A,'Lighting Prices'!E:E)","v":{"$error":"#N/A"}}]
["@LK-DGW-TCH-SO",{"$f":"_xlfn.XLOOKUP(A2398,'Prices Furniture'!A:A,'Prices Furniture'!E:E)","v":858},{"$f":"_xlfn.XLOOKUP(A2398,'Lighting Prices'!A:A,'Lighting Prices'!E:E)","v":{"$error":"#N/A"}}]
["@LK-DGW-TCH-MW",{"$f":"_xlfn.XLOOKUP(A2399,'Prices Furniture'!A:A,'Prices Furniture'!E:E)","v":794},{"$f":"_xlfn.XLOOKUP(A2399,'Lighting Prices'!A:A,'Lighting Prices'!E:E)","v":{"$error":"#N/A"}}]
["@LK-DGW-TCH-ST",{"$f":"_xlfn.XLOOKUP(A2400,'Prices Furniture'!A:A,'Prices Furniture'!E:E)","v":945},{"$f":"_xlfn.XLOOKUP(A2400,'Lighting Prices'!A:A,'Lighting Prices'!E:E)","v":{"$error":"#N/A"}}]
["@LK-DGW-AH-SOT",{"$f":"_xlfn.XLOOKUP(A2401,'Prices Furniture'!A:A,'Prices Furniture'!E:E)","v":889},{"$f":"_xlfn.XLOOKUP(A2401,'Lighting Prices'!A:A,'Lighting Prices'!E:E)","v":{"$error":"#N/A"}}]
["@LK-DGW-TAH-SOT",{"$f":"_xlfn.XLOOKUP(A2402,'Prices Furniture'!A:A,'Prices Furniture'!E:E)","v":716},{"$f":"_xlfn.XLOOKUP(A2402,'Lighting Prices'!A:A,'Lighting Prices'!E:E)","v":{"$error":"#N/A"}}]
["@LK-DGW-LP4",{"$f":"_xlfn.XLOOKUP(A2403,'Prices Furniture'!A:A,'Prices Furniture'!E:E)","v":1619},{"$f":"_xlfn.XLOOKUP(A2403,'Lighting Prices'!A:A,'Lighting Prices'!E:E)","v":{"$error":"#N/A"}}]
["@LK-DGW-TLP4",{"$f":"_xlfn.XLOOKUP(A2404,'Prices Furniture'!A:A,'Prices Furniture'!E:E)","v":1656},{"$f":"_xlfn.XLOOKUP(A2404,'Lighting Prices'!A:A,'Lighting Prices'!E:E)","v":{"$error":"#N/A"}}]
["@LK-DGW-LP5T",{"$f":"_xlfn.XLOOKUP(A2405,'Prices Furniture'!A:A,'Prices Furniture'!E:E)","v":1929},{"$f":"_xlfn.XLOOKUP(A2405,'Lighting Prices'!A:A,'Lighting Prices'!E:E)","v":{"$error":"#N/A"}}]
["@LK-DGW-TLP5T",{"$f":"_xlfn.XLOOKUP(A2406,'Prices Furniture'!A:A,'Prices Furniture'!E:E)","v":1965},{"$f":"_xlfn.XLOOKUP(A2406,'Lighting Prices'!A:A,'Lighting Prices'!E:E)","v":{"$error":"#N/A"}}]
["@LK-DGW-LL8LS",{"$f":"_xlfn.XLOOKUP(A2407,'Prices Furniture'!A:A,'Prices Furniture'!E:E)","v":1402},{"$f":"_xlfn.XLOOKUP(A2407,'Lighting Prices'!A:A,'Lighting Prices'!E:E)","v":{"$error":"#N/A"}}]
["@LK-DGW-TLL8LS",{"$f":"_xlfn.XLOOKUP(A2408,'Prices Furniture'!A:A,'Prices Furniture'!E:E)","v":1575},{"$f":"_xlfn.XLOOKUP(A2408,'Lighting Prices'!A:A,'Lighting Prices'!E:E)","v":{"$error":"#N/A"}}]
["@LK-DGW-W357",{"$f":"_xlfn.XLOOKUP(A2409,'Prices Furniture'!A:A,'Prices Furniture'!E:E)","v":249},{"$f":"_xlfn.XLOOKUP(A2409,'Lighting Prices'!A:A,'Lighting Prices'!E:E)","v":{"$error":"#N/A"}}]
["@LK-DGW-W457",{"$f":"_xlfn.XLOOKUP(A2410,'Prices Furniture'!A:A,'Prices Furniture'!E:E)","v":263},{"$f":"_xlfn.XLOOKUP(A2410,'Lighting Prices'!A:A,'Lighting Prices'!E:E)","v":{"$error":"#N/A"}}]
["@LK-DGW-W4557",{"$f":"_xlfn.XLOOKUP(A2411,'Prices Furniture'!A:A,'Prices Furniture'!E:E)","v":278},{"$f":"_xlfn.XLOOKUP(A2411,'Lighting Prices'!A:A,'Lighting Prices'!E:E)","v":{"$error":"#N/A"}}]
["@LK-DGW-W557",{"$f":"_xlfn.XLOOKUP(A2412,'Prices Furniture'!A:A,'Prices Furniture'!E:E)","v":292},{"$f":"_xlfn.XLOOKUP(A2412,'Lighting Prices'!A:A,'Lighting Prices'!E:E)","v":{"$error":"#N/A"}}]
["@LK-DGW-W657",{"$f":"_xlfn.XLOOKUP(A2413,'Prices Furniture'!A:A,'Prices Furniture'!E:E)","v":281},{"$f":"_xlfn.XLOOKUP(A2413,'Lighting Prices'!A:A,'Lighting Prices'!E:E)","v":{"$error":"#N/A"}}]
["@LK-DGW-W857",{"$f":"_xlfn.XLOOKUP(A2414,'Prices Furniture'!A:A,'Prices Furniture'!E:E)","v":445},{"$f":"_xlfn.XLOOKUP(A2414,'Lighting Prices'!A:A,'Lighting Prices'!E:E)","v":{"$error":"#N/A"}}]
["@LK-DGW-W957",{"$f":"_xlfn.XLOOKUP(A2415,'Prices Furniture'!A:A,'Prices Furniture'!E:E)","v":461},{"$f":"_xlfn.XLOOKUP(A2415,'Lighting Prices'!A:A,'Lighting Prices'!E:E)","v":{"$error":"#N/A"}}]
["@LK-DGW-W157",{"$f":"_xlfn.XLOOKUP(A2416,'Prices Furniture'!A:A,'Prices Furniture'!E:E)","v":486},{"$f":"_xlfn.XLOOKUP(A2416,'Lighting Prices'!A:A,'Lighting Prices'!E:E)","v":{"$error":"#N/A"}}]
["@LK-DGW-WC657",{"$f":"_xlfn.XLOOKUP(A2417,'Prices Furniture'!A:A,'Prices Furniture'!E:E)","v":396},{"$f":"_xlfn.XLOOKUP(A2417,'Lighting Prices'!A:A,'Lighting Prices'!E:E)","v":{"$error":"#N/A"}}]
["@LK-DGW-WC957",{"$f":"_xlfn.XLOOKUP(A2418,'Prices Furniture'!A:A,'Prices Furniture'!E:E)","v":421},{"$f":"_xlfn.XLOOKUP(A2418,'Lighting Prices'!A:A,'Lighting Prices'!E:E)","v":{"$error":"#N/A"}}]
["@LK-DGW-BHD3",{"$f":"_xlfn.XLOOKUP(A2419,'Prices Furniture'!A:A,'Prices Furniture'!E:E)","v":629},{"$f":"_xlfn.XLOOKUP(A2419,'Lighting Prices'!A:A,'Lighting Prices'!E:E)","v":{"$error":"#N/A"}}]
["@LK-DGW-BHD4",{"$f":"_xlfn.XLOOKUP(A2420,'Prices Furniture'!A:A,'Prices Furniture'!E:E)","v":678},{"$f":"_xlfn.XLOOKUP(A2420,'Lighting Prices'!A:A,'Lighting Prices'!E:E)","v":{"$error":"#N/A"}}]
["@LK-DGW-BHD5",{"$f":"_xlfn.XLOOKUP(A2421,'Prices Furniture'!A:A,'Prices Furniture'!E:E)","v":741},{"$f":"_xlfn.XLOOKUP(A2421,'Lighting Prices'!A:A,'Lighting Prices'!E:E)","v":{"$error":"#N/A"}}]
["@LK-DGW-BHD6",{"$f":"_xlfn.XLOOKUP(A2422,'Prices Furniture'!A:A,'Prices Furniture'!E:E)","v":797},{"$f":"_xlfn.XLOOKUP(A2422,'Lighting Prices'!A:A,'Lighting Prices'!E:E)","v":{"$error":"#N/A"}}]
["LK-A-DGW-WREP72",{"$f":"_xlfn.XLOOKUP(A2423,'Prices Furniture'!A:A,'Prices Furniture'!E:E)","v":77},{"$f":"_xlfn.XLOOKUP(A2423,'Lighting Prices'!A:A,'Lighting Prices'!E:E)","v":{"$error":"#N/A"}}]
["LK-A-DGW-PWEP72",{"$f":"_xlfn.XLOOKUP(A2424,'Prices Furniture'!A:A,'Prices Furniture'!E:E)","v":80},{"$f":"_xlfn.XLOOKUP(A2424,'Lighting Prices'!A:A,'Lighting Prices'!E:E)","v":{"$error":"#N/A"}}]
["LK-A-DGW-PWEP20",{"$f":"_xlfn.XLOOKUP(A2425,'Prices Furniture'!A:A,'Prices Furniture'!E:E)","v":200},{"$f":"_xlfn.XLOOKUP(A2425,'Lighting Prices'!A:A,'Lighting Prices'!E:E)","v":{"$error":"#N/A"}}]
["LK-A-DGW-ESP",{"$f":"_xlfn.XLOOKUP(A2426,'Prices Furniture'!A:A,'Prices Furniture'!E:E)","v":123},{"$f":"_xlfn.XLOOKUP(A2426,'Lighting Prices'!A:A,'Lighting Prices'!E:E)","v":{"$error":"#N/A"}}]
["LK-A-DGW-LUP",{"$f":"_xlfn.XLOOKUP(A2427,'Prices Furniture'!A:A,'Prices Furniture'!E:E)","v":391},{"$f":"_xlfn.XLOOKUP(A2427,'Lighting Prices'!A:A,'Lighting Prices'!E:E)","v":{"$error":"#N/A"}}]
["LK-A-DGW-PTEP",{"$f":"_xlfn.XLOOKUP(A2428,'Prices Furniture'!A:A,'Prices Furniture'!E:E)","v":240},{"$f":"_xlfn.XLOOKUP(A2428,'Lighting Prices'!A:A,'Lighting Prices'!E:E)","v":{"$error":"#N/A"}}]
["LK-A-DGW-BPIL",{"$f":"_xlfn.XLOOKUP(A2429,'Prices Furniture'!A:A,'Prices Furniture'!E:E)","v":231},{"$f":"_xlfn.XLOOKUP(A2429,'Lighting Prices'!A:A,'Lighting Prices'!E:E)","v":{"$error":"#N/A"}}]
["LK-A-DGW-PL",{"$f":"_xlfn.XLOOKUP(A2430,'Prices Furniture'!A:A,'Prices Furniture'!E:E)","v":90},{"$f":"_xlfn.XLOOKUP(A2430,'Lighting Prices'!A:A,'Lighting Prices'!E:E)","v":{"$error":"#N/A"}}]
["LK-A-DGW-CVPL",{"$f":"_xlfn.XLOOKUP(A2431,'Prices Furniture'!A:A,'Prices Furniture'!E:E)","v":181},{"$f":"_xlfn.XLOOKUP(A2431,'Lighting Prices'!A:A,'Lighting Prices'!E:E)","v":{"$error":"#N/A"}}]
["LK-A-DGW-SCCRN",{"$f":"_xlfn.XLOOKUP(A2432,'Prices Furniture'!A:A,'Prices Furniture'!E:E)","v":113},{"$f":"_xlfn.XLOOKUP(A2432,'Lighting Prices'!A:A,'Lighting Prices'!E:E)","v":{"$error":"#N/A"}}]
["LK-A-DGW-CSC",{"$f":"_xlfn.XLOOKUP(A2433,'Prices Furniture'!A:A,'Prices Furniture'!E:E)","v":181},{"$f":"_xlfn.XLOOKUP(A2433,'Lighting Prices'!A:A,'Lighting Prices'!E:E)","v":{"$error":"#N/A"}}]
["LK-A-DGW-BLPEL",{"$f":"_xlfn.XLOOKUP(A2434,'Prices Furniture'!A:A,'Prices Furniture'!E:E)","v":86},{"$f":"_xlfn.XLOOKUP(A2434,'Lighting Prices'!A:A,'Lighting Prices'!E:E)","v":{"$error":"#N/A"}}]
["LK-A-DGW-CVBUL",{"$f":"_xlfn.XLOOKUP(A2435,'Prices Furniture'!A:A,'Prices Furniture'!E:E)","v":180},{"$f":"_xlfn.XLOOKUP(A2435,'Lighting Prices'!A:A,'Lighting Prices'!E:E)","v":{"$error":"#N/A"}}]
["LK-A-DGW-CVP",{"$f":"_xlfn.XLOOKUP(A2436,'Prices Furniture'!A:A,'Prices Furniture'!E:E)","v":123},{"$f":"_xlfn.XLOOKUP(A2436,'Lighting Prices'!A:A,'Lighting Prices'!E:E)","v":{"$error":"#N/A"}}]
["LK-A-DGW-CPBM",{"$f":"_xlfn.XLOOKUP(A2437,'Prices Furniture'!A:A,'Prices Furniture'!E:E)","v":116},{"$f":"_xlfn.XLOOKUP(A2437,'Lighting Prices'!A:A,'Lighting Prices'!E:E)","v":{"$error":"#N/A"}}]
["LK-A-DGW-CPBC",{"$f":"_xlfn.XLOOKUP(A2438,'Prices Furniture'!A:A,'Prices Furniture'!E:E)","v":116},{"$f":"_xlfn.XLOOKUP(A2438,'Lighting Prices'!A:A,'Lighting Prices'!E:E)","v":{"$error":"#N/A"}}]
["LK-A-DGW-ET",{"$f":"_xlfn.XLOOKUP(A2439,'Prices Furniture'!A:A,'Prices Furniture'!E:E)","v":37},{"$f":"_xlfn.XLOOKUP(A2439,'Lighting Prices'!A:A,'Lighting Prices'!E:E)","v":{"$error":"#N/A"}}]
["@LK-DYW-BP15TY",{"$f":"_xlfn.XLOOKUP(A2440,'Prices Furniture'!A:A,'Prices Furniture'!E:E)","v":410},{"$f":"_xlfn.XLOOKUP(A2440,'Lighting Prices'!A:A,'Lighting Prices'!E:E)","v":{"$error":"#N/A"}}]
["@LK-DYW-BP3TY",{"$f":"_xlfn.XLOOKUP(A2441,'Prices Furniture'!A:A,'Prices Furniture'!E:E)","v":635},{"$f":"_xlfn.XLOOKUP(A2441,'Lighting Prices'!A:A,'Lighting Prices'!E:E)","v":{"$error":"#N/A"}}]
["@LK-DYW-BH15",{"$f":"_xlfn.XLOOKUP(A2442,'Prices Furniture'!A:A,'Prices Furniture'!E:E)","v":230},{"$f":"_xlfn.XLOOKUP(A2442,'Lighting Prices'!A:A,'Lighting Prices'!E:E)","v":{"$error":"#N/A"}}]
["@LK-DYW-BH30",{"$f":"_xlfn.XLOOKUP(A2443,'Prices Furniture'!A:A,'Prices Furniture'!E:E)","v":240},{"$f":"_xlfn.XLOOKUP(A2443,'Lighting Prices'!A:A,'Lighting Prices'!E:E)","v":{"$error":"#N/A"}}]
["@LK-DYW-BH3B",{"$f":"_xlfn.XLOOKUP(A2444,'Prices Furniture'!A:A,'Prices Furniture'!E:E)","v":608},{"$f":"_xlfn.XLOOKUP(A2444,'Lighting Prices'!A:A,'Lighting Prices'!E:E)","v":{"$error":"#N/A"}}]
["@LK-DYW-BH35",{"$f":"_xlfn.XLOOKUP(A2445,'Prices Furniture'!A:A,'Prices Furniture'!E:E)","v":247},{"$f":"_xlfn.XLOOKUP(A2445,'Lighting Prices'!A:A,'Lighting Prices'!E:E)","v":{"$error":"#N/A"}}]
["@LK-DYW-BH40",{"$f":"_xlfn.XLOOKUP(A2446,'Prices Furniture'!A:A,'Prices Furniture'!E:E)","v":250},{"$f":"_xlfn.XLOOKUP(A2446,'Lighting Prices'!A:A,'Lighting Prices'!E:E)","v":{"$error":"#N/A"}}]
["@LK-DYW-BH4B",{"$f":"_xlfn.XLOOKUP(A2447,'Prices Furniture'!A:A,'Prices Furniture'!E:E)","v":683},{"$f":"_xlfn.XLOOKUP(A2447,'Lighting Prices'!A:A,'Lighting Prices'!E:E)","v":{"$error":"#N/A"}}]
["@LK-DYW-BH45",{"$f":"_xlfn.XLOOKUP(A2448,'Prices Furniture'!A:A,'Prices Furniture'!E:E)","v":273},{"$f":"_xlfn.XLOOKUP(A2448,'Lighting Prices'!A:A,'Lighting Prices'!E:E)","v":{"$error":"#N/A"}}]
["@LK-DYW-BH45B",{"$f":"_xlfn.XLOOKUP(A2449,'Prices Furniture'!A:A,'Prices Furniture'!E:E)","v":711},{"$f":"_xlfn.XLOOKUP(A2449,'Lighting Prices'!A:A,'Lighting Prices'!E:E)","v":{"$error":"#N/A"}}]
["@LK-DYW-BH50",{"$f":"_xlfn.XLOOKUP(A2450,'Prices Furniture'!A:A,'Prices Furniture'!E:E)","v":284},{"$f":"_xlfn.XLOOKUP(A2450,'Lighting Prices'!A:A,'Lighting Prices'!E:E)","v":{"$error":"#N/A"}}]
["@LK-DYW-BH5B",{"$f":"_xlfn.XLOOKUP(A2451,'Prices Furniture'!A:A,'Prices Furniture'!E:E)","v":728},{"$f":"_xlfn.XLOOKUP(A2451,'Lighting Prices'!A:A,'Lighting Prices'!E:E)","v":{"$error":"#N/A"}}]
["@LK-DYW-BH50S",{"$f":"_xlfn.XLOOKUP(A2452,'Prices Furniture'!A:A,'Prices Furniture'!E:E)","v":314},{"$f":"_xlfn.XLOOKUP(A2452,'Lighting Prices'!A:A,'Lighting Prices'!E:E)","v":{"$error":"#N/A"}}]
["@LK-DYW-BH60",{"$f":"_xlfn.XLOOKUP(A2453,'Prices Furniture'!A:A,'Prices Furniture'!E:E)","v":320},{"$f":"_xlfn.XLOOKUP(A2453,'Lighting Prices'!A:A,'Lighting Prices'!E:E)","v":{"$error":"#N/A"}}]
["@LK-DYW-BH6B4",{"$f":"_xlfn.XLOOKUP(A2454,'Prices Furniture'!A:A,'Prices Furniture'!E:E)","v":853},{"$f":"_xlfn.XLOOKUP(A2454,'Lighting Prices'!A:A,'Lighting Prices'!E:E)","v":{"$error":"#N/A"}}]
["@LK-DYW-BH6B2",{"$f":"_xlfn.XLOOKUP(A2455,'Prices Furniture'!A:A,'Prices Furniture'!E:E)","v":801},{"$f":"_xlfn.XLOOKUP(A2455,'Lighting Prices'!A:A,'Lighting Prices'!E:E)","v":{"$error":"#N/A"}}]
["@LK-DYW-BH60S",{"$f":"_xlfn.XLOOKUP(A2456,'Prices Furniture'!A:A,'Prices Furniture'!E:E)","v":366},{"$f":"_xlfn.XLOOKUP(A2456,'Lighting Prices'!A:A,'Lighting Prices'!E:E)","v":{"$error":"#N/A"}}]
["@LK-DYW-BH70",{"$f":"_xlfn.XLOOKUP(A2457,'Prices Furniture'!A:A,'Prices Furniture'!E:E)","v":392},{"$f":"_xlfn.XLOOKUP(A2457,'Lighting Prices'!A:A,'Lighting Prices'!E:E)","v":{"$error":"#N/A"}}]
["@LK-DYW-BH80",{"$f":"_xlfn.XLOOKUP(A2458,'Prices Furniture'!A:A,'Prices Furniture'!E:E)","v":396},{"$f":"_xlfn.XLOOKUP(A2458,'Lighting Prices'!A:A,'Lighting Prices'!E:E)","v":{"$error":"#N/A"}}]
["@LK-DYW-BH80S",{"$f":"_xlfn.XLOOKUP(A2459,'Prices Furniture'!A:A,'Prices Furniture'!E:E)","v":442},{"$f":"_xlfn.XLOOKUP(A2459,'Lighting Prices'!A:A,'Lighting Prices'!E:E)","v":{"$error":"#N/A"}}]
["@LK-DYW-BH90",{"$f":"_xlfn.XLOOKUP(A2460,'Prices Furniture'!A:A,'Prices Furniture'!E:E)","v":420},{"$f":"_xlfn.XLOOKUP(A2460,'Lighting Prices'!A:A,'Lighting Prices'!E:E)","v":{"$error":"#N/A"}}]
["@LK-DYW-BH90S",{"$f":"_xlfn.XLOOKUP(A2461,'Prices Furniture'!A:A,'Prices Furniture'!E:E)","v":466},{"$f":"_xlfn.XLOOKUP(A2461,'Lighting Prices'!A:A,'Lighting Prices'!E:E)","v":{"$error":"#N/A"}}]
["@LK-DYW-BH100",{"$f":"_xlfn.XLOOKUP(A2462,'Prices Furniture'!A:A,'Prices Furniture'!E:E)","v":441},{"$f":"_xlfn.XLOOKUP(A2462,'Lighting Prices'!A:A,'Lighting Prices'!E:E)","v":{"$error":"#N/A"}}]
["@LK-DYW-BH10S",{"$f":"_xlfn.XLOOKUP(A2463,'Prices Furniture'!A:A,'Prices Furniture'!E:E)","v":487},{"$f":"_xlfn.XLOOKUP(A2463,'Lighting Prices'!A:A,'Lighting Prices'!E:E)","v":{"$error":"#N/A"}}]
["@LK-DYW-BC83",{"$f":"_xlfn.XLOOKUP(A2464,'Prices Furniture'!A:A,'Prices Furniture'!E:E)","v":375},{"$f":"_xlfn.XLOOKUP(A2464,'Lighting Prices'!A:A,'Lighting Prices'!E:E)","v":{"$error":"#N/A"}}]
["@LK-DYW-BC84",{"$f":"_xlfn.XLOOKUP(A2465,'Prices Furniture'!A:A,'Prices Furniture'!E:E)","v":381},{"$f":"_xlfn.XLOOKUP(A2465,'Lighting Prices'!A:A,'Lighting Prices'!E:E)","v":{"$error":"#N/A"}}]
["@LK-DYW-BC845",{"$f":"_xlfn.XLOOKUP(A2466,'Prices Furniture'!A:A,'Prices Furniture'!E:E)","v":393},{"$f":"_xlfn.XLOOKUP(A2466,'Lighting Prices'!A:A,'Lighting Prices'!E:E)","v":{"$error":"#N/A"}}]
["@LK-DYW-BC945",{"$f":"_xlfn.XLOOKUP(A2467,'Prices Furniture'!A:A,'Prices Furniture'!E:E)","v":393},{"$f":"_xlfn.XLOOKUP(A2467,'Lighting Prices'!A:A,'Lighting Prices'!E:E)","v":{"$error":"#N/A"}}]
["@LK-DYW-BC145",{"$f":"_xlfn.XLOOKUP(A2468,'Prices Furniture'!A:A,'Prices Furniture'!E:E)","v":398},{"$f":"_xlfn.XLOOKUP(A2468,'Lighting Prices'!A:A,'Lighting Prices'!E:E)","v":{"$error":"#N/A"}}]
["@LK-DYW-BC15",{"$f":"_xlfn.XLOOKUP(A2469,'Prices Furniture'!A:A,'Prices Furniture'!E:E)","v":406},{"$f":"_xlfn.XLOOKUP(A2469,'Lighting Prices'!A:A,'Lighting Prices'!E:E)","v":{"$error":"#N/A"}}]
["@LK-DYW-BC16",{"$f":"_xlfn.XLOOKUP(A2470,'Prices Furniture'!A:A,'Prices Furniture'!E:E)","v":422},{"$f":"_xlfn.XLOOKUP(A2470,'Lighting Prices'!A:A,'Lighting Prices'!E:E)","v":{"$error":"#N/A"}}]
["@LK-DYW-BCL15L",{"$f":"_xlfn.XLOOKUP(A2471,'Prices Furniture'!A:A,'Prices Furniture'!E:E)","v":1271},{"$f":"_xlfn.XLOOKUP(A2471,'Lighting Prices'!A:A,'Lighting Prices'!E:E)","v":{"$error":"#N/A"}}]
["@LK-DYW-BCL15R",{"$f":"_xlfn.XLOOKUP(A2472,'Prices Furniture'!A:A,'Prices Furniture'!E:E)","v":1271},{"$f":"_xlfn.XLOOKUP(A2472,'Lighting Prices'!A:A,'Lighting Prices'!E:E)","v":{"$error":"#N/A"}}]
["@LK-DYW-BCL16L",{"$f":"_xlfn.XLOOKUP(A2473,'Prices Furniture'!A:A,'Prices Furniture'!E:E)","v":1350},{"$f":"_xlfn.XLOOKUP(A2473,'Lighting Prices'!A:A,'Lighting Prices'!E:E)","v":{"$error":"#N/A"}}]
["@LK-DYW-BCL16R",{"$f":"_xlfn.XLOOKUP(A2474,'Prices Furniture'!A:A,'Prices Furniture'!E:E)","v":1350},{"$f":"_xlfn.XLOOKUP(A2474,'Lighting Prices'!A:A,'Lighting Prices'!E:E)","v":{"$error":"#N/A"}}]
["@LK-DYW-BCO945",{"$f":"_xlfn.XLOOKUP(A2475,'Prices Furniture'!A:A,'Prices Furniture'!E:E)","v":1403},{"$f":"_xlfn.XLOOKUP(A2475,'Lighting Prices'!A:A,'Lighting Prices'!E:E)","v":{"$error":"#N/A"}}]
["@LK-DYW-BCO145",{"$f":"_xlfn.XLOOKUP(A2476,'Prices Furniture'!A:A,'Prices Furniture'!E:E)","v":1408},{"$f":"_xlfn.XLOOKUP(A2476,'Lighting Prices'!A:A,'Lighting Prices'!E:E)","v":{"$error":"#N/A"}}]
["@LK-DYW-BCO15",{"$f":"_xlfn.XLOOKUP(A2477,'Prices Furniture'!A:A,'Prices Furniture'!E:E)","v":1416},{"$f":"_xlfn.XLOOKUP(A2477,'Lighting Prices'!A:A,'Lighting Prices'!E:E)","v":{"$error":"#N/A"}}]
["@LK-DYW-BCO16",{"$f":"_xlfn.XLOOKUP(A2478,'Prices Furniture'!A:A,'Prices Furniture'!E:E)","v":1432},{"$f":"_xlfn.XLOOKUP(A2478,'Lighting Prices'!A:A,'Lighting Prices'!E:E)","v":{"$error":"#N/A"}}]
["@LK-DYW-BCL9",{"$f":"_xlfn.XLOOKUP(A2479,'Prices Furniture'!A:A,'Prices Furniture'!E:E)","v":622},{"$f":"_xlfn.XLOOKUP(A2479,'Lighting Prices'!A:A,'Lighting Prices'!E:E)","v":{"$error":"#N/A"}}]
["@LK-DYW-BHCV",{"$f":"_xlfn.XLOOKUP(A2480,'Prices Furniture'!A:A,'Prices Furniture'!E:E)","v":625},{"$f":"_xlfn.XLOOKUP(A2480,'Lighting Prices'!A:A,'Lighting Prices'!E:E)","v":{"$error":"#N/A"}}]
["@LK-DYW-BSU6495",{"$f":"_xlfn.XLOOKUP(A2481,'Prices Furniture'!A:A,'Prices Furniture'!E:E)","v":284},{"$f":"_xlfn.XLOOKUP(A2481,'Lighting Prices'!A:A,'Lighting Prices'!E:E)","v":{"$error":"#N/A"}}]
["@LK-DYW-BSU6450",{"$f":"_xlfn.XLOOKUP(A2482,'Prices Furniture'!A:A,'Prices Furniture'!E:E)","v":284},{"$f":"_xlfn.XLOOKUP(A2482,'Lighting Prices'!A:A,'Lighting Prices'!E:E)","v":{"$error":"#N/A"}}]
["@LK-DYW-BDL3",{"$f":"_xlfn.XLOOKUP(A2483,'Prices Furniture'!A:A,'Prices Furniture'!E:E)","v":415},{"$f":"_xlfn.XLOOKUP(A2483,'Lighting Prices'!A:A,'Lighting Prices'!E:E)","v":{"$error":"#N/A"}}]
["@LK-DYW-BDL4",{"$f":"_xlfn.XLOOKUP(A2484,'Prices Furniture'!A:A,'Prices Furniture'!E:E)","v":438},{"$f":"_xlfn.XLOOKUP(A2484,'Lighting Prices'!A:A,'Lighting Prices'!E:E)","v":{"$error":"#N/A"}}]
["@LK-DYW-BDL5",{"$f":"_xlfn.XLOOKUP(A2485,'Prices Furniture'!A:A,'Prices Furniture'!E:E)","v":473},{"$f":"_xlfn.XLOOKUP(A2485,'Lighting Prices'!A:A,'Lighting Prices'!E:E)","v":{"$error":"#N/A"}}]
["@LK-DYW-BDL6",{"$f":"_xlfn.XLOOKUP(A2486,'Prices Furniture'!A:A,'Prices Furniture'!E:E)","v":476},{"$f":"_xlfn.XLOOKUP(A2486,'Lighting Prices'!A:A,'Lighting Prices'!E:E)","v":{"$error":"#N/A"}}]
["@LK-DYW-BDL8",{"$f":"_xlfn.XLOOKUP(A2487,'Prices Furniture'!A:A,'Prices Furniture'!E:E)","v":772},{"$f":"_xlfn.XLOOKUP(A2487,'Lighting Prices'!A:A,'Lighting Prices'!E:E)","v":{"$error":"#N/A"}}]
["@LK-DYW-BDL10",{"$f":"_xlfn.XLOOKUP(A2488,'Prices Furniture'!A:A,'Prices Furniture'!E:E)","v":819},{"$f":"_xlfn.XLOOKUP(A2488,'Lighting Prices'!A:A,'Lighting Prices'!E:E)","v":{"$error":"#N/A"}}]
["@LK-DYW-BDL81DW",{"$f":"_xlfn.XLOOKUP(A2489,'Prices Furniture'!A:A,'Prices Furniture'!E:E)","v":654},{"$f":"_xlfn.XLOOKUP(A2489,'Lighting Prices'!A:A,'Lighting Prices'!E:E)","v":{"$error":"#N/A"}}]
["@LK-DYW-BDL91DW",{"$f":"_xlfn.XLOOKUP(A2490,'Prices Furniture'!A:A,'Prices Furniture'!E:E)","v":679},{"$f":"_xlfn.XLOOKUP(A2490,'Lighting Prices'!A:A,'Lighting Prices'!E:E)","v":{"$error":"#N/A"}}]
["@LK-DYW-BDL101DW",{"$f":"_xlfn.XLOOKUP(A2491,'Prices Furniture'!A:A,'Prices Furniture'!E:E)","v":712},{"$f":"_xlfn.XLOOKUP(A2491,'Lighting Prices'!A:A,'Lighting Prices'!E:E)","v":{"$error":"#N/A"}}]
["@LK-DYW-BDLC83",{"$f":"_xlfn.XLOOKUP(A2492,'Prices Furniture'!A:A,'Prices Furniture'!E:E)","v":550},{"$f":"_xlfn.XLOOKUP(A2492,'Lighting Prices'!A:A,'Lighting Prices'!E:E)","v":{"$error":"#N/A"}}]
["@LK-DYW-BDLC84",{"$f":"_xlfn.XLOOKUP(A2493,'Prices Furniture'!A:A,'Prices Furniture'!E:E)","v":569},{"$f":"_xlfn.XLOOKUP(A2493,'Lighting Prices'!A:A,'Lighting Prices'!E:E)","v":{"$error":"#N/A"}}]
["@LK-DYW-BDLC85",{"$f":"_xlfn.XLOOKUP(A2494,'Prices Furniture'!A:A,'Prices Furniture'!E:E)","v":590},{"$f":"_xlfn.XLOOKUP(A2494,'Lighting Prices'!A:A,'Lighting Prices'!E:E)","v":{"$error":"#N/A"}}]
["@LK-DYW-BDLC15",{"$f":"_xlfn.XLOOKUP(A2495,'Prices Furniture'!A:A,'Prices Furniture'!E:E)","v":595},{"$f":"_xlfn.XLOOKUP(A2495,'Lighting Prices'!A:A,'Lighting Prices'!E:E)","v":{"$error":"#N/A"}}]
["@LK-DYW-BDLC16",{"$f":"_xlfn.XLOOKUP(A2496,'Prices Furniture'!A:A,'Prices Furniture'!E:E)","v":578},{"$f":"_xlfn.XLOOKUP(A2496,'Lighting Prices'!A:A,'Lighting Prices'!E:E)","v":{"$error":"#N/A"}}]
["@LK-DYW-BD54",{"$f":"_xlfn.XLOOKUP(A2497,'Prices Furniture'!A:A,'Prices Furniture'!E:E)","v":867},{"$f":"_xlfn.XLOOKUP(A2497,'Lighting Prices'!A:A,'Lighting Prices'!E:E)","v":{"$error":"#N/A"}}]
["@LK-DYW-BD53",{"$f":"_xlfn.XLOOKUP(A2498,'Prices Furniture'!A:A,'Prices Furniture'!E:E)","v":756},{"$f":"_xlfn.XLOOKUP(A2498,'Lighting Prices'!A:A,'Lighting Prices'!E:E)","v":{"$error":"#N/A"}}]
["@LK-DYW-BD63",{"$f":"_xlfn.XLOOKUP(A2499,'Prices Furniture'!A:A,'Prices Furniture'!E:E)","v":813},{"$f":"_xlfn.XLOOKUP(A2499,'Lighting Prices'!A:A,'Lighting Prices'!E:E)","v":{"$error":"#N/A"}}]
["@LK-DYW-BD83",{"$f":"_xlfn.XLOOKUP(A2500,'Prices Furniture'!A:A,'Prices Furniture'!E:E)","v":816},{"$f":"_xlfn.XLOOKUP(A2500,'Lighting Prices'!A:A,'Lighting Prices'!E:E)","v":{"$error":"#N/A"}}]
["@LK-DYW-BD93",{"$f":"_xlfn.XLOOKUP(A2501,'Prices Furniture'!A:A,'Prices Furniture'!E:E)","v":831},{"$f":"_xlfn.XLOOKUP(A2501,'Lighting Prices'!A:A,'Lighting Prices'!E:E)","v":{"$error":"#N/A"}}]
["@LK-DYW-BD13",{"$f":"_xlfn.XLOOKUP(A2502,'Prices Furniture'!A:A,'Prices Furniture'!E:E)","v":847},{"$f":"_xlfn.XLOOKUP(A2502,'Lighting Prices'!A:A,'Lighting Prices'!E:E)","v":{"$error":"#N/A"}}]
["@LK-DYW-BD62",{"$f":"_xlfn.XLOOKUP(A2503,'Prices Furniture'!A:A,'Prices Furniture'!E:E)","v":693},{"$f":"_xlfn.XLOOKUP(A2503,'Lighting Prices'!A:A,'Lighting Prices'!E:E)","v":{"$error":"#N/A"}}]
["@LK-DYW-BD92",{"$f":"_xlfn.XLOOKUP(A2504,'Prices Furniture'!A:A,'Prices Furniture'!E:E)","v":704},{"$f":"_xlfn.XLOOKUP(A2504,'Lighting Prices'!A:A,'Lighting Prices'!E:E)","v":{"$error":"#N/A"}}]
["@LK-DYW-BD62I",{"$f":"_xlfn.XLOOKUP(A2505,'Prices Furniture'!A:A,'Prices Furniture'!E:E)","v":869},{"$f":"_xlfn.XLOOKUP(A2505,'Lighting Prices'!A:A,'Lighting Prices'!E:E)","v":{"$error":"#N/A"}}]
["@LK-DYW-BD92I",{"$f":"_xlfn.XLOOKUP(A2506,'Prices Furniture'!A:A,'Prices Furniture'!E:E)","v":905},{"$f":"_xlfn.XLOOKUP(A2506,'Lighting Prices'!A:A,'Lighting Prices'!E:E)","v":{"$error":"#N/A"}}]
["@LK-DYW-BD635L",{"$f":"_xlfn.XLOOKUP(A2507,'Prices Furniture'!A:A,'Prices Furniture'!E:E)","v":389},{"$f":"_xlfn.XLOOKUP(A2507,'Lighting Prices'!A:A,'Lighting Prices'!E:E)","v":{"$error":"#N/A"}}]
["@LK-DYW-W30",{"$f":"_xlfn.XLOOKUP(A2508,'Prices Furniture'!A:A,'Prices Furniture'!E:E)","v":222},{"$f":"_xlfn.XLOOKUP(A2508,'Lighting Prices'!A:A,'Lighting Prices'!E:E)","v":{"$error":"#N/A"}}]
["@LK-DYW-W35",{"$f":"_xlfn.XLOOKUP(A2509,'Prices Furniture'!A:A,'Prices Furniture'!E:E)","v":229},{"$f":"_xlfn.XLOOKUP(A2509,'Lighting Prices'!A:A,'Lighting Prices'!E:E)","v":{"$error":"#N/A"}}]
["@LK-DYW-W40",{"$f":"_xlfn.XLOOKUP(A2510,'Prices Furniture'!A:A,'Prices Furniture'!E:E)","v":236},{"$f":"_xlfn.XLOOKUP(A2510,'Lighting Prices'!A:A,'Lighting Prices'!E:E)","v":{"$error":"#N/A"}}]
["@LK-DYW-W45",{"$f":"_xlfn.XLOOKUP(A2511,'Prices Furniture'!A:A,'Prices Furniture'!E:E)","v":253},{"$f":"_xlfn.XLOOKUP(A2511,'Lighting Prices'!A:A,'Lighting Prices'!E:E)","v":{"$error":"#N/A"}}]
["@LK-DYW-W50",{"$f":"_xlfn.XLOOKUP(A2512,'Prices Furniture'!A:A,'Prices Furniture'!E:E)","v":267},{"$f":"_xlfn.XLOOKUP(A2512,'Lighting Prices'!A:A,'Lighting Prices'!E:E)","v":{"$error":"#N/A"}}]
["@LK-DYW-W60",{"$f":"_xlfn.XLOOKUP(A2513,'Prices Furniture'!A:A,'Prices Furniture'!E:E)","v":291},{"$f":"_xlfn.XLOOKUP(A2513,'Lighting Prices'!A:A,'Lighting Prices'!E:E)","v":{"$error":"#N/A"}}]
["@LK-DYW-W70",{"$f":"_xlfn.XLOOKUP(A2514,'Prices Furniture'!A:A,'Prices Furniture'!E:E)","v":387},{"$f":"_xlfn.XLOOKUP(A2514,'Lighting Prices'!A:A,'Lighting Prices'!E:E)","v":{"$error":"#N/A"}}]
["@LK-DYW-W80",{"$f":"_xlfn.XLOOKUP(A2515,'Prices Furniture'!A:A,'Prices Furniture'!E:E)","v":391},{"$f":"_xlfn.XLOOKUP(A2515,'Lighting Prices'!A:A,'Lighting Prices'!E:E)","v":{"$error":"#N/A"}}]
["@LK-DYW-W90",{"$f":"_xlfn.XLOOKUP(A2516,'Prices Furniture'!A:A,'Prices Furniture'!E:E)","v":411},{"$f":"_xlfn.XLOOKUP(A2516,'Lighting Prices'!A:A,'Lighting Prices'!E:E)","v":{"$error":"#N/A"}}]
["@LK-DYW-W100",{"$f":"_xlfn.XLOOKUP(A2517,'Prices Furniture'!A:A,'Prices Furniture'!E:E)","v":436},{"$f":"_xlfn.XLOOKUP(A2517,'Lighting Prices'!A:A,'Lighting Prices'!E:E)","v":{"$error":"#N/A"}}]
["@LK-DYW-WC6",{"$f":"_xlfn.XLOOKUP(A2518,'Prices Furniture'!A:A,'Prices Furniture'!E:E)","v":310},{"$f":"_xlfn.XLOOKUP(A2518,'Lighting Prices'!A:A,'Lighting Prices'!E:E)","v":{"$error":"#N/A"}}]
["@LK-DYW-WC9",{"$f":"_xlfn.XLOOKUP(A2519,'Prices Furniture'!A:A,'Prices Furniture'!E:E)","v":372},{"$f":"_xlfn.XLOOKUP(A2519,'Lighting Prices'!A:A,'Lighting Prices'!E:E)","v":{"$error":"#N/A"}}]
["@LK-DYW-WCL65",{"$f":"_xlfn.XLOOKUP(A2520,'Prices Furniture'!A:A,'Prices Furniture'!E:E)","v":547},{"$f":"_xlfn.XLOOKUP(A2520,'Lighting Prices'!A:A,'Lighting Prices'!E:E)","v":{"$error":"#N/A"}}]
["@LK-DYW-WM60",{"$f":"_xlfn.XLOOKUP(A2521,'Prices Furniture'!A:A,'Prices Furniture'!E:E)","v":377},{"$f":"_xlfn.XLOOKUP(A2521,'Lighting Prices'!A:A,'Lighting Prices'!E:E)","v":{"$error":"#N/A"}}]
["@LK-DYW-WBHU",{"$f":"_xlfn.XLOOKUP(A2522,'Prices Furniture'!A:A,'Prices Furniture'!E:E)","v":297},{"$f":"_xlfn.XLOOKUP(A2522,'Lighting Prices'!A:A,'Lighting Prices'!E:E)","v":{"$error":"#N/A"}}]
["@LK-DYW-WBI60",{"$f":"_xlfn.XLOOKUP(A2523,'Prices Furniture'!A:A,'Prices Furniture'!E:E)","v":673},{"$f":"_xlfn.XLOOKUP(A2523,'Lighting Prices'!A:A,'Lighting Prices'!E:E)","v":{"$error":"#N/A"}}]
["@LK-DYW-WBI90",{"$f":"_xlfn.XLOOKUP(A2524,'Prices Furniture'!A:A,'Prices Furniture'!E:E)","v":703},{"$f":"_xlfn.XLOOKUP(A2524,'Lighting Prices'!A:A,'Lighting Prices'!E:E)","v":{"$error":"#N/A"}}]
["@LK-DYW-WG5",{"$f":"_xlfn.XLOOKUP(A2525,'Prices Furniture'!A:A,'Prices Furniture'!E:E)","v":265},{"$f":"_xlfn.XLOOKUP(A2525,'Lighting Prices'!A:A,'Lighting Prices'!E:E)","v":{"$error":"#N/A"}}]
["@LK-DYW-WDR50",{"$f":"_xlfn.XLOOKUP(A2526,'Prices Furniture'!A:A,'Prices Furniture'!E:E)","v":624},{"$f":"_xlfn.XLOOKUP(A2526,'Lighting Prices'!A:A,'Lighting Prices'!E:E)","v":{"$error":"#N/A"}}]
["@LK-DYW-WCV",{"$f":"_xlfn.XLOOKUP(A2527,'Prices Furniture'!A:A,'Prices Furniture'!E:E)","v":593},{"$f":"_xlfn.XLOOKUP(A2527,'Lighting Prices'!A:A,'Lighting Prices'!E:E)","v":{"$error":"#N/A"}}]
["@LK-DYW-WB62",{"$f":"_xlfn.XLOOKUP(A2528,'Prices Furniture'!A:A,'Prices Furniture'!E:E)","v":243},{"$f":"_xlfn.XLOOKUP(A2528,'Lighting Prices'!A:A,'Lighting Prices'!E:E)","v":{"$error":"#N/A"}}]
["@LK-DYW-WB82",{"$f":"_xlfn.XLOOKUP(A2529,'Prices Furniture'!A:A,'Prices Furniture'!E:E)","v":285},{"$f":"_xlfn.XLOOKUP(A2529,'Lighting Prices'!A:A,'Lighting Prices'!E:E)","v":{"$error":"#N/A"}}]
["@LK-DYW-WB92",{"$f":"_xlfn.XLOOKUP(A2530,'Prices Furniture'!A:A,'Prices Furniture'!E:E)","v":314},{"$f":"_xlfn.XLOOKUP(A2530,'Lighting Prices'!A:A,'Lighting Prices'!E:E)","v":{"$error":"#N/A"}}]
["@LK-DYW-WB12",{"$f":"_xlfn.XLOOKUP(A2531,'Prices Furniture'!A:A,'Prices Furniture'!E:E)","v":329},{"$f":"_xlfn.XLOOKUP(A2531,'Lighting Prices'!A:A,'Lighting Prices'!E:E)","v":{"$error":"#N/A"}}]
["@LK-DYW-WB63",{"$f":"_xlfn.XLOOKUP(A2532,'Prices Furniture'!A:A,'Prices Furniture'!E:E)","v":300},{"$f":"_xlfn.XLOOKUP(A2532,'Lighting Prices'!A:A,'Lighting Prices'!E:E)","v":{"$error":"#N/A"}}]
["@LK-DYW-WB83",{"$f":"_xlfn.XLOOKUP(A2533,'Prices Furniture'!A:A,'Prices Furniture'!E:E)","v":330},{"$f":"_xlfn.XLOOKUP(A2533,'Lighting Prices'!A:A,'Lighting Prices'!E:E)","v":{"$error":"#N/A"}}]
["@LK-DYW-WB93",{"$f":"_xlfn.XLOOKUP(A2534,'Prices Furniture'!A:A,'Prices Furniture'!E:E)","v":348},{"$f":"_xlfn.XLOOKUP(A2534,'Lighting Prices'!A:A,'Lighting Prices'!E:E)","v":{"$error":"#N/A"}}]
["@LK-DYW-WB13",{"$f":"_xlfn.XLOOKUP(A2535,'Prices Furniture'!A:A,'Prices Furniture'!E:E)","v":353},{"$f":"_xlfn.XLOOKUP(A2535,'Lighting Prices'!A:A,'Lighting Prices'!E:E)","v":{"$error":"#N/A"}}]
["@LK-DYW-AH-F55",{"$f":"_xlfn.XLOOKUP(A2536,'Prices Furniture'!A:A,'Prices Furniture'!E:E)","v":743},{"$f":"_xlfn.XLOOKUP(A2536,'Lighting Prices'!A:A,'Lighting Prices'!E:E)","v":{"$error":"#N/A"}}]
["@LK-DYW-AH-F73",{"$f":"_xlfn.XLOOKUP(A2537,'Prices Furniture'!A:A,'Prices Furniture'!E:E)","v":726},{"$f":"_xlfn.XLOOKUP(A2537,'Lighting Prices'!A:A,'Lighting Prices'!E:E)","v":{"$error":"#N/A"}}]
["@LK-DYW-AH-DO",{"$f":"_xlfn.XLOOKUP(A2538,'Prices Furniture'!A:A,'Prices Furniture'!E:E)","v":723},{"$f":"_xlfn.XLOOKUP(A2538,'Lighting Prices'!A:A,'Lighting Prices'!E:E)","v":{"$error":"#N/A"}}]
["@LK-DYW-AH-DO2D",{"$f":"_xlfn.XLOOKUP(A2539,'Prices Furniture'!A:A,'Prices Furniture'!E:E)","v":1061},{"$f":"_xlfn.XLOOKUP(A2539,'Lighting Prices'!A:A,'Lighting Prices'!E:E)","v":{"$error":"#N/A"}}]
["@LK-DYW-AH-DMW",{"$f":"_xlfn.XLOOKUP(A2540,'Prices Furniture'!A:A,'Prices Furniture'!E:E)","v":945},{"$f":"_xlfn.XLOOKUP(A2540,'Lighting Prices'!A:A,'Lighting Prices'!E:E)","v":{"$error":"#N/A"}}]
["@LK-DYW-AH-SO",{"$f":"_xlfn.XLOOKUP(A2541,'Prices Furniture'!A:A,'Prices Furniture'!E:E)","v":751},{"$f":"_xlfn.XLOOKUP(A2541,'Lighting Prices'!A:A,'Lighting Prices'!E:E)","v":{"$error":"#N/A"}}]
["@LK-DYW-AH-SO1D",{"$f":"_xlfn.XLOOKUP(A2542,'Prices Furniture'!A:A,'Prices Furniture'!E:E)","v":899},{"$f":"_xlfn.XLOOKUP(A2542,'Lighting Prices'!A:A,'Lighting Prices'!E:E)","v":{"$error":"#N/A"}}]
["@LK-DYW-AH-SO2D",{"$f":"_xlfn.XLOOKUP(A2543,'Prices Furniture'!A:A,'Prices Furniture'!E:E)","v":1120},{"$f":"_xlfn.XLOOKUP(A2543,'Lighting Prices'!A:A,'Lighting Prices'!E:E)","v":{"$error":"#N/A"}}]
["@LK-DYW-AH-SO3D",{"$f":"_xlfn.XLOOKUP(A2544,'Prices Furniture'!A:A,'Prices Furniture'!E:E)","v":1273},{"$f":"_xlfn.XLOOKUP(A2544,'Lighting Prices'!A:A,'Lighting Prices'!E:E)","v":{"$error":"#N/A"}}]
["@LK-DYW-AH-SMW",{"$f":"_xlfn.XLOOKUP(A2545,'Prices Furniture'!A:A,'Prices Furniture'!E:E)","v":798},{"$f":"_xlfn.XLOOKUP(A2545,'Lighting Prices'!A:A,'Lighting Prices'!E:E)","v":{"$error":"#N/A"}}]
["@LK-DYW-AH-SM2D",{"$f":"_xlfn.XLOOKUP(A2546,'Prices Furniture'!A:A,'Prices Furniture'!E:E)","v":1090},{"$f":"_xlfn.XLOOKUP(A2546,'Lighting Prices'!A:A,'Lighting Prices'!E:E)","v":{"$error":"#N/A"}}]
["@LK-DYW-AH-CO",{"$f":"_xlfn.XLOOKUP(A2547,'Prices Furniture'!A:A,'Prices Furniture'!E:E)","v":835},{"$f":"_xlfn.XLOOKUP(A2547,'Lighting Prices'!A:A,'Lighting Prices'!E:E)","v":{"$error":"#N/A"}}]
["@LK-DYW-BOH6",{"$f":"_xlfn.XLOOKUP(A2548,'Prices Furniture'!A:A,'Prices Furniture'!E:E)","v":209},{"$f":"_xlfn.XLOOKUP(A2548,'Lighting Prices'!A:A,'Lighting Prices'!E:E)","v":{"$error":"#N/A"}}]
["@LK-DYW-BOHD6",{"$f":"_xlfn.XLOOKUP(A2549,'Prices Furniture'!A:A,'Prices Furniture'!E:E)","v":322},{"$f":"_xlfn.XLOOKUP(A2549,'Lighting Prices'!A:A,'Lighting Prices'!E:E)","v":{"$error":"#N/A"}}]
["@LK-DYW-L3",{"$f":"_xlfn.XLOOKUP(A2550,'Prices Furniture'!A:A,'Prices Furniture'!E:E)","v":678},{"$f":"_xlfn.XLOOKUP(A2550,'Lighting Prices'!A:A,'Lighting Prices'!E:E)","v":{"$error":"#N/A"}}]
["@LK-DYW-L4",{"$f":"_xlfn.XLOOKUP(A2551,'Prices Furniture'!A:A,'Prices Furniture'!E:E)","v":708},{"$f":"_xlfn.XLOOKUP(A2551,'Lighting Prices'!A:A,'Lighting Prices'!E:E)","v":{"$error":"#N/A"}}]
["@LK-DYW-L5",{"$f":"_xlfn.XLOOKUP(A2552,'Prices Furniture'!A:A,'Prices Furniture'!E:E)","v":737},{"$f":"_xlfn.XLOOKUP(A2552,'Lighting Prices'!A:A,'Lighting Prices'!E:E)","v":{"$error":"#N/A"}}]
["@LK-DYW-L6",{"$f":"_xlfn.XLOOKUP(A2553,'Prices Furniture'!A:A,'Prices Furniture'!E:E)","v":809},{"$f":"_xlfn.XLOOKUP(A2553,'Lighting Prices'!A:A,'Lighting Prices'!E:E)","v":{"$error":"#N/A"}}]
["@LK-DYW-LP3",{"$f":"_xlfn.XLOOKUP(A2554,'Prices Furniture'!A:A,'Prices Furniture'!E:E)","v":1465},{"$f":"_xlfn.XLOOKUP(A2554,'Lighting Prices'!A:A,'Lighting Prices'!E:E)","v":{"$error":"#N/A"}}]
["@LK-DYW-LT3",{"$f":"_xlfn.XLOOKUP(A2555,'Prices Furniture'!A:A,'Prices Furniture'!E:E)","v":1779},{"$f":"_xlfn.XLOOKUP(A2555,'Lighting Prices'!A:A,'Lighting Prices'!E:E)","v":{"$error":"#N/A"}}]
["@LK-DYW-LT5",{"$f":"_xlfn.XLOOKUP(A2556,'Prices Furniture'!A:A,'Prices Furniture'!E:E)","v":1906},{"$f":"_xlfn.XLOOKUP(A2556,'Lighting Prices'!A:A,'Lighting Prices'!E:E)","v":{"$error":"#N/A"}}]
["@LK-DYW-LT6",{"$f":"_xlfn.XLOOKUP(A2557,'Prices Furniture'!A:A,'Prices Furniture'!E:E)","v":2044},{"$f":"_xlfn.XLOOKUP(A2557,'Lighting Prices'!A:A,'Lighting Prices'!E:E)","v":{"$error":"#N/A"}}]
["@LK-DYW-LP6T",{"$f":"_xlfn.XLOOKUP(A2558,'Prices Furniture'!A:A,'Prices Furniture'!E:E)","v":1995},{"$f":"_xlfn.XLOOKUP(A2558,'Lighting Prices'!A:A,'Lighting Prices'!E:E)","v":{"$error":"#N/A"}}]
["@LK-DYW-LP5TS",{"$f":"_xlfn.XLOOKUP(A2559,'Prices Furniture'!A:A,'Prices Furniture'!E:E)","v":1671},{"$f":"_xlfn.XLOOKUP(A2559,'Lighting Prices'!A:A,'Lighting Prices'!E:E)","v":{"$error":"#N/A"}}]
["@LK-DYW-LP6TS",{"$f":"_xlfn.XLOOKUP(A2560,'Prices Furniture'!A:A,'Prices Furniture'!E:E)","v":1796},{"$f":"_xlfn.XLOOKUP(A2560,'Lighting Prices'!A:A,'Lighting Prices'!E:E)","v":{"$error":"#N/A"}}]
["@LK-DYW-TLP3",{"$f":"_xlfn.XLOOKUP(A2561,'Prices Furniture'!A:A,'Prices Furniture'!E:E)","v":1501},{"$f":"_xlfn.XLOOKUP(A2561,'Lighting Prices'!A:A,'Lighting Prices'!E:E)","v":{"$error":"#N/A"}}]
["@LK-DYW-TLT3",{"$f":"_xlfn.XLOOKUP(A2562,'Prices Furniture'!A:A,'Prices Furniture'!E:E)","v":1815},{"$f":"_xlfn.XLOOKUP(A2562,'Lighting Prices'!A:A,'Lighting Prices'!E:E)","v":{"$error":"#N/A"}}]
["@LK-DYW-TLT5",{"$f":"_xlfn.XLOOKUP(A2563,'Prices Furniture'!A:A,'Prices Furniture'!E:E)","v":1942},{"$f":"_xlfn.XLOOKUP(A2563,'Lighting Prices'!A:A,'Lighting Prices'!E:E)","v":{"$error":"#N/A"}}]
["@LK-DYW-TLT6",{"$f":"_xlfn.XLOOKUP(A2564,'Prices Furniture'!A:A,'Prices Furniture'!E:E)","v":2063},{"$f":"_xlfn.XLOOKUP(A2564,'Lighting Prices'!A:A,'Lighting Prices'!E:E)","v":{"$error":"#N/A"}}]
["@LK-DYW-TLP6T",{"$f":"_xlfn.XLOOKUP(A2565,'Prices Furniture'!A:A,'Prices Furniture'!E:E)","v":2014},{"$f":"_xlfn.XLOOKUP(A2565,'Lighting Prices'!A:A,'Lighting Prices'!E:E)","v":{"$error":"#N/A"}}]
["@LK-DYW-TLP5TS",{"$f":"_xlfn.XLOOKUP(A2566,'Prices Furniture'!A:A,'Prices Furniture'!E:E)","v":1707},{"$f":"_xlfn.XLOOKUP(A2566,'Lighting Prices'!A:A,'Lighting Prices'!E:E)","v":{"$error":"#N/A"}}]
["@LK-DYW-TLP6TS",{"$f":"_xlfn.XLOOKUP(A2567,'Prices Furniture'!A:A,'Prices Furniture'!E:E)","v":1815},{"$f":"_xlfn.XLOOKUP(A2567,'Lighting Prices'!A:A,'Lighting Prices'!E:E)","v":{"$error":"#N/A"}}]
["@LK-DYW-LAC",{"$f":"_xlfn.XLOOKUP(A2568,'Prices Furniture'!A:A,'Prices Furniture'!E:E)","v":2099},{"$f":"_xlfn.XLOOKUP(A2568,'Lighting Prices'!A:A,'Lighting Prices'!E:E)","v":{"$error":"#N/A"}}]
["@LK-DYW-TLAC",{"$f":"_xlfn.XLOOKUP(A2569,'Prices Furniture'!A:A,'Prices Furniture'!E:E)","v":2477},{"$f":"_xlfn.XLOOKUP(A2569,'Lighting Prices'!A:A,'Lighting Prices'!E:E)","v":{"$error":"#N/A"}}]
["@LK-DYW-LBP10",{"$f":"_xlfn.XLOOKUP(A2570,'Prices Furniture'!A:A,'Prices Furniture'!E:E)","v":2169},{"$f":"_xlfn.XLOOKUP(A2570,'Lighting Prices'!A:A,'Lighting Prices'!E:E)","v":{"$error":"#N/A"}}]
["@LK-DYW-TLBP10",{"$f":"_xlfn.XLOOKUP(A2571,'Prices Furniture'!A:A,'Prices Furniture'!E:E)","v":2276},{"$f":"_xlfn.XLOOKUP(A2571,'Lighting Prices'!A:A,'Lighting Prices'!E:E)","v":{"$error":"#N/A"}}]
["@LK-DYW-LPN14D",{"$f":"_xlfn.XLOOKUP(A2572,'Prices Furniture'!A:A,'Prices Furniture'!E:E)","v":1152},{"$f":"_xlfn.XLOOKUP(A2572,'Lighting Prices'!A:A,'Lighting Prices'!E:E)","v":{"$error":"#N/A"}}]
["@LK-DYW-LPN14D1DW",{"$f":"_xlfn.XLOOKUP(A2573,'Prices Furniture'!A:A,'Prices Furniture'!E:E)","v":1410},{"$f":"_xlfn.XLOOKUP(A2573,'Lighting Prices'!A:A,'Lighting Prices'!E:E)","v":{"$error":"#N/A"}}]
["@LK-DYW-LPN12D3DW",{"$f":"_xlfn.XLOOKUP(A2574,'Prices Furniture'!A:A,'Prices Furniture'!E:E)","v":1551},{"$f":"_xlfn.XLOOKUP(A2574,'Lighting Prices'!A:A,'Lighting Prices'!E:E)","v":{"$error":"#N/A"}}]
["@LK-DYW-LPN12D2DW",{"$f":"_xlfn.XLOOKUP(A2575,'Prices Furniture'!A:A,'Prices Furniture'!E:E)","v":1414},{"$f":"_xlfn.XLOOKUP(A2575,'Lighting Prices'!A:A,'Lighting Prices'!E:E)","v":{"$error":"#N/A"}}]
["@LK-DYW-LBC15",{"$f":"_xlfn.XLOOKUP(A2576,'Prices Furniture'!A:A,'Prices Furniture'!E:E)","v":958},{"$f":"_xlfn.XLOOKUP(A2576,'Lighting Prices'!A:A,'Lighting Prices'!E:E)","v":{"$error":"#N/A"}}]
["@LK-DYW-LBC16",{"$f":"_xlfn.XLOOKUP(A2577,'Prices Furniture'!A:A,'Prices Furniture'!E:E)","v":985},{"$f":"_xlfn.XLOOKUP(A2577,'Lighting Prices'!A:A,'Lighting Prices'!E:E)","v":{"$error":"#N/A"}}]
["@LK-DYW-LBCLM15L",{"$f":"_xlfn.XLOOKUP(A2578,'Prices Furniture'!A:A,'Prices Furniture'!E:E)","v":2796},{"$f":"_xlfn.XLOOKUP(A2578,'Lighting Prices'!A:A,'Lighting Prices'!E:E)","v":{"$error":"#N/A"}}]
["@LK-DYW-LBCLM15R",{"$f":"_xlfn.XLOOKUP(A2579,'Prices Furniture'!A:A,'Prices Furniture'!E:E)","v":2796},{"$f":"_xlfn.XLOOKUP(A2579,'Lighting Prices'!A:A,'Lighting Prices'!E:E)","v":{"$error":"#N/A"}}]
["@LK-DYW-LBCLM16L",{"$f":"_xlfn.XLOOKUP(A2580,'Prices Furniture'!A:A,'Prices Furniture'!E:E)","v":2949},{"$f":"_xlfn.XLOOKUP(A2580,'Lighting Prices'!A:A,'Lighting Prices'!E:E)","v":{"$error":"#N/A"}}]
["@LK-DYW-LBCLM16R",{"$f":"_xlfn.XLOOKUP(A2581,'Prices Furniture'!A:A,'Prices Furniture'!E:E)","v":2949},{"$f":"_xlfn.XLOOKUP(A2581,'Lighting Prices'!A:A,'Lighting Prices'!E:E)","v":{"$error":"#N/A"}}]
["@LK-DYW-TLPN14D",{"$f":"_xlfn.XLOOKUP(A2582,'Prices Furniture'!A:A,'Prices Furniture'!E:E)","v":1323},{"$f":"_xlfn.XLOOKUP(A2582,'Lighting Prices'!A:A,'Lighting Prices'!E:E)","v":{"$error":"#N/A"}}]
["@LK-DYW-TLBC15",{"$f":"_xlfn.XLOOKUP(A2583,'Prices Furniture'!A:A,'Prices Furniture'!E:E)","v":1112},{"$f":"_xlfn.XLOOKUP(A2583,'Lighting Prices'!A:A,'Lighting Prices'!E:E)","v":{"$error":"#N/A"}}]
["@LK-DYW-TLBC16",{"$f":"_xlfn.XLOOKUP(A2584,'Prices Furniture'!A:A,'Prices Furniture'!E:E)","v":1122},{"$f":"_xlfn.XLOOKUP(A2584,'Lighting Prices'!A:A,'Lighting Prices'!E:E)","v":{"$error":"#N/A"}}]
["@LK-DYW-TLBCLM15L",{"$f":"_xlfn.XLOOKUP(A2585,'Prices Furniture'!A:A,'Prices Furniture'!E:E)","v":2950},{"$f":"_xlfn.XLOOKUP(A2585,'Lighting Prices'!A:A,'Lighting Prices'!E:E)","v":{"$error":"#N/A"}}]
["@LK-DYW-TLBCLM15R",{"$f":"_xlfn.XLOOKUP(A2586,'Prices Furniture'!A:A,'Prices Furniture'!E:E)","v":2950},{"$f":"_xlfn.XLOOKUP(A2586,'Lighting Prices'!A:A,'Lighting Prices'!E:E)","v":{"$error":"#N/A"}}]
["@LK-DYW-TLBCLM16L",{"$f":"_xlfn.XLOOKUP(A2587,'Prices Furniture'!A:A,'Prices Furniture'!E:E)","v":3086},{"$f":"_xlfn.XLOOKUP(A2587,'Lighting Prices'!A:A,'Lighting Prices'!E:E)","v":{"$error":"#N/A"}}]
["@LK-DYW-TLBCLM16R",{"$f":"_xlfn.XLOOKUP(A2588,'Prices Furniture'!A:A,'Prices Furniture'!E:E)","v":3086},{"$f":"_xlfn.XLOOKUP(A2588,'Lighting Prices'!A:A,'Lighting Prices'!E:E)","v":{"$error":"#N/A"}}]
["@LK-DYW-LL6EA",{"$f":"_xlfn.XLOOKUP(A2589,'Prices Furniture'!A:A,'Prices Furniture'!E:E)","v":851},{"$f":"_xlfn.XLOOKUP(A2589,'Lighting Prices'!A:A,'Lighting Prices'!E:E)","v":{"$error":"#N/A"}}]
["@LK-DYW-LL6CU",{"$f":"_xlfn.XLOOKUP(A2590,'Prices Furniture'!A:A,'Prices Furniture'!E:E)","v":801},{"$f":"_xlfn.XLOOKUP(A2590,'Lighting Prices'!A:A,'Lighting Prices'!E:E)","v":{"$error":"#N/A"}}]
["@LK-DYW-LL10CU",{"$f":"_xlfn.XLOOKUP(A2591,'Prices Furniture'!A:A,'Prices Furniture'!E:E)","v":1263},{"$f":"_xlfn.XLOOKUP(A2591,'Lighting Prices'!A:A,'Lighting Prices'!E:E)","v":{"$error":"#N/A"}}]
["@LK-DYW-LL10CUS",{"$f":"_xlfn.XLOOKUP(A2592,'Prices Furniture'!A:A,'Prices Furniture'!E:E)","v":1362},{"$f":"_xlfn.XLOOKUP(A2592,'Lighting Prices'!A:A,'Lighting Prices'!E:E)","v":{"$error":"#N/A"}}]
["@LK-DYW-LL10CB",{"$f":"_xlfn.XLOOKUP(A2593,'Prices Furniture'!A:A,'Prices Furniture'!E:E)","v":1273},{"$f":"_xlfn.XLOOKUP(A2593,'Lighting Prices'!A:A,'Lighting Prices'!E:E)","v":{"$error":"#N/A"}}]
["@LK-DYW-TLL6EA",{"$f":"_xlfn.XLOOKUP(A2594,'Prices Furniture'!A:A,'Prices Furniture'!E:E)","v":946},{"$f":"_xlfn.XLOOKUP(A2594,'Lighting Prices'!A:A,'Lighting Prices'!E:E)","v":{"$error":"#N/A"}}]
["@LK-DYW-TLL6CU",{"$f":"_xlfn.XLOOKUP(A2595,'Prices Furniture'!A:A,'Prices Furniture'!E:E)","v":896},{"$f":"_xlfn.XLOOKUP(A2595,'Lighting Prices'!A:A,'Lighting Prices'!E:E)","v":{"$error":"#N/A"}}]
["@LK-DYW-TLL10CU",{"$f":"_xlfn.XLOOKUP(A2596,'Prices Furniture'!A:A,'Prices Furniture'!E:E)","v":1434},{"$f":"_xlfn.XLOOKUP(A2596,'Lighting Prices'!A:A,'Lighting Prices'!E:E)","v":{"$error":"#N/A"}}]
["@LK-DYW-TLL10CUS",{"$f":"_xlfn.XLOOKUP(A2597,'Prices Furniture'!A:A,'Prices Furniture'!E:E)","v":1533},{"$f":"_xlfn.XLOOKUP(A2597,'Lighting Prices'!A:A,'Lighting Prices'!E:E)","v":{"$error":"#N/A"}}]
["@LK-DYW-TLL10CB",{"$f":"_xlfn.XLOOKUP(A2598,'Prices Furniture'!A:A,'Prices Furniture'!E:E)","v":1444},{"$f":"_xlfn.XLOOKUP(A2598,'Lighting Prices'!A:A,'Lighting Prices'!E:E)","v":{"$error":"#N/A"}}]
["@LK-DYW-AD60ICH",{"$f":"_xlfn.XLOOKUP(A2599,'Prices Furniture'!A:A,'Prices Furniture'!E:E)","v":96},{"$f":"_xlfn.XLOOKUP(A2599,'Lighting Prices'!A:A,'Lighting Prices'!E:E)","v":{"$error":"#N/A"}}]
["@LK-DYW-AD60FD",{"$f":"_xlfn.XLOOKUP(A2600,'Prices Furniture'!A:A,'Prices Furniture'!E:E)","v":132},{"$f":"_xlfn.XLOOKUP(A2600,'Lighting Prices'!A:A,'Lighting Prices'!E:E)","v":{"$error":"#N/A"}}]
["@LK-DYW-AD45I",{"$f":"_xlfn.XLOOKUP(A2601,'Prices Furniture'!A:A,'Prices Furniture'!E:E)","v":108},{"$f":"_xlfn.XLOOKUP(A2601,'Lighting Prices'!A:A,'Lighting Prices'!E:E)","v":{"$error":"#N/A"}}]
["@LK-DYW-AD60S",{"$f":"_xlfn.XLOOKUP(A2602,'Prices Furniture'!A:A,'Prices Furniture'!E:E)","v":122},{"$f":"_xlfn.XLOOKUP(A2602,'Lighting Prices'!A:A,'Lighting Prices'!E:E)","v":{"$error":"#N/A"}}]
["@LK-DYW-BLD9",{"$f":"_xlfn.XLOOKUP(A2603,'Prices Furniture'!A:A,'Prices Furniture'!E:E)","v":148},{"$f":"_xlfn.XLOOKUP(A2603,'Lighting Prices'!A:A,'Lighting Prices'!E:E)","v":{"$error":"#N/A"}}]
["@LK-DYW-TW30",{"$f":"_xlfn.XLOOKUP(A2604,'Prices Furniture'!A:A,'Prices Furniture'!E:E)","v":272},{"$f":"_xlfn.XLOOKUP(A2604,'Lighting Prices'!A:A,'Lighting Prices'!E:E)","v":{"$error":"#N/A"}}]
["@LK-DYW-TW40",{"$f":"_xlfn.XLOOKUP(A2605,'Prices Furniture'!A:A,'Prices Furniture'!E:E)","v":289},{"$f":"_xlfn.XLOOKUP(A2605,'Lighting Prices'!A:A,'Lighting Prices'!E:E)","v":{"$error":"#N/A"}}]
["@LK-DYW-TW45",{"$f":"_xlfn.XLOOKUP(A2606,'Prices Furniture'!A:A,'Prices Furniture'!E:E)","v":300},{"$f":"_xlfn.XLOOKUP(A2606,'Lighting Prices'!A:A,'Lighting Prices'!E:E)","v":{"$error":"#N/A"}}]
["@LK-DYW-TW50",{"$f":"_xlfn.XLOOKUP(A2607,'Prices Furniture'!A:A,'Prices Furniture'!E:E)","v":319},{"$f":"_xlfn.XLOOKUP(A2607,'Lighting Prices'!A:A,'Lighting Prices'!E:E)","v":{"$error":"#N/A"}}]
["@LK-DYW-TW60",{"$f":"_xlfn.XLOOKUP(A2608,'Prices Furniture'!A:A,'Prices Furniture'!E:E)","v":327},{"$f":"_xlfn.XLOOKUP(A2608,'Lighting Prices'!A:A,'Lighting Prices'!E:E)","v":{"$error":"#N/A"}}]
["@LK-DYW-TW80",{"$f":"_xlfn.XLOOKUP(A2609,'Prices Furniture'!A:A,'Prices Furniture'!E:E)","v":460},{"$f":"_xlfn.XLOOKUP(A2609,'Lighting Prices'!A:A,'Lighting Prices'!E:E)","v":{"$error":"#N/A"}}]
["@LK-DYW-TW90",{"$f":"_xlfn.XLOOKUP(A2610,'Prices Furniture'!A:A,'Prices Furniture'!E:E)","v":474},{"$f":"_xlfn.XLOOKUP(A2610,'Lighting Prices'!A:A,'Lighting Prices'!E:E)","v":{"$error":"#N/A"}}]
["@LK-DYW-TW100",{"$f":"_xlfn.XLOOKUP(A2611,'Prices Furniture'!A:A,'Prices Furniture'!E:E)","v":502},{"$f":"_xlfn.XLOOKUP(A2611,'Lighting Prices'!A:A,'Lighting Prices'!E:E)","v":{"$error":"#N/A"}}]
["@LK-DYW-TWC6",{"$f":"_xlfn.XLOOKUP(A2612,'Prices Furniture'!A:A,'Prices Furniture'!E:E)","v":378},{"$f":"_xlfn.XLOOKUP(A2612,'Lighting Prices'!A:A,'Lighting Prices'!E:E)","v":{"$error":"#N/A"}}]
["@LK-DYW-TWC9",{"$f":"_xlfn.XLOOKUP(A2613,'Prices Furniture'!A:A,'Prices Furniture'!E:E)","v":422},{"$f":"_xlfn.XLOOKUP(A2613,'Lighting Prices'!A:A,'Lighting Prices'!E:E)","v":{"$error":"#N/A"}}]
["@LK-DYW-TAH-F55",{"$f":"_xlfn.XLOOKUP(A2614,'Prices Furniture'!A:A,'Prices Furniture'!E:E)","v":788},{"$f":"_xlfn.XLOOKUP(A2614,'Lighting Prices'!A:A,'Lighting Prices'!E:E)","v":{"$error":"#N/A"}}]
["@LK-DYW-TAH-F73",{"$f":"_xlfn.XLOOKUP(A2615,'Prices Furniture'!A:A,'Prices Furniture'!E:E)","v":806},{"$f":"_xlfn.XLOOKUP(A2615,'Lighting Prices'!A:A,'Lighting Prices'!E:E)","v":{"$error":"#N/A"}}]
["@LK-DYW-TAH-DO",{"$f":"_xlfn.XLOOKUP(A2616,'Prices Furniture'!A:A,'Prices Furniture'!E:E)","v":849},{"$f":"_xlfn.XLOOKUP(A2616,'Lighting Prices'!A:A,'Lighting Prices'!E:E)","v":{"$error":"#N/A"}}]
["@LK-DYW-TAH-DO2D",{"$f":"_xlfn.XLOOKUP(A2617,'Prices Furniture'!A:A,'Prices Furniture'!E:E)","v":1169},{"$f":"_xlfn.XLOOKUP(A2617,'Lighting Prices'!A:A,'Lighting Prices'!E:E)","v":{"$error":"#N/A"}}]
["@LK-DYW-TAH-SO",{"$f":"_xlfn.XLOOKUP(A2618,'Prices Furniture'!A:A,'Prices Furniture'!E:E)","v":854},{"$f":"_xlfn.XLOOKUP(A2618,'Lighting Prices'!A:A,'Lighting Prices'!E:E)","v":{"$error":"#N/A"}}]
["@LK-DYW-TAH-SO2D",{"$f":"_xlfn.XLOOKUP(A2619,'Prices Furniture'!A:A,'Prices Furniture'!E:E)","v":1228},{"$f":"_xlfn.XLOOKUP(A2619,'Lighting Prices'!A:A,'Lighting Prices'!E:E)","v":{"$error":"#N/A"}}]
["@LK-DYW-TAH-SMW",{"$f":"_xlfn.XLOOKUP(A2620,'Prices Furniture'!A:A,'Prices Furniture'!E:E)","v":843},{"$f":"_xlfn.XLOOKUP(A2620,'Lighting Prices'!A:A,'Lighting Prices'!E:E)","v":{"$error":"#N/A"}}]
["@LK-DYW-TAH-CO",{"$f":"_xlfn.XLOOKUP(A2621,'Prices Furniture'!A:A,'Prices Furniture'!E:E)","v":849},{"$f":"_xlfn.XLOOKUP(A2621,'Lighting Prices'!A:A,'Lighting Prices'!E:E)","v":{"$error":"#N/A"}}]
["@LK-DYW-TL3",{"$f":"_xlfn.XLOOKUP(A2622,'Prices Furniture'!A:A,'Prices Furniture'!E:E)","v":714},{"$f":"_xlfn.XLOOKUP(A2622,'Lighting Prices'!A:A,'Lighting Prices'!E:E)","v":{"$error":"#N/A"}}]
["@LK-DYW-TL4",{"$f":"_xlfn.XLOOKUP(A2623,'Prices Furniture'!A:A,'Prices Furniture'!E:E)","v":745},{"$f":"_xlfn.XLOOKUP(A2623,'Lighting Prices'!A:A,'Lighting Prices'!E:E)","v":{"$error":"#N/A"}}]
["@LK-DYW-TL5",{"$f":"_xlfn.XLOOKUP(A2624,'Prices Furniture'!A:A,'Prices Furniture'!E:E)","v":773},{"$f":"_xlfn.XLOOKUP(A2624,'Lighting Prices'!A:A,'Lighting Prices'!E:E)","v":{"$error":"#N/A"}}]
["@LK-DYW-TL6",{"$f":"_xlfn.XLOOKUP(A2625,'Prices Furniture'!A:A,'Prices Furniture'!E:E)","v":828},{"$f":"_xlfn.XLOOKUP(A2625,'Lighting Prices'!A:A,'Lighting Prices'!E:E)","v":{"$error":"#N/A"}}]
["@LK-DYW-MANTLE",{"$f":"_xlfn.XLOOKUP(A2626,'Prices Furniture'!A:A,'Prices Furniture'!E:E)","v":1910},{"$f":"_xlfn.XLOOKUP(A2626,'Lighting Prices'!A:A,'Lighting Prices'!E:E)","v":{"$error":"#N/A"}}]
["@LK-DYW-CH-SO",{"$f":"_xlfn.XLOOKUP(A2627,'Prices Furniture'!A:A,'Prices Furniture'!E:E)","v":656},{"$f":"_xlfn.XLOOKUP(A2627,'Lighting Prices'!A:A,'Lighting Prices'!E:E)","v":{"$error":"#N/A"}}]
["@LK-DYW-CH-MW",{"$f":"_xlfn.XLOOKUP(A2628,'Prices Furniture'!A:A,'Prices Furniture'!E:E)","v":705},{"$f":"_xlfn.XLOOKUP(A2628,'Lighting Prices'!A:A,'Lighting Prices'!E:E)","v":{"$error":"#N/A"}}]
["@LK-DYW-CH-ST",{"$f":"_xlfn.XLOOKUP(A2629,'Prices Furniture'!A:A,'Prices Furniture'!E:E)","v":897},{"$f":"_xlfn.XLOOKUP(A2629,'Lighting Prices'!A:A,'Lighting Prices'!E:E)","v":{"$error":"#N/A"}}]
["@LK-DYW-TCH-SO",{"$f":"_xlfn.XLOOKUP(A2630,'Prices Furniture'!A:A,'Prices Furniture'!E:E)","v":858},{"$f":"_xlfn.XLOOKUP(A2630,'Lighting Prices'!A:A,'Lighting Prices'!E:E)","v":{"$error":"#N/A"}}]
["@LK-DYW-TCH-MW",{"$f":"_xlfn.XLOOKUP(A2631,'Prices Furniture'!A:A,'Prices Furniture'!E:E)","v":794},{"$f":"_xlfn.XLOOKUP(A2631,'Lighting Prices'!A:A,'Lighting Prices'!E:E)","v":{"$error":"#N/A"}}]
["@LK-DYW-TCH-ST",{"$f":"_xlfn.XLOOKUP(A2632,'Prices Furniture'!A:A,'Prices Furniture'!E:E)","v":945},{"$f":"_xlfn.XLOOKUP(A2632,'Lighting Prices'!A:A,'Lighting Prices'!E:E)","v":{"$error":"#N/A"}}]
["@LK-DYW-AH-SOT",{"$f":"_xlfn.XLOOKUP(A2633,'Prices Furniture'!A:A,'Prices Furniture'!E:E)","v":889},{"$f":"_xlfn.XLOOKUP(A2633,'Lighting Prices'!A:A,'Lighting Prices'!E:E)","v":{"$error":"#N/A"}}]
["@LK-DYW-TAH-SOT",{"$f":"_xlfn.XLOOKUP(A2634,'Prices Furniture'!A:A,'Prices Furniture'!E:E)","v":716},{"$f":"_xlfn.XLOOKUP(A2634,'Lighting Prices'!A:A,'Lighting Prices'!E:E)","v":{"$error":"#N/A"}}]
["@LK-DYW-LP4",{"$f":"_xlfn.XLOOKUP(A2635,'Prices Furniture'!A:A,'Prices Furniture'!E:E)","v":1619},{"$f":"_xlfn.XLOOKUP(A2635,'Lighting Prices'!A:A,'Lighting Prices'!E:E)","v":{"$error":"#N/A"}}]
["@LK-DYW-TLP4",{"$f":"_xlfn.XLOOKUP(A2636,'Prices Furniture'!A:A,'Prices Furniture'!E:E)","v":1656},{"$f":"_xlfn.XLOOKUP(A2636,'Lighting Prices'!A:A,'Lighting Prices'!E:E)","v":{"$error":"#N/A"}}]
["@LK-DYW-LP5T",{"$f":"_xlfn.XLOOKUP(A2637,'Prices Furniture'!A:A,'Prices Furniture'!E:E)","v":1929},{"$f":"_xlfn.XLOOKUP(A2637,'Lighting Prices'!A:A,'Lighting Prices'!E:E)","v":{"$error":"#N/A"}}]
["@LK-DYW-TLP5T",{"$f":"_xlfn.XLOOKUP(A2638,'Prices Furniture'!A:A,'Prices Furniture'!E:E)","v":1965},{"$f":"_xlfn.XLOOKUP(A2638,'Lighting Prices'!A:A,'Lighting Prices'!E:E)","v":{"$error":"#N/A"}}]
["@LK-DYW-LL8LS",{"$f":"_xlfn.XLOOKUP(A2639,'Prices Furniture'!A:A,'Prices Furniture'!E:E)","v":1402},{"$f":"_xlfn.XLOOKUP(A2639,'Lighting Prices'!A:A,'Lighting Prices'!E:E)","v":{"$error":"#N/A"}}]
["@LK-DYW-TLL8LS",{"$f":"_xlfn.XLOOKUP(A2640,'Prices Furniture'!A:A,'Prices Furniture'!E:E)","v":1575},{"$f":"_xlfn.XLOOKUP(A2640,'Lighting Prices'!A:A,'Lighting Prices'!E:E)","v":{"$error":"#N/A"}}]
["@LK-DYW-W357",{"$f":"_xlfn.XLOOKUP(A2641,'Prices Furniture'!A:A,'Prices Furniture'!E:E)","v":249},{"$f":"_xlfn.XLOOKUP(A2641,'Lighting Prices'!A:A,'Lighting Prices'!E:E)","v":{"$error":"#N/A"}}]
["@LK-DYW-W457",{"$f":"_xlfn.XLOOKUP(A2642,'Prices Furniture'!A:A,'Prices Furniture'!E:E)","v":263},{"$f":"_xlfn.XLOOKUP(A2642,'Lighting Prices'!A:A,'Lighting Prices'!E:E)","v":{"$error":"#N/A"}}]
["@LK-DYW-W4557",{"$f":"_xlfn.XLOOKUP(A2643,'Prices Furniture'!A:A,'Prices Furniture'!E:E)","v":278},{"$f":"_xlfn.XLOOKUP(A2643,'Lighting Prices'!A:A,'Lighting Prices'!E:E)","v":{"$error":"#N/A"}}]
["@LK-DYW-W557",{"$f":"_xlfn.XLOOKUP(A2644,'Prices Furniture'!A:A,'Prices Furniture'!E:E)","v":292},{"$f":"_xlfn.XLOOKUP(A2644,'Lighting Prices'!A:A,'Lighting Prices'!E:E)","v":{"$error":"#N/A"}}]
["@LK-DYW-W657",{"$f":"_xlfn.XLOOKUP(A2645,'Prices Furniture'!A:A,'Prices Furniture'!E:E)","v":281},{"$f":"_xlfn.XLOOKUP(A2645,'Lighting Prices'!A:A,'Lighting Prices'!E:E)","v":{"$error":"#N/A"}}]
["@LK-DYW-W857",{"$f":"_xlfn.XLOOKUP(A2646,'Prices Furniture'!A:A,'Prices Furniture'!E:E)","v":445},{"$f":"_xlfn.XLOOKUP(A2646,'Lighting Prices'!A:A,'Lighting Prices'!E:E)","v":{"$error":"#N/A"}}]
["@LK-DYW-W957",{"$f":"_xlfn.XLOOKUP(A2647,'Prices Furniture'!A:A,'Prices Furniture'!E:E)","v":461},{"$f":"_xlfn.XLOOKUP(A2647,'Lighting Prices'!A:A,'Lighting Prices'!E:E)","v":{"$error":"#N/A"}}]
["@LK-DYW-W157",{"$f":"_xlfn.XLOOKUP(A2648,'Prices Furniture'!A:A,'Prices Furniture'!E:E)","v":486},{"$f":"_xlfn.XLOOKUP(A2648,'Lighting Prices'!A:A,'Lighting Prices'!E:E)","v":{"$error":"#N/A"}}]
["@LK-DYW-WC657",{"$f":"_xlfn.XLOOKUP(A2649,'Prices Furniture'!A:A,'Prices Furniture'!E:E)","v":396},{"$f":"_xlfn.XLOOKUP(A2649,'Lighting Prices'!A:A,'Lighting Prices'!E:E)","v":{"$error":"#N/A"}}]
["@LK-DYW-WC957",{"$f":"_xlfn.XLOOKUP(A2650,'Prices Furniture'!A:A,'Prices Furniture'!E:E)","v":421},{"$f":"_xlfn.XLOOKUP(A2650,'Lighting Prices'!A:A,'Lighting Prices'!E:E)","v":{"$error":"#N/A"}}]
["@LK-DYW-BHD3",{"$f":"_xlfn.XLOOKUP(A2651,'Prices Furniture'!A:A,'Prices Furniture'!E:E)","v":629},{"$f":"_xlfn.XLOOKUP(A2651,'Lighting Prices'!A:A,'Lighting Prices'!E:E)","v":{"$error":"#N/A"}}]
["@LK-DYW-BHD4",{"$f":"_xlfn.XLOOKUP(A2652,'Prices Furniture'!A:A,'Prices Furniture'!E:E)","v":678},{"$f":"_xlfn.XLOOKUP(A2652,'Lighting Prices'!A:A,'Lighting Prices'!E:E)","v":{"$error":"#N/A"}}]
["@LK-DYW-BHD5",{"$f":"_xlfn.XLOOKUP(A2653,'Prices Furniture'!A:A,'Prices Furniture'!E:E)","v":741},{"$f":"_xlfn.XLOOKUP(A2653,'Lighting Prices'!A:A,'Lighting Prices'!E:E)","v":{"$error":"#N/A"}}]
["@LK-DYW-BHD6",{"$f":"_xlfn.XLOOKUP(A2654,'Prices Furniture'!A:A,'Prices Furniture'!E:E)","v":797},{"$f":"_xlfn.XLOOKUP(A2654,'Lighting Prices'!A:A,'Lighting Prices'!E:E)","v":{"$error":"#N/A"}}]
["LK-A-DYW-WREP72",{"$f":"_xlfn.XLOOKUP(A2655,'Prices Furniture'!A:A,'Prices Furniture'!E:E)","v":77},{"$f":"_xlfn.XLOOKUP(A2655,'Lighting Prices'!A:A,'Lighting Prices'!E:E)","v":{"$error":"#N/A"}}]
["LK-A-DYW-PWEP72",{"$f":"_xlfn.XLOOKUP(A2656,'Prices Furniture'!A:A,'Prices Furniture'!E:E)","v":80},{"$f":"_xlfn.XLOOKUP(A2656,'Lighting Prices'!A:A,'Lighting Prices'!E:E)","v":{"$error":"#N/A"}}]
["LK-A-DYW-PWEP20",{"$f":"_xlfn.XLOOKUP(A2657,'Prices Furniture'!A:A,'Prices Furniture'!E:E)","v":200},{"$f":"_xlfn.XLOOKUP(A2657,'Lighting Prices'!A:A,'Lighting Prices'!E:E)","v":{"$error":"#N/A"}}]
["LK-A-DYW-ESP",{"$f":"_xlfn.XLOOKUP(A2658,'Prices Furniture'!A:A,'Prices Furniture'!E:E)","v":123},{"$f":"_xlfn.XLOOKUP(A2658,'Lighting Prices'!A:A,'Lighting Prices'!E:E)","v":{"$error":"#N/A"}}]
["LK-A-DYW-LUP",{"$f":"_xlfn.XLOOKUP(A2659,'Prices Furniture'!A:A,'Prices Furniture'!E:E)","v":391},{"$f":"_xlfn.XLOOKUP(A2659,'Lighting Prices'!A:A,'Lighting Prices'!E:E)","v":{"$error":"#N/A"}}]
["LK-A-DYW-PTEP",{"$f":"_xlfn.XLOOKUP(A2660,'Prices Furniture'!A:A,'Prices Furniture'!E:E)","v":240},{"$f":"_xlfn.XLOOKUP(A2660,'Lighting Prices'!A:A,'Lighting Prices'!E:E)","v":{"$error":"#N/A"}}]
["LK-A-DYW-BPIL",{"$f":"_xlfn.XLOOKUP(A2661,'Prices Furniture'!A:A,'Prices Furniture'!E:E)","v":231},{"$f":"_xlfn.XLOOKUP(A2661,'Lighting Prices'!A:A,'Lighting Prices'!E:E)","v":{"$error":"#N/A"}}]
["LK-A-DYW-PL",{"$f":"_xlfn.XLOOKUP(A2662,'Prices Furniture'!A:A,'Prices Furniture'!E:E)","v":90},{"$f":"_xlfn.XLOOKUP(A2662,'Lighting Prices'!A:A,'Lighting Prices'!E:E)","v":{"$error":"#N/A"}}]
["LK-A-DYW-CVPL",{"$f":"_xlfn.XLOOKUP(A2663,'Prices Furniture'!A:A,'Prices Furniture'!E:E)","v":181},{"$f":"_xlfn.XLOOKUP(A2663,'Lighting Prices'!A:A,'Lighting Prices'!E:E)","v":{"$error":"#N/A"}}]
["LK-A-DYW-SCCRN",{"$f":"_xlfn.XLOOKUP(A2664,'Prices Furniture'!A:A,'Prices Furniture'!E:E)","v":113},{"$f":"_xlfn.XLOOKUP(A2664,'Lighting Prices'!A:A,'Lighting Prices'!E:E)","v":{"$error":"#N/A"}}]
["LK-A-DYW-CSC",{"$f":"_xlfn.XLOOKUP(A2665,'Prices Furniture'!A:A,'Prices Furniture'!E:E)","v":181},{"$f":"_xlfn.XLOOKUP(A2665,'Lighting Prices'!A:A,'Lighting Prices'!E:E)","v":{"$error":"#N/A"}}]
["LK-A-DYW-BLPEL",{"$f":"_xlfn.XLOOKUP(A2666,'Prices Furniture'!A:A,'Prices Furniture'!E:E)","v":86},{"$f":"_xlfn.XLOOKUP(A2666,'Lighting Prices'!A:A,'Lighting Prices'!E:E)","v":{"$error":"#N/A"}}]
["LK-A-DYW-CVBUL",{"$f":"_xlfn.XLOOKUP(A2667,'Prices Furniture'!A:A,'Prices Furniture'!E:E)","v":180},{"$f":"_xlfn.XLOOKUP(A2667,'Lighting Prices'!A:A,'Lighting Prices'!E:E)","v":{"$error":"#N/A"}}]
["LK-A-DYW-CVP",{"$f":"_xlfn.XLOOKUP(A2668,'Prices Furniture'!A:A,'Prices Furniture'!E:E)","v":123},{"$f":"_xlfn.XLOOKUP(A2668,'Lighting Prices'!A:A,'Lighting Prices'!E:E)","v":{"$error":"#N/A"}}]
["LK-A-DYW-CPBM",{"$f":"_xlfn.XLOOKUP(A2669,'Prices Furniture'!A:A,'Prices Furniture'!E:E)","v":116},{"$f":"_xlfn.XLOOKUP(A2669,'Lighting Prices'!A:A,'Lighting Prices'!E:E)","v":{"$error":"#N/A"}}]
["LK-A-DYW-CPBC",{"$f":"_xlfn.XLOOKUP(A2670,'Prices Furniture'!A:A,'Prices Furniture'!E:E)","v":116},{"$f":"_xlfn.XLOOKUP(A2670,'Lighting Prices'!A:A,'Lighting Prices'!E:E)","v":{"$error":"#N/A"}}]
["LK-A-DYW-ET",{"$f":"_xlfn.XLOOKUP(A2671,'Prices Furniture'!A:A,'Prices Furniture'!E:E)","v":37},{"$f":"_xlfn.XLOOKUP(A2671,'Lighting Prices'!A:A,'Lighting Prices'!E:E)","v":{"$error":"#N/A"}}]
["@LK-ISW-BP15TY",{"$f":"_xlfn.XLOOKUP(A2672,'Prices Furniture'!A:A,'Prices Furniture'!E:E)","v":410},{"$f":"_xlfn.XLOOKUP(A2672,'Lighting Prices'!A:A,'Lighting Prices'!E:E)","v":{"$error":"#N/A"}}]
["@LK-ISW-BP3TY",{"$f":"_xlfn.XLOOKUP(A2673,'Prices Furniture'!A:A,'Prices Furniture'!E:E)","v":635},{"$f":"_xlfn.XLOOKUP(A2673,'Lighting Prices'!A:A,'Lighting Prices'!E:E)","v":{"$error":"#N/A"}}]
["@LK-ISW-BH15",{"$f":"_xlfn.XLOOKUP(A2674,'Prices Furniture'!A:A,'Prices Furniture'!E:E)","v":230},{"$f":"_xlfn.XLOOKUP(A2674,'Lighting Prices'!A:A,'Lighting Prices'!E:E)","v":{"$error":"#N/A"}}]
["@LK-ISW-BH30",{"$f":"_xlfn.XLOOKUP(A2675,'Prices Furniture'!A:A,'Prices Furniture'!E:E)","v":240},{"$f":"_xlfn.XLOOKUP(A2675,'Lighting Prices'!A:A,'Lighting Prices'!E:E)","v":{"$error":"#N/A"}}]
["@LK-ISW-BH3B",{"$f":"_xlfn.XLOOKUP(A2676,'Prices Furniture'!A:A,'Prices Furniture'!E:E)","v":608},{"$f":"_xlfn.XLOOKUP(A2676,'Lighting Prices'!A:A,'Lighting Prices'!E:E)","v":{"$error":"#N/A"}}]
["@LK-ISW-BH35",{"$f":"_xlfn.XLOOKUP(A2677,'Prices Furniture'!A:A,'Prices Furniture'!E:E)","v":247},{"$f":"_xlfn.XLOOKUP(A2677,'Lighting Prices'!A:A,'Lighting Prices'!E:E)","v":{"$error":"#N/A"}}]
["@LK-ISW-BH40",{"$f":"_xlfn.XLOOKUP(A2678,'Prices Furniture'!A:A,'Prices Furniture'!E:E)","v":250},{"$f":"_xlfn.XLOOKUP(A2678,'Lighting Prices'!A:A,'Lighting Prices'!E:E)","v":{"$error":"#N/A"}}]
["@LK-ISW-BH4B",{"$f":"_xlfn.XLOOKUP(A2679,'Prices Furniture'!A:A,'Prices Furniture'!E:E)","v":683},{"$f":"_xlfn.XLOOKUP(A2679,'Lighting Prices'!A:A,'Lighting Prices'!E:E)","v":{"$error":"#N/A"}}]
["@LK-ISW-BH45",{"$f":"_xlfn.XLOOKUP(A2680,'Prices Furniture'!A:A,'Prices Furniture'!E:E)","v":273},{"$f":"_xlfn.XLOOKUP(A2680,'Lighting Prices'!A:A,'Lighting Prices'!E:E)","v":{"$error":"#N/A"}}]
["@LK-ISW-BH45B",{"$f":"_xlfn.XLOOKUP(A2681,'Prices Furniture'!A:A,'Prices Furniture'!E:E)","v":711},{"$f":"_xlfn.XLOOKUP(A2681,'Lighting Prices'!A:A,'Lighting Prices'!E:E)","v":{"$error":"#N/A"}}]
["@LK-ISW-BH50",{"$f":"_xlfn.XLOOKUP(A2682,'Prices Furniture'!A:A,'Prices Furniture'!E:E)","v":284},{"$f":"_xlfn.XLOOKUP(A2682,'Lighting Prices'!A:A,'Lighting Prices'!E:E)","v":{"$error":"#N/A"}}]
["@LK-ISW-BH5B",{"$f":"_xlfn.XLOOKUP(A2683,'Prices Furniture'!A:A,'Prices Furniture'!E:E)","v":728},{"$f":"_xlfn.XLOOKUP(A2683,'Lighting Prices'!A:A,'Lighting Prices'!E:E)","v":{"$error":"#N/A"}}]
["@LK-ISW-BH50S",{"$f":"_xlfn.XLOOKUP(A2684,'Prices Furniture'!A:A,'Prices Furniture'!E:E)","v":314},{"$f":"_xlfn.XLOOKUP(A2684,'Lighting Prices'!A:A,'Lighting Prices'!E:E)","v":{"$error":"#N/A"}}]
["@LK-ISW-BH60",{"$f":"_xlfn.XLOOKUP(A2685,'Prices Furniture'!A:A,'Prices Furniture'!E:E)","v":320},{"$f":"_xlfn.XLOOKUP(A2685,'Lighting Prices'!A:A,'Lighting Prices'!E:E)","v":{"$error":"#N/A"}}]
["@LK-ISW-BH6B4",{"$f":"_xlfn.XLOOKUP(A2686,'Prices Furniture'!A:A,'Prices Furniture'!E:E)","v":853},{"$f":"_xlfn.XLOOKUP(A2686,'Lighting Prices'!A:A,'Lighting Prices'!E:E)","v":{"$error":"#N/A"}}]
["@LK-ISW-BH6B2",{"$f":"_xlfn.XLOOKUP(A2687,'Prices Furniture'!A:A,'Prices Furniture'!E:E)","v":801},{"$f":"_xlfn.XLOOKUP(A2687,'Lighting Prices'!A:A,'Lighting Prices'!E:E)","v":{"$error":"#N/A"}}]
["@LK-ISW-BH60S",{"$f":"_xlfn.XLOOKUP(A2688,'Prices Furniture'!A:A,'Prices Furniture'!E:E)","v":366},{"$f":"_xlfn.XLOOKUP(A2688,'Lighting Prices'!A:A,'Lighting Prices'!E:E)","v":{"$error":"#N/A"}}]
["@LK-ISW-BH70",{"$f":"_xlfn.XLOOKUP(A2689,'Prices Furniture'!A:A,'Prices Furniture'!E:E)","v":392},{"$f":"_xlfn.XLOOKUP(A2689,'Lighting Prices'!A:A,'Lighting Prices'!E:E)","v":{"$error":"#N/A"}}]
["@LK-ISW-BH80",{"$f":"_xlfn.XLOOKUP(A2690,'Prices Furniture'!A:A,'Prices Furniture'!E:E)","v":396},{"$f":"_xlfn.XLOOKUP(A2690,'Lighting Prices'!A:A,'Lighting Prices'!E:E)","v":{"$error":"#N/A"}}]
["@LK-ISW-BH80S",{"$f":"_xlfn.XLOOKUP(A2691,'Prices Furniture'!A:A,'Prices Furniture'!E:E)","v":442},{"$f":"_xlfn.XLOOKUP(A2691,'Lighting Prices'!A:A,'Lighting Prices'!E:E)","v":{"$error":"#N/A"}}]
["@LK-ISW-BH90",{"$f":"_xlfn.XLOOKUP(A2692,'Prices Furniture'!A:A,'Prices Furniture'!E:E)","v":420},{"$f":"_xlfn.XLOOKUP(A2692,'Lighting Prices'!A:A,'Lighting Prices'!E:E)","v":{"$error":"#N/A"}}]
["@LK-ISW-BH90S",{"$f":"_xlfn.XLOOKUP(A2693,'Prices Furniture'!A:A,'Prices Furniture'!E:E)","v":466},{"$f":"_xlfn.XLOOKUP(A2693,'Lighting Prices'!A:A,'Lighting Prices'!E:E)","v":{"$error":"#N/A"}}]
["@LK-ISW-BH100",{"$f":"_xlfn.XLOOKUP(A2694,'Prices Furniture'!A:A,'Prices Furniture'!E:E)","v":441},{"$f":"_xlfn.XLOOKUP(A2694,'Lighting Prices'!A:A,'Lighting Prices'!E:E)","v":{"$error":"#N/A"}}]
["@LK-ISW-BH10S",{"$f":"_xlfn.XLOOKUP(A2695,'Prices Furniture'!A:A,'Prices Furniture'!E:E)","v":487},{"$f":"_xlfn.XLOOKUP(A2695,'Lighting Prices'!A:A,'Lighting Prices'!E:E)","v":{"$error":"#N/A"}}]
["@LK-ISW-BC83",{"$f":"_xlfn.XLOOKUP(A2696,'Prices Furniture'!A:A,'Prices Furniture'!E:E)","v":375},{"$f":"_xlfn.XLOOKUP(A2696,'Lighting Prices'!A:A,'Lighting Prices'!E:E)","v":{"$error":"#N/A"}}]
["@LK-ISW-BC84",{"$f":"_xlfn.XLOOKUP(A2697,'Prices Furniture'!A:A,'Prices Furniture'!E:E)","v":381},{"$f":"_xlfn.XLOOKUP(A2697,'Lighting Prices'!A:A,'Lighting Prices'!E:E)","v":{"$error":"#N/A"}}]
["@LK-ISW-BC845",{"$f":"_xlfn.XLOOKUP(A2698,'Prices Furniture'!A:A,'Prices Furniture'!E:E)","v":393},{"$f":"_xlfn.XLOOKUP(A2698,'Lighting Prices'!A:A,'Lighting Prices'!E:E)","v":{"$error":"#N/A"}}]
["@LK-ISW-BC945",{"$f":"_xlfn.XLOOKUP(A2699,'Prices Furniture'!A:A,'Prices Furniture'!E:E)","v":393},{"$f":"_xlfn.XLOOKUP(A2699,'Lighting Prices'!A:A,'Lighting Prices'!E:E)","v":{"$error":"#N/A"}}]
["@LK-ISW-BC145",{"$f":"_xlfn.XLOOKUP(A2700,'Prices Furniture'!A:A,'Prices Furniture'!E:E)","v":398},{"$f":"_xlfn.XLOOKUP(A2700,'Lighting Prices'!A:A,'Lighting Prices'!E:E)","v":{"$error":"#N/A"}}]
["@LK-ISW-BC15",{"$f":"_xlfn.XLOOKUP(A2701,'Prices Furniture'!A:A,'Prices Furniture'!E:E)","v":406},{"$f":"_xlfn.XLOOKUP(A2701,'Lighting Prices'!A:A,'Lighting Prices'!E:E)","v":{"$error":"#N/A"}}]
["@LK-ISW-BC16",{"$f":"_xlfn.XLOOKUP(A2702,'Prices Furniture'!A:A,'Prices Furniture'!E:E)","v":422},{"$f":"_xlfn.XLOOKUP(A2702,'Lighting Prices'!A:A,'Lighting Prices'!E:E)","v":{"$error":"#N/A"}}]
["@LK-ISW-BCL15L",{"$f":"_xlfn.XLOOKUP(A2703,'Prices Furniture'!A:A,'Prices Furniture'!E:E)","v":1271},{"$f":"_xlfn.XLOOKUP(A2703,'Lighting Prices'!A:A,'Lighting Prices'!E:E)","v":{"$error":"#N/A"}}]
["@LK-ISW-BCL15R",{"$f":"_xlfn.XLOOKUP(A2704,'Prices Furniture'!A:A,'Prices Furniture'!E:E)","v":1271},{"$f":"_xlfn.XLOOKUP(A2704,'Lighting Prices'!A:A,'Lighting Prices'!E:E)","v":{"$error":"#N/A"}}]
["@LK-ISW-BCL16L",{"$f":"_xlfn.XLOOKUP(A2705,'Prices Furniture'!A:A,'Prices Furniture'!E:E)","v":1350},{"$f":"_xlfn.XLOOKUP(A2705,'Lighting Prices'!A:A,'Lighting Prices'!E:E)","v":{"$error":"#N/A"}}]
["@LK-ISW-BCL16R",{"$f":"_xlfn.XLOOKUP(A2706,'Prices Furniture'!A:A,'Prices Furniture'!E:E)","v":1350},{"$f":"_xlfn.XLOOKUP(A2706,'Lighting Prices'!A:A,'Lighting Prices'!E:E)","v":{"$error":"#N/A"}}]
["@LK-ISW-BCO945",{"$f":"_xlfn.XLOOKUP(A2707,'Prices Furniture'!A:A,'Prices Furniture'!E:E)","v":1403},{"$f":"_xlfn.XLOOKUP(A2707,'Lighting Prices'!A:A,'Lighting Prices'!E:E)","v":{"$error":"#N/A"}}]
["@LK-ISW-BCO145",{"$f":"_xlfn.XLOOKUP(A2708,'Prices Furniture'!A:A,'Prices Furniture'!E:E)","v":1408},{"$f":"_xlfn.XLOOKUP(A2708,'Lighting Prices'!A:A,'Lighting Prices'!E:E)","v":{"$error":"#N/A"}}]
["@LK-ISW-BCO15",{"$f":"_xlfn.XLOOKUP(A2709,'Prices Furniture'!A:A,'Prices Furniture'!E:E)","v":1416},{"$f":"_xlfn.XLOOKUP(A2709,'Lighting Prices'!A:A,'Lighting Prices'!E:E)","v":{"$error":"#N/A"}}]
["@LK-ISW-BCO16",{"$f":"_xlfn.XLOOKUP(A2710,'Prices Furniture'!A:A,'Prices Furniture'!E:E)","v":1432},{"$f":"_xlfn.XLOOKUP(A2710,'Lighting Prices'!A:A,'Lighting Prices'!E:E)","v":{"$error":"#N/A"}}]
["@LK-ISW-BCL9",{"$f":"_xlfn.XLOOKUP(A2711,'Prices Furniture'!A:A,'Prices Furniture'!E:E)","v":622},{"$f":"_xlfn.XLOOKUP(A2711,'Lighting Prices'!A:A,'Lighting Prices'!E:E)","v":{"$error":"#N/A"}}]
["@LK-ISW-BHCV",{"$f":"_xlfn.XLOOKUP(A2712,'Prices Furniture'!A:A,'Prices Furniture'!E:E)","v":625},{"$f":"_xlfn.XLOOKUP(A2712,'Lighting Prices'!A:A,'Lighting Prices'!E:E)","v":{"$error":"#N/A"}}]
["@LK-ISW-BSU6495",{"$f":"_xlfn.XLOOKUP(A2713,'Prices Furniture'!A:A,'Prices Furniture'!E:E)","v":284},{"$f":"_xlfn.XLOOKUP(A2713,'Lighting Prices'!A:A,'Lighting Prices'!E:E)","v":{"$error":"#N/A"}}]
["@LK-ISW-BSU6450",{"$f":"_xlfn.XLOOKUP(A2714,'Prices Furniture'!A:A,'Prices Furniture'!E:E)","v":284},{"$f":"_xlfn.XLOOKUP(A2714,'Lighting Prices'!A:A,'Lighting Prices'!E:E)","v":{"$error":"#N/A"}}]
["@LK-ISW-BDL3",{"$f":"_xlfn.XLOOKUP(A2715,'Prices Furniture'!A:A,'Prices Furniture'!E:E)","v":415},{"$f":"_xlfn.XLOOKUP(A2715,'Lighting Prices'!A:A,'Lighting Prices'!E:E)","v":{"$error":"#N/A"}}]
["@LK-ISW-BDL4",{"$f":"_xlfn.XLOOKUP(A2716,'Prices Furniture'!A:A,'Prices Furniture'!E:E)","v":438},{"$f":"_xlfn.XLOOKUP(A2716,'Lighting Prices'!A:A,'Lighting Prices'!E:E)","v":{"$error":"#N/A"}}]
["@LK-ISW-BDL5",{"$f":"_xlfn.XLOOKUP(A2717,'Prices Furniture'!A:A,'Prices Furniture'!E:E)","v":473},{"$f":"_xlfn.XLOOKUP(A2717,'Lighting Prices'!A:A,'Lighting Prices'!E:E)","v":{"$error":"#N/A"}}]
["@LK-ISW-BDL6",{"$f":"_xlfn.XLOOKUP(A2718,'Prices Furniture'!A:A,'Prices Furniture'!E:E)","v":476},{"$f":"_xlfn.XLOOKUP(A2718,'Lighting Prices'!A:A,'Lighting Prices'!E:E)","v":{"$error":"#N/A"}}]
["@LK-ISW-BDL8",{"$f":"_xlfn.XLOOKUP(A2719,'Prices Furniture'!A:A,'Prices Furniture'!E:E)","v":772},{"$f":"_xlfn.XLOOKUP(A2719,'Lighting Prices'!A:A,'Lighting Prices'!E:E)","v":{"$error":"#N/A"}}]
["@LK-ISW-BDL10",{"$f":"_xlfn.XLOOKUP(A2720,'Prices Furniture'!A:A,'Prices Furniture'!E:E)","v":819},{"$f":"_xlfn.XLOOKUP(A2720,'Lighting Prices'!A:A,'Lighting Prices'!E:E)","v":{"$error":"#N/A"}}]
["@LK-ISW-BDL81DW",{"$f":"_xlfn.XLOOKUP(A2721,'Prices Furniture'!A:A,'Prices Furniture'!E:E)","v":654},{"$f":"_xlfn.XLOOKUP(A2721,'Lighting Prices'!A:A,'Lighting Prices'!E:E)","v":{"$error":"#N/A"}}]
["@LK-ISW-BDL91DW",{"$f":"_xlfn.XLOOKUP(A2722,'Prices Furniture'!A:A,'Prices Furniture'!E:E)","v":679},{"$f":"_xlfn.XLOOKUP(A2722,'Lighting Prices'!A:A,'Lighting Prices'!E:E)","v":{"$error":"#N/A"}}]
["@LK-ISW-BDL101DW",{"$f":"_xlfn.XLOOKUP(A2723,'Prices Furniture'!A:A,'Prices Furniture'!E:E)","v":712},{"$f":"_xlfn.XLOOKUP(A2723,'Lighting Prices'!A:A,'Lighting Prices'!E:E)","v":{"$error":"#N/A"}}]
["@LK-ISW-BDLC83",{"$f":"_xlfn.XLOOKUP(A2724,'Prices Furniture'!A:A,'Prices Furniture'!E:E)","v":550},{"$f":"_xlfn.XLOOKUP(A2724,'Lighting Prices'!A:A,'Lighting Prices'!E:E)","v":{"$error":"#N/A"}}]
["@LK-ISW-BDLC84",{"$f":"_xlfn.XLOOKUP(A2725,'Prices Furniture'!A:A,'Prices Furniture'!E:E)","v":569},{"$f":"_xlfn.XLOOKUP(A2725,'Lighting Prices'!A:A,'Lighting Prices'!E:E)","v":{"$error":"#N/A"}}]
["@LK-ISW-BDLC85",{"$f":"_xlfn.XLOOKUP(A2726,'Prices Furniture'!A:A,'Prices Furniture'!E:E)","v":590},{"$f":"_xlfn.XLOOKUP(A2726,'Lighting Prices'!A:A,'Lighting Prices'!E:E)","v":{"$error":"#N/A"}}]
["@LK-ISW-BDLC15",{"$f":"_xlfn.XLOOKUP(A2727,'Prices Furniture'!A:A,'Prices Furniture'!E:E)","v":595},{"$f":"_xlfn.XLOOKUP(A2727,'Lighting Prices'!A:A,'Lighting Prices'!E:E)","v":{"$error":"#N/A"}}]
["@LK-ISW-BDLC16",{"$f":"_xlfn.XLOOKUP(A2728,'Prices Furniture'!A:A,'Prices Furniture'!E:E)","v":578},{"$f":"_xlfn.XLOOKUP(A2728,'Lighting Prices'!A:A,'Lighting Prices'!E:E)","v":{"$error":"#N/A"}}]
["@LK-ISW-BD54",{"$f":"_xlfn.XLOOKUP(A2729,'Prices Furniture'!A:A,'Prices Furniture'!E:E)","v":867},{"$f":"_xlfn.XLOOKUP(A2729,'Lighting Prices'!A:A,'Lighting Prices'!E:E)","v":{"$error":"#N/A"}}]
["@LK-ISW-BD53",{"$f":"_xlfn.XLOOKUP(A2730,'Prices Furniture'!A:A,'Prices Furniture'!E:E)","v":756},{"$f":"_xlfn.XLOOKUP(A2730,'Lighting Prices'!A:A,'Lighting Prices'!E:E)","v":{"$error":"#N/A"}}]
["@LK-ISW-BD63",{"$f":"_xlfn.XLOOKUP(A2731,'Prices Furniture'!A:A,'Prices Furniture'!E:E)","v":813},{"$f":"_xlfn.XLOOKUP(A2731,'Lighting Prices'!A:A,'Lighting Prices'!E:E)","v":{"$error":"#N/A"}}]
["@LK-ISW-BD83",{"$f":"_xlfn.XLOOKUP(A2732,'Prices Furniture'!A:A,'Prices Furniture'!E:E)","v":816},{"$f":"_xlfn.XLOOKUP(A2732,'Lighting Prices'!A:A,'Lighting Prices'!E:E)","v":{"$error":"#N/A"}}]
["@LK-ISW-BD93",{"$f":"_xlfn.XLOOKUP(A2733,'Prices Furniture'!A:A,'Prices Furniture'!E:E)","v":831},{"$f":"_xlfn.XLOOKUP(A2733,'Lighting Prices'!A:A,'Lighting Prices'!E:E)","v":{"$error":"#N/A"}}]
["@LK-ISW-BD13",{"$f":"_xlfn.XLOOKUP(A2734,'Prices Furniture'!A:A,'Prices Furniture'!E:E)","v":847},{"$f":"_xlfn.XLOOKUP(A2734,'Lighting Prices'!A:A,'Lighting Prices'!E:E)","v":{"$error":"#N/A"}}]
["@LK-ISW-BD62",{"$f":"_xlfn.XLOOKUP(A2735,'Prices Furniture'!A:A,'Prices Furniture'!E:E)","v":693},{"$f":"_xlfn.XLOOKUP(A2735,'Lighting Prices'!A:A,'Lighting Prices'!E:E)","v":{"$error":"#N/A"}}]
["@LK-ISW-BD92",{"$f":"_xlfn.XLOOKUP(A2736,'Prices Furniture'!A:A,'Prices Furniture'!E:E)","v":704},{"$f":"_xlfn.XLOOKUP(A2736,'Lighting Prices'!A:A,'Lighting Prices'!E:E)","v":{"$error":"#N/A"}}]
["@LK-ISW-BD62I",{"$f":"_xlfn.XLOOKUP(A2737,'Prices Furniture'!A:A,'Prices Furniture'!E:E)","v":869},{"$f":"_xlfn.XLOOKUP(A2737,'Lighting Prices'!A:A,'Lighting Prices'!E:E)","v":{"$error":"#N/A"}}]
["@LK-ISW-BD92I",{"$f":"_xlfn.XLOOKUP(A2738,'Prices Furniture'!A:A,'Prices Furniture'!E:E)","v":905},{"$f":"_xlfn.XLOOKUP(A2738,'Lighting Prices'!A:A,'Lighting Prices'!E:E)","v":{"$error":"#N/A"}}]
["@LK-ISW-BD635L",{"$f":"_xlfn.XLOOKUP(A2739,'Prices Furniture'!A:A,'Prices Furniture'!E:E)","v":389},{"$f":"_xlfn.XLOOKUP(A2739,'Lighting Prices'!A:A,'Lighting Prices'!E:E)","v":{"$error":"#N/A"}}]
["@LK-ISW-W30",{"$f":"_xlfn.XLOOKUP(A2740,'Prices Furniture'!A:A,'Prices Furniture'!E:E)","v":222},{"$f":"_xlfn.XLOOKUP(A2740,'Lighting Prices'!A:A,'Lighting Prices'!E:E)","v":{"$error":"#N/A"}}]
["@LK-ISW-W35",{"$f":"_xlfn.XLOOKUP(A2741,'Prices Furniture'!A:A,'Prices Furniture'!E:E)","v":229},{"$f":"_xlfn.XLOOKUP(A2741,'Lighting Prices'!A:A,'Lighting Prices'!E:E)","v":{"$error":"#N/A"}}]
["@LK-ISW-W40",{"$f":"_xlfn.XLOOKUP(A2742,'Prices Furniture'!A:A,'Prices Furniture'!E:E)","v":236},{"$f":"_xlfn.XLOOKUP(A2742,'Lighting Prices'!A:A,'Lighting Prices'!E:E)","v":{"$error":"#N/A"}}]
["@LK-ISW-W45",{"$f":"_xlfn.XLOOKUP(A2743,'Prices Furniture'!A:A,'Prices Furniture'!E:E)","v":253},{"$f":"_xlfn.XLOOKUP(A2743,'Lighting Prices'!A:A,'Lighting Prices'!E:E)","v":{"$error":"#N/A"}}]
["@LK-ISW-W50",{"$f":"_xlfn.XLOOKUP(A2744,'Prices Furniture'!A:A,'Prices Furniture'!E:E)","v":267},{"$f":"_xlfn.XLOOKUP(A2744,'Lighting Prices'!A:A,'Lighting Prices'!E:E)","v":{"$error":"#N/A"}}]
["@LK-ISW-W60",{"$f":"_xlfn.XLOOKUP(A2745,'Prices Furniture'!A:A,'Prices Furniture'!E:E)","v":291},{"$f":"_xlfn.XLOOKUP(A2745,'Lighting Prices'!A:A,'Lighting Prices'!E:E)","v":{"$error":"#N/A"}}]
["@LK-ISW-W70",{"$f":"_xlfn.XLOOKUP(A2746,'Prices Furniture'!A:A,'Prices Furniture'!E:E)","v":387},{"$f":"_xlfn.XLOOKUP(A2746,'Lighting Prices'!A:A,'Lighting Prices'!E:E)","v":{"$error":"#N/A"}}]
["@LK-ISW-W80",{"$f":"_xlfn.XLOOKUP(A2747,'Prices Furniture'!A:A,'Prices Furniture'!E:E)","v":391},{"$f":"_xlfn.XLOOKUP(A2747,'Lighting Prices'!A:A,'Lighting Prices'!E:E)","v":{"$error":"#N/A"}}]
["@LK-ISW-W90",{"$f":"_xlfn.XLOOKUP(A2748,'Prices Furniture'!A:A,'Prices Furniture'!E:E)","v":411},{"$f":"_xlfn.XLOOKUP(A2748,'Lighting Prices'!A:A,'Lighting Prices'!E:E)","v":{"$error":"#N/A"}}]
["@LK-ISW-W100",{"$f":"_xlfn.XLOOKUP(A2749,'Prices Furniture'!A:A,'Prices Furniture'!E:E)","v":436},{"$f":"_xlfn.XLOOKUP(A2749,'Lighting Prices'!A:A,'Lighting Prices'!E:E)","v":{"$error":"#N/A"}}]
["@LK-ISW-WC6",{"$f":"_xlfn.XLOOKUP(A2750,'Prices Furniture'!A:A,'Prices Furniture'!E:E)","v":310},{"$f":"_xlfn.XLOOKUP(A2750,'Lighting Prices'!A:A,'Lighting Prices'!E:E)","v":{"$error":"#N/A"}}]
["@LK-ISW-WC9",{"$f":"_xlfn.XLOOKUP(A2751,'Prices Furniture'!A:A,'Prices Furniture'!E:E)","v":372},{"$f":"_xlfn.XLOOKUP(A2751,'Lighting Prices'!A:A,'Lighting Prices'!E:E)","v":{"$error":"#N/A"}}]
["@LK-ISW-WCL65",{"$f":"_xlfn.XLOOKUP(A2752,'Prices Furniture'!A:A,'Prices Furniture'!E:E)","v":547},{"$f":"_xlfn.XLOOKUP(A2752,'Lighting Prices'!A:A,'Lighting Prices'!E:E)","v":{"$error":"#N/A"}}]
["@LK-ISW-WM60",{"$f":"_xlfn.XLOOKUP(A2753,'Prices Furniture'!A:A,'Prices Furniture'!E:E)","v":377},{"$f":"_xlfn.XLOOKUP(A2753,'Lighting Prices'!A:A,'Lighting Prices'!E:E)","v":{"$error":"#N/A"}}]
["@LK-ISW-WBHU",{"$f":"_xlfn.XLOOKUP(A2754,'Prices Furniture'!A:A,'Prices Furniture'!E:E)","v":297},{"$f":"_xlfn.XLOOKUP(A2754,'Lighting Prices'!A:A,'Lighting Prices'!E:E)","v":{"$error":"#N/A"}}]
["@LK-ISW-WBI60",{"$f":"_xlfn.XLOOKUP(A2755,'Prices Furniture'!A:A,'Prices Furniture'!E:E)","v":673},{"$f":"_xlfn.XLOOKUP(A2755,'Lighting Prices'!A:A,'Lighting Prices'!E:E)","v":{"$error":"#N/A"}}]
["@LK-ISW-WBI90",{"$f":"_xlfn.XLOOKUP(A2756,'Prices Furniture'!A:A,'Prices Furniture'!E:E)","v":703},{"$f":"_xlfn.XLOOKUP(A2756,'Lighting Prices'!A:A,'Lighting Prices'!E:E)","v":{"$error":"#N/A"}}]
["@LK-ISW-WG5",{"$f":"_xlfn.XLOOKUP(A2757,'Prices Furniture'!A:A,'Prices Furniture'!E:E)","v":265},{"$f":"_xlfn.XLOOKUP(A2757,'Lighting Prices'!A:A,'Lighting Prices'!E:E)","v":{"$error":"#N/A"}}]
["@LK-ISW-WDR50",{"$f":"_xlfn.XLOOKUP(A2758,'Prices Furniture'!A:A,'Prices Furniture'!E:E)","v":624},{"$f":"_xlfn.XLOOKUP(A2758,'Lighting Prices'!A:A,'Lighting Prices'!E:E)","v":{"$error":"#N/A"}}]
["@LK-ISW-WCV",{"$f":"_xlfn.XLOOKUP(A2759,'Prices Furniture'!A:A,'Prices Furniture'!E:E)","v":593},{"$f":"_xlfn.XLOOKUP(A2759,'Lighting Prices'!A:A,'Lighting Prices'!E:E)","v":{"$error":"#N/A"}}]
["@LK-ISW-WB62",{"$f":"_xlfn.XLOOKUP(A2760,'Prices Furniture'!A:A,'Prices Furniture'!E:E)","v":243},{"$f":"_xlfn.XLOOKUP(A2760,'Lighting Prices'!A:A,'Lighting Prices'!E:E)","v":{"$error":"#N/A"}}]
["@LK-ISW-WB82",{"$f":"_xlfn.XLOOKUP(A2761,'Prices Furniture'!A:A,'Prices Furniture'!E:E)","v":285},{"$f":"_xlfn.XLOOKUP(A2761,'Lighting Prices'!A:A,'Lighting Prices'!E:E)","v":{"$error":"#N/A"}}]
["@LK-ISW-WB92",{"$f":"_xlfn.XLOOKUP(A2762,'Prices Furniture'!A:A,'Prices Furniture'!E:E)","v":314},{"$f":"_xlfn.XLOOKUP(A2762,'Lighting Prices'!A:A,'Lighting Prices'!E:E)","v":{"$error":"#N/A"}}]
["@LK-ISW-WB12",{"$f":"_xlfn.XLOOKUP(A2763,'Prices Furniture'!A:A,'Prices Furniture'!E:E)","v":329},{"$f":"_xlfn.XLOOKUP(A2763,'Lighting Prices'!A:A,'Lighting Prices'!E:E)","v":{"$error":"#N/A"}}]
["@LK-ISW-WB63",{"$f":"_xlfn.XLOOKUP(A2764,'Prices Furniture'!A:A,'Prices Furniture'!E:E)","v":300},{"$f":"_xlfn.XLOOKUP(A2764,'Lighting Prices'!A:A,'Lighting Prices'!E:E)","v":{"$error":"#N/A"}}]
["@LK-ISW-WB83",{"$f":"_xlfn.XLOOKUP(A2765,'Prices Furniture'!A:A,'Prices Furniture'!E:E)","v":330},{"$f":"_xlfn.XLOOKUP(A2765,'Lighting Prices'!A:A,'Lighting Prices'!E:E)","v":{"$error":"#N/A"}}]
["@LK-ISW-WB93",{"$f":"_xlfn.XLOOKUP(A2766,'Prices Furniture'!A:A,'Prices Furniture'!E:E)","v":348},{"$f":"_xlfn.XLOOKUP(A2766,'Lighting Prices'!A:A,'Lighting Prices'!E:E)","v":{"$error":"#N/A"}}]
["@LK-ISW-WB13",{"$f":"_xlfn.XLOOKUP(A2767,'Prices Furniture'!A:A,'Prices Furniture'!E:E)","v":353},{"$f":"_xlfn.XLOOKUP(A2767,'Lighting Prices'!A:A,'Lighting Prices'!E:E)","v":{"$error":"#N/A"}}]
["@LK-ISW-AH-F55",{"$f":"_xlfn.XLOOKUP(A2768,'Prices Furniture'!A:A,'Prices Furniture'!E:E)","v":743},{"$f":"_xlfn.XLOOKUP(A2768,'Lighting Prices'!A:A,'Lighting Prices'!E:E)","v":{"$error":"#N/A"}}]
["@LK-ISW-AH-F73",{"$f":"_xlfn.XLOOKUP(A2769,'Prices Furniture'!A:A,'Prices Furniture'!E:E)","v":726},{"$f":"_xlfn.XLOOKUP(A2769,'Lighting Prices'!A:A,'Lighting Prices'!E:E)","v":{"$error":"#N/A"}}]
["@LK-ISW-AH-DO",{"$f":"_xlfn.XLOOKUP(A2770,'Prices Furniture'!A:A,'Prices Furniture'!E:E)","v":723},{"$f":"_xlfn.XLOOKUP(A2770,'Lighting Prices'!A:A,'Lighting Prices'!E:E)","v":{"$error":"#N/A"}}]
["@LK-ISW-AH-DO2D",{"$f":"_xlfn.XLOOKUP(A2771,'Prices Furniture'!A:A,'Prices Furniture'!E:E)","v":1061},{"$f":"_xlfn.XLOOKUP(A2771,'Lighting Prices'!A:A,'Lighting Prices'!E:E)","v":{"$error":"#N/A"}}]
["@LK-ISW-AH-DMW",{"$f":"_xlfn.XLOOKUP(A2772,'Prices Furniture'!A:A,'Prices Furniture'!E:E)","v":945},{"$f":"_xlfn.XLOOKUP(A2772,'Lighting Prices'!A:A,'Lighting Prices'!E:E)","v":{"$error":"#N/A"}}]
["@LK-ISW-AH-SO",{"$f":"_xlfn.XLOOKUP(A2773,'Prices Furniture'!A:A,'Prices Furniture'!E:E)","v":751},{"$f":"_xlfn.XLOOKUP(A2773,'Lighting Prices'!A:A,'Lighting Prices'!E:E)","v":{"$error":"#N/A"}}]
["@LK-ISW-AH-SO1D",{"$f":"_xlfn.XLOOKUP(A2774,'Prices Furniture'!A:A,'Prices Furniture'!E:E)","v":899},{"$f":"_xlfn.XLOOKUP(A2774,'Lighting Prices'!A:A,'Lighting Prices'!E:E)","v":{"$error":"#N/A"}}]
["@LK-ISW-AH-SO2D",{"$f":"_xlfn.XLOOKUP(A2775,'Prices Furniture'!A:A,'Prices Furniture'!E:E)","v":1120},{"$f":"_xlfn.XLOOKUP(A2775,'Lighting Prices'!A:A,'Lighting Prices'!E:E)","v":{"$error":"#N/A"}}]
["@LK-ISW-AH-SO3D",{"$f":"_xlfn.XLOOKUP(A2776,'Prices Furniture'!A:A,'Prices Furniture'!E:E)","v":1273},{"$f":"_xlfn.XLOOKUP(A2776,'Lighting Prices'!A:A,'Lighting Prices'!E:E)","v":{"$error":"#N/A"}}]
["@LK-ISW-AH-SMW",{"$f":"_xlfn.XLOOKUP(A2777,'Prices Furniture'!A:A,'Prices Furniture'!E:E)","v":798},{"$f":"_xlfn.XLOOKUP(A2777,'Lighting Prices'!A:A,'Lighting Prices'!E:E)","v":{"$error":"#N/A"}}]
["@LK-ISW-AH-SM2D",{"$f":"_xlfn.XLOOKUP(A2778,'Prices Furniture'!A:A,'Prices Furniture'!E:E)","v":1090},{"$f":"_xlfn.XLOOKUP(A2778,'Lighting Prices'!A:A,'Lighting Prices'!E:E)","v":{"$error":"#N/A"}}]
["@LK-ISW-AH-CO",{"$f":"_xlfn.XLOOKUP(A2779,'Prices Furniture'!A:A,'Prices Furniture'!E:E)","v":835},{"$f":"_xlfn.XLOOKUP(A2779,'Lighting Prices'!A:A,'Lighting Prices'!E:E)","v":{"$error":"#N/A"}}]
["@LK-ISW-BOH6",{"$f":"_xlfn.XLOOKUP(A2780,'Prices Furniture'!A:A,'Prices Furniture'!E:E)","v":209},{"$f":"_xlfn.XLOOKUP(A2780,'Lighting Prices'!A:A,'Lighting Prices'!E:E)","v":{"$error":"#N/A"}}]
["@LK-ISW-BOHD6",{"$f":"_xlfn.XLOOKUP(A2781,'Prices Furniture'!A:A,'Prices Furniture'!E:E)","v":322},{"$f":"_xlfn.XLOOKUP(A2781,'Lighting Prices'!A:A,'Lighting Prices'!E:E)","v":{"$error":"#N/A"}}]
["@LK-ISW-L3",{"$f":"_xlfn.XLOOKUP(A2782,'Prices Furniture'!A:A,'Prices Furniture'!E:E)","v":678},{"$f":"_xlfn.XLOOKUP(A2782,'Lighting Prices'!A:A,'Lighting Prices'!E:E)","v":{"$error":"#N/A"}}]
["@LK-ISW-L4",{"$f":"_xlfn.XLOOKUP(A2783,'Prices Furniture'!A:A,'Prices Furniture'!E:E)","v":708},{"$f":"_xlfn.XLOOKUP(A2783,'Lighting Prices'!A:A,'Lighting Prices'!E:E)","v":{"$error":"#N/A"}}]
["@LK-ISW-L5",{"$f":"_xlfn.XLOOKUP(A2784,'Prices Furniture'!A:A,'Prices Furniture'!E:E)","v":737},{"$f":"_xlfn.XLOOKUP(A2784,'Lighting Prices'!A:A,'Lighting Prices'!E:E)","v":{"$error":"#N/A"}}]
["@LK-ISW-L6",{"$f":"_xlfn.XLOOKUP(A2785,'Prices Furniture'!A:A,'Prices Furniture'!E:E)","v":809},{"$f":"_xlfn.XLOOKUP(A2785,'Lighting Prices'!A:A,'Lighting Prices'!E:E)","v":{"$error":"#N/A"}}]
["@LK-ISW-LP3",{"$f":"_xlfn.XLOOKUP(A2786,'Prices Furniture'!A:A,'Prices Furniture'!E:E)","v":1465},{"$f":"_xlfn.XLOOKUP(A2786,'Lighting Prices'!A:A,'Lighting Prices'!E:E)","v":{"$error":"#N/A"}}]
["@LK-ISW-LT3",{"$f":"_xlfn.XLOOKUP(A2787,'Prices Furniture'!A:A,'Prices Furniture'!E:E)","v":1779},{"$f":"_xlfn.XLOOKUP(A2787,'Lighting Prices'!A:A,'Lighting Prices'!E:E)","v":{"$error":"#N/A"}}]
["@LK-ISW-LT5",{"$f":"_xlfn.XLOOKUP(A2788,'Prices Furniture'!A:A,'Prices Furniture'!E:E)","v":1906},{"$f":"_xlfn.XLOOKUP(A2788,'Lighting Prices'!A:A,'Lighting Prices'!E:E)","v":{"$error":"#N/A"}}]
["@LK-ISW-LT6",{"$f":"_xlfn.XLOOKUP(A2789,'Prices Furniture'!A:A,'Prices Furniture'!E:E)","v":2044},{"$f":"_xlfn.XLOOKUP(A2789,'Lighting Prices'!A:A,'Lighting Prices'!E:E)","v":{"$error":"#N/A"}}]
["@LK-ISW-LP6T",{"$f":"_xlfn.XLOOKUP(A2790,'Prices Furniture'!A:A,'Prices Furniture'!E:E)","v":1995},{"$f":"_xlfn.XLOOKUP(A2790,'Lighting Prices'!A:A,'Lighting Prices'!E:E)","v":{"$error":"#N/A"}}]
["@LK-ISW-LP5TS",{"$f":"_xlfn.XLOOKUP(A2791,'Prices Furniture'!A:A,'Prices Furniture'!E:E)","v":1671},{"$f":"_xlfn.XLOOKUP(A2791,'Lighting Prices'!A:A,'Lighting Prices'!E:E)","v":{"$error":"#N/A"}}]
["@LK-ISW-LP6TS",{"$f":"_xlfn.XLOOKUP(A2792,'Prices Furniture'!A:A,'Prices Furniture'!E:E)","v":1796},{"$f":"_xlfn.XLOOKUP(A2792,'Lighting Prices'!A:A,'Lighting Prices'!E:E)","v":{"$error":"#N/A"}}]
["@LK-ISW-TLP3",{"$f":"_xlfn.XLOOKUP(A2793,'Prices Furniture'!A:A,'Prices Furniture'!E:E)","v":1233},{"$f":"_xlfn.XLOOKUP(A2793,'Lighting Prices'!A:A,'Lighting Prices'!E:E)","v":{"$error":"#N/A"}}]
["@LK-ISW-TLT3",{"$f":"_xlfn.XLOOKUP(A2794,'Prices Furniture'!A:A,'Prices Furniture'!E:E)","v":1815},{"$f":"_xlfn.XLOOKUP(A2794,'Lighting Prices'!A:A,'Lighting Prices'!E:E)","v":{"$error":"#N/A"}}]
["@LK-ISW-TLT5",{"$f":"_xlfn.XLOOKUP(A2795,'Prices Furniture'!A:A,'Prices Furniture'!E:E)","v":1942},{"$f":"_xlfn.XLOOKUP(A2795,'Lighting Prices'!A:A,'Lighting Prices'!E:E)","v":{"$error":"#N/A"}}]
["@LK-ISW-TLT6",{"$f":"_xlfn.XLOOKUP(A2796,'Prices Furniture'!A:A,'Prices Furniture'!E:E)","v":2063},{"$f":"_xlfn.XLOOKUP(A2796,'Lighting Prices'!A:A,'Lighting Prices'!E:E)","v":{"$error":"#N/A"}}]
["@LK-ISW-TLP6T",{"$f":"_xlfn.XLOOKUP(A2797,'Prices Furniture'!A:A,'Prices Furniture'!E:E)","v":1746},{"$f":"_xlfn.XLOOKUP(A2797,'Lighting Prices'!A:A,'Lighting Prices'!E:E)","v":{"$error":"#N/A"}}]
["@LK-ISW-TLP5TS",{"$f":"_xlfn.XLOOKUP(A2798,'Prices Furniture'!A:A,'Prices Furniture'!E:E)","v":1439},{"$f":"_xlfn.XLOOKUP(A2798,'Lighting Prices'!A:A,'Lighting Prices'!E:E)","v":{"$error":"#N/A"}}]
["@LK-ISW-TLP6TS",{"$f":"_xlfn.XLOOKUP(A2799,'Prices Furniture'!A:A,'Prices Furniture'!E:E)","v":1547},{"$f":"_xlfn.XLOOKUP(A2799,'Lighting Prices'!A:A,'Lighting Prices'!E:E)","v":{"$error":"#N/A"}}]
["@LK-ISW-LAC",{"$f":"_xlfn.XLOOKUP(A2800,'Prices Furniture'!A:A,'Prices Furniture'!E:E)","v":2099},{"$f":"_xlfn.XLOOKUP(A2800,'Lighting Prices'!A:A,'Lighting Prices'!E:E)","v":{"$error":"#N/A"}}]
["@LK-ISW-TLAC",{"$f":"_xlfn.XLOOKUP(A2801,'Prices Furniture'!A:A,'Prices Furniture'!E:E)","v":2477},{"$f":"_xlfn.XLOOKUP(A2801,'Lighting Prices'!A:A,'Lighting Prices'!E:E)","v":{"$error":"#N/A"}}]
["@LK-ISW-LBP10",{"$f":"_xlfn.XLOOKUP(A2802,'Prices Furniture'!A:A,'Prices Furniture'!E:E)","v":2169},{"$f":"_xlfn.XLOOKUP(A2802,'Lighting Prices'!A:A,'Lighting Prices'!E:E)","v":{"$error":"#N/A"}}]
["@LK-ISW-TLBP10",{"$f":"_xlfn.XLOOKUP(A2803,'Prices Furniture'!A:A,'Prices Furniture'!E:E)","v":2276},{"$f":"_xlfn.XLOOKUP(A2803,'Lighting Prices'!A:A,'Lighting Prices'!E:E)","v":{"$error":"#N/A"}}]
["@LK-ISW-LPN14D",{"$f":"_xlfn.XLOOKUP(A2804,'Prices Furniture'!A:A,'Prices Furniture'!E:E)","v":1152},{"$f":"_xlfn.XLOOKUP(A2804,'Lighting Prices'!A:A,'Lighting Prices'!E:E)","v":{"$error":"#N/A"}}]
["@LK-ISW-LPN14D1DW",{"$f":"_xlfn.XLOOKUP(A2805,'Prices Furniture'!A:A,'Prices Furniture'!E:E)","v":1410},{"$f":"_xlfn.XLOOKUP(A2805,'Lighting Prices'!A:A,'Lighting Prices'!E:E)","v":{"$error":"#N/A"}}]
["@LK-ISW-LPN12D3DW",{"$f":"_xlfn.XLOOKUP(A2806,'Prices Furniture'!A:A,'Prices Furniture'!E:E)","v":1551},{"$f":"_xlfn.XLOOKUP(A2806,'Lighting Prices'!A:A,'Lighting Prices'!E:E)","v":{"$error":"#N/A"}}]
["@LK-ISW-LPN12D2DW",{"$f":"_xlfn.XLOOKUP(A2807,'Prices Furniture'!A:A,'Prices Furniture'!E:E)","v":1414},{"$f":"_xlfn.XLOOKUP(A2807,'Lighting Prices'!A:A,'Lighting Prices'!E:E)","v":{"$error":"#N/A"}}]
["@LK-ISW-LBC15",{"$f":"_xlfn.XLOOKUP(A2808,'Prices Furniture'!A:A,'Prices Furniture'!E:E)","v":958},{"$f":"_xlfn.XLOOKUP(A2808,'Lighting Prices'!A:A,'Lighting Prices'!E:E)","v":{"$error":"#N/A"}}]
["@LK-ISW-LBC16",{"$f":"_xlfn.XLOOKUP(A2809,'Prices Furniture'!A:A,'Prices Furniture'!E:E)","v":985},{"$f":"_xlfn.XLOOKUP(A2809,'Lighting Prices'!A:A,'Lighting Prices'!E:E)","v":{"$error":"#N/A"}}]
["@LK-ISW-LBCLM15L",{"$f":"_xlfn.XLOOKUP(A2810,'Prices Furniture'!A:A,'Prices Furniture'!E:E)","v":2796},{"$f":"_xlfn.XLOOKUP(A2810,'Lighting Prices'!A:A,'Lighting Prices'!E:E)","v":{"$error":"#N/A"}}]
["@LK-ISW-LBCLM15R",{"$f":"_xlfn.XLOOKUP(A2811,'Prices Furniture'!A:A,'Prices Furniture'!E:E)","v":2796},{"$f":"_xlfn.XLOOKUP(A2811,'Lighting Prices'!A:A,'Lighting Prices'!E:E)","v":{"$error":"#N/A"}}]
["@LK-ISW-LBCLM16L",{"$f":"_xlfn.XLOOKUP(A2812,'Prices Furniture'!A:A,'Prices Furniture'!E:E)","v":2949},{"$f":"_xlfn.XLOOKUP(A2812,'Lighting Prices'!A:A,'Lighting Prices'!E:E)","v":{"$error":"#N/A"}}]
["@LK-ISW-LBCLM16R",{"$f":"_xlfn.XLOOKUP(A2813,'Prices Furniture'!A:A,'Prices Furniture'!E:E)","v":2949},{"$f":"_xlfn.XLOOKUP(A2813,'Lighting Prices'!A:A,'Lighting Prices'!E:E)","v":{"$error":"#N/A"}}]
["@LK-ISW-TLPN14D",{"$f":"_xlfn.XLOOKUP(A2814,'Prices Furniture'!A:A,'Prices Furniture'!E:E)","v":1323},{"$f":"_xlfn.XLOOKUP(A2814,'Lighting Prices'!A:A,'Lighting Prices'!E:E)","v":{"$error":"#N/A"}}]
["@LK-ISW-TLBC15",{"$f":"_xlfn.XLOOKUP(A2815,'Prices Furniture'!A:A,'Prices Furniture'!E:E)","v":1112},{"$f":"_xlfn.XLOOKUP(A2815,'Lighting Prices'!A:A,'Lighting Prices'!E:E)","v":{"$error":"#N/A"}}]
["@LK-ISW-TLBC16",{"$f":"_xlfn.XLOOKUP(A2816,'Prices Furniture'!A:A,'Prices Furniture'!E:E)","v":1122},{"$f":"_xlfn.XLOOKUP(A2816,'Lighting Prices'!A:A,'Lighting Prices'!E:E)","v":{"$error":"#N/A"}}]
["@LK-ISW-TLBCLM15L",{"$f":"_xlfn.XLOOKUP(A2817,'Prices Furniture'!A:A,'Prices Furniture'!E:E)","v":2950},{"$f":"_xlfn.XLOOKUP(A2817,'Lighting Prices'!A:A,'Lighting Prices'!E:E)","v":{"$error":"#N/A"}}]
["@LK-ISW-TLBCLM15R",{"$f":"_xlfn.XLOOKUP(A2818,'Prices Furniture'!A:A,'Prices Furniture'!E:E)","v":2950},{"$f":"_xlfn.XLOOKUP(A2818,'Lighting Prices'!A:A,'Lighting Prices'!E:E)","v":{"$error":"#N/A"}}]
["@LK-ISW-TLBCLM16L",{"$f":"_xlfn.XLOOKUP(A2819,'Prices Furniture'!A:A,'Prices Furniture'!E:E)","v":3086},{"$f":"_xlfn.XLOOKUP(A2819,'Lighting Prices'!A:A,'Lighting Prices'!E:E)","v":{"$error":"#N/A"}}]
["@LK-ISW-TLBCLM16R",{"$f":"_xlfn.XLOOKUP(A2820,'Prices Furniture'!A:A,'Prices Furniture'!E:E)","v":3086},{"$f":"_xlfn.XLOOKUP(A2820,'Lighting Prices'!A:A,'Lighting Prices'!E:E)","v":{"$error":"#N/A"}}]
["@LK-ISW-LL6EA",{"$f":"_xlfn.XLOOKUP(A2821,'Prices Furniture'!A:A,'Prices Furniture'!E:E)","v":851},{"$f":"_xlfn.XLOOKUP(A2821,'Lighting Prices'!A:A,'Lighting Prices'!E:E)","v":{"$error":"#N/A"}}]
["@LK-ISW-LL6CU",{"$f":"_xlfn.XLOOKUP(A2822,'Prices Furniture'!A:A,'Prices Furniture'!E:E)","v":801},{"$f":"_xlfn.XLOOKUP(A2822,'Lighting Prices'!A:A,'Lighting Prices'!E:E)","v":{"$error":"#N/A"}}]
["@LK-ISW-LL10CU",{"$f":"_xlfn.XLOOKUP(A2823,'Prices Furniture'!A:A,'Prices Furniture'!E:E)","v":1263},{"$f":"_xlfn.XLOOKUP(A2823,'Lighting Prices'!A:A,'Lighting Prices'!E:E)","v":{"$error":"#N/A"}}]
["@LK-ISW-LL10CUS",{"$f":"_xlfn.XLOOKUP(A2824,'Prices Furniture'!A:A,'Prices Furniture'!E:E)","v":1362},{"$f":"_xlfn.XLOOKUP(A2824,'Lighting Prices'!A:A,'Lighting Prices'!E:E)","v":{"$error":"#N/A"}}]
["@LK-ISW-LL10CB",{"$f":"_xlfn.XLOOKUP(A2825,'Prices Furniture'!A:A,'Prices Furniture'!E:E)","v":1273},{"$f":"_xlfn.XLOOKUP(A2825,'Lighting Prices'!A:A,'Lighting Prices'!E:E)","v":{"$error":"#N/A"}}]
["@LK-ISW-TLL6EA",{"$f":"_xlfn.XLOOKUP(A2826,'Prices Furniture'!A:A,'Prices Furniture'!E:E)","v":946},{"$f":"_xlfn.XLOOKUP(A2826,'Lighting Prices'!A:A,'Lighting Prices'!E:E)","v":{"$error":"#N/A"}}]
["@LK-ISW-TLL6CU",{"$f":"_xlfn.XLOOKUP(A2827,'Prices Furniture'!A:A,'Prices Furniture'!E:E)","v":896},{"$f":"_xlfn.XLOOKUP(A2827,'Lighting Prices'!A:A,'Lighting Prices'!E:E)","v":{"$error":"#N/A"}}]
["@LK-ISW-TLL10CU",{"$f":"_xlfn.XLOOKUP(A2828,'Prices Furniture'!A:A,'Prices Furniture'!E:E)","v":1434},{"$f":"_xlfn.XLOOKUP(A2828,'Lighting Prices'!A:A,'Lighting Prices'!E:E)","v":{"$error":"#N/A"}}]
["@LK-ISW-TLL10CUS",{"$f":"_xlfn.XLOOKUP(A2829,'Prices Furniture'!A:A,'Prices Furniture'!E:E)","v":1533},{"$f":"_xlfn.XLOOKUP(A2829,'Lighting Prices'!A:A,'Lighting Prices'!E:E)","v":{"$error":"#N/A"}}]
["@LK-ISW-TLL10CB",{"$f":"_xlfn.XLOOKUP(A2830,'Prices Furniture'!A:A,'Prices Furniture'!E:E)","v":1444},{"$f":"_xlfn.XLOOKUP(A2830,'Lighting Prices'!A:A,'Lighting Prices'!E:E)","v":{"$error":"#N/A"}}]
["@LK-ISW-AD60ICH",{"$f":"_xlfn.XLOOKUP(A2831,'Prices Furniture'!A:A,'Prices Furniture'!E:E)","v":96},{"$f":"_xlfn.XLOOKUP(A2831,'Lighting Prices'!A:A,'Lighting Prices'!E:E)","v":{"$error":"#N/A"}}]
["@LK-ISW-AD60FD",{"$f":"_xlfn.XLOOKUP(A2832,'Prices Furniture'!A:A,'Prices Furniture'!E:E)","v":132},{"$f":"_xlfn.XLOOKUP(A2832,'Lighting Prices'!A:A,'Lighting Prices'!E:E)","v":{"$error":"#N/A"}}]
["@LK-ISW-AD45I",{"$f":"_xlfn.XLOOKUP(A2833,'Prices Furniture'!A:A,'Prices Furniture'!E:E)","v":108},{"$f":"_xlfn.XLOOKUP(A2833,'Lighting Prices'!A:A,'Lighting Prices'!E:E)","v":{"$error":"#N/A"}}]
["@LK-ISW-AD60S",{"$f":"_xlfn.XLOOKUP(A2834,'Prices Furniture'!A:A,'Prices Furniture'!E:E)","v":122},{"$f":"_xlfn.XLOOKUP(A2834,'Lighting Prices'!A:A,'Lighting Prices'!E:E)","v":{"$error":"#N/A"}}]
["@LK-ISW-BLD9",{"$f":"_xlfn.XLOOKUP(A2835,'Prices Furniture'!A:A,'Prices Furniture'!E:E)","v":148},{"$f":"_xlfn.XLOOKUP(A2835,'Lighting Prices'!A:A,'Lighting Prices'!E:E)","v":{"$error":"#N/A"}}]
["@LK-ISW-TW30",{"$f":"_xlfn.XLOOKUP(A2836,'Prices Furniture'!A:A,'Prices Furniture'!E:E)","v":272},{"$f":"_xlfn.XLOOKUP(A2836,'Lighting Prices'!A:A,'Lighting Prices'!E:E)","v":{"$error":"#N/A"}}]
["@LK-ISW-TW40",{"$f":"_xlfn.XLOOKUP(A2837,'Prices Furniture'!A:A,'Prices Furniture'!E:E)","v":289},{"$f":"_xlfn.XLOOKUP(A2837,'Lighting Prices'!A:A,'Lighting Prices'!E:E)","v":{"$error":"#N/A"}}]
["@LK-ISW-TW45",{"$f":"_xlfn.XLOOKUP(A2838,'Prices Furniture'!A:A,'Prices Furniture'!E:E)","v":300},{"$f":"_xlfn.XLOOKUP(A2838,'Lighting Prices'!A:A,'Lighting Prices'!E:E)","v":{"$error":"#N/A"}}]
["@LK-ISW-TW50",{"$f":"_xlfn.XLOOKUP(A2839,'Prices Furniture'!A:A,'Prices Furniture'!E:E)","v":319},{"$f":"_xlfn.XLOOKUP(A2839,'Lighting Prices'!A:A,'Lighting Prices'!E:E)","v":{"$error":"#N/A"}}]
["@LK-ISW-TW60",{"$f":"_xlfn.XLOOKUP(A2840,'Prices Furniture'!A:A,'Prices Furniture'!E:E)","v":327},{"$f":"_xlfn.XLOOKUP(A2840,'Lighting Prices'!A:A,'Lighting Prices'!E:E)","v":{"$error":"#N/A"}}]
["@LK-ISW-TW80",{"$f":"_xlfn.XLOOKUP(A2841,'Prices Furniture'!A:A,'Prices Furniture'!E:E)","v":460},{"$f":"_xlfn.XLOOKUP(A2841,'Lighting Prices'!A:A,'Lighting Prices'!E:E)","v":{"$error":"#N/A"}}]
["@LK-ISW-TW90",{"$f":"_xlfn.XLOOKUP(A2842,'Prices Furniture'!A:A,'Prices Furniture'!E:E)","v":474},{"$f":"_xlfn.XLOOKUP(A2842,'Lighting Prices'!A:A,'Lighting Prices'!E:E)","v":{"$error":"#N/A"}}]
["@LK-ISW-TW100",{"$f":"_xlfn.XLOOKUP(A2843,'Prices Furniture'!A:A,'Prices Furniture'!E:E)","v":502},{"$f":"_xlfn.XLOOKUP(A2843,'Lighting Prices'!A:A,'Lighting Prices'!E:E)","v":{"$error":"#N/A"}}]
["@LK-ISW-TWC6",{"$f":"_xlfn.XLOOKUP(A2844,'Prices Furniture'!A:A,'Prices Furniture'!E:E)","v":378},{"$f":"_xlfn.XLOOKUP(A2844,'Lighting Prices'!A:A,'Lighting Prices'!E:E)","v":{"$error":"#N/A"}}]
["@LK-ISW-TWC9",{"$f":"_xlfn.XLOOKUP(A2845,'Prices Furniture'!A:A,'Prices Furniture'!E:E)","v":422},{"$f":"_xlfn.XLOOKUP(A2845,'Lighting Prices'!A:A,'Lighting Prices'!E:E)","v":{"$error":"#N/A"}}]
["@LK-ISW-TAH-F55",{"$f":"_xlfn.XLOOKUP(A2846,'Prices Furniture'!A:A,'Prices Furniture'!E:E)","v":520},{"$f":"_xlfn.XLOOKUP(A2846,'Lighting Prices'!A:A,'Lighting Prices'!E:E)","v":{"$error":"#N/A"}}]
["@LK-ISW-TAH-F73",{"$f":"_xlfn.XLOOKUP(A2847,'Prices Furniture'!A:A,'Prices Furniture'!E:E)","v":538},{"$f":"_xlfn.XLOOKUP(A2847,'Lighting Prices'!A:A,'Lighting Prices'!E:E)","v":{"$error":"#N/A"}}]
["@LK-ISW-TAH-DO",{"$f":"_xlfn.XLOOKUP(A2848,'Prices Furniture'!A:A,'Prices Furniture'!E:E)","v":849},{"$f":"_xlfn.XLOOKUP(A2848,'Lighting Prices'!A:A,'Lighting Prices'!E:E)","v":{"$error":"#N/A"}}]
["@LK-ISW-TAH-DO2D",{"$f":"_xlfn.XLOOKUP(A2849,'Prices Furniture'!A:A,'Prices Furniture'!E:E)","v":1169},{"$f":"_xlfn.XLOOKUP(A2849,'Lighting Prices'!A:A,'Lighting Prices'!E:E)","v":{"$error":"#N/A"}}]
["@LK-ISW-TAH-SO",{"$f":"_xlfn.XLOOKUP(A2850,'Prices Furniture'!A:A,'Prices Furniture'!E:E)","v":854},{"$f":"_xlfn.XLOOKUP(A2850,'Lighting Prices'!A:A,'Lighting Prices'!E:E)","v":{"$error":"#N/A"}}]
["@LK-ISW-TAH-SO2D",{"$f":"_xlfn.XLOOKUP(A2851,'Prices Furniture'!A:A,'Prices Furniture'!E:E)","v":1228},{"$f":"_xlfn.XLOOKUP(A2851,'Lighting Prices'!A:A,'Lighting Prices'!E:E)","v":{"$error":"#N/A"}}]
["@LK-ISW-TAH-SMW",{"$f":"_xlfn.XLOOKUP(A2852,'Prices Furniture'!A:A,'Prices Furniture'!E:E)","v":843},{"$f":"_xlfn.XLOOKUP(A2852,'Lighting Prices'!A:A,'Lighting Prices'!E:E)","v":{"$error":"#N/A"}}]
["@LK-ISW-TAH-CO",{"$f":"_xlfn.XLOOKUP(A2853,'Prices Furniture'!A:A,'Prices Furniture'!E:E)","v":849},{"$f":"_xlfn.XLOOKUP(A2853,'Lighting Prices'!A:A,'Lighting Prices'!E:E)","v":{"$error":"#N/A"}}]
["@LK-ISW-TL3",{"$f":"_xlfn.XLOOKUP(A2854,'Prices Furniture'!A:A,'Prices Furniture'!E:E)","v":446},{"$f":"_xlfn.XLOOKUP(A2854,'Lighting Prices'!A:A,'Lighting Prices'!E:E)","v":{"$error":"#N/A"}}]
["@LK-ISW-TL4",{"$f":"_xlfn.XLOOKUP(A2855,'Prices Furniture'!A:A,'Prices Furniture'!E:E)","v":745},{"$f":"_xlfn.XLOOKUP(A2855,'Lighting Prices'!A:A,'Lighting Prices'!E:E)","v":{"$error":"#N/A"}}]
["@LK-ISW-TL5",{"$f":"_xlfn.XLOOKUP(A2856,'Prices Furniture'!A:A,'Prices Furniture'!E:E)","v":505},{"$f":"_xlfn.XLOOKUP(A2856,'Lighting Prices'!A:A,'Lighting Prices'!E:E)","v":{"$error":"#N/A"}}]
["@LK-ISW-TL6",{"$f":"_xlfn.XLOOKUP(A2857,'Prices Furniture'!A:A,'Prices Furniture'!E:E)","v":560},{"$f":"_xlfn.XLOOKUP(A2857,'Lighting Prices'!A:A,'Lighting Prices'!E:E)","v":{"$error":"#N/A"}}]
["@LK-ISW-MANTLE",{"$f":"_xlfn.XLOOKUP(A2858,'Prices Furniture'!A:A,'Prices Furniture'!E:E)","v":1910},{"$f":"_xlfn.XLOOKUP(A2858,'Lighting Prices'!A:A,'Lighting Prices'!E:E)","v":{"$error":"#N/A"}}]
["@LK-ISW-CH-SO",{"$f":"_xlfn.XLOOKUP(A2859,'Prices Furniture'!A:A,'Prices Furniture'!E:E)","v":656},{"$f":"_xlfn.XLOOKUP(A2859,'Lighting Prices'!A:A,'Lighting Prices'!E:E)","v":{"$error":"#N/A"}}]
["@LK-ISW-CH-MW",{"$f":"_xlfn.XLOOKUP(A2860,'Prices Furniture'!A:A,'Prices Furniture'!E:E)","v":705},{"$f":"_xlfn.XLOOKUP(A2860,'Lighting Prices'!A:A,'Lighting Prices'!E:E)","v":{"$error":"#N/A"}}]
["@LK-ISW-CH-ST",{"$f":"_xlfn.XLOOKUP(A2861,'Prices Furniture'!A:A,'Prices Furniture'!E:E)","v":897},{"$f":"_xlfn.XLOOKUP(A2861,'Lighting Prices'!A:A,'Lighting Prices'!E:E)","v":{"$error":"#N/A"}}]
["@LK-ISW-TCH-SO",{"$f":"_xlfn.XLOOKUP(A2862,'Prices Furniture'!A:A,'Prices Furniture'!E:E)","v":858},{"$f":"_xlfn.XLOOKUP(A2862,'Lighting Prices'!A:A,'Lighting Prices'!E:E)","v":{"$error":"#N/A"}}]
["@LK-ISW-TCH-MW",{"$f":"_xlfn.XLOOKUP(A2863,'Prices Furniture'!A:A,'Prices Furniture'!E:E)","v":794},{"$f":"_xlfn.XLOOKUP(A2863,'Lighting Prices'!A:A,'Lighting Prices'!E:E)","v":{"$error":"#N/A"}}]
["@LK-ISW-TCH-ST",{"$f":"_xlfn.XLOOKUP(A2864,'Prices Furniture'!A:A,'Prices Furniture'!E:E)","v":945},{"$f":"_xlfn.XLOOKUP(A2864,'Lighting Prices'!A:A,'Lighting Prices'!E:E)","v":{"$error":"#N/A"}}]
["@LK-ISW-AH-SOT",{"$f":"_xlfn.XLOOKUP(A2865,'Prices Furniture'!A:A,'Prices Furniture'!E:E)","v":889},{"$f":"_xlfn.XLOOKUP(A2865,'Lighting Prices'!A:A,'Lighting Prices'!E:E)","v":{"$error":"#N/A"}}]
["@LK-ISW-TAH-SOT",{"$f":"_xlfn.XLOOKUP(A2866,'Prices Furniture'!A:A,'Prices Furniture'!E:E)","v":716},{"$f":"_xlfn.XLOOKUP(A2866,'Lighting Prices'!A:A,'Lighting Prices'!E:E)","v":{"$error":"#N/A"}}]
["@LK-ISW-LP4",{"$f":"_xlfn.XLOOKUP(A2867,'Prices Furniture'!A:A,'Prices Furniture'!E:E)","v":1619},{"$f":"_xlfn.XLOOKUP(A2867,'Lighting Prices'!A:A,'Lighting Prices'!E:E)","v":{"$error":"#N/A"}}]
["@LK-ISW-TLP4",{"$f":"_xlfn.XLOOKUP(A2868,'Prices Furniture'!A:A,'Prices Furniture'!E:E)","v":1388},{"$f":"_xlfn.XLOOKUP(A2868,'Lighting Prices'!A:A,'Lighting Prices'!E:E)","v":{"$error":"#N/A"}}]
["@LK-ISW-LP5T",{"$f":"_xlfn.XLOOKUP(A2869,'Prices Furniture'!A:A,'Prices Furniture'!E:E)","v":1929},{"$f":"_xlfn.XLOOKUP(A2869,'Lighting Prices'!A:A,'Lighting Prices'!E:E)","v":{"$error":"#N/A"}}]
["@LK-ISW-TLP5T",{"$f":"_xlfn.XLOOKUP(A2870,'Prices Furniture'!A:A,'Prices Furniture'!E:E)","v":1697},{"$f":"_xlfn.XLOOKUP(A2870,'Lighting Prices'!A:A,'Lighting Prices'!E:E)","v":{"$error":"#N/A"}}]
["@LK-ISW-LL8LS",{"$f":"_xlfn.XLOOKUP(A2871,'Prices Furniture'!A:A,'Prices Furniture'!E:E)","v":1402},{"$f":"_xlfn.XLOOKUP(A2871,'Lighting Prices'!A:A,'Lighting Prices'!E:E)","v":{"$error":"#N/A"}}]
["@LK-ISW-TLL8LS",{"$f":"_xlfn.XLOOKUP(A2872,'Prices Furniture'!A:A,'Prices Furniture'!E:E)","v":1575},{"$f":"_xlfn.XLOOKUP(A2872,'Lighting Prices'!A:A,'Lighting Prices'!E:E)","v":{"$error":"#N/A"}}]
["@LK-ISW-W357",{"$f":"_xlfn.XLOOKUP(A2873,'Prices Furniture'!A:A,'Prices Furniture'!E:E)","v":249},{"$f":"_xlfn.XLOOKUP(A2873,'Lighting Prices'!A:A,'Lighting Prices'!E:E)","v":{"$error":"#N/A"}}]
["@LK-ISW-W457",{"$f":"_xlfn.XLOOKUP(A2874,'Prices Furniture'!A:A,'Prices Furniture'!E:E)","v":263},{"$f":"_xlfn.XLOOKUP(A2874,'Lighting Prices'!A:A,'Lighting Prices'!E:E)","v":{"$error":"#N/A"}}]
["@LK-ISW-W4557",{"$f":"_xlfn.XLOOKUP(A2875,'Prices Furniture'!A:A,'Prices Furniture'!E:E)","v":278},{"$f":"_xlfn.XLOOKUP(A2875,'Lighting Prices'!A:A,'Lighting Prices'!E:E)","v":{"$error":"#N/A"}}]
["@LK-ISW-W557",{"$f":"_xlfn.XLOOKUP(A2876,'Prices Furniture'!A:A,'Prices Furniture'!E:E)","v":292},{"$f":"_xlfn.XLOOKUP(A2876,'Lighting Prices'!A:A,'Lighting Prices'!E:E)","v":{"$error":"#N/A"}}]
["@LK-ISW-W657",{"$f":"_xlfn.XLOOKUP(A2877,'Prices Furniture'!A:A,'Prices Furniture'!E:E)","v":281},{"$f":"_xlfn.XLOOKUP(A2877,'Lighting Prices'!A:A,'Lighting Prices'!E:E)","v":{"$error":"#N/A"}}]
["@LK-ISW-W857",{"$f":"_xlfn.XLOOKUP(A2878,'Prices Furniture'!A:A,'Prices Furniture'!E:E)","v":445},{"$f":"_xlfn.XLOOKUP(A2878,'Lighting Prices'!A:A,'Lighting Prices'!E:E)","v":{"$error":"#N/A"}}]
["@LK-ISW-W957",{"$f":"_xlfn.XLOOKUP(A2879,'Prices Furniture'!A:A,'Prices Furniture'!E:E)","v":461},{"$f":"_xlfn.XLOOKUP(A2879,'Lighting Prices'!A:A,'Lighting Prices'!E:E)","v":{"$error":"#N/A"}}]
["@LK-ISW-W157",{"$f":"_xlfn.XLOOKUP(A2880,'Prices Furniture'!A:A,'Prices Furniture'!E:E)","v":486},{"$f":"_xlfn.XLOOKUP(A2880,'Lighting Prices'!A:A,'Lighting Prices'!E:E)","v":{"$error":"#N/A"}}]
["@LK-ISW-WC657",{"$f":"_xlfn.XLOOKUP(A2881,'Prices Furniture'!A:A,'Prices Furniture'!E:E)","v":396},{"$f":"_xlfn.XLOOKUP(A2881,'Lighting Prices'!A:A,'Lighting Prices'!E:E)","v":{"$error":"#N/A"}}]
["@LK-ISW-WC957",{"$f":"_xlfn.XLOOKUP(A2882,'Prices Furniture'!A:A,'Prices Furniture'!E:E)","v":421},{"$f":"_xlfn.XLOOKUP(A2882,'Lighting Prices'!A:A,'Lighting Prices'!E:E)","v":{"$error":"#N/A"}}]
["@LK-ISW-BHD3",{"$f":"_xlfn.XLOOKUP(A2883,'Prices Furniture'!A:A,'Prices Furniture'!E:E)","v":629},{"$f":"_xlfn.XLOOKUP(A2883,'Lighting Prices'!A:A,'Lighting Prices'!E:E)","v":{"$error":"#N/A"}}]
["@LK-ISW-BHD4",{"$f":"_xlfn.XLOOKUP(A2884,'Prices Furniture'!A:A,'Prices Furniture'!E:E)","v":678},{"$f":"_xlfn.XLOOKUP(A2884,'Lighting Prices'!A:A,'Lighting Prices'!E:E)","v":{"$error":"#N/A"}}]
["@LK-ISW-BHD5",{"$f":"_xlfn.XLOOKUP(A2885,'Prices Furniture'!A:A,'Prices Furniture'!E:E)","v":741},{"$f":"_xlfn.XLOOKUP(A2885,'Lighting Prices'!A:A,'Lighting Prices'!E:E)","v":{"$error":"#N/A"}}]
["@LK-ISW-BHD6",{"$f":"_xlfn.XLOOKUP(A2886,'Prices Furniture'!A:A,'Prices Furniture'!E:E)","v":797},{"$f":"_xlfn.XLOOKUP(A2886,'Lighting Prices'!A:A,'Lighting Prices'!E:E)","v":{"$error":"#N/A"}}]
["LK-A-ISW-WREP72",{"$f":"_xlfn.XLOOKUP(A2887,'Prices Furniture'!A:A,'Prices Furniture'!E:E)","v":77},{"$f":"_xlfn.XLOOKUP(A2887,'Lighting Prices'!A:A,'Lighting Prices'!E:E)","v":{"$error":"#N/A"}}]
["LK-A-ISW-PWEP72",{"$f":"_xlfn.XLOOKUP(A2888,'Prices Furniture'!A:A,'Prices Furniture'!E:E)","v":80},{"$f":"_xlfn.XLOOKUP(A2888,'Lighting Prices'!A:A,'Lighting Prices'!E:E)","v":{"$error":"#N/A"}}]
["LK-A-ISW-PWEP20",{"$f":"_xlfn.XLOOKUP(A2889,'Prices Furniture'!A:A,'Prices Furniture'!E:E)","v":200},{"$f":"_xlfn.XLOOKUP(A2889,'Lighting Prices'!A:A,'Lighting Prices'!E:E)","v":{"$error":"#N/A"}}]
["LK-A-ISW-ESP",{"$f":"_xlfn.XLOOKUP(A2890,'Prices Furniture'!A:A,'Prices Furniture'!E:E)","v":123},{"$f":"_xlfn.XLOOKUP(A2890,'Lighting Prices'!A:A,'Lighting Prices'!E:E)","v":{"$error":"#N/A"}}]
["LK-A-ISW-LUP",{"$f":"_xlfn.XLOOKUP(A2891,'Prices Furniture'!A:A,'Prices Furniture'!E:E)","v":391},{"$f":"_xlfn.XLOOKUP(A2891,'Lighting Prices'!A:A,'Lighting Prices'!E:E)","v":{"$error":"#N/A"}}]
["LK-A-ISW-PTEP",{"$f":"_xlfn.XLOOKUP(A2892,'Prices Furniture'!A:A,'Prices Furniture'!E:E)","v":240},{"$f":"_xlfn.XLOOKUP(A2892,'Lighting Prices'!A:A,'Lighting Prices'!E:E)","v":{"$error":"#N/A"}}]
["LK-A-ISW-BPIL",{"$f":"_xlfn.XLOOKUP(A2893,'Prices Furniture'!A:A,'Prices Furniture'!E:E)","v":231},{"$f":"_xlfn.XLOOKUP(A2893,'Lighting Prices'!A:A,'Lighting Prices'!E:E)","v":{"$error":"#N/A"}}]
["LK-A-ISW-PL",{"$f":"_xlfn.XLOOKUP(A2894,'Prices Furniture'!A:A,'Prices Furniture'!E:E)","v":90},{"$f":"_xlfn.XLOOKUP(A2894,'Lighting Prices'!A:A,'Lighting Prices'!E:E)","v":{"$error":"#N/A"}}]
["LK-A-ISW-CVPL",{"$f":"_xlfn.XLOOKUP(A2895,'Prices Furniture'!A:A,'Prices Furniture'!E:E)","v":181},{"$f":"_xlfn.XLOOKUP(A2895,'Lighting Prices'!A:A,'Lighting Prices'!E:E)","v":{"$error":"#N/A"}}]
["LK-A-ISW-SCCRN",{"$f":"_xlfn.XLOOKUP(A2896,'Prices Furniture'!A:A,'Prices Furniture'!E:E)","v":113},{"$f":"_xlfn.XLOOKUP(A2896,'Lighting Prices'!A:A,'Lighting Prices'!E:E)","v":{"$error":"#N/A"}}]
["LK-A-ISW-CSC",{"$f":"_xlfn.XLOOKUP(A2897,'Prices Furniture'!A:A,'Prices Furniture'!E:E)","v":181},{"$f":"_xlfn.XLOOKUP(A2897,'Lighting Prices'!A:A,'Lighting Prices'!E:E)","v":{"$error":"#N/A"}}]
["LK-A-ISW-BLPEL",{"$f":"_xlfn.XLOOKUP(A2898,'Prices Furniture'!A:A,'Prices Furniture'!E:E)","v":86},{"$f":"_xlfn.XLOOKUP(A2898,'Lighting Prices'!A:A,'Lighting Prices'!E:E)","v":{"$error":"#N/A"}}]
["LK-A-ISW-CVBUL",{"$f":"_xlfn.XLOOKUP(A2899,'Prices Furniture'!A:A,'Prices Furniture'!E:E)","v":180},{"$f":"_xlfn.XLOOKUP(A2899,'Lighting Prices'!A:A,'Lighting Prices'!E:E)","v":{"$error":"#N/A"}}]
["LK-A-ISW-CVP",{"$f":"_xlfn.XLOOKUP(A2900,'Prices Furniture'!A:A,'Prices Furniture'!E:E)","v":123},{"$f":"_xlfn.XLOOKUP(A2900,'Lighting Prices'!A:A,'Lighting Prices'!E:E)","v":{"$error":"#N/A"}}]
["LK-A-ISW-CPBM",{"$f":"_xlfn.XLOOKUP(A2901,'Prices Furniture'!A:A,'Prices Furniture'!E:E)","v":116},{"$f":"_xlfn.XLOOKUP(A2901,'Lighting Prices'!A:A,'Lighting Prices'!E:E)","v":{"$error":"#N/A"}}]
["LK-A-ISW-CPBC",{"$f":"_xlfn.XLOOKUP(A2902,'Prices Furniture'!A:A,'Prices Furniture'!E:E)","v":116},{"$f":"_xlfn.XLOOKUP(A2902,'Lighting Prices'!A:A,'Lighting Prices'!E:E)","v":{"$error":"#N/A"}}]
["LK-A-ISW-ET",{"$f":"_xlfn.XLOOKUP(A2903,'Prices Furniture'!A:A,'Prices Furniture'!E:E)","v":37},{"$f":"_xlfn.XLOOKUP(A2903,'Lighting Prices'!A:A,'Lighting Prices'!E:E)","v":{"$error":"#N/A"}}]
["@LK-MSW-BP15TY",{"$f":"_xlfn.XLOOKUP(A2904,'Prices Furniture'!A:A,'Prices Furniture'!E:E)","v":410},{"$f":"_xlfn.XLOOKUP(A2904,'Lighting Prices'!A:A,'Lighting Prices'!E:E)","v":{"$error":"#N/A"}}]
["@LK-MSW-BP3TY",{"$f":"_xlfn.XLOOKUP(A2905,'Prices Furniture'!A:A,'Prices Furniture'!E:E)","v":635},{"$f":"_xlfn.XLOOKUP(A2905,'Lighting Prices'!A:A,'Lighting Prices'!E:E)","v":{"$error":"#N/A"}}]
["@LK-MSW-BH15",{"$f":"_xlfn.XLOOKUP(A2906,'Prices Furniture'!A:A,'Prices Furniture'!E:E)","v":230},{"$f":"_xlfn.XLOOKUP(A2906,'Lighting Prices'!A:A,'Lighting Prices'!E:E)","v":{"$error":"#N/A"}}]
["@LK-MSW-BH30",{"$f":"_xlfn.XLOOKUP(A2907,'Prices Furniture'!A:A,'Prices Furniture'!E:E)","v":240},{"$f":"_xlfn.XLOOKUP(A2907,'Lighting Prices'!A:A,'Lighting Prices'!E:E)","v":{"$error":"#N/A"}}]
["@LK-MSW-BH3B",{"$f":"_xlfn.XLOOKUP(A2908,'Prices Furniture'!A:A,'Prices Furniture'!E:E)","v":608},{"$f":"_xlfn.XLOOKUP(A2908,'Lighting Prices'!A:A,'Lighting Prices'!E:E)","v":{"$error":"#N/A"}}]
["@LK-MSW-BH35",{"$f":"_xlfn.XLOOKUP(A2909,'Prices Furniture'!A:A,'Prices Furniture'!E:E)","v":247},{"$f":"_xlfn.XLOOKUP(A2909,'Lighting Prices'!A:A,'Lighting Prices'!E:E)","v":{"$error":"#N/A"}}]
["@LK-MSW-BH40",{"$f":"_xlfn.XLOOKUP(A2910,'Prices Furniture'!A:A,'Prices Furniture'!E:E)","v":250},{"$f":"_xlfn.XLOOKUP(A2910,'Lighting Prices'!A:A,'Lighting Prices'!E:E)","v":{"$error":"#N/A"}}]
["@LK-MSW-BH4B",{"$f":"_xlfn.XLOOKUP(A2911,'Prices Furniture'!A:A,'Prices Furniture'!E:E)","v":683},{"$f":"_xlfn.XLOOKUP(A2911,'Lighting Prices'!A:A,'Lighting Prices'!E:E)","v":{"$error":"#N/A"}}]
["@LK-MSW-BH45",{"$f":"_xlfn.XLOOKUP(A2912,'Prices Furniture'!A:A,'Prices Furniture'!E:E)","v":273},{"$f":"_xlfn.XLOOKUP(A2912,'Lighting Prices'!A:A,'Lighting Prices'!E:E)","v":{"$error":"#N/A"}}]
["@LK-MSW-BH45B",{"$f":"_xlfn.XLOOKUP(A2913,'Prices Furniture'!A:A,'Prices Furniture'!E:E)","v":711},{"$f":"_xlfn.XLOOKUP(A2913,'Lighting Prices'!A:A,'Lighting Prices'!E:E)","v":{"$error":"#N/A"}}]
["@LK-MSW-BH50",{"$f":"_xlfn.XLOOKUP(A2914,'Prices Furniture'!A:A,'Prices Furniture'!E:E)","v":284},{"$f":"_xlfn.XLOOKUP(A2914,'Lighting Prices'!A:A,'Lighting Prices'!E:E)","v":{"$error":"#N/A"}}]
["@LK-MSW-BH5B",{"$f":"_xlfn.XLOOKUP(A2915,'Prices Furniture'!A:A,'Prices Furniture'!E:E)","v":728},{"$f":"_xlfn.XLOOKUP(A2915,'Lighting Prices'!A:A,'Lighting Prices'!E:E)","v":{"$error":"#N/A"}}]
["@LK-MSW-BH50S",{"$f":"_xlfn.XLOOKUP(A2916,'Prices Furniture'!A:A,'Prices Furniture'!E:E)","v":314},{"$f":"_xlfn.XLOOKUP(A2916,'Lighting Prices'!A:A,'Lighting Prices'!E:E)","v":{"$error":"#N/A"}}]
["@LK-MSW-BH60",{"$f":"_xlfn.XLOOKUP(A2917,'Prices Furniture'!A:A,'Prices Furniture'!E:E)","v":320},{"$f":"_xlfn.XLOOKUP(A2917,'Lighting Prices'!A:A,'Lighting Prices'!E:E)","v":{"$error":"#N/A"}}]
["@LK-MSW-BH6B4",{"$f":"_xlfn.XLOOKUP(A2918,'Prices Furniture'!A:A,'Prices Furniture'!E:E)","v":853},{"$f":"_xlfn.XLOOKUP(A2918,'Lighting Prices'!A:A,'Lighting Prices'!E:E)","v":{"$error":"#N/A"}}]
["@LK-MSW-BH6B2",{"$f":"_xlfn.XLOOKUP(A2919,'Prices Furniture'!A:A,'Prices Furniture'!E:E)","v":801},{"$f":"_xlfn.XLOOKUP(A2919,'Lighting Prices'!A:A,'Lighting Prices'!E:E)","v":{"$error":"#N/A"}}]
["@LK-MSW-BH60S",{"$f":"_xlfn.XLOOKUP(A2920,'Prices Furniture'!A:A,'Prices Furniture'!E:E)","v":366},{"$f":"_xlfn.XLOOKUP(A2920,'Lighting Prices'!A:A,'Lighting Prices'!E:E)","v":{"$error":"#N/A"}}]
["@LK-MSW-BH70",{"$f":"_xlfn.XLOOKUP(A2921,'Prices Furniture'!A:A,'Prices Furniture'!E:E)","v":392},{"$f":"_xlfn.XLOOKUP(A2921,'Lighting Prices'!A:A,'Lighting Prices'!E:E)","v":{"$error":"#N/A"}}]
["@LK-MSW-BH80",{"$f":"_xlfn.XLOOKUP(A2922,'Prices Furniture'!A:A,'Prices Furniture'!E:E)","v":396},{"$f":"_xlfn.XLOOKUP(A2922,'Lighting Prices'!A:A,'Lighting Prices'!E:E)","v":{"$error":"#N/A"}}]
["@LK-MSW-BH80S",{"$f":"_xlfn.XLOOKUP(A2923,'Prices Furniture'!A:A,'Prices Furniture'!E:E)","v":442},{"$f":"_xlfn.XLOOKUP(A2923,'Lighting Prices'!A:A,'Lighting Prices'!E:E)","v":{"$error":"#N/A"}}]
["@LK-MSW-BH90",{"$f":"_xlfn.XLOOKUP(A2924,'Prices Furniture'!A:A,'Prices Furniture'!E:E)","v":420},{"$f":"_xlfn.XLOOKUP(A2924,'Lighting Prices'!A:A,'Lighting Prices'!E:E)","v":{"$error":"#N/A"}}]
["@LK-MSW-BH90S",{"$f":"_xlfn.XLOOKUP(A2925,'Prices Furniture'!A:A,'Prices Furniture'!E:E)","v":466},{"$f":"_xlfn.XLOOKUP(A2925,'Lighting Prices'!A:A,'Lighting Prices'!E:E)","v":{"$error":"#N/A"}}]
["@LK-MSW-BH100",{"$f":"_xlfn.XLOOKUP(A2926,'Prices Furniture'!A:A,'Prices Furniture'!E:E)","v":441},{"$f":"_xlfn.XLOOKUP(A2926,'Lighting Prices'!A:A,'Lighting Prices'!E:E)","v":{"$error":"#N/A"}}]
["@LK-MSW-BH10S",{"$f":"_xlfn.XLOOKUP(A2927,'Prices Furniture'!A:A,'Prices Furniture'!E:E)","v":487},{"$f":"_xlfn.XLOOKUP(A2927,'Lighting Prices'!A:A,'Lighting Prices'!E:E)","v":{"$error":"#N/A"}}]
["@LK-MSW-BC83",{"$f":"_xlfn.XLOOKUP(A2928,'Prices Furniture'!A:A,'Prices Furniture'!E:E)","v":375},{"$f":"_xlfn.XLOOKUP(A2928,'Lighting Prices'!A:A,'Lighting Prices'!E:E)","v":{"$error":"#N/A"}}]
["@LK-MSW-BC84",{"$f":"_xlfn.XLOOKUP(A2929,'Prices Furniture'!A:A,'Prices Furniture'!E:E)","v":381},{"$f":"_xlfn.XLOOKUP(A2929,'Lighting Prices'!A:A,'Lighting Prices'!E:E)","v":{"$error":"#N/A"}}]
["@LK-MSW-BC845",{"$f":"_xlfn.XLOOKUP(A2930,'Prices Furniture'!A:A,'Prices Furniture'!E:E)","v":393},{"$f":"_xlfn.XLOOKUP(A2930,'Lighting Prices'!A:A,'Lighting Prices'!E:E)","v":{"$error":"#N/A"}}]
["@LK-MSW-BC945",{"$f":"_xlfn.XLOOKUP(A2931,'Prices Furniture'!A:A,'Prices Furniture'!E:E)","v":393},{"$f":"_xlfn.XLOOKUP(A2931,'Lighting Prices'!A:A,'Lighting Prices'!E:E)","v":{"$error":"#N/A"}}]
["@LK-MSW-BC145",{"$f":"_xlfn.XLOOKUP(A2932,'Prices Furniture'!A:A,'Prices Furniture'!E:E)","v":398},{"$f":"_xlfn.XLOOKUP(A2932,'Lighting Prices'!A:A,'Lighting Prices'!E:E)","v":{"$error":"#N/A"}}]
["@LK-MSW-BC15",{"$f":"_xlfn.XLOOKUP(A2933,'Prices Furniture'!A:A,'Prices Furniture'!E:E)","v":406},{"$f":"_xlfn.XLOOKUP(A2933,'Lighting Prices'!A:A,'Lighting Prices'!E:E)","v":{"$error":"#N/A"}}]
["@LK-MSW-BC16",{"$f":"_xlfn.XLOOKUP(A2934,'Prices Furniture'!A:A,'Prices Furniture'!E:E)","v":422},{"$f":"_xlfn.XLOOKUP(A2934,'Lighting Prices'!A:A,'Lighting Prices'!E:E)","v":{"$error":"#N/A"}}]
["@LK-MSW-BCL15L",{"$f":"_xlfn.XLOOKUP(A2935,'Prices Furniture'!A:A,'Prices Furniture'!E:E)","v":1271},{"$f":"_xlfn.XLOOKUP(A2935,'Lighting Prices'!A:A,'Lighting Prices'!E:E)","v":{"$error":"#N/A"}}]
["@LK-MSW-BCL15R",{"$f":"_xlfn.XLOOKUP(A2936,'Prices Furniture'!A:A,'Prices Furniture'!E:E)","v":1271},{"$f":"_xlfn.XLOOKUP(A2936,'Lighting Prices'!A:A,'Lighting Prices'!E:E)","v":{"$error":"#N/A"}}]
["@LK-MSW-BCL16L",{"$f":"_xlfn.XLOOKUP(A2937,'Prices Furniture'!A:A,'Prices Furniture'!E:E)","v":1350},{"$f":"_xlfn.XLOOKUP(A2937,'Lighting Prices'!A:A,'Lighting Prices'!E:E)","v":{"$error":"#N/A"}}]
["@LK-MSW-BCL16R",{"$f":"_xlfn.XLOOKUP(A2938,'Prices Furniture'!A:A,'Prices Furniture'!E:E)","v":1350},{"$f":"_xlfn.XLOOKUP(A2938,'Lighting Prices'!A:A,'Lighting Prices'!E:E)","v":{"$error":"#N/A"}}]
["@LK-MSW-BCO945",{"$f":"_xlfn.XLOOKUP(A2939,'Prices Furniture'!A:A,'Prices Furniture'!E:E)","v":1403},{"$f":"_xlfn.XLOOKUP(A2939,'Lighting Prices'!A:A,'Lighting Prices'!E:E)","v":{"$error":"#N/A"}}]
["@LK-MSW-BCO145",{"$f":"_xlfn.XLOOKUP(A2940,'Prices Furniture'!A:A,'Prices Furniture'!E:E)","v":1408},{"$f":"_xlfn.XLOOKUP(A2940,'Lighting Prices'!A:A,'Lighting Prices'!E:E)","v":{"$error":"#N/A"}}]
["@LK-MSW-BCO15",{"$f":"_xlfn.XLOOKUP(A2941,'Prices Furniture'!A:A,'Prices Furniture'!E:E)","v":1416},{"$f":"_xlfn.XLOOKUP(A2941,'Lighting Prices'!A:A,'Lighting Prices'!E:E)","v":{"$error":"#N/A"}}]
["@LK-MSW-BCO16",{"$f":"_xlfn.XLOOKUP(A2942,'Prices Furniture'!A:A,'Prices Furniture'!E:E)","v":1432},{"$f":"_xlfn.XLOOKUP(A2942,'Lighting Prices'!A:A,'Lighting Prices'!E:E)","v":{"$error":"#N/A"}}]
["@LK-MSW-BCL9",{"$f":"_xlfn.XLOOKUP(A2943,'Prices Furniture'!A:A,'Prices Furniture'!E:E)","v":622},{"$f":"_xlfn.XLOOKUP(A2943,'Lighting Prices'!A:A,'Lighting Prices'!E:E)","v":{"$error":"#N/A"}}]
["@LK-MSW-BHCV",{"$f":"_xlfn.XLOOKUP(A2944,'Prices Furniture'!A:A,'Prices Furniture'!E:E)","v":625},{"$f":"_xlfn.XLOOKUP(A2944,'Lighting Prices'!A:A,'Lighting Prices'!E:E)","v":{"$error":"#N/A"}}]
["@LK-MSW-BSU6495",{"$f":"_xlfn.XLOOKUP(A2945,'Prices Furniture'!A:A,'Prices Furniture'!E:E)","v":284},{"$f":"_xlfn.XLOOKUP(A2945,'Lighting Prices'!A:A,'Lighting Prices'!E:E)","v":{"$error":"#N/A"}}]
["@LK-MSW-BSU6450",{"$f":"_xlfn.XLOOKUP(A2946,'Prices Furniture'!A:A,'Prices Furniture'!E:E)","v":284},{"$f":"_xlfn.XLOOKUP(A2946,'Lighting Prices'!A:A,'Lighting Prices'!E:E)","v":{"$error":"#N/A"}}]
["@LK-MSW-BDL3",{"$f":"_xlfn.XLOOKUP(A2947,'Prices Furniture'!A:A,'Prices Furniture'!E:E)","v":415},{"$f":"_xlfn.XLOOKUP(A2947,'Lighting Prices'!A:A,'Lighting Prices'!E:E)","v":{"$error":"#N/A"}}]
["@LK-MSW-BDL4",{"$f":"_xlfn.XLOOKUP(A2948,'Prices Furniture'!A:A,'Prices Furniture'!E:E)","v":438},{"$f":"_xlfn.XLOOKUP(A2948,'Lighting Prices'!A:A,'Lighting Prices'!E:E)","v":{"$error":"#N/A"}}]
["@LK-MSW-BDL5",{"$f":"_xlfn.XLOOKUP(A2949,'Prices Furniture'!A:A,'Prices Furniture'!E:E)","v":473},{"$f":"_xlfn.XLOOKUP(A2949,'Lighting Prices'!A:A,'Lighting Prices'!E:E)","v":{"$error":"#N/A"}}]
["@LK-MSW-BDL6",{"$f":"_xlfn.XLOOKUP(A2950,'Prices Furniture'!A:A,'Prices Furniture'!E:E)","v":476},{"$f":"_xlfn.XLOOKUP(A2950,'Lighting Prices'!A:A,'Lighting Prices'!E:E)","v":{"$error":"#N/A"}}]
["@LK-MSW-BDL8",{"$f":"_xlfn.XLOOKUP(A2951,'Prices Furniture'!A:A,'Prices Furniture'!E:E)","v":772},{"$f":"_xlfn.XLOOKUP(A2951,'Lighting Prices'!A:A,'Lighting Prices'!E:E)","v":{"$error":"#N/A"}}]
["@LK-MSW-BDL10",{"$f":"_xlfn.XLOOKUP(A2952,'Prices Furniture'!A:A,'Prices Furniture'!E:E)","v":819},{"$f":"_xlfn.XLOOKUP(A2952,'Lighting Prices'!A:A,'Lighting Prices'!E:E)","v":{"$error":"#N/A"}}]
["@LK-MSW-BDL81DW",{"$f":"_xlfn.XLOOKUP(A2953,'Prices Furniture'!A:A,'Prices Furniture'!E:E)","v":654},{"$f":"_xlfn.XLOOKUP(A2953,'Lighting Prices'!A:A,'Lighting Prices'!E:E)","v":{"$error":"#N/A"}}]
["@LK-MSW-BDL91DW",{"$f":"_xlfn.XLOOKUP(A2954,'Prices Furniture'!A:A,'Prices Furniture'!E:E)","v":679},{"$f":"_xlfn.XLOOKUP(A2954,'Lighting Prices'!A:A,'Lighting Prices'!E:E)","v":{"$error":"#N/A"}}]
["@LK-MSW-BDL101DW",{"$f":"_xlfn.XLOOKUP(A2955,'Prices Furniture'!A:A,'Prices Furniture'!E:E)","v":712},{"$f":"_xlfn.XLOOKUP(A2955,'Lighting Prices'!A:A,'Lighting Prices'!E:E)","v":{"$error":"#N/A"}}]
["@LK-MSW-BDLC83",{"$f":"_xlfn.XLOOKUP(A2956,'Prices Furniture'!A:A,'Prices Furniture'!E:E)","v":550},{"$f":"_xlfn.XLOOKUP(A2956,'Lighting Prices'!A:A,'Lighting Prices'!E:E)","v":{"$error":"#N/A"}}]
["@LK-MSW-BDLC84",{"$f":"_xlfn.XLOOKUP(A2957,'Prices Furniture'!A:A,'Prices Furniture'!E:E)","v":569},{"$f":"_xlfn.XLOOKUP(A2957,'Lighting Prices'!A:A,'Lighting Prices'!E:E)","v":{"$error":"#N/A"}}]
["@LK-MSW-BDLC85",{"$f":"_xlfn.XLOOKUP(A2958,'Prices Furniture'!A:A,'Prices Furniture'!E:E)","v":590},{"$f":"_xlfn.XLOOKUP(A2958,'Lighting Prices'!A:A,'Lighting Prices'!E:E)","v":{"$error":"#N/A"}}]
["@LK-MSW-BDLC15",{"$f":"_xlfn.XLOOKUP(A2959,'Prices Furniture'!A:A,'Prices Furniture'!E:E)","v":595},{"$f":"_xlfn.XLOOKUP(A2959,'Lighting Prices'!A:A,'Lighting Prices'!E:E)","v":{"$error":"#N/A"}}]
["@LK-MSW-BDLC16",{"$f":"_xlfn.XLOOKUP(A2960,'Prices Furniture'!A:A,'Prices Furniture'!E:E)","v":578},{"$f":"_xlfn.XLOOKUP(A2960,'Lighting Prices'!A:A,'Lighting Prices'!E:E)","v":{"$error":"#N/A"}}]
["@LK-MSW-BD54",{"$f":"_xlfn.XLOOKUP(A2961,'Prices Furniture'!A:A,'Prices Furniture'!E:E)","v":867},{"$f":"_xlfn.XLOOKUP(A2961,'Lighting Prices'!A:A,'Lighting Prices'!E:E)","v":{"$error":"#N/A"}}]
["@LK-MSW-BD53",{"$f":"_xlfn.XLOOKUP(A2962,'Prices Furniture'!A:A,'Prices Furniture'!E:E)","v":756},{"$f":"_xlfn.XLOOKUP(A2962,'Lighting Prices'!A:A,'Lighting Prices'!E:E)","v":{"$error":"#N/A"}}]
["@LK-MSW-BD63",{"$f":"_xlfn.XLOOKUP(A2963,'Prices Furniture'!A:A,'Prices Furniture'!E:E)","v":813},{"$f":"_xlfn.XLOOKUP(A2963,'Lighting Prices'!A:A,'Lighting Prices'!E:E)","v":{"$error":"#N/A"}}]
["@LK-MSW-BD83",{"$f":"_xlfn.XLOOKUP(A2964,'Prices Furniture'!A:A,'Prices Furniture'!E:E)","v":816},{"$f":"_xlfn.XLOOKUP(A2964,'Lighting Prices'!A:A,'Lighting Prices'!E:E)","v":{"$error":"#N/A"}}]
["@LK-MSW-BD93",{"$f":"_xlfn.XLOOKUP(A2965,'Prices Furniture'!A:A,'Prices Furniture'!E:E)","v":831},{"$f":"_xlfn.XLOOKUP(A2965,'Lighting Prices'!A:A,'Lighting Prices'!E:E)","v":{"$error":"#N/A"}}]
["@LK-MSW-BD13",{"$f":"_xlfn.XLOOKUP(A2966,'Prices Furniture'!A:A,'Prices Furniture'!E:E)","v":847},{"$f":"_xlfn.XLOOKUP(A2966,'Lighting Prices'!A:A,'Lighting Prices'!E:E)","v":{"$error":"#N/A"}}]
["@LK-MSW-BD62",{"$f":"_xlfn.XLOOKUP(A2967,'Prices Furniture'!A:A,'Prices Furniture'!E:E)","v":693},{"$f":"_xlfn.XLOOKUP(A2967,'Lighting Prices'!A:A,'Lighting Prices'!E:E)","v":{"$error":"#N/A"}}]
["@LK-MSW-BD92",{"$f":"_xlfn.XLOOKUP(A2968,'Prices Furniture'!A:A,'Prices Furniture'!E:E)","v":704},{"$f":"_xlfn.XLOOKUP(A2968,'Lighting Prices'!A:A,'Lighting Prices'!E:E)","v":{"$error":"#N/A"}}]
["@LK-MSW-BD62I",{"$f":"_xlfn.XLOOKUP(A2969,'Prices Furniture'!A:A,'Prices Furniture'!E:E)","v":869},{"$f":"_xlfn.XLOOKUP(A2969,'Lighting Prices'!A:A,'Lighting Prices'!E:E)","v":{"$error":"#N/A"}}]
["@LK-MSW-BD92I",{"$f":"_xlfn.XLOOKUP(A2970,'Prices Furniture'!A:A,'Prices Furniture'!E:E)","v":905},{"$f":"_xlfn.XLOOKUP(A2970,'Lighting Prices'!A:A,'Lighting Prices'!E:E)","v":{"$error":"#N/A"}}]
["@LK-MSW-BD635L",{"$f":"_xlfn.XLOOKUP(A2971,'Prices Furniture'!A:A,'Prices Furniture'!E:E)","v":389},{"$f":"_xlfn.XLOOKUP(A2971,'Lighting Prices'!A:A,'Lighting Prices'!E:E)","v":{"$error":"#N/A"}}]
["@LK-MSW-W30",{"$f":"_xlfn.XLOOKUP(A2972,'Prices Furniture'!A:A,'Prices Furniture'!E:E)","v":222},{"$f":"_xlfn.XLOOKUP(A2972,'Lighting Prices'!A:A,'Lighting Prices'!E:E)","v":{"$error":"#N/A"}}]
["@LK-MSW-W35",{"$f":"_xlfn.XLOOKUP(A2973,'Prices Furniture'!A:A,'Prices Furniture'!E:E)","v":229},{"$f":"_xlfn.XLOOKUP(A2973,'Lighting Prices'!A:A,'Lighting Prices'!E:E)","v":{"$error":"#N/A"}}]
["@LK-MSW-W40",{"$f":"_xlfn.XLOOKUP(A2974,'Prices Furniture'!A:A,'Prices Furniture'!E:E)","v":236},{"$f":"_xlfn.XLOOKUP(A2974,'Lighting Prices'!A:A,'Lighting Prices'!E:E)","v":{"$error":"#N/A"}}]
["@LK-MSW-W45",{"$f":"_xlfn.XLOOKUP(A2975,'Prices Furniture'!A:A,'Prices Furniture'!E:E)","v":253},{"$f":"_xlfn.XLOOKUP(A2975,'Lighting Prices'!A:A,'Lighting Prices'!E:E)","v":{"$error":"#N/A"}}]
["@LK-MSW-W50",{"$f":"_xlfn.XLOOKUP(A2976,'Prices Furniture'!A:A,'Prices Furniture'!E:E)","v":267},{"$f":"_xlfn.XLOOKUP(A2976,'Lighting Prices'!A:A,'Lighting Prices'!E:E)","v":{"$error":"#N/A"}}]
["@LK-MSW-W60",{"$f":"_xlfn.XLOOKUP(A2977,'Prices Furniture'!A:A,'Prices Furniture'!E:E)","v":291},{"$f":"_xlfn.XLOOKUP(A2977,'Lighting Prices'!A:A,'Lighting Prices'!E:E)","v":{"$error":"#N/A"}}]
["@LK-MSW-W70",{"$f":"_xlfn.XLOOKUP(A2978,'Prices Furniture'!A:A,'Prices Furniture'!E:E)","v":387},{"$f":"_xlfn.XLOOKUP(A2978,'Lighting Prices'!A:A,'Lighting Prices'!E:E)","v":{"$error":"#N/A"}}]
["@LK-MSW-W80",{"$f":"_xlfn.XLOOKUP(A2979,'Prices Furniture'!A:A,'Prices Furniture'!E:E)","v":391},{"$f":"_xlfn.XLOOKUP(A2979,'Lighting Prices'!A:A,'Lighting Prices'!E:E)","v":{"$error":"#N/A"}}]
["@LK-MSW-W90",{"$f":"_xlfn.XLOOKUP(A2980,'Prices Furniture'!A:A,'Prices Furniture'!E:E)","v":411},{"$f":"_xlfn.XLOOKUP(A2980,'Lighting Prices'!A:A,'Lighting Prices'!E:E)","v":{"$error":"#N/A"}}]
["@LK-MSW-W100",{"$f":"_xlfn.XLOOKUP(A2981,'Prices Furniture'!A:A,'Prices Furniture'!E:E)","v":436},{"$f":"_xlfn.XLOOKUP(A2981,'Lighting Prices'!A:A,'Lighting Prices'!E:E)","v":{"$error":"#N/A"}}]
["@LK-MSW-WC6",{"$f":"_xlfn.XLOOKUP(A2982,'Prices Furniture'!A:A,'Prices Furniture'!E:E)","v":310},{"$f":"_xlfn.XLOOKUP(A2982,'Lighting Prices'!A:A,'Lighting Prices'!E:E)","v":{"$error":"#N/A"}}]
["@LK-MSW-WC9",{"$f":"_xlfn.XLOOKUP(A2983,'Prices Furniture'!A:A,'Prices Furniture'!E:E)","v":372},{"$f":"_xlfn.XLOOKUP(A2983,'Lighting Prices'!A:A,'Lighting Prices'!E:E)","v":{"$error":"#N/A"}}]
["@LK-MSW-WCL65",{"$f":"_xlfn.XLOOKUP(A2984,'Prices Furniture'!A:A,'Prices Furniture'!E:E)","v":547},{"$f":"_xlfn.XLOOKUP(A2984,'Lighting Prices'!A:A,'Lighting Prices'!E:E)","v":{"$error":"#N/A"}}]
["@LK-MSW-WM60",{"$f":"_xlfn.XLOOKUP(A2985,'Prices Furniture'!A:A,'Prices Furniture'!E:E)","v":377},{"$f":"_xlfn.XLOOKUP(A2985,'Lighting Prices'!A:A,'Lighting Prices'!E:E)","v":{"$error":"#N/A"}}]
["@LK-MSW-WBHU",{"$f":"_xlfn.XLOOKUP(A2986,'Prices Furniture'!A:A,'Prices Furniture'!E:E)","v":297},{"$f":"_xlfn.XLOOKUP(A2986,'Lighting Prices'!A:A,'Lighting Prices'!E:E)","v":{"$error":"#N/A"}}]
["@LK-MSW-WBI60",{"$f":"_xlfn.XLOOKUP(A2987,'Prices Furniture'!A:A,'Prices Furniture'!E:E)","v":673},{"$f":"_xlfn.XLOOKUP(A2987,'Lighting Prices'!A:A,'Lighting Prices'!E:E)","v":{"$error":"#N/A"}}]
["@LK-MSW-WBI90",{"$f":"_xlfn.XLOOKUP(A2988,'Prices Furniture'!A:A,'Prices Furniture'!E:E)","v":703},{"$f":"_xlfn.XLOOKUP(A2988,'Lighting Prices'!A:A,'Lighting Prices'!E:E)","v":{"$error":"#N/A"}}]
["@LK-MSW-WG5",{"$f":"_xlfn.XLOOKUP(A2989,'Prices Furniture'!A:A,'Prices Furniture'!E:E)","v":265},{"$f":"_xlfn.XLOOKUP(A2989,'Lighting Prices'!A:A,'Lighting Prices'!E:E)","v":{"$error":"#N/A"}}]
["@LK-MSW-WDR50",{"$f":"_xlfn.XLOOKUP(A2990,'Prices Furniture'!A:A,'Prices Furniture'!E:E)","v":624},{"$f":"_xlfn.XLOOKUP(A2990,'Lighting Prices'!A:A,'Lighting Prices'!E:E)","v":{"$error":"#N/A"}}]
["@LK-MSW-WCV",{"$f":"_xlfn.XLOOKUP(A2991,'Prices Furniture'!A:A,'Prices Furniture'!E:E)","v":593},{"$f":"_xlfn.XLOOKUP(A2991,'Lighting Prices'!A:A,'Lighting Prices'!E:E)","v":{"$error":"#N/A"}}]
["@LK-MSW-WB62",{"$f":"_xlfn.XLOOKUP(A2992,'Prices Furniture'!A:A,'Prices Furniture'!E:E)","v":243},{"$f":"_xlfn.XLOOKUP(A2992,'Lighting Prices'!A:A,'Lighting Prices'!E:E)","v":{"$error":"#N/A"}}]
["@LK-MSW-WB82",{"$f":"_xlfn.XLOOKUP(A2993,'Prices Furniture'!A:A,'Prices Furniture'!E:E)","v":285},{"$f":"_xlfn.XLOOKUP(A2993,'Lighting Prices'!A:A,'Lighting Prices'!E:E)","v":{"$error":"#N/A"}}]
["@LK-MSW-WB92",{"$f":"_xlfn.XLOOKUP(A2994,'Prices Furniture'!A:A,'Prices Furniture'!E:E)","v":314},{"$f":"_xlfn.XLOOKUP(A2994,'Lighting Prices'!A:A,'Lighting Prices'!E:E)","v":{"$error":"#N/A"}}]
["@LK-MSW-WB12",{"$f":"_xlfn.XLOOKUP(A2995,'Prices Furniture'!A:A,'Prices Furniture'!E:E)","v":329},{"$f":"_xlfn.XLOOKUP(A2995,'Lighting Prices'!A:A,'Lighting Prices'!E:E)","v":{"$error":"#N/A"}}]
["@LK-MSW-WB63",{"$f":"_xlfn.XLOOKUP(A2996,'Prices Furniture'!A:A,'Prices Furniture'!E:E)","v":300},{"$f":"_xlfn.XLOOKUP(A2996,'Lighting Prices'!A:A,'Lighting Prices'!E:E)","v":{"$error":"#N/A"}}]
["@LK-MSW-WB83",{"$f":"_xlfn.XLOOKUP(A2997,'Prices Furniture'!A:A,'Prices Furniture'!E:E)","v":330},{"$f":"_xlfn.XLOOKUP(A2997,'Lighting Prices'!A:A,'Lighting Prices'!E:E)","v":{"$error":"#N/A"}}]
["@LK-MSW-WB93",{"$f":"_xlfn.XLOOKUP(A2998,'Prices Furniture'!A:A,'Prices Furniture'!E:E)","v":348},{"$f":"_xlfn.XLOOKUP(A2998,'Lighting Prices'!A:A,'Lighting Prices'!E:E)","v":{"$error":"#N/A"}}]
["@LK-MSW-WB13",{"$f":"_xlfn.XLOOKUP(A2999,'Prices Furniture'!A:A,'Prices Furniture'!E:E)","v":353},{"$f":"_xlfn.XLOOKUP(A2999,'Lighting Prices'!A:A,'Lighting Prices'!E:E)","v":{"$error":"#N/A"}}]
["@LK-MSW-AH-F55",{"$f":"_xlfn.XLOOKUP(A3000,'Prices Furniture'!A:A,'Prices Furniture'!E:E)","v":743},{"$f":"_xlfn.XLOOKUP(A3000,'Lighting Prices'!A:A,'Lighting Prices'!E:E)","v":{"$error":"#N/A"}}]
["@LK-MSW-AH-F73",{"$f":"_xlfn.XLOOKUP(A3001,'Prices Furniture'!A:A,'Prices Furniture'!E:E)","v":726},{"$f":"_xlfn.XLOOKUP(A3001,'Lighting Prices'!A:A,'Lighting Prices'!E:E)","v":{"$error":"#N/A"}}]
["@LK-MSW-AH-DO",{"$f":"_xlfn.XLOOKUP(A3002,'Prices Furniture'!A:A,'Prices Furniture'!E:E)","v":723},{"$f":"_xlfn.XLOOKUP(A3002,'Lighting Prices'!A:A,'Lighting Prices'!E:E)","v":{"$error":"#N/A"}}]
["@LK-MSW-AH-DO2D",{"$f":"_xlfn.XLOOKUP(A3003,'Prices Furniture'!A:A,'Prices Furniture'!E:E)","v":1061},{"$f":"_xlfn.XLOOKUP(A3003,'Lighting Prices'!A:A,'Lighting Prices'!E:E)","v":{"$error":"#N/A"}}]
["@LK-MSW-AH-DMW",{"$f":"_xlfn.XLOOKUP(A3004,'Prices Furniture'!A:A,'Prices Furniture'!E:E)","v":945},{"$f":"_xlfn.XLOOKUP(A3004,'Lighting Prices'!A:A,'Lighting Prices'!E:E)","v":{"$error":"#N/A"}}]
["@LK-MSW-AH-SO",{"$f":"_xlfn.XLOOKUP(A3005,'Prices Furniture'!A:A,'Prices Furniture'!E:E)","v":751},{"$f":"_xlfn.XLOOKUP(A3005,'Lighting Prices'!A:A,'Lighting Prices'!E:E)","v":{"$error":"#N/A"}}]
["@LK-MSW-AH-SO1D",{"$f":"_xlfn.XLOOKUP(A3006,'Prices Furniture'!A:A,'Prices Furniture'!E:E)","v":899},{"$f":"_xlfn.XLOOKUP(A3006,'Lighting Prices'!A:A,'Lighting Prices'!E:E)","v":{"$error":"#N/A"}}]
["@LK-MSW-AH-SO2D",{"$f":"_xlfn.XLOOKUP(A3007,'Prices Furniture'!A:A,'Prices Furniture'!E:E)","v":1120},{"$f":"_xlfn.XLOOKUP(A3007,'Lighting Prices'!A:A,'Lighting Prices'!E:E)","v":{"$error":"#N/A"}}]
["@LK-MSW-AH-SO3D",{"$f":"_xlfn.XLOOKUP(A3008,'Prices Furniture'!A:A,'Prices Furniture'!E:E)","v":1273},{"$f":"_xlfn.XLOOKUP(A3008,'Lighting Prices'!A:A,'Lighting Prices'!E:E)","v":{"$error":"#N/A"}}]
["@LK-MSW-AH-SMW",{"$f":"_xlfn.XLOOKUP(A3009,'Prices Furniture'!A:A,'Prices Furniture'!E:E)","v":798},{"$f":"_xlfn.XLOOKUP(A3009,'Lighting Prices'!A:A,'Lighting Prices'!E:E)","v":{"$error":"#N/A"}}]
["@LK-MSW-AH-SM2D",{"$f":"_xlfn.XLOOKUP(A3010,'Prices Furniture'!A:A,'Prices Furniture'!E:E)","v":1090},{"$f":"_xlfn.XLOOKUP(A3010,'Lighting Prices'!A:A,'Lighting Prices'!E:E)","v":{"$error":"#N/A"}}]
["@LK-MSW-AH-CO",{"$f":"_xlfn.XLOOKUP(A3011,'Prices Furniture'!A:A,'Prices Furniture'!E:E)","v":835},{"$f":"_xlfn.XLOOKUP(A3011,'Lighting Prices'!A:A,'Lighting Prices'!E:E)","v":{"$error":"#N/A"}}]
["@LK-MSW-BOH6",{"$f":"_xlfn.XLOOKUP(A3012,'Prices Furniture'!A:A,'Prices Furniture'!E:E)","v":209},{"$f":"_xlfn.XLOOKUP(A3012,'Lighting Prices'!A:A,'Lighting Prices'!E:E)","v":{"$error":"#N/A"}}]
["@LK-MSW-BOHD6",{"$f":"_xlfn.XLOOKUP(A3013,'Prices Furniture'!A:A,'Prices Furniture'!E:E)","v":322},{"$f":"_xlfn.XLOOKUP(A3013,'Lighting Prices'!A:A,'Lighting Prices'!E:E)","v":{"$error":"#N/A"}}]
["@LK-MSW-L3",{"$f":"_xlfn.XLOOKUP(A3014,'Prices Furniture'!A:A,'Prices Furniture'!E:E)","v":678},{"$f":"_xlfn.XLOOKUP(A3014,'Lighting Prices'!A:A,'Lighting Prices'!E:E)","v":{"$error":"#N/A"}}]
["@LK-MSW-L4",{"$f":"_xlfn.XLOOKUP(A3015,'Prices Furniture'!A:A,'Prices Furniture'!E:E)","v":708},{"$f":"_xlfn.XLOOKUP(A3015,'Lighting Prices'!A:A,'Lighting Prices'!E:E)","v":{"$error":"#N/A"}}]
["@LK-MSW-L5",{"$f":"_xlfn.XLOOKUP(A3016,'Prices Furniture'!A:A,'Prices Furniture'!E:E)","v":737},{"$f":"_xlfn.XLOOKUP(A3016,'Lighting Prices'!A:A,'Lighting Prices'!E:E)","v":{"$error":"#N/A"}}]
["@LK-MSW-L6",{"$f":"_xlfn.XLOOKUP(A3017,'Prices Furniture'!A:A,'Prices Furniture'!E:E)","v":809},{"$f":"_xlfn.XLOOKUP(A3017,'Lighting Prices'!A:A,'Lighting Prices'!E:E)","v":{"$error":"#N/A"}}]
["@LK-MSW-LP3",{"$f":"_xlfn.XLOOKUP(A3018,'Prices Furniture'!A:A,'Prices Furniture'!E:E)","v":1465},{"$f":"_xlfn.XLOOKUP(A3018,'Lighting Prices'!A:A,'Lighting Prices'!E:E)","v":{"$error":"#N/A"}}]
["@LK-MSW-LT3",{"$f":"_xlfn.XLOOKUP(A3019,'Prices Furniture'!A:A,'Prices Furniture'!E:E)","v":1779},{"$f":"_xlfn.XLOOKUP(A3019,'Lighting Prices'!A:A,'Lighting Prices'!E:E)","v":{"$error":"#N/A"}}]
["@LK-MSW-LT5",{"$f":"_xlfn.XLOOKUP(A3020,'Prices Furniture'!A:A,'Prices Furniture'!E:E)","v":1906},{"$f":"_xlfn.XLOOKUP(A3020,'Lighting Prices'!A:A,'Lighting Prices'!E:E)","v":{"$error":"#N/A"}}]
["@LK-MSW-LT6",{"$f":"_xlfn.XLOOKUP(A3021,'Prices Furniture'!A:A,'Prices Furniture'!E:E)","v":2044},{"$f":"_xlfn.XLOOKUP(A3021,'Lighting Prices'!A:A,'Lighting Prices'!E:E)","v":{"$error":"#N/A"}}]
["@LK-MSW-LP6T",{"$f":"_xlfn.XLOOKUP(A3022,'Prices Furniture'!A:A,'Prices Furniture'!E:E)","v":1995},{"$f":"_xlfn.XLOOKUP(A3022,'Lighting Prices'!A:A,'Lighting Prices'!E:E)","v":{"$error":"#N/A"}}]
["@LK-MSW-LP5TS",{"$f":"_xlfn.XLOOKUP(A3023,'Prices Furniture'!A:A,'Prices Furniture'!E:E)","v":1671},{"$f":"_xlfn.XLOOKUP(A3023,'Lighting Prices'!A:A,'Lighting Prices'!E:E)","v":{"$error":"#N/A"}}]
["@LK-MSW-LP6TS",{"$f":"_xlfn.XLOOKUP(A3024,'Prices Furniture'!A:A,'Prices Furniture'!E:E)","v":1796},{"$f":"_xlfn.XLOOKUP(A3024,'Lighting Prices'!A:A,'Lighting Prices'!E:E)","v":{"$error":"#N/A"}}]
["@LK-MSW-TLP3",{"$f":"_xlfn.XLOOKUP(A3025,'Prices Furniture'!A:A,'Prices Furniture'!E:E)","v":1233},{"$f":"_xlfn.XLOOKUP(A3025,'Lighting Prices'!A:A,'Lighting Prices'!E:E)","v":{"$error":"#N/A"}}]
["@LK-MSW-TLT3",{"$f":"_xlfn.XLOOKUP(A3026,'Prices Furniture'!A:A,'Prices Furniture'!E:E)","v":1815},{"$f":"_xlfn.XLOOKUP(A3026,'Lighting Prices'!A:A,'Lighting Prices'!E:E)","v":{"$error":"#N/A"}}]
["@LK-MSW-TLT5",{"$f":"_xlfn.XLOOKUP(A3027,'Prices Furniture'!A:A,'Prices Furniture'!E:E)","v":1942},{"$f":"_xlfn.XLOOKUP(A3027,'Lighting Prices'!A:A,'Lighting Prices'!E:E)","v":{"$error":"#N/A"}}]
["@LK-MSW-TLT6",{"$f":"_xlfn.XLOOKUP(A3028,'Prices Furniture'!A:A,'Prices Furniture'!E:E)","v":2063},{"$f":"_xlfn.XLOOKUP(A3028,'Lighting Prices'!A:A,'Lighting Prices'!E:E)","v":{"$error":"#N/A"}}]
["@LK-MSW-TLP6T",{"$f":"_xlfn.XLOOKUP(A3029,'Prices Furniture'!A:A,'Prices Furniture'!E:E)","v":1746},{"$f":"_xlfn.XLOOKUP(A3029,'Lighting Prices'!A:A,'Lighting Prices'!E:E)","v":{"$error":"#N/A"}}]
["@LK-MSW-TLP5TS",{"$f":"_xlfn.XLOOKUP(A3030,'Prices Furniture'!A:A,'Prices Furniture'!E:E)","v":1439},{"$f":"_xlfn.XLOOKUP(A3030,'Lighting Prices'!A:A,'Lighting Prices'!E:E)","v":{"$error":"#N/A"}}]
["@LK-MSW-TLP6TS",{"$f":"_xlfn.XLOOKUP(A3031,'Prices Furniture'!A:A,'Prices Furniture'!E:E)","v":1547},{"$f":"_xlfn.XLOOKUP(A3031,'Lighting Prices'!A:A,'Lighting Prices'!E:E)","v":{"$error":"#N/A"}}]
["@LK-MSW-LAC",{"$f":"_xlfn.XLOOKUP(A3032,'Prices Furniture'!A:A,'Prices Furniture'!E:E)","v":2099},{"$f":"_xlfn.XLOOKUP(A3032,'Lighting Prices'!A:A,'Lighting Prices'!E:E)","v":{"$error":"#N/A"}}]
["@LK-MSW-TLAC",{"$f":"_xlfn.XLOOKUP(A3033,'Prices Furniture'!A:A,'Prices Furniture'!E:E)","v":2477},{"$f":"_xlfn.XLOOKUP(A3033,'Lighting Prices'!A:A,'Lighting Prices'!E:E)","v":{"$error":"#N/A"}}]
["@LK-MSW-LBP10",{"$f":"_xlfn.XLOOKUP(A3034,'Prices Furniture'!A:A,'Prices Furniture'!E:E)","v":2169},{"$f":"_xlfn.XLOOKUP(A3034,'Lighting Prices'!A:A,'Lighting Prices'!E:E)","v":{"$error":"#N/A"}}]
["@LK-MSW-TLBP10",{"$f":"_xlfn.XLOOKUP(A3035,'Prices Furniture'!A:A,'Prices Furniture'!E:E)","v":2276},{"$f":"_xlfn.XLOOKUP(A3035,'Lighting Prices'!A:A,'Lighting Prices'!E:E)","v":{"$error":"#N/A"}}]
["@LK-MSW-LPN14D",{"$f":"_xlfn.XLOOKUP(A3036,'Prices Furniture'!A:A,'Prices Furniture'!E:E)","v":1152},{"$f":"_xlfn.XLOOKUP(A3036,'Lighting Prices'!A:A,'Lighting Prices'!E:E)","v":{"$error":"#N/A"}}]
["@LK-MSW-LPN14D1DW",{"$f":"_xlfn.XLOOKUP(A3037,'Prices Furniture'!A:A,'Prices Furniture'!E:E)","v":1410},{"$f":"_xlfn.XLOOKUP(A3037,'Lighting Prices'!A:A,'Lighting Prices'!E:E)","v":{"$error":"#N/A"}}]
["@LK-MSW-LPN12D3DW",{"$f":"_xlfn.XLOOKUP(A3038,'Prices Furniture'!A:A,'Prices Furniture'!E:E)","v":1551},{"$f":"_xlfn.XLOOKUP(A3038,'Lighting Prices'!A:A,'Lighting Prices'!E:E)","v":{"$error":"#N/A"}}]
["@LK-MSW-LPN12D2DW",{"$f":"_xlfn.XLOOKUP(A3039,'Prices Furniture'!A:A,'Prices Furniture'!E:E)","v":1414},{"$f":"_xlfn.XLOOKUP(A3039,'Lighting Prices'!A:A,'Lighting Prices'!E:E)","v":{"$error":"#N/A"}}]
["@LK-MSW-LBC15",{"$f":"_xlfn.XLOOKUP(A3040,'Prices Furniture'!A:A,'Prices Furniture'!E:E)","v":958},{"$f":"_xlfn.XLOOKUP(A3040,'Lighting Prices'!A:A,'Lighting Prices'!E:E)","v":{"$error":"#N/A"}}]
["@LK-MSW-LBC16",{"$f":"_xlfn.XLOOKUP(A3041,'Prices Furniture'!A:A,'Prices Furniture'!E:E)","v":985},{"$f":"_xlfn.XLOOKUP(A3041,'Lighting Prices'!A:A,'Lighting Prices'!E:E)","v":{"$error":"#N/A"}}]
["@LK-MSW-LBCLM15L",{"$f":"_xlfn.XLOOKUP(A3042,'Prices Furniture'!A:A,'Prices Furniture'!E:E)","v":2796},{"$f":"_xlfn.XLOOKUP(A3042,'Lighting Prices'!A:A,'Lighting Prices'!E:E)","v":{"$error":"#N/A"}}]
["@LK-MSW-LBCLM15R",{"$f":"_xlfn.XLOOKUP(A3043,'Prices Furniture'!A:A,'Prices Furniture'!E:E)","v":2796},{"$f":"_xlfn.XLOOKUP(A3043,'Lighting Prices'!A:A,'Lighting Prices'!E:E)","v":{"$error":"#N/A"}}]
["@LK-MSW-LBCLM16L",{"$f":"_xlfn.XLOOKUP(A3044,'Prices Furniture'!A:A,'Prices Furniture'!E:E)","v":2949},{"$f":"_xlfn.XLOOKUP(A3044,'Lighting Prices'!A:A,'Lighting Prices'!E:E)","v":{"$error":"#N/A"}}]
["@LK-MSW-LBCLM16R",{"$f":"_xlfn.XLOOKUP(A3045,'Prices Furniture'!A:A,'Prices Furniture'!E:E)","v":2949},{"$f":"_xlfn.XLOOKUP(A3045,'Lighting Prices'!A:A,'Lighting Prices'!E:E)","v":{"$error":"#N/A"}}]
["@LK-MSW-TLPN14D",{"$f":"_xlfn.XLOOKUP(A3046,'Prices Furniture'!A:A,'Prices Furniture'!E:E)","v":1323},{"$f":"_xlfn.XLOOKUP(A3046,'Lighting Prices'!A:A,'Lighting Prices'!E:E)","v":{"$error":"#N/A"}}]
["@LK-MSW-TLBC15",{"$f":"_xlfn.XLOOKUP(A3047,'Prices Furniture'!A:A,'Prices Furniture'!E:E)","v":1112},{"$f":"_xlfn.XLOOKUP(A3047,'Lighting Prices'!A:A,'Lighting Prices'!E:E)","v":{"$error":"#N/A"}}]
["@LK-MSW-TLBC16",{"$f":"_xlfn.XLOOKUP(A3048,'Prices Furniture'!A:A,'Prices Furniture'!E:E)","v":1122},{"$f":"_xlfn.XLOOKUP(A3048,'Lighting Prices'!A:A,'Lighting Prices'!E:E)","v":{"$error":"#N/A"}}]
["@LK-MSW-TLBCLM15L",{"$f":"_xlfn.XLOOKUP(A3049,'Prices Furniture'!A:A,'Prices Furniture'!E:E)","v":2950},{"$f":"_xlfn.XLOOKUP(A3049,'Lighting Prices'!A:A,'Lighting Prices'!E:E)","v":{"$error":"#N/A"}}]
["@LK-MSW-TLBCLM15R",{"$f":"_xlfn.XLOOKUP(A3050,'Prices Furniture'!A:A,'Prices Furniture'!E:E)","v":2950},{"$f":"_xlfn.XLOOKUP(A3050,'Lighting Prices'!A:A,'Lighting Prices'!E:E)","v":{"$error":"#N/A"}}]
["@LK-MSW-TLBCLM16L",{"$f":"_xlfn.XLOOKUP(A3051,'Prices Furniture'!A:A,'Prices Furniture'!E:E)","v":3086},{"$f":"_xlfn.XLOOKUP(A3051,'Lighting Prices'!A:A,'Lighting Prices'!E:E)","v":{"$error":"#N/A"}}]
["@LK-MSW-TLBCLM16R",{"$f":"_xlfn.XLOOKUP(A3052,'Prices Furniture'!A:A,'Prices Furniture'!E:E)","v":3086},{"$f":"_xlfn.XLOOKUP(A3052,'Lighting Prices'!A:A,'Lighting Prices'!E:E)","v":{"$error":"#N/A"}}]
["@LK-MSW-LL6EA",{"$f":"_xlfn.XLOOKUP(A3053,'Prices Furniture'!A:A,'Prices Furniture'!E:E)","v":851},{"$f":"_xlfn.XLOOKUP(A3053,'Lighting Prices'!A:A,'Lighting Prices'!E:E)","v":{"$error":"#N/A"}}]
["@LK-MSW-LL6CU",{"$f":"_xlfn.XLOOKUP(A3054,'Prices Furniture'!A:A,'Prices Furniture'!E:E)","v":801},{"$f":"_xlfn.XLOOKUP(A3054,'Lighting Prices'!A:A,'Lighting Prices'!E:E)","v":{"$error":"#N/A"}}]
["@LK-MSW-LL10CU",{"$f":"_xlfn.XLOOKUP(A3055,'Prices Furniture'!A:A,'Prices Furniture'!E:E)","v":1263},{"$f":"_xlfn.XLOOKUP(A3055,'Lighting Prices'!A:A,'Lighting Prices'!E:E)","v":{"$error":"#N/A"}}]
["@LK-MSW-LL10CUS",{"$f":"_xlfn.XLOOKUP(A3056,'Prices Furniture'!A:A,'Prices Furniture'!E:E)","v":1362},{"$f":"_xlfn.XLOOKUP(A3056,'Lighting Prices'!A:A,'Lighting Prices'!E:E)","v":{"$error":"#N/A"}}]
["@LK-MSW-LL10CB",{"$f":"_xlfn.XLOOKUP(A3057,'Prices Furniture'!A:A,'Prices Furniture'!E:E)","v":1273},{"$f":"_xlfn.XLOOKUP(A3057,'Lighting Prices'!A:A,'Lighting Prices'!E:E)","v":{"$error":"#N/A"}}]
["@LK-MSW-TLL6EA",{"$f":"_xlfn.XLOOKUP(A3058,'Prices Furniture'!A:A,'Prices Furniture'!E:E)","v":946},{"$f":"_xlfn.XLOOKUP(A3058,'Lighting Prices'!A:A,'Lighting Prices'!E:E)","v":{"$error":"#N/A"}}]
["@LK-MSW-TLL6CU",{"$f":"_xlfn.XLOOKUP(A3059,'Prices Furniture'!A:A,'Prices Furniture'!E:E)","v":896},{"$f":"_xlfn.XLOOKUP(A3059,'Lighting Prices'!A:A,'Lighting Prices'!E:E)","v":{"$error":"#N/A"}}]
["@LK-MSW-TLL10CU",{"$f":"_xlfn.XLOOKUP(A3060,'Prices Furniture'!A:A,'Prices Furniture'!E:E)","v":1434},{"$f":"_xlfn.XLOOKUP(A3060,'Lighting Prices'!A:A,'Lighting Prices'!E:E)","v":{"$error":"#N/A"}}]
["@LK-MSW-TLL10CUS",{"$f":"_xlfn.XLOOKUP(A3061,'Prices Furniture'!A:A,'Prices Furniture'!E:E)","v":1533},{"$f":"_xlfn.XLOOKUP(A3061,'Lighting Prices'!A:A,'Lighting Prices'!E:E)","v":{"$error":"#N/A"}}]
["@LK-MSW-TLL10CB",{"$f":"_xlfn.XLOOKUP(A3062,'Prices Furniture'!A:A,'Prices Furniture'!E:E)","v":1444},{"$f":"_xlfn.XLOOKUP(A3062,'Lighting Prices'!A:A,'Lighting Prices'!E:E)","v":{"$error":"#N/A"}}]
["@LK-MSW-AD60ICH",{"$f":"_xlfn.XLOOKUP(A3063,'Prices Furniture'!A:A,'Prices Furniture'!E:E)","v":96},{"$f":"_xlfn.XLOOKUP(A3063,'Lighting Prices'!A:A,'Lighting Prices'!E:E)","v":{"$error":"#N/A"}}]
["@LK-MSW-AD60FD",{"$f":"_xlfn.XLOOKUP(A3064,'Prices Furniture'!A:A,'Prices Furniture'!E:E)","v":132},{"$f":"_xlfn.XLOOKUP(A3064,'Lighting Prices'!A:A,'Lighting Prices'!E:E)","v":{"$error":"#N/A"}}]
["@LK-MSW-AD45I",{"$f":"_xlfn.XLOOKUP(A3065,'Prices Furniture'!A:A,'Prices Furniture'!E:E)","v":108},{"$f":"_xlfn.XLOOKUP(A3065,'Lighting Prices'!A:A,'Lighting Prices'!E:E)","v":{"$error":"#N/A"}}]
["@LK-MSW-AD60S",{"$f":"_xlfn.XLOOKUP(A3066,'Prices Furniture'!A:A,'Prices Furniture'!E:E)","v":122},{"$f":"_xlfn.XLOOKUP(A3066,'Lighting Prices'!A:A,'Lighting Prices'!E:E)","v":{"$error":"#N/A"}}]
["@LK-MSW-BLD9",{"$f":"_xlfn.XLOOKUP(A3067,'Prices Furniture'!A:A,'Prices Furniture'!E:E)","v":148},{"$f":"_xlfn.XLOOKUP(A3067,'Lighting Prices'!A:A,'Lighting Prices'!E:E)","v":{"$error":"#N/A"}}]
["@LK-MSW-TW30",{"$f":"_xlfn.XLOOKUP(A3068,'Prices Furniture'!A:A,'Prices Furniture'!E:E)","v":272},{"$f":"_xlfn.XLOOKUP(A3068,'Lighting Prices'!A:A,'Lighting Prices'!E:E)","v":{"$error":"#N/A"}}]
["@LK-MSW-TW40",{"$f":"_xlfn.XLOOKUP(A3069,'Prices Furniture'!A:A,'Prices Furniture'!E:E)","v":289},{"$f":"_xlfn.XLOOKUP(A3069,'Lighting Prices'!A:A,'Lighting Prices'!E:E)","v":{"$error":"#N/A"}}]
["@LK-MSW-TW45",{"$f":"_xlfn.XLOOKUP(A3070,'Prices Furniture'!A:A,'Prices Furniture'!E:E)","v":300},{"$f":"_xlfn.XLOOKUP(A3070,'Lighting Prices'!A:A,'Lighting Prices'!E:E)","v":{"$error":"#N/A"}}]
["@LK-MSW-TW50",{"$f":"_xlfn.XLOOKUP(A3071,'Prices Furniture'!A:A,'Prices Furniture'!E:E)","v":319},{"$f":"_xlfn.XLOOKUP(A3071,'Lighting Prices'!A:A,'Lighting Prices'!E:E)","v":{"$error":"#N/A"}}]
["@LK-MSW-TW60",{"$f":"_xlfn.XLOOKUP(A3072,'Prices Furniture'!A:A,'Prices Furniture'!E:E)","v":327},{"$f":"_xlfn.XLOOKUP(A3072,'Lighting Prices'!A:A,'Lighting Prices'!E:E)","v":{"$error":"#N/A"}}]
["@LK-MSW-TW80",{"$f":"_xlfn.XLOOKUP(A3073,'Prices Furniture'!A:A,'Prices Furniture'!E:E)","v":460},{"$f":"_xlfn.XLOOKUP(A3073,'Lighting Prices'!A:A,'Lighting Prices'!E:E)","v":{"$error":"#N/A"}}]
["@LK-MSW-TW90",{"$f":"_xlfn.XLOOKUP(A3074,'Prices Furniture'!A:A,'Prices Furniture'!E:E)","v":474},{"$f":"_xlfn.XLOOKUP(A3074,'Lighting Prices'!A:A,'Lighting Prices'!E:E)","v":{"$error":"#N/A"}}]
["@LK-MSW-TW100",{"$f":"_xlfn.XLOOKUP(A3075,'Prices Furniture'!A:A,'Prices Furniture'!E:E)","v":502},{"$f":"_xlfn.XLOOKUP(A3075,'Lighting Prices'!A:A,'Lighting Prices'!E:E)","v":{"$error":"#N/A"}}]
["@LK-MSW-TWC6",{"$f":"_xlfn.XLOOKUP(A3076,'Prices Furniture'!A:A,'Prices Furniture'!E:E)","v":378},{"$f":"_xlfn.XLOOKUP(A3076,'Lighting Prices'!A:A,'Lighting Prices'!E:E)","v":{"$error":"#N/A"}}]
["@LK-MSW-TWC9",{"$f":"_xlfn.XLOOKUP(A3077,'Prices Furniture'!A:A,'Prices Furniture'!E:E)","v":422},{"$f":"_xlfn.XLOOKUP(A3077,'Lighting Prices'!A:A,'Lighting Prices'!E:E)","v":{"$error":"#N/A"}}]
["@LK-MSW-TAH-F55",{"$f":"_xlfn.XLOOKUP(A3078,'Prices Furniture'!A:A,'Prices Furniture'!E:E)","v":520},{"$f":"_xlfn.XLOOKUP(A3078,'Lighting Prices'!A:A,'Lighting Prices'!E:E)","v":{"$error":"#N/A"}}]
["@LK-MSW-TAH-F73",{"$f":"_xlfn.XLOOKUP(A3079,'Prices Furniture'!A:A,'Prices Furniture'!E:E)","v":538},{"$f":"_xlfn.XLOOKUP(A3079,'Lighting Prices'!A:A,'Lighting Prices'!E:E)","v":{"$error":"#N/A"}}]
["@LK-MSW-TAH-DO",{"$f":"_xlfn.XLOOKUP(A3080,'Prices Furniture'!A:A,'Prices Furniture'!E:E)","v":849},{"$f":"_xlfn.XLOOKUP(A3080,'Lighting Prices'!A:A,'Lighting Prices'!E:E)","v":{"$error":"#N/A"}}]
["@LK-MSW-TAH-DO2D",{"$f":"_xlfn.XLOOKUP(A3081,'Prices Furniture'!A:A,'Prices Furniture'!E:E)","v":1169},{"$f":"_xlfn.XLOOKUP(A3081,'Lighting Prices'!A:A,'Lighting Prices'!E:E)","v":{"$error":"#N/A"}}]
["@LK-MSW-TAH-SO",{"$f":"_xlfn.XLOOKUP(A3082,'Prices Furniture'!A:A,'Prices Furniture'!E:E)","v":854},{"$f":"_xlfn.XLOOKUP(A3082,'Lighting Prices'!A:A,'Lighting Prices'!E:E)","v":{"$error":"#N/A"}}]
["@LK-MSW-TAH-SO2D",{"$f":"_xlfn.XLOOKUP(A3083,'Prices Furniture'!A:A,'Prices Furniture'!E:E)","v":1228},{"$f":"_xlfn.XLOOKUP(A3083,'Lighting Prices'!A:A,'Lighting Prices'!E:E)","v":{"$error":"#N/A"}}]
["@LK-MSW-TAH-SMW",{"$f":"_xlfn.XLOOKUP(A3084,'Prices Furniture'!A:A,'Prices Furniture'!E:E)","v":843},{"$f":"_xlfn.XLOOKUP(A3084,'Lighting Prices'!A:A,'Lighting Prices'!E:E)","v":{"$error":"#N/A"}}]
["@LK-MSW-TAH-CO",{"$f":"_xlfn.XLOOKUP(A3085,'Prices Furniture'!A:A,'Prices Furniture'!E:E)","v":849},{"$f":"_xlfn.XLOOKUP(A3085,'Lighting Prices'!A:A,'Lighting Prices'!E:E)","v":{"$error":"#N/A"}}]
["@LK-MSW-TL3",{"$f":"_xlfn.XLOOKUP(A3086,'Prices Furniture'!A:A,'Prices Furniture'!E:E)","v":446},{"$f":"_xlfn.XLOOKUP(A3086,'Lighting Prices'!A:A,'Lighting Prices'!E:E)","v":{"$error":"#N/A"}}]
["@LK-MSW-TL4",{"$f":"_xlfn.XLOOKUP(A3087,'Prices Furniture'!A:A,'Prices Furniture'!E:E)","v":477},{"$f":"_xlfn.XLOOKUP(A3087,'Lighting Prices'!A:A,'Lighting Prices'!E:E)","v":{"$error":"#N/A"}}]
["@LK-MSW-TL5",{"$f":"_xlfn.XLOOKUP(A3088,'Prices Furniture'!A:A,'Prices Furniture'!E:E)","v":505},{"$f":"_xlfn.XLOOKUP(A3088,'Lighting Prices'!A:A,'Lighting Prices'!E:E)","v":{"$error":"#N/A"}}]
["@LK-MSW-TL6",{"$f":"_xlfn.XLOOKUP(A3089,'Prices Furniture'!A:A,'Prices Furniture'!E:E)","v":560},{"$f":"_xlfn.XLOOKUP(A3089,'Lighting Prices'!A:A,'Lighting Prices'!E:E)","v":{"$error":"#N/A"}}]
["@LK-MSW-MANTLE",{"$f":"_xlfn.XLOOKUP(A3090,'Prices Furniture'!A:A,'Prices Furniture'!E:E)","v":1910},{"$f":"_xlfn.XLOOKUP(A3090,'Lighting Prices'!A:A,'Lighting Prices'!E:E)","v":{"$error":"#N/A"}}]
["@LK-MSW-CH-SO",{"$f":"_xlfn.XLOOKUP(A3091,'Prices Furniture'!A:A,'Prices Furniture'!E:E)","v":656},{"$f":"_xlfn.XLOOKUP(A3091,'Lighting Prices'!A:A,'Lighting Prices'!E:E)","v":{"$error":"#N/A"}}]
["@LK-MSW-CH-MW",{"$f":"_xlfn.XLOOKUP(A3092,'Prices Furniture'!A:A,'Prices Furniture'!E:E)","v":705},{"$f":"_xlfn.XLOOKUP(A3092,'Lighting Prices'!A:A,'Lighting Prices'!E:E)","v":{"$error":"#N/A"}}]
["@LK-MSW-CH-ST",{"$f":"_xlfn.XLOOKUP(A3093,'Prices Furniture'!A:A,'Prices Furniture'!E:E)","v":897},{"$f":"_xlfn.XLOOKUP(A3093,'Lighting Prices'!A:A,'Lighting Prices'!E:E)","v":{"$error":"#N/A"}}]
["@LK-MSW-TCH-SO",{"$f":"_xlfn.XLOOKUP(A3094,'Prices Furniture'!A:A,'Prices Furniture'!E:E)","v":858},{"$f":"_xlfn.XLOOKUP(A3094,'Lighting Prices'!A:A,'Lighting Prices'!E:E)","v":{"$error":"#N/A"}}]
["@LK-MSW-TCH-MW",{"$f":"_xlfn.XLOOKUP(A3095,'Prices Furniture'!A:A,'Prices Furniture'!E:E)","v":794},{"$f":"_xlfn.XLOOKUP(A3095,'Lighting Prices'!A:A,'Lighting Prices'!E:E)","v":{"$error":"#N/A"}}]
["@LK-MSW-TCH-ST",{"$f":"_xlfn.XLOOKUP(A3096,'Prices Furniture'!A:A,'Prices Furniture'!E:E)","v":945},{"$f":"_xlfn.XLOOKUP(A3096,'Lighting Prices'!A:A,'Lighting Prices'!E:E)","v":{"$error":"#N/A"}}]
["@LK-MSW-AH-SOT",{"$f":"_xlfn.XLOOKUP(A3097,'Prices Furniture'!A:A,'Prices Furniture'!E:E)","v":889},{"$f":"_xlfn.XLOOKUP(A3097,'Lighting Prices'!A:A,'Lighting Prices'!E:E)","v":{"$error":"#N/A"}}]
["@LK-MSW-TAH-SOT",{"$f":"_xlfn.XLOOKUP(A3098,'Prices Furniture'!A:A,'Prices Furniture'!E:E)","v":716},{"$f":"_xlfn.XLOOKUP(A3098,'Lighting Prices'!A:A,'Lighting Prices'!E:E)","v":{"$error":"#N/A"}}]
["@LK-MSW-LP4",{"$f":"_xlfn.XLOOKUP(A3099,'Prices Furniture'!A:A,'Prices Furniture'!E:E)","v":1619},{"$f":"_xlfn.XLOOKUP(A3099,'Lighting Prices'!A:A,'Lighting Prices'!E:E)","v":{"$error":"#N/A"}}]
["@LK-MSW-TLP4",{"$f":"_xlfn.XLOOKUP(A3100,'Prices Furniture'!A:A,'Prices Furniture'!E:E)","v":1388},{"$f":"_xlfn.XLOOKUP(A3100,'Lighting Prices'!A:A,'Lighting Prices'!E:E)","v":{"$error":"#N/A"}}]
["@LK-MSW-LP5T",{"$f":"_xlfn.XLOOKUP(A3101,'Prices Furniture'!A:A,'Prices Furniture'!E:E)","v":1929},{"$f":"_xlfn.XLOOKUP(A3101,'Lighting Prices'!A:A,'Lighting Prices'!E:E)","v":{"$error":"#N/A"}}]
["@LK-MSW-TLP5T",{"$f":"_xlfn.XLOOKUP(A3102,'Prices Furniture'!A:A,'Prices Furniture'!E:E)","v":1697},{"$f":"_xlfn.XLOOKUP(A3102,'Lighting Prices'!A:A,'Lighting Prices'!E:E)","v":{"$error":"#N/A"}}]
["@LK-MSW-LL8LS",{"$f":"_xlfn.XLOOKUP(A3103,'Prices Furniture'!A:A,'Prices Furniture'!E:E)","v":1402},{"$f":"_xlfn.XLOOKUP(A3103,'Lighting Prices'!A:A,'Lighting Prices'!E:E)","v":{"$error":"#N/A"}}]
["@LK-MSW-TLL8LS",{"$f":"_xlfn.XLOOKUP(A3104,'Prices Furniture'!A:A,'Prices Furniture'!E:E)","v":1575},{"$f":"_xlfn.XLOOKUP(A3104,'Lighting Prices'!A:A,'Lighting Prices'!E:E)","v":{"$error":"#N/A"}}]
["@LK-MSW-W357",{"$f":"_xlfn.XLOOKUP(A3105,'Prices Furniture'!A:A,'Prices Furniture'!E:E)","v":249},{"$f":"_xlfn.XLOOKUP(A3105,'Lighting Prices'!A:A,'Lighting Prices'!E:E)","v":{"$error":"#N/A"}}]
["@LK-MSW-W457",{"$f":"_xlfn.XLOOKUP(A3106,'Prices Furniture'!A:A,'Prices Furniture'!E:E)","v":263},{"$f":"_xlfn.XLOOKUP(A3106,'Lighting Prices'!A:A,'Lighting Prices'!E:E)","v":{"$error":"#N/A"}}]
["@LK-MSW-W4557",{"$f":"_xlfn.XLOOKUP(A3107,'Prices Furniture'!A:A,'Prices Furniture'!E:E)","v":278},{"$f":"_xlfn.XLOOKUP(A3107,'Lighting Prices'!A:A,'Lighting Prices'!E:E)","v":{"$error":"#N/A"}}]
["@LK-MSW-W557",{"$f":"_xlfn.XLOOKUP(A3108,'Prices Furniture'!A:A,'Prices Furniture'!E:E)","v":292},{"$f":"_xlfn.XLOOKUP(A3108,'Lighting Prices'!A:A,'Lighting Prices'!E:E)","v":{"$error":"#N/A"}}]
["@LK-MSW-W657",{"$f":"_xlfn.XLOOKUP(A3109,'Prices Furniture'!A:A,'Prices Furniture'!E:E)","v":281},{"$f":"_xlfn.XLOOKUP(A3109,'Lighting Prices'!A:A,'Lighting Prices'!E:E)","v":{"$error":"#N/A"}}]
["@LK-MSW-W857",{"$f":"_xlfn.XLOOKUP(A3110,'Prices Furniture'!A:A,'Prices Furniture'!E:E)","v":445},{"$f":"_xlfn.XLOOKUP(A3110,'Lighting Prices'!A:A,'Lighting Prices'!E:E)","v":{"$error":"#N/A"}}]
["@LK-MSW-W957",{"$f":"_xlfn.XLOOKUP(A3111,'Prices Furniture'!A:A,'Prices Furniture'!E:E)","v":461},{"$f":"_xlfn.XLOOKUP(A3111,'Lighting Prices'!A:A,'Lighting Prices'!E:E)","v":{"$error":"#N/A"}}]
["@LK-MSW-W157",{"$f":"_xlfn.XLOOKUP(A3112,'Prices Furniture'!A:A,'Prices Furniture'!E:E)","v":486},{"$f":"_xlfn.XLOOKUP(A3112,'Lighting Prices'!A:A,'Lighting Prices'!E:E)","v":{"$error":"#N/A"}}]
["@LK-MSW-WC657",{"$f":"_xlfn.XLOOKUP(A3113,'Prices Furniture'!A:A,'Prices Furniture'!E:E)","v":396},{"$f":"_xlfn.XLOOKUP(A3113,'Lighting Prices'!A:A,'Lighting Prices'!E:E)","v":{"$error":"#N/A"}}]
["@LK-MSW-WC957",{"$f":"_xlfn.XLOOKUP(A3114,'Prices Furniture'!A:A,'Prices Furniture'!E:E)","v":421},{"$f":"_xlfn.XLOOKUP(A3114,'Lighting Prices'!A:A,'Lighting Prices'!E:E)","v":{"$error":"#N/A"}}]
["@LK-MSW-BHD3",{"$f":"_xlfn.XLOOKUP(A3115,'Prices Furniture'!A:A,'Prices Furniture'!E:E)","v":629},{"$f":"_xlfn.XLOOKUP(A3115,'Lighting Prices'!A:A,'Lighting Prices'!E:E)","v":{"$error":"#N/A"}}]
["@LK-MSW-BHD4",{"$f":"_xlfn.XLOOKUP(A3116,'Prices Furniture'!A:A,'Prices Furniture'!E:E)","v":678},{"$f":"_xlfn.XLOOKUP(A3116,'Lighting Prices'!A:A,'Lighting Prices'!E:E)","v":{"$error":"#N/A"}}]
["@LK-MSW-BHD5",{"$f":"_xlfn.XLOOKUP(A3117,'Prices Furniture'!A:A,'Prices Furniture'!E:E)","v":741},{"$f":"_xlfn.XLOOKUP(A3117,'Lighting Prices'!A:A,'Lighting Prices'!E:E)","v":{"$error":"#N/A"}}]
["@LK-MSW-BHD6",{"$f":"_xlfn.XLOOKUP(A3118,'Prices Furniture'!A:A,'Prices Furniture'!E:E)","v":797},{"$f":"_xlfn.XLOOKUP(A3118,'Lighting Prices'!A:A,'Lighting Prices'!E:E)","v":{"$error":"#N/A"}}]
["LK-A-MSW-WREP72",{"$f":"_xlfn.XLOOKUP(A3119,'Prices Furniture'!A:A,'Prices Furniture'!E:E)","v":77},{"$f":"_xlfn.XLOOKUP(A3119,'Lighting Prices'!A:A,'Lighting Prices'!E:E)","v":{"$error":"#N/A"}}]
["LK-A-MSW-PWEP72",{"$f":"_xlfn.XLOOKUP(A3120,'Prices Furniture'!A:A,'Prices Furniture'!E:E)","v":80},{"$f":"_xlfn.XLOOKUP(A3120,'Lighting Prices'!A:A,'Lighting Prices'!E:E)","v":{"$error":"#N/A"}}]
["LK-A-MSW-PWEP20",{"$f":"_xlfn.XLOOKUP(A3121,'Prices Furniture'!A:A,'Prices Furniture'!E:E)","v":200},{"$f":"_xlfn.XLOOKUP(A3121,'Lighting Prices'!A:A,'Lighting Prices'!E:E)","v":{"$error":"#N/A"}}]
["LK-A-MSW-ESP",{"$f":"_xlfn.XLOOKUP(A3122,'Prices Furniture'!A:A,'Prices Furniture'!E:E)","v":123},{"$f":"_xlfn.XLOOKUP(A3122,'Lighting Prices'!A:A,'Lighting Prices'!E:E)","v":{"$error":"#N/A"}}]
["LK-A-MSW-LUP",{"$f":"_xlfn.XLOOKUP(A3123,'Prices Furniture'!A:A,'Prices Furniture'!E:E)","v":391},{"$f":"_xlfn.XLOOKUP(A3123,'Lighting Prices'!A:A,'Lighting Prices'!E:E)","v":{"$error":"#N/A"}}]
["LK-A-MSW-PTEP",{"$f":"_xlfn.XLOOKUP(A3124,'Prices Furniture'!A:A,'Prices Furniture'!E:E)","v":240},{"$f":"_xlfn.XLOOKUP(A3124,'Lighting Prices'!A:A,'Lighting Prices'!E:E)","v":{"$error":"#N/A"}}]
["LK-A-MSW-BPIL",{"$f":"_xlfn.XLOOKUP(A3125,'Prices Furniture'!A:A,'Prices Furniture'!E:E)","v":231},{"$f":"_xlfn.XLOOKUP(A3125,'Lighting Prices'!A:A,'Lighting Prices'!E:E)","v":{"$error":"#N/A"}}]
["LK-A-MSW-PL",{"$f":"_xlfn.XLOOKUP(A3126,'Prices Furniture'!A:A,'Prices Furniture'!E:E)","v":90},{"$f":"_xlfn.XLOOKUP(A3126,'Lighting Prices'!A:A,'Lighting Prices'!E:E)","v":{"$error":"#N/A"}}]
["LK-A-MSW-CVPL",{"$f":"_xlfn.XLOOKUP(A3127,'Prices Furniture'!A:A,'Prices Furniture'!E:E)","v":181},{"$f":"_xlfn.XLOOKUP(A3127,'Lighting Prices'!A:A,'Lighting Prices'!E:E)","v":{"$error":"#N/A"}}]
["LK-A-MSW-SCCRN",{"$f":"_xlfn.XLOOKUP(A3128,'Prices Furniture'!A:A,'Prices Furniture'!E:E)","v":113},{"$f":"_xlfn.XLOOKUP(A3128,'Lighting Prices'!A:A,'Lighting Prices'!E:E)","v":{"$error":"#N/A"}}]
["LK-A-MSW-CSC",{"$f":"_xlfn.XLOOKUP(A3129,'Prices Furniture'!A:A,'Prices Furniture'!E:E)","v":181},{"$f":"_xlfn.XLOOKUP(A3129,'Lighting Prices'!A:A,'Lighting Prices'!E:E)","v":{"$error":"#N/A"}}]
["LK-A-MSW-BLPEL",{"$f":"_xlfn.XLOOKUP(A3130,'Prices Furniture'!A:A,'Prices Furniture'!E:E)","v":86},{"$f":"_xlfn.XLOOKUP(A3130,'Lighting Prices'!A:A,'Lighting Prices'!E:E)","v":{"$error":"#N/A"}}]
["LK-A-MSW-CVBUL",{"$f":"_xlfn.XLOOKUP(A3131,'Prices Furniture'!A:A,'Prices Furniture'!E:E)","v":180},{"$f":"_xlfn.XLOOKUP(A3131,'Lighting Prices'!A:A,'Lighting Prices'!E:E)","v":{"$error":"#N/A"}}]
["LK-A-MSW-CVP",{"$f":"_xlfn.XLOOKUP(A3132,'Prices Furniture'!A:A,'Prices Furniture'!E:E)","v":123},{"$f":"_xlfn.XLOOKUP(A3132,'Lighting Prices'!A:A,'Lighting Prices'!E:E)","v":{"$error":"#N/A"}}]
["LK-A-MSW-CPBM",{"$f":"_xlfn.XLOOKUP(A3133,'Prices Furniture'!A:A,'Prices Furniture'!E:E)","v":116},{"$f":"_xlfn.XLOOKUP(A3133,'Lighting Prices'!A:A,'Lighting Prices'!E:E)","v":{"$error":"#N/A"}}]
["LK-A-MSW-CPBC",{"$f":"_xlfn.XLOOKUP(A3134,'Prices Furniture'!A:A,'Prices Furniture'!E:E)","v":116},{"$f":"_xlfn.XLOOKUP(A3134,'Lighting Prices'!A:A,'Lighting Prices'!E:E)","v":{"$error":"#N/A"}}]
["LK-A-MSW-ET",{"$f":"_xlfn.XLOOKUP(A3135,'Prices Furniture'!A:A,'Prices Furniture'!E:E)","v":37},{"$f":"_xlfn.XLOOKUP(A3135,'Lighting Prices'!A:A,'Lighting Prices'!E:E)","v":{"$error":"#N/A"}}]
["@LK-NVW-BP15TY",{"$f":"_xlfn.XLOOKUP(A3136,'Prices Furniture'!A:A,'Prices Furniture'!E:E)","v":410},{"$f":"_xlfn.XLOOKUP(A3136,'Lighting Prices'!A:A,'Lighting Prices'!E:E)","v":{"$error":"#N/A"}}]
["@LK-NVW-BP3TY",{"$f":"_xlfn.XLOOKUP(A3137,'Prices Furniture'!A:A,'Prices Furniture'!E:E)","v":635},{"$f":"_xlfn.XLOOKUP(A3137,'Lighting Prices'!A:A,'Lighting Prices'!E:E)","v":{"$error":"#N/A"}}]
["@LK-NVW-BH15",{"$f":"_xlfn.XLOOKUP(A3138,'Prices Furniture'!A:A,'Prices Furniture'!E:E)","v":230},{"$f":"_xlfn.XLOOKUP(A3138,'Lighting Prices'!A:A,'Lighting Prices'!E:E)","v":{"$error":"#N/A"}}]
["@LK-NVW-BH30",{"$f":"_xlfn.XLOOKUP(A3139,'Prices Furniture'!A:A,'Prices Furniture'!E:E)","v":240},{"$f":"_xlfn.XLOOKUP(A3139,'Lighting Prices'!A:A,'Lighting Prices'!E:E)","v":{"$error":"#N/A"}}]
["@LK-NVW-BH3B",{"$f":"_xlfn.XLOOKUP(A3140,'Prices Furniture'!A:A,'Prices Furniture'!E:E)","v":608},{"$f":"_xlfn.XLOOKUP(A3140,'Lighting Prices'!A:A,'Lighting Prices'!E:E)","v":{"$error":"#N/A"}}]
["@LK-NVW-BH35",{"$f":"_xlfn.XLOOKUP(A3141,'Prices Furniture'!A:A,'Prices Furniture'!E:E)","v":247},{"$f":"_xlfn.XLOOKUP(A3141,'Lighting Prices'!A:A,'Lighting Prices'!E:E)","v":{"$error":"#N/A"}}]
["@LK-NVW-BH40",{"$f":"_xlfn.XLOOKUP(A3142,'Prices Furniture'!A:A,'Prices Furniture'!E:E)","v":250},{"$f":"_xlfn.XLOOKUP(A3142,'Lighting Prices'!A:A,'Lighting Prices'!E:E)","v":{"$error":"#N/A"}}]
["@LK-NVW-BH4B",{"$f":"_xlfn.XLOOKUP(A3143,'Prices Furniture'!A:A,'Prices Furniture'!E:E)","v":683},{"$f":"_xlfn.XLOOKUP(A3143,'Lighting Prices'!A:A,'Lighting Prices'!E:E)","v":{"$error":"#N/A"}}]
["@LK-NVW-BH45",{"$f":"_xlfn.XLOOKUP(A3144,'Prices Furniture'!A:A,'Prices Furniture'!E:E)","v":273},{"$f":"_xlfn.XLOOKUP(A3144,'Lighting Prices'!A:A,'Lighting Prices'!E:E)","v":{"$error":"#N/A"}}]
["@LK-NVW-BH45B",{"$f":"_xlfn.XLOOKUP(A3145,'Prices Furniture'!A:A,'Prices Furniture'!E:E)","v":711},{"$f":"_xlfn.XLOOKUP(A3145,'Lighting Prices'!A:A,'Lighting Prices'!E:E)","v":{"$error":"#N/A"}}]
["@LK-NVW-BH50",{"$f":"_xlfn.XLOOKUP(A3146,'Prices Furniture'!A:A,'Prices Furniture'!E:E)","v":284},{"$f":"_xlfn.XLOOKUP(A3146,'Lighting Prices'!A:A,'Lighting Prices'!E:E)","v":{"$error":"#N/A"}}]
["@LK-NVW-BH5B",{"$f":"_xlfn.XLOOKUP(A3147,'Prices Furniture'!A:A,'Prices Furniture'!E:E)","v":728},{"$f":"_xlfn.XLOOKUP(A3147,'Lighting Prices'!A:A,'Lighting Prices'!E:E)","v":{"$error":"#N/A"}}]
["@LK-NVW-BH50S",{"$f":"_xlfn.XLOOKUP(A3148,'Prices Furniture'!A:A,'Prices Furniture'!E:E)","v":314},{"$f":"_xlfn.XLOOKUP(A3148,'Lighting Prices'!A:A,'Lighting Prices'!E:E)","v":{"$error":"#N/A"}}]
["@LK-NVW-BH60",{"$f":"_xlfn.XLOOKUP(A3149,'Prices Furniture'!A:A,'Prices Furniture'!E:E)","v":320},{"$f":"_xlfn.XLOOKUP(A3149,'Lighting Prices'!A:A,'Lighting Prices'!E:E)","v":{"$error":"#N/A"}}]
["@LK-NVW-BH6B4",{"$f":"_xlfn.XLOOKUP(A3150,'Prices Furniture'!A:A,'Prices Furniture'!E:E)","v":853},{"$f":"_xlfn.XLOOKUP(A3150,'Lighting Prices'!A:A,'Lighting Prices'!E:E)","v":{"$error":"#N/A"}}]
["@LK-NVW-BH6B2",{"$f":"_xlfn.XLOOKUP(A3151,'Prices Furniture'!A:A,'Prices Furniture'!E:E)","v":801},{"$f":"_xlfn.XLOOKUP(A3151,'Lighting Prices'!A:A,'Lighting Prices'!E:E)","v":{"$error":"#N/A"}}]
["@LK-NVW-BH60S",{"$f":"_xlfn.XLOOKUP(A3152,'Prices Furniture'!A:A,'Prices Furniture'!E:E)","v":366},{"$f":"_xlfn.XLOOKUP(A3152,'Lighting Prices'!A:A,'Lighting Prices'!E:E)","v":{"$error":"#N/A"}}]
["@LK-NVW-BH70",{"$f":"_xlfn.XLOOKUP(A3153,'Prices Furniture'!A:A,'Prices Furniture'!E:E)","v":392},{"$f":"_xlfn.XLOOKUP(A3153,'Lighting Prices'!A:A,'Lighting Prices'!E:E)","v":{"$error":"#N/A"}}]
["@LK-NVW-BH80",{"$f":"_xlfn.XLOOKUP(A3154,'Prices Furniture'!A:A,'Prices Furniture'!E:E)","v":396},{"$f":"_xlfn.XLOOKUP(A3154,'Lighting Prices'!A:A,'Lighting Prices'!E:E)","v":{"$error":"#N/A"}}]
["@LK-NVW-BH80S",{"$f":"_xlfn.XLOOKUP(A3155,'Prices Furniture'!A:A,'Prices Furniture'!E:E)","v":442},{"$f":"_xlfn.XLOOKUP(A3155,'Lighting Prices'!A:A,'Lighting Prices'!E:E)","v":{"$error":"#N/A"}}]
["@LK-NVW-BH90",{"$f":"_xlfn.XLOOKUP(A3156,'Prices Furniture'!A:A,'Prices Furniture'!E:E)","v":420},{"$f":"_xlfn.XLOOKUP(A3156,'Lighting Prices'!A:A,'Lighting Prices'!E:E)","v":{"$error":"#N/A"}}]
["@LK-NVW-BH90S",{"$f":"_xlfn.XLOOKUP(A3157,'Prices Furniture'!A:A,'Prices Furniture'!E:E)","v":466},{"$f":"_xlfn.XLOOKUP(A3157,'Lighting Prices'!A:A,'Lighting Prices'!E:E)","v":{"$error":"#N/A"}}]
["@LK-NVW-BH100",{"$f":"_xlfn.XLOOKUP(A3158,'Prices Furniture'!A:A,'Prices Furniture'!E:E)","v":441},{"$f":"_xlfn.XLOOKUP(A3158,'Lighting Prices'!A:A,'Lighting Prices'!E:E)","v":{"$error":"#N/A"}}]
["@LK-NVW-BH10S",{"$f":"_xlfn.XLOOKUP(A3159,'Prices Furniture'!A:A,'Prices Furniture'!E:E)","v":487},{"$f":"_xlfn.XLOOKUP(A3159,'Lighting Prices'!A:A,'Lighting Prices'!E:E)","v":{"$error":"#N/A"}}]
["@LK-NVW-BC83",{"$f":"_xlfn.XLOOKUP(A3160,'Prices Furniture'!A:A,'Prices Furniture'!E:E)","v":375},{"$f":"_xlfn.XLOOKUP(A3160,'Lighting Prices'!A:A,'Lighting Prices'!E:E)","v":{"$error":"#N/A"}}]
["@LK-NVW-BC84",{"$f":"_xlfn.XLOOKUP(A3161,'Prices Furniture'!A:A,'Prices Furniture'!E:E)","v":381},{"$f":"_xlfn.XLOOKUP(A3161,'Lighting Prices'!A:A,'Lighting Prices'!E:E)","v":{"$error":"#N/A"}}]
["@LK-NVW-BC845",{"$f":"_xlfn.XLOOKUP(A3162,'Prices Furniture'!A:A,'Prices Furniture'!E:E)","v":393},{"$f":"_xlfn.XLOOKUP(A3162,'Lighting Prices'!A:A,'Lighting Prices'!E:E)","v":{"$error":"#N/A"}}]
["@LK-NVW-BC945",{"$f":"_xlfn.XLOOKUP(A3163,'Prices Furniture'!A:A,'Prices Furniture'!E:E)","v":393},{"$f":"_xlfn.XLOOKUP(A3163,'Lighting Prices'!A:A,'Lighting Prices'!E:E)","v":{"$error":"#N/A"}}]
["@LK-NVW-BC145",{"$f":"_xlfn.XLOOKUP(A3164,'Prices Furniture'!A:A,'Prices Furniture'!E:E)","v":398},{"$f":"_xlfn.XLOOKUP(A3164,'Lighting Prices'!A:A,'Lighting Prices'!E:E)","v":{"$error":"#N/A"}}]
["@LK-NVW-BC15",{"$f":"_xlfn.XLOOKUP(A3165,'Prices Furniture'!A:A,'Prices Furniture'!E:E)","v":406},{"$f":"_xlfn.XLOOKUP(A3165,'Lighting Prices'!A:A,'Lighting Prices'!E:E)","v":{"$error":"#N/A"}}]
["@LK-NVW-BC16",{"$f":"_xlfn.XLOOKUP(A3166,'Prices Furniture'!A:A,'Prices Furniture'!E:E)","v":422},{"$f":"_xlfn.XLOOKUP(A3166,'Lighting Prices'!A:A,'Lighting Prices'!E:E)","v":{"$error":"#N/A"}}]
["@LK-NVW-BCL15L",{"$f":"_xlfn.XLOOKUP(A3167,'Prices Furniture'!A:A,'Prices Furniture'!E:E)","v":1271},{"$f":"_xlfn.XLOOKUP(A3167,'Lighting Prices'!A:A,'Lighting Prices'!E:E)","v":{"$error":"#N/A"}}]
["@LK-NVW-BCL15R",{"$f":"_xlfn.XLOOKUP(A3168,'Prices Furniture'!A:A,'Prices Furniture'!E:E)","v":1271},{"$f":"_xlfn.XLOOKUP(A3168,'Lighting Prices'!A:A,'Lighting Prices'!E:E)","v":{"$error":"#N/A"}}]
["@LK-NVW-BCL16L",{"$f":"_xlfn.XLOOKUP(A3169,'Prices Furniture'!A:A,'Prices Furniture'!E:E)","v":1350},{"$f":"_xlfn.XLOOKUP(A3169,'Lighting Prices'!A:A,'Lighting Prices'!E:E)","v":{"$error":"#N/A"}}]
["@LK-NVW-BCL16R",{"$f":"_xlfn.XLOOKUP(A3170,'Prices Furniture'!A:A,'Prices Furniture'!E:E)","v":1350},{"$f":"_xlfn.XLOOKUP(A3170,'Lighting Prices'!A:A,'Lighting Prices'!E:E)","v":{"$error":"#N/A"}}]
["@LK-NVW-BCO945",{"$f":"_xlfn.XLOOKUP(A3171,'Prices Furniture'!A:A,'Prices Furniture'!E:E)","v":1401},{"$f":"_xlfn.XLOOKUP(A3171,'Lighting Prices'!A:A,'Lighting Prices'!E:E)","v":{"$error":"#N/A"}}]
["@LK-NVW-BCO145",{"$f":"_xlfn.XLOOKUP(A3172,'Prices Furniture'!A:A,'Prices Furniture'!E:E)","v":1408},{"$f":"_xlfn.XLOOKUP(A3172,'Lighting Prices'!A:A,'Lighting Prices'!E:E)","v":{"$error":"#N/A"}}]
["@LK-NVW-BCO15",{"$f":"_xlfn.XLOOKUP(A3173,'Prices Furniture'!A:A,'Prices Furniture'!E:E)","v":1416},{"$f":"_xlfn.XLOOKUP(A3173,'Lighting Prices'!A:A,'Lighting Prices'!E:E)","v":{"$error":"#N/A"}}]
["@LK-NVW-BCO16",{"$f":"_xlfn.XLOOKUP(A3174,'Prices Furniture'!A:A,'Prices Furniture'!E:E)","v":1432},{"$f":"_xlfn.XLOOKUP(A3174,'Lighting Prices'!A:A,'Lighting Prices'!E:E)","v":{"$error":"#N/A"}}]
["@LK-NVW-BCL9",{"$f":"_xlfn.XLOOKUP(A3175,'Prices Furniture'!A:A,'Prices Furniture'!E:E)","v":622},{"$f":"_xlfn.XLOOKUP(A3175,'Lighting Prices'!A:A,'Lighting Prices'!E:E)","v":{"$error":"#N/A"}}]
["@LK-NVW-BHCV",{"$f":"_xlfn.XLOOKUP(A3176,'Prices Furniture'!A:A,'Prices Furniture'!E:E)","v":625},{"$f":"_xlfn.XLOOKUP(A3176,'Lighting Prices'!A:A,'Lighting Prices'!E:E)","v":{"$error":"#N/A"}}]
["@LK-NVW-BSU6495",{"$f":"_xlfn.XLOOKUP(A3177,'Prices Furniture'!A:A,'Prices Furniture'!E:E)","v":284},{"$f":"_xlfn.XLOOKUP(A3177,'Lighting Prices'!A:A,'Lighting Prices'!E:E)","v":{"$error":"#N/A"}}]
["@LK-NVW-BSU6450",{"$f":"_xlfn.XLOOKUP(A3178,'Prices Furniture'!A:A,'Prices Furniture'!E:E)","v":284},{"$f":"_xlfn.XLOOKUP(A3178,'Lighting Prices'!A:A,'Lighting Prices'!E:E)","v":{"$error":"#N/A"}}]
["@LK-NVW-BDL3",{"$f":"_xlfn.XLOOKUP(A3179,'Prices Furniture'!A:A,'Prices Furniture'!E:E)","v":415},{"$f":"_xlfn.XLOOKUP(A3179,'Lighting Prices'!A:A,'Lighting Prices'!E:E)","v":{"$error":"#N/A"}}]
["@LK-NVW-BDL4",{"$f":"_xlfn.XLOOKUP(A3180,'Prices Furniture'!A:A,'Prices Furniture'!E:E)","v":438},{"$f":"_xlfn.XLOOKUP(A3180,'Lighting Prices'!A:A,'Lighting Prices'!E:E)","v":{"$error":"#N/A"}}]
["@LK-NVW-BDL5",{"$f":"_xlfn.XLOOKUP(A3181,'Prices Furniture'!A:A,'Prices Furniture'!E:E)","v":473},{"$f":"_xlfn.XLOOKUP(A3181,'Lighting Prices'!A:A,'Lighting Prices'!E:E)","v":{"$error":"#N/A"}}]
["@LK-NVW-BDL6",{"$f":"_xlfn.XLOOKUP(A3182,'Prices Furniture'!A:A,'Prices Furniture'!E:E)","v":476},{"$f":"_xlfn.XLOOKUP(A3182,'Lighting Prices'!A:A,'Lighting Prices'!E:E)","v":{"$error":"#N/A"}}]
["@LK-NVW-BDL8",{"$f":"_xlfn.XLOOKUP(A3183,'Prices Furniture'!A:A,'Prices Furniture'!E:E)","v":772},{"$f":"_xlfn.XLOOKUP(A3183,'Lighting Prices'!A:A,'Lighting Prices'!E:E)","v":{"$error":"#N/A"}}]
["@LK-NVW-BDL10",{"$f":"_xlfn.XLOOKUP(A3184,'Prices Furniture'!A:A,'Prices Furniture'!E:E)","v":819},{"$f":"_xlfn.XLOOKUP(A3184,'Lighting Prices'!A:A,'Lighting Prices'!E:E)","v":{"$error":"#N/A"}}]
["@LK-NVW-BDL81DW",{"$f":"_xlfn.XLOOKUP(A3185,'Prices Furniture'!A:A,'Prices Furniture'!E:E)","v":654},{"$f":"_xlfn.XLOOKUP(A3185,'Lighting Prices'!A:A,'Lighting Prices'!E:E)","v":{"$error":"#N/A"}}]
["@LK-NVW-BDL91DW",{"$f":"_xlfn.XLOOKUP(A3186,'Prices Furniture'!A:A,'Prices Furniture'!E:E)","v":679},{"$f":"_xlfn.XLOOKUP(A3186,'Lighting Prices'!A:A,'Lighting Prices'!E:E)","v":{"$error":"#N/A"}}]
["@LK-NVW-BDL101DW",{"$f":"_xlfn.XLOOKUP(A3187,'Prices Furniture'!A:A,'Prices Furniture'!E:E)","v":712},{"$f":"_xlfn.XLOOKUP(A3187,'Lighting Prices'!A:A,'Lighting Prices'!E:E)","v":{"$error":"#N/A"}}]
["@LK-NVW-BDLC83",{"$f":"_xlfn.XLOOKUP(A3188,'Prices Furniture'!A:A,'Prices Furniture'!E:E)","v":550},{"$f":"_xlfn.XLOOKUP(A3188,'Lighting Prices'!A:A,'Lighting Prices'!E:E)","v":{"$error":"#N/A"}}]
["@LK-NVW-BDLC84",{"$f":"_xlfn.XLOOKUP(A3189,'Prices Furniture'!A:A,'Prices Furniture'!E:E)","v":569},{"$f":"_xlfn.XLOOKUP(A3189,'Lighting Prices'!A:A,'Lighting Prices'!E:E)","v":{"$error":"#N/A"}}]
["@LK-NVW-BDLC85",{"$f":"_xlfn.XLOOKUP(A3190,'Prices Furniture'!A:A,'Prices Furniture'!E:E)","v":590},{"$f":"_xlfn.XLOOKUP(A3190,'Lighting Prices'!A:A,'Lighting Prices'!E:E)","v":{"$error":"#N/A"}}]
["@LK-NVW-BDLC15",{"$f":"_xlfn.XLOOKUP(A3191,'Prices Furniture'!A:A,'Prices Furniture'!E:E)","v":595},{"$f":"_xlfn.XLOOKUP(A3191,'Lighting Prices'!A:A,'Lighting Prices'!E:E)","v":{"$error":"#N/A"}}]
["@LK-NVW-BDLC16",{"$f":"_xlfn.XLOOKUP(A3192,'Prices Furniture'!A:A,'Prices Furniture'!E:E)","v":578},{"$f":"_xlfn.XLOOKUP(A3192,'Lighting Prices'!A:A,'Lighting Prices'!E:E)","v":{"$error":"#N/A"}}]
["@LK-NVW-BD54",{"$f":"_xlfn.XLOOKUP(A3193,'Prices Furniture'!A:A,'Prices Furniture'!E:E)","v":867},{"$f":"_xlfn.XLOOKUP(A3193,'Lighting Prices'!A:A,'Lighting Prices'!E:E)","v":{"$error":"#N/A"}}]
["@LK-NVW-BD53",{"$f":"_xlfn.XLOOKUP(A3194,'Prices Furniture'!A:A,'Prices Furniture'!E:E)","v":756},{"$f":"_xlfn.XLOOKUP(A3194,'Lighting Prices'!A:A,'Lighting Prices'!E:E)","v":{"$error":"#N/A"}}]
["@LK-NVW-BD63",{"$f":"_xlfn.XLOOKUP(A3195,'Prices Furniture'!A:A,'Prices Furniture'!E:E)","v":813},{"$f":"_xlfn.XLOOKUP(A3195,'Lighting Prices'!A:A,'Lighting Prices'!E:E)","v":{"$error":"#N/A"}}]
["@LK-NVW-BD83",{"$f":"_xlfn.XLOOKUP(A3196,'Prices Furniture'!A:A,'Prices Furniture'!E:E)","v":816},{"$f":"_xlfn.XLOOKUP(A3196,'Lighting Prices'!A:A,'Lighting Prices'!E:E)","v":{"$error":"#N/A"}}]
["@LK-NVW-BD93",{"$f":"_xlfn.XLOOKUP(A3197,'Prices Furniture'!A:A,'Prices Furniture'!E:E)","v":831},{"$f":"_xlfn.XLOOKUP(A3197,'Lighting Prices'!A:A,'Lighting Prices'!E:E)","v":{"$error":"#N/A"}}]
["@LK-NVW-BD13",{"$f":"_xlfn.XLOOKUP(A3198,'Prices Furniture'!A:A,'Prices Furniture'!E:E)","v":847},{"$f":"_xlfn.XLOOKUP(A3198,'Lighting Prices'!A:A,'Lighting Prices'!E:E)","v":{"$error":"#N/A"}}]
["@LK-NVW-BD62",{"$f":"_xlfn.XLOOKUP(A3199,'Prices Furniture'!A:A,'Prices Furniture'!E:E)","v":693},{"$f":"_xlfn.XLOOKUP(A3199,'Lighting Prices'!A:A,'Lighting Prices'!E:E)","v":{"$error":"#N/A"}}]
["@LK-NVW-BD92",{"$f":"_xlfn.XLOOKUP(A3200,'Prices Furniture'!A:A,'Prices Furniture'!E:E)","v":704},{"$f":"_xlfn.XLOOKUP(A3200,'Lighting Prices'!A:A,'Lighting Prices'!E:E)","v":{"$error":"#N/A"}}]
["@LK-NVW-BD62I",{"$f":"_xlfn.XLOOKUP(A3201,'Prices Furniture'!A:A,'Prices Furniture'!E:E)","v":869},{"$f":"_xlfn.XLOOKUP(A3201,'Lighting Prices'!A:A,'Lighting Prices'!E:E)","v":{"$error":"#N/A"}}]
["@LK-NVW-BD92I",{"$f":"_xlfn.XLOOKUP(A3202,'Prices Furniture'!A:A,'Prices Furniture'!E:E)","v":905},{"$f":"_xlfn.XLOOKUP(A3202,'Lighting Prices'!A:A,'Lighting Prices'!E:E)","v":{"$error":"#N/A"}}]
["@LK-NVW-BD635L",{"$f":"_xlfn.XLOOKUP(A3203,'Prices Furniture'!A:A,'Prices Furniture'!E:E)","v":389},{"$f":"_xlfn.XLOOKUP(A3203,'Lighting Prices'!A:A,'Lighting Prices'!E:E)","v":{"$error":"#N/A"}}]
["@LK-NVW-W30",{"$f":"_xlfn.XLOOKUP(A3204,'Prices Furniture'!A:A,'Prices Furniture'!E:E)","v":222},{"$f":"_xlfn.XLOOKUP(A3204,'Lighting Prices'!A:A,'Lighting Prices'!E:E)","v":{"$error":"#N/A"}}]
["@LK-NVW-W35",{"$f":"_xlfn.XLOOKUP(A3205,'Prices Furniture'!A:A,'Prices Furniture'!E:E)","v":229},{"$f":"_xlfn.XLOOKUP(A3205,'Lighting Prices'!A:A,'Lighting Prices'!E:E)","v":{"$error":"#N/A"}}]
["@LK-NVW-W40",{"$f":"_xlfn.XLOOKUP(A3206,'Prices Furniture'!A:A,'Prices Furniture'!E:E)","v":236},{"$f":"_xlfn.XLOOKUP(A3206,'Lighting Prices'!A:A,'Lighting Prices'!E:E)","v":{"$error":"#N/A"}}]
["@LK-NVW-W45",{"$f":"_xlfn.XLOOKUP(A3207,'Prices Furniture'!A:A,'Prices Furniture'!E:E)","v":253},{"$f":"_xlfn.XLOOKUP(A3207,'Lighting Prices'!A:A,'Lighting Prices'!E:E)","v":{"$error":"#N/A"}}]
["@LK-NVW-W50",{"$f":"_xlfn.XLOOKUP(A3208,'Prices Furniture'!A:A,'Prices Furniture'!E:E)","v":267},{"$f":"_xlfn.XLOOKUP(A3208,'Lighting Prices'!A:A,'Lighting Prices'!E:E)","v":{"$error":"#N/A"}}]
["@LK-NVW-W60",{"$f":"_xlfn.XLOOKUP(A3209,'Prices Furniture'!A:A,'Prices Furniture'!E:E)","v":291},{"$f":"_xlfn.XLOOKUP(A3209,'Lighting Prices'!A:A,'Lighting Prices'!E:E)","v":{"$error":"#N/A"}}]
["@LK-NVW-W70",{"$f":"_xlfn.XLOOKUP(A3210,'Prices Furniture'!A:A,'Prices Furniture'!E:E)","v":387},{"$f":"_xlfn.XLOOKUP(A3210,'Lighting Prices'!A:A,'Lighting Prices'!E:E)","v":{"$error":"#N/A"}}]
["@LK-NVW-W80",{"$f":"_xlfn.XLOOKUP(A3211,'Prices Furniture'!A:A,'Prices Furniture'!E:E)","v":391},{"$f":"_xlfn.XLOOKUP(A3211,'Lighting Prices'!A:A,'Lighting Prices'!E:E)","v":{"$error":"#N/A"}}]
["@LK-NVW-W90",{"$f":"_xlfn.XLOOKUP(A3212,'Prices Furniture'!A:A,'Prices Furniture'!E:E)","v":411},{"$f":"_xlfn.XLOOKUP(A3212,'Lighting Prices'!A:A,'Lighting Prices'!E:E)","v":{"$error":"#N/A"}}]
["@LK-NVW-W100",{"$f":"_xlfn.XLOOKUP(A3213,'Prices Furniture'!A:A,'Prices Furniture'!E:E)","v":436},{"$f":"_xlfn.XLOOKUP(A3213,'Lighting Prices'!A:A,'Lighting Prices'!E:E)","v":{"$error":"#N/A"}}]
["@LK-NVW-WC6",{"$f":"_xlfn.XLOOKUP(A3214,'Prices Furniture'!A:A,'Prices Furniture'!E:E)","v":310},{"$f":"_xlfn.XLOOKUP(A3214,'Lighting Prices'!A:A,'Lighting Prices'!E:E)","v":{"$error":"#N/A"}}]
["@LK-NVW-WC9",{"$f":"_xlfn.XLOOKUP(A3215,'Prices Furniture'!A:A,'Prices Furniture'!E:E)","v":372},{"$f":"_xlfn.XLOOKUP(A3215,'Lighting Prices'!A:A,'Lighting Prices'!E:E)","v":{"$error":"#N/A"}}]
["@LK-NVW-WCL65",{"$f":"_xlfn.XLOOKUP(A3216,'Prices Furniture'!A:A,'Prices Furniture'!E:E)","v":547},{"$f":"_xlfn.XLOOKUP(A3216,'Lighting Prices'!A:A,'Lighting Prices'!E:E)","v":{"$error":"#N/A"}}]
["@LK-NVW-WM60",{"$f":"_xlfn.XLOOKUP(A3217,'Prices Furniture'!A:A,'Prices Furniture'!E:E)","v":377},{"$f":"_xlfn.XLOOKUP(A3217,'Lighting Prices'!A:A,'Lighting Prices'!E:E)","v":{"$error":"#N/A"}}]
["@LK-NVW-WBHU",{"$f":"_xlfn.XLOOKUP(A3218,'Prices Furniture'!A:A,'Prices Furniture'!E:E)","v":297},{"$f":"_xlfn.XLOOKUP(A3218,'Lighting Prices'!A:A,'Lighting Prices'!E:E)","v":{"$error":"#N/A"}}]
["@LK-NVW-WBI60",{"$f":"_xlfn.XLOOKUP(A3219,'Prices Furniture'!A:A,'Prices Furniture'!E:E)","v":673},{"$f":"_xlfn.XLOOKUP(A3219,'Lighting Prices'!A:A,'Lighting Prices'!E:E)","v":{"$error":"#N/A"}}]
["@LK-NVW-WBI90",{"$f":"_xlfn.XLOOKUP(A3220,'Prices Furniture'!A:A,'Prices Furniture'!E:E)","v":703},{"$f":"_xlfn.XLOOKUP(A3220,'Lighting Prices'!A:A,'Lighting Prices'!E:E)","v":{"$error":"#N/A"}}]
["@LK-NVW-WG5",{"$f":"_xlfn.XLOOKUP(A3221,'Prices Furniture'!A:A,'Prices Furniture'!E:E)","v":265},{"$f":"_xlfn.XLOOKUP(A3221,'Lighting Prices'!A:A,'Lighting Prices'!E:E)","v":{"$error":"#N/A"}}]
["@LK-NVW-WDR50",{"$f":"_xlfn.XLOOKUP(A3222,'Prices Furniture'!A:A,'Prices Furniture'!E:E)","v":624},{"$f":"_xlfn.XLOOKUP(A3222,'Lighting Prices'!A:A,'Lighting Prices'!E:E)","v":{"$error":"#N/A"}}]
["@LK-NVW-WCV",{"$f":"_xlfn.XLOOKUP(A3223,'Prices Furniture'!A:A,'Prices Furniture'!E:E)","v":593},{"$f":"_xlfn.XLOOKUP(A3223,'Lighting Prices'!A:A,'Lighting Prices'!E:E)","v":{"$error":"#N/A"}}]
["@LK-NVW-WB62",{"$f":"_xlfn.XLOOKUP(A3224,'Prices Furniture'!A:A,'Prices Furniture'!E:E)","v":243},{"$f":"_xlfn.XLOOKUP(A3224,'Lighting Prices'!A:A,'Lighting Prices'!E:E)","v":{"$error":"#N/A"}}]
["@LK-NVW-WB82",{"$f":"_xlfn.XLOOKUP(A3225,'Prices Furniture'!A:A,'Prices Furniture'!E:E)","v":285},{"$f":"_xlfn.XLOOKUP(A3225,'Lighting Prices'!A:A,'Lighting Prices'!E:E)","v":{"$error":"#N/A"}}]
["@LK-NVW-WB92",{"$f":"_xlfn.XLOOKUP(A3226,'Prices Furniture'!A:A,'Prices Furniture'!E:E)","v":314},{"$f":"_xlfn.XLOOKUP(A3226,'Lighting Prices'!A:A,'Lighting Prices'!E:E)","v":{"$error":"#N/A"}}]
["@LK-NVW-WB12",{"$f":"_xlfn.XLOOKUP(A3227,'Prices Furniture'!A:A,'Prices Furniture'!E:E)","v":329},{"$f":"_xlfn.XLOOKUP(A3227,'Lighting Prices'!A:A,'Lighting Prices'!E:E)","v":{"$error":"#N/A"}}]
["@LK-NVW-WB63",{"$f":"_xlfn.XLOOKUP(A3228,'Prices Furniture'!A:A,'Prices Furniture'!E:E)","v":300},{"$f":"_xlfn.XLOOKUP(A3228,'Lighting Prices'!A:A,'Lighting Prices'!E:E)","v":{"$error":"#N/A"}}]
["@LK-NVW-WB83",{"$f":"_xlfn.XLOOKUP(A3229,'Prices Furniture'!A:A,'Prices Furniture'!E:E)","v":330},{"$f":"_xlfn.XLOOKUP(A3229,'Lighting Prices'!A:A,'Lighting Prices'!E:E)","v":{"$error":"#N/A"}}]
["@LK-NVW-WB93",{"$f":"_xlfn.XLOOKUP(A3230,'Prices Furniture'!A:A,'Prices Furniture'!E:E)","v":348},{"$f":"_xlfn.XLOOKUP(A3230,'Lighting Prices'!A:A,'Lighting Prices'!E:E)","v":{"$error":"#N/A"}}]
["@LK-NVW-WB13",{"$f":"_xlfn.XLOOKUP(A3231,'Prices Furniture'!A:A,'Prices Furniture'!E:E)","v":353},{"$f":"_xlfn.XLOOKUP(A3231,'Lighting Prices'!A:A,'Lighting Prices'!E:E)","v":{"$error":"#N/A"}}]
["@LK-NVW-AH-F55",{"$f":"_xlfn.XLOOKUP(A3232,'Prices Furniture'!A:A,'Prices Furniture'!E:E)","v":743},{"$f":"_xlfn.XLOOKUP(A3232,'Lighting Prices'!A:A,'Lighting Prices'!E:E)","v":{"$error":"#N/A"}}]
["@LK-NVW-AH-F73",{"$f":"_xlfn.XLOOKUP(A3233,'Prices Furniture'!A:A,'Prices Furniture'!E:E)","v":726},{"$f":"_xlfn.XLOOKUP(A3233,'Lighting Prices'!A:A,'Lighting Prices'!E:E)","v":{"$error":"#N/A"}}]
["@LK-NVW-AH-DO",{"$f":"_xlfn.XLOOKUP(A3234,'Prices Furniture'!A:A,'Prices Furniture'!E:E)","v":723},{"$f":"_xlfn.XLOOKUP(A3234,'Lighting Prices'!A:A,'Lighting Prices'!E:E)","v":{"$error":"#N/A"}}]
["@LK-NVW-AH-DO2D",{"$f":"_xlfn.XLOOKUP(A3235,'Prices Furniture'!A:A,'Prices Furniture'!E:E)","v":1061},{"$f":"_xlfn.XLOOKUP(A3235,'Lighting Prices'!A:A,'Lighting Prices'!E:E)","v":{"$error":"#N/A"}}]
["@LK-NVW-AH-DMW",{"$f":"_xlfn.XLOOKUP(A3236,'Prices Furniture'!A:A,'Prices Furniture'!E:E)","v":945},{"$f":"_xlfn.XLOOKUP(A3236,'Lighting Prices'!A:A,'Lighting Prices'!E:E)","v":{"$error":"#N/A"}}]
["@LK-NVW-AH-SO",{"$f":"_xlfn.XLOOKUP(A3237,'Prices Furniture'!A:A,'Prices Furniture'!E:E)","v":751},{"$f":"_xlfn.XLOOKUP(A3237,'Lighting Prices'!A:A,'Lighting Prices'!E:E)","v":{"$error":"#N/A"}}]
["@LK-NVW-AH-SO1D",{"$f":"_xlfn.XLOOKUP(A3238,'Prices Furniture'!A:A,'Prices Furniture'!E:E)","v":899},{"$f":"_xlfn.XLOOKUP(A3238,'Lighting Prices'!A:A,'Lighting Prices'!E:E)","v":{"$error":"#N/A"}}]
["@LK-NVW-AH-SO2D",{"$f":"_xlfn.XLOOKUP(A3239,'Prices Furniture'!A:A,'Prices Furniture'!E:E)","v":1120},{"$f":"_xlfn.XLOOKUP(A3239,'Lighting Prices'!A:A,'Lighting Prices'!E:E)","v":{"$error":"#N/A"}}]
["@LK-NVW-AH-SO3D",{"$f":"_xlfn.XLOOKUP(A3240,'Prices Furniture'!A:A,'Prices Furniture'!E:E)","v":1273},{"$f":"_xlfn.XLOOKUP(A3240,'Lighting Prices'!A:A,'Lighting Prices'!E:E)","v":{"$error":"#N/A"}}]
["@LK-NVW-AH-SMW",{"$f":"_xlfn.XLOOKUP(A3241,'Prices Furniture'!A:A,'Prices Furniture'!E:E)","v":798},{"$f":"_xlfn.XLOOKUP(A3241,'Lighting Prices'!A:A,'Lighting Prices'!E:E)","v":{"$error":"#N/A"}}]
["@LK-NVW-AH-SM2D",{"$f":"_xlfn.XLOOKUP(A3242,'Prices Furniture'!A:A,'Prices Furniture'!E:E)","v":1090},{"$f":"_xlfn.XLOOKUP(A3242,'Lighting Prices'!A:A,'Lighting Prices'!E:E)","v":{"$error":"#N/A"}}]
["@LK-NVW-AH-CO",{"$f":"_xlfn.XLOOKUP(A3243,'Prices Furniture'!A:A,'Prices Furniture'!E:E)","v":835},{"$f":"_xlfn.XLOOKUP(A3243,'Lighting Prices'!A:A,'Lighting Prices'!E:E)","v":{"$error":"#N/A"}}]
["@LK-NVW-BOH6",{"$f":"_xlfn.XLOOKUP(A3244,'Prices Furniture'!A:A,'Prices Furniture'!E:E)","v":209},{"$f":"_xlfn.XLOOKUP(A3244,'Lighting Prices'!A:A,'Lighting Prices'!E:E)","v":{"$error":"#N/A"}}]
["@LK-NVW-BOHD6",{"$f":"_xlfn.XLOOKUP(A3245,'Prices Furniture'!A:A,'Prices Furniture'!E:E)","v":322},{"$f":"_xlfn.XLOOKUP(A3245,'Lighting Prices'!A:A,'Lighting Prices'!E:E)","v":{"$error":"#N/A"}}]
["@LK-NVW-L3",{"$f":"_xlfn.XLOOKUP(A3246,'Prices Furniture'!A:A,'Prices Furniture'!E:E)","v":678},{"$f":"_xlfn.XLOOKUP(A3246,'Lighting Prices'!A:A,'Lighting Prices'!E:E)","v":{"$error":"#N/A"}}]
["@LK-NVW-L4",{"$f":"_xlfn.XLOOKUP(A3247,'Prices Furniture'!A:A,'Prices Furniture'!E:E)","v":708},{"$f":"_xlfn.XLOOKUP(A3247,'Lighting Prices'!A:A,'Lighting Prices'!E:E)","v":{"$error":"#N/A"}}]
["@LK-NVW-L5",{"$f":"_xlfn.XLOOKUP(A3248,'Prices Furniture'!A:A,'Prices Furniture'!E:E)","v":737},{"$f":"_xlfn.XLOOKUP(A3248,'Lighting Prices'!A:A,'Lighting Prices'!E:E)","v":{"$error":"#N/A"}}]
["@LK-NVW-L6",{"$f":"_xlfn.XLOOKUP(A3249,'Prices Furniture'!A:A,'Prices Furniture'!E:E)","v":809},{"$f":"_xlfn.XLOOKUP(A3249,'Lighting Prices'!A:A,'Lighting Prices'!E:E)","v":{"$error":"#N/A"}}]
["@LK-NVW-LP3",{"$f":"_xlfn.XLOOKUP(A3250,'Prices Furniture'!A:A,'Prices Furniture'!E:E)","v":1465},{"$f":"_xlfn.XLOOKUP(A3250,'Lighting Prices'!A:A,'Lighting Prices'!E:E)","v":{"$error":"#N/A"}}]
["@LK-NVW-LT3",{"$f":"_xlfn.XLOOKUP(A3251,'Prices Furniture'!A:A,'Prices Furniture'!E:E)","v":1779},{"$f":"_xlfn.XLOOKUP(A3251,'Lighting Prices'!A:A,'Lighting Prices'!E:E)","v":{"$error":"#N/A"}}]
["@LK-NVW-LT5",{"$f":"_xlfn.XLOOKUP(A3252,'Prices Furniture'!A:A,'Prices Furniture'!E:E)","v":1906},{"$f":"_xlfn.XLOOKUP(A3252,'Lighting Prices'!A:A,'Lighting Prices'!E:E)","v":{"$error":"#N/A"}}]
["@LK-NVW-LT6",{"$f":"_xlfn.XLOOKUP(A3253,'Prices Furniture'!A:A,'Prices Furniture'!E:E)","v":2044},{"$f":"_xlfn.XLOOKUP(A3253,'Lighting Prices'!A:A,'Lighting Prices'!E:E)","v":{"$error":"#N/A"}}]
["@LK-NVW-LP6T",{"$f":"_xlfn.XLOOKUP(A3254,'Prices Furniture'!A:A,'Prices Furniture'!E:E)","v":1995},{"$f":"_xlfn.XLOOKUP(A3254,'Lighting Prices'!A:A,'Lighting Prices'!E:E)","v":{"$error":"#N/A"}}]
["@LK-NVW-LP5TS",{"$f":"_xlfn.XLOOKUP(A3255,'Prices Furniture'!A:A,'Prices Furniture'!E:E)","v":1671},{"$f":"_xlfn.XLOOKUP(A3255,'Lighting Prices'!A:A,'Lighting Prices'!E:E)","v":{"$error":"#N/A"}}]
["@LK-NVW-LP6TS",{"$f":"_xlfn.XLOOKUP(A3256,'Prices Furniture'!A:A,'Prices Furniture'!E:E)","v":1796},{"$f":"_xlfn.XLOOKUP(A3256,'Lighting Prices'!A:A,'Lighting Prices'!E:E)","v":{"$error":"#N/A"}}]
["@LK-NVW-TLP3",{"$f":"_xlfn.XLOOKUP(A3257,'Prices Furniture'!A:A,'Prices Furniture'!E:E)","v":1501},{"$f":"_xlfn.XLOOKUP(A3257,'Lighting Prices'!A:A,'Lighting Prices'!E:E)","v":{"$error":"#N/A"}}]
["@LK-NVW-TLT3",{"$f":"_xlfn.XLOOKUP(A3258,'Prices Furniture'!A:A,'Prices Furniture'!E:E)","v":1815},{"$f":"_xlfn.XLOOKUP(A3258,'Lighting Prices'!A:A,'Lighting Prices'!E:E)","v":{"$error":"#N/A"}}]
["@LK-NVW-TLT5",{"$f":"_xlfn.XLOOKUP(A3259,'Prices Furniture'!A:A,'Prices Furniture'!E:E)","v":1942},{"$f":"_xlfn.XLOOKUP(A3259,'Lighting Prices'!A:A,'Lighting Prices'!E:E)","v":{"$error":"#N/A"}}]
["@LK-NVW-TLT6",{"$f":"_xlfn.XLOOKUP(A3260,'Prices Furniture'!A:A,'Prices Furniture'!E:E)","v":2063},{"$f":"_xlfn.XLOOKUP(A3260,'Lighting Prices'!A:A,'Lighting Prices'!E:E)","v":{"$error":"#N/A"}}]
["@LK-NVW-TLP6T",{"$f":"_xlfn.XLOOKUP(A3261,'Prices Furniture'!A:A,'Prices Furniture'!E:E)","v":2014},{"$f":"_xlfn.XLOOKUP(A3261,'Lighting Prices'!A:A,'Lighting Prices'!E:E)","v":{"$error":"#N/A"}}]
["@LK-NVW-TLP5TS",{"$f":"_xlfn.XLOOKUP(A3262,'Prices Furniture'!A:A,'Prices Furniture'!E:E)","v":1707},{"$f":"_xlfn.XLOOKUP(A3262,'Lighting Prices'!A:A,'Lighting Prices'!E:E)","v":{"$error":"#N/A"}}]
["@LK-NVW-TLP6TS",{"$f":"_xlfn.XLOOKUP(A3263,'Prices Furniture'!A:A,'Prices Furniture'!E:E)","v":1815},{"$f":"_xlfn.XLOOKUP(A3263,'Lighting Prices'!A:A,'Lighting Prices'!E:E)","v":{"$error":"#N/A"}}]
["@LK-NVW-LAC",{"$f":"_xlfn.XLOOKUP(A3264,'Prices Furniture'!A:A,'Prices Furniture'!E:E)","v":2099},{"$f":"_xlfn.XLOOKUP(A3264,'Lighting Prices'!A:A,'Lighting Prices'!E:E)","v":{"$error":"#N/A"}}]
["@LK-NVW-TLAC",{"$f":"_xlfn.XLOOKUP(A3265,'Prices Furniture'!A:A,'Prices Furniture'!E:E)","v":2477},{"$f":"_xlfn.XLOOKUP(A3265,'Lighting Prices'!A:A,'Lighting Prices'!E:E)","v":{"$error":"#N/A"}}]
["@LK-NVW-LBP10",{"$f":"_xlfn.XLOOKUP(A3266,'Prices Furniture'!A:A,'Prices Furniture'!E:E)","v":2169},{"$f":"_xlfn.XLOOKUP(A3266,'Lighting Prices'!A:A,'Lighting Prices'!E:E)","v":{"$error":"#N/A"}}]
["@LK-NVW-TLBP10",{"$f":"_xlfn.XLOOKUP(A3267,'Prices Furniture'!A:A,'Prices Furniture'!E:E)","v":2276},{"$f":"_xlfn.XLOOKUP(A3267,'Lighting Prices'!A:A,'Lighting Prices'!E:E)","v":{"$error":"#N/A"}}]
["@LK-NVW-LPN14D",{"$f":"_xlfn.XLOOKUP(A3268,'Prices Furniture'!A:A,'Prices Furniture'!E:E)","v":1152},{"$f":"_xlfn.XLOOKUP(A3268,'Lighting Prices'!A:A,'Lighting Prices'!E:E)","v":{"$error":"#N/A"}}]
["@LK-NVW-LPN14D1DW",{"$f":"_xlfn.XLOOKUP(A3269,'Prices Furniture'!A:A,'Prices Furniture'!E:E)","v":1410},{"$f":"_xlfn.XLOOKUP(A3269,'Lighting Prices'!A:A,'Lighting Prices'!E:E)","v":{"$error":"#N/A"}}]
["@LK-NVW-LPN12D3DW",{"$f":"_xlfn.XLOOKUP(A3270,'Prices Furniture'!A:A,'Prices Furniture'!E:E)","v":1551},{"$f":"_xlfn.XLOOKUP(A3270,'Lighting Prices'!A:A,'Lighting Prices'!E:E)","v":{"$error":"#N/A"}}]
["@LK-NVW-LPN12D2DW",{"$f":"_xlfn.XLOOKUP(A3271,'Prices Furniture'!A:A,'Prices Furniture'!E:E)","v":1414},{"$f":"_xlfn.XLOOKUP(A3271,'Lighting Prices'!A:A,'Lighting Prices'!E:E)","v":{"$error":"#N/A"}}]
["@LK-NVW-LBC15",{"$f":"_xlfn.XLOOKUP(A3272,'Prices Furniture'!A:A,'Prices Furniture'!E:E)","v":958},{"$f":"_xlfn.XLOOKUP(A3272,'Lighting Prices'!A:A,'Lighting Prices'!E:E)","v":{"$error":"#N/A"}}]
["@LK-NVW-LBC16",{"$f":"_xlfn.XLOOKUP(A3273,'Prices Furniture'!A:A,'Prices Furniture'!E:E)","v":985},{"$f":"_xlfn.XLOOKUP(A3273,'Lighting Prices'!A:A,'Lighting Prices'!E:E)","v":{"$error":"#N/A"}}]
["@LK-NVW-LBCLM15L",{"$f":"_xlfn.XLOOKUP(A3274,'Prices Furniture'!A:A,'Prices Furniture'!E:E)","v":2796},{"$f":"_xlfn.XLOOKUP(A3274,'Lighting Prices'!A:A,'Lighting Prices'!E:E)","v":{"$error":"#N/A"}}]
["@LK-NVW-LBCLM15R",{"$f":"_xlfn.XLOOKUP(A3275,'Prices Furniture'!A:A,'Prices Furniture'!E:E)","v":2796},{"$f":"_xlfn.XLOOKUP(A3275,'Lighting Prices'!A:A,'Lighting Prices'!E:E)","v":{"$error":"#N/A"}}]
["@LK-NVW-LBCLM16L",{"$f":"_xlfn.XLOOKUP(A3276,'Prices Furniture'!A:A,'Prices Furniture'!E:E)","v":2949},{"$f":"_xlfn.XLOOKUP(A3276,'Lighting Prices'!A:A,'Lighting Prices'!E:E)","v":{"$error":"#N/A"}}]
["@LK-NVW-LBCLM16R",{"$f":"_xlfn.XLOOKUP(A3277,'Prices Furniture'!A:A,'Prices Furniture'!E:E)","v":2949},{"$f":"_xlfn.XLOOKUP(A3277,'Lighting Prices'!A:A,'Lighting Prices'!E:E)","v":{"$error":"#N/A"}}]
["@LK-NVW-TLPN14D",{"$f":"_xlfn.XLOOKUP(A3278,'Prices Furniture'!A:A,'Prices Furniture'!E:E)","v":1323},{"$f":"_xlfn.XLOOKUP(A3278,'Lighting Prices'!A:A,'Lighting Prices'!E:E)","v":{"$error":"#N/A"}}]
["@LK-NVW-TLBC15",{"$f":"_xlfn.XLOOKUP(A3279,'Prices Furniture'!A:A,'Prices Furniture'!E:E)","v":1112},{"$f":"_xlfn.XLOOKUP(A3279,'Lighting Prices'!A:A,'Lighting Prices'!E:E)","v":{"$error":"#N/A"}}]
["@LK-NVW-TLBC16",{"$f":"_xlfn.XLOOKUP(A3280,'Prices Furniture'!A:A,'Prices Furniture'!E:E)","v":1122},{"$f":"_xlfn.XLOOKUP(A3280,'Lighting Prices'!A:A,'Lighting Prices'!E:E)","v":{"$error":"#N/A"}}]
["@LK-NVW-TLBCLM15L",{"$f":"_xlfn.XLOOKUP(A3281,'Prices Furniture'!A:A,'Prices Furniture'!E:E)","v":2950},{"$f":"_xlfn.XLOOKUP(A3281,'Lighting Prices'!A:A,'Lighting Prices'!E:E)","v":{"$error":"#N/A"}}]
["@LK-NVW-TLBCLM15R",{"$f":"_xlfn.XLOOKUP(A3282,'Prices Furniture'!A:A,'Prices Furniture'!E:E)","v":2950},{"$f":"_xlfn.XLOOKUP(A3282,'Lighting Prices'!A:A,'Lighting Prices'!E:E)","v":{"$error":"#N/A"}}]
["@LK-NVW-TLBCLM16L",{"$f":"_xlfn.XLOOKUP(A3283,'Prices Furniture'!A:A,'Prices Furniture'!E:E)","v":3086},{"$f":"_xlfn.XLOOKUP(A3283,'Lighting Prices'!A:A,'Lighting Prices'!E:E)","v":{"$error":"#N/A"}}]
["@LK-NVW-TLBCLM16R",{"$f":"_xlfn.XLOOKUP(A3284,'Prices Furniture'!A:A,'Prices Furniture'!E:E)","v":3086},{"$f":"_xlfn.XLOOKUP(A3284,'Lighting Prices'!A:A,'Lighting Prices'!E:E)","v":{"$error":"#N/A"}}]
["@LK-NVW-LL6EA",{"$f":"_xlfn.XLOOKUP(A3285,'Prices Furniture'!A:A,'Prices Furniture'!E:E)","v":851},{"$f":"_xlfn.XLOOKUP(A3285,'Lighting Prices'!A:A,'Lighting Prices'!E:E)","v":{"$error":"#N/A"}}]
["@LK-NVW-LL6CU",{"$f":"_xlfn.XLOOKUP(A3286,'Prices Furniture'!A:A,'Prices Furniture'!E:E)","v":801},{"$f":"_xlfn.XLOOKUP(A3286,'Lighting Prices'!A:A,'Lighting Prices'!E:E)","v":{"$error":"#N/A"}}]
["@LK-NVW-LL10CU",{"$f":"_xlfn.XLOOKUP(A3287,'Prices Furniture'!A:A,'Prices Furniture'!E:E)","v":1263},{"$f":"_xlfn.XLOOKUP(A3287,'Lighting Prices'!A:A,'Lighting Prices'!E:E)","v":{"$error":"#N/A"}}]
["@LK-NVW-LL10CUS",{"$f":"_xlfn.XLOOKUP(A3288,'Prices Furniture'!A:A,'Prices Furniture'!E:E)","v":1362},{"$f":"_xlfn.XLOOKUP(A3288,'Lighting Prices'!A:A,'Lighting Prices'!E:E)","v":{"$error":"#N/A"}}]
["@LK-NVW-LL10CB",{"$f":"_xlfn.XLOOKUP(A3289,'Prices Furniture'!A:A,'Prices Furniture'!E:E)","v":1273},{"$f":"_xlfn.XLOOKUP(A3289,'Lighting Prices'!A:A,'Lighting Prices'!E:E)","v":{"$error":"#N/A"}}]
["@LK-NVW-TLL6EA",{"$f":"_xlfn.XLOOKUP(A3290,'Prices Furniture'!A:A,'Prices Furniture'!E:E)","v":946},{"$f":"_xlfn.XLOOKUP(A3290,'Lighting Prices'!A:A,'Lighting Prices'!E:E)","v":{"$error":"#N/A"}}]
["@LK-NVW-TLL6CU",{"$f":"_xlfn.XLOOKUP(A3291,'Prices Furniture'!A:A,'Prices Furniture'!E:E)","v":896},{"$f":"_xlfn.XLOOKUP(A3291,'Lighting Prices'!A:A,'Lighting Prices'!E:E)","v":{"$error":"#N/A"}}]
["@LK-NVW-TLL10CU",{"$f":"_xlfn.XLOOKUP(A3292,'Prices Furniture'!A:A,'Prices Furniture'!E:E)","v":1434},{"$f":"_xlfn.XLOOKUP(A3292,'Lighting Prices'!A:A,'Lighting Prices'!E:E)","v":{"$error":"#N/A"}}]
["@LK-NVW-TLL10CUS",{"$f":"_xlfn.XLOOKUP(A3293,'Prices Furniture'!A:A,'Prices Furniture'!E:E)","v":1533},{"$f":"_xlfn.XLOOKUP(A3293,'Lighting Prices'!A:A,'Lighting Prices'!E:E)","v":{"$error":"#N/A"}}]
["@LK-NVW-TLL10CB",{"$f":"_xlfn.XLOOKUP(A3294,'Prices Furniture'!A:A,'Prices Furniture'!E:E)","v":1444},{"$f":"_xlfn.XLOOKUP(A3294,'Lighting Prices'!A:A,'Lighting Prices'!E:E)","v":{"$error":"#N/A"}}]
["@LK-NVW-AD60ICH",{"$f":"_xlfn.XLOOKUP(A3295,'Prices Furniture'!A:A,'Prices Furniture'!E:E)","v":96},{"$f":"_xlfn.XLOOKUP(A3295,'Lighting Prices'!A:A,'Lighting Prices'!E:E)","v":{"$error":"#N/A"}}]
["@LK-NVW-AD60FD",{"$f":"_xlfn.XLOOKUP(A3296,'Prices Furniture'!A:A,'Prices Furniture'!E:E)","v":132},{"$f":"_xlfn.XLOOKUP(A3296,'Lighting Prices'!A:A,'Lighting Prices'!E:E)","v":{"$error":"#N/A"}}]
["@LK-NVW-AD45I",{"$f":"_xlfn.XLOOKUP(A3297,'Prices Furniture'!A:A,'Prices Furniture'!E:E)","v":108},{"$f":"_xlfn.XLOOKUP(A3297,'Lighting Prices'!A:A,'Lighting Prices'!E:E)","v":{"$error":"#N/A"}}]
["@LK-NVW-AD60S",{"$f":"_xlfn.XLOOKUP(A3298,'Prices Furniture'!A:A,'Prices Furniture'!E:E)","v":122},{"$f":"_xlfn.XLOOKUP(A3298,'Lighting Prices'!A:A,'Lighting Prices'!E:E)","v":{"$error":"#N/A"}}]
["@LK-NVW-BLD9",{"$f":"_xlfn.XLOOKUP(A3299,'Prices Furniture'!A:A,'Prices Furniture'!E:E)","v":148},{"$f":"_xlfn.XLOOKUP(A3299,'Lighting Prices'!A:A,'Lighting Prices'!E:E)","v":{"$error":"#N/A"}}]
["@LK-NVW-TW30",{"$f":"_xlfn.XLOOKUP(A3300,'Prices Furniture'!A:A,'Prices Furniture'!E:E)","v":272},{"$f":"_xlfn.XLOOKUP(A3300,'Lighting Prices'!A:A,'Lighting Prices'!E:E)","v":{"$error":"#N/A"}}]
["@LK-NVW-TW40",{"$f":"_xlfn.XLOOKUP(A3301,'Prices Furniture'!A:A,'Prices Furniture'!E:E)","v":289},{"$f":"_xlfn.XLOOKUP(A3301,'Lighting Prices'!A:A,'Lighting Prices'!E:E)","v":{"$error":"#N/A"}}]
["@LK-NVW-TW45",{"$f":"_xlfn.XLOOKUP(A3302,'Prices Furniture'!A:A,'Prices Furniture'!E:E)","v":300},{"$f":"_xlfn.XLOOKUP(A3302,'Lighting Prices'!A:A,'Lighting Prices'!E:E)","v":{"$error":"#N/A"}}]
["@LK-NVW-TW50",{"$f":"_xlfn.XLOOKUP(A3303,'Prices Furniture'!A:A,'Prices Furniture'!E:E)","v":319},{"$f":"_xlfn.XLOOKUP(A3303,'Lighting Prices'!A:A,'Lighting Prices'!E:E)","v":{"$error":"#N/A"}}]
["@LK-NVW-TW60",{"$f":"_xlfn.XLOOKUP(A3304,'Prices Furniture'!A:A,'Prices Furniture'!E:E)","v":327},{"$f":"_xlfn.XLOOKUP(A3304,'Lighting Prices'!A:A,'Lighting Prices'!E:E)","v":{"$error":"#N/A"}}]
["@LK-NVW-TW80",{"$f":"_xlfn.XLOOKUP(A3305,'Prices Furniture'!A:A,'Prices Furniture'!E:E)","v":460},{"$f":"_xlfn.XLOOKUP(A3305,'Lighting Prices'!A:A,'Lighting Prices'!E:E)","v":{"$error":"#N/A"}}]
["@LK-NVW-TW90",{"$f":"_xlfn.XLOOKUP(A3306,'Prices Furniture'!A:A,'Prices Furniture'!E:E)","v":474},{"$f":"_xlfn.XLOOKUP(A3306,'Lighting Prices'!A:A,'Lighting Prices'!E:E)","v":{"$error":"#N/A"}}]
["@LK-NVW-TW100",{"$f":"_xlfn.XLOOKUP(A3307,'Prices Furniture'!A:A,'Prices Furniture'!E:E)","v":502},{"$f":"_xlfn.XLOOKUP(A3307,'Lighting Prices'!A:A,'Lighting Prices'!E:E)","v":{"$error":"#N/A"}}]
["@LK-NVW-TWC6",{"$f":"_xlfn.XLOOKUP(A3308,'Prices Furniture'!A:A,'Prices Furniture'!E:E)","v":378},{"$f":"_xlfn.XLOOKUP(A3308,'Lighting Prices'!A:A,'Lighting Prices'!E:E)","v":{"$error":"#N/A"}}]
["@LK-NVW-TWC9",{"$f":"_xlfn.XLOOKUP(A3309,'Prices Furniture'!A:A,'Prices Furniture'!E:E)","v":422},{"$f":"_xlfn.XLOOKUP(A3309,'Lighting Prices'!A:A,'Lighting Prices'!E:E)","v":{"$error":"#N/A"}}]
["@LK-NVW-TAH-F55",{"$f":"_xlfn.XLOOKUP(A3310,'Prices Furniture'!A:A,'Prices Furniture'!E:E)","v":788},{"$f":"_xlfn.XLOOKUP(A3310,'Lighting Prices'!A:A,'Lighting Prices'!E:E)","v":{"$error":"#N/A"}}]
["@LK-NVW-TAH-F73",{"$f":"_xlfn.XLOOKUP(A3311,'Prices Furniture'!A:A,'Prices Furniture'!E:E)","v":806},{"$f":"_xlfn.XLOOKUP(A3311,'Lighting Prices'!A:A,'Lighting Prices'!E:E)","v":{"$error":"#N/A"}}]
["@LK-NVW-TAH-DO",{"$f":"_xlfn.XLOOKUP(A3312,'Prices Furniture'!A:A,'Prices Furniture'!E:E)","v":849},{"$f":"_xlfn.XLOOKUP(A3312,'Lighting Prices'!A:A,'Lighting Prices'!E:E)","v":{"$error":"#N/A"}}]
["@LK-NVW-TAH-DO2D",{"$f":"_xlfn.XLOOKUP(A3313,'Prices Furniture'!A:A,'Prices Furniture'!E:E)","v":1169},{"$f":"_xlfn.XLOOKUP(A3313,'Lighting Prices'!A:A,'Lighting Prices'!E:E)","v":{"$error":"#N/A"}}]
["@LK-NVW-TAH-SO",{"$f":"_xlfn.XLOOKUP(A3314,'Prices Furniture'!A:A,'Prices Furniture'!E:E)","v":854},{"$f":"_xlfn.XLOOKUP(A3314,'Lighting Prices'!A:A,'Lighting Prices'!E:E)","v":{"$error":"#N/A"}}]
["@LK-NVW-TAH-SO2D",{"$f":"_xlfn.XLOOKUP(A3315,'Prices Furniture'!A:A,'Prices Furniture'!E:E)","v":1228},{"$f":"_xlfn.XLOOKUP(A3315,'Lighting Prices'!A:A,'Lighting Prices'!E:E)","v":{"$error":"#N/A"}}]
["@LK-NVW-TAH-SMW",{"$f":"_xlfn.XLOOKUP(A3316,'Prices Furniture'!A:A,'Prices Furniture'!E:E)","v":843},{"$f":"_xlfn.XLOOKUP(A3316,'Lighting Prices'!A:A,'Lighting Prices'!E:E)","v":{"$error":"#N/A"}}]
["@LK-NVW-TAH-CO",{"$f":"_xlfn.XLOOKUP(A3317,'Prices Furniture'!A:A,'Prices Furniture'!E:E)","v":849},{"$f":"_xlfn.XLOOKUP(A3317,'Lighting Prices'!A:A,'Lighting Prices'!E:E)","v":{"$error":"#N/A"}}]
["@LK-NVW-TL3",{"$f":"_xlfn.XLOOKUP(A3318,'Prices Furniture'!A:A,'Prices Furniture'!E:E)","v":714},{"$f":"_xlfn.XLOOKUP(A3318,'Lighting Prices'!A:A,'Lighting Prices'!E:E)","v":{"$error":"#N/A"}}]
["@LK-NVW-TL4",{"$f":"_xlfn.XLOOKUP(A3319,'Prices Furniture'!A:A,'Prices Furniture'!E:E)","v":745},{"$f":"_xlfn.XLOOKUP(A3319,'Lighting Prices'!A:A,'Lighting Prices'!E:E)","v":{"$error":"#N/A"}}]
["@LK-NVW-TL5",{"$f":"_xlfn.XLOOKUP(A3320,'Prices Furniture'!A:A,'Prices Furniture'!E:E)","v":773},{"$f":"_xlfn.XLOOKUP(A3320,'Lighting Prices'!A:A,'Lighting Prices'!E:E)","v":{"$error":"#N/A"}}]
["@LK-NVW-TL6",{"$f":"_xlfn.XLOOKUP(A3321,'Prices Furniture'!A:A,'Prices Furniture'!E:E)","v":828},{"$f":"_xlfn.XLOOKUP(A3321,'Lighting Prices'!A:A,'Lighting Prices'!E:E)","v":{"$error":"#N/A"}}]
["@LK-NVW-MANTLE",{"$f":"_xlfn.XLOOKUP(A3322,'Prices Furniture'!A:A,'Prices Furniture'!E:E)","v":1910},{"$f":"_xlfn.XLOOKUP(A3322,'Lighting Prices'!A:A,'Lighting Prices'!E:E)","v":{"$error":"#N/A"}}]
["@LK-NVW-CH-SO",{"$f":"_xlfn.XLOOKUP(A3323,'Prices Furniture'!A:A,'Prices Furniture'!E:E)","v":656},{"$f":"_xlfn.XLOOKUP(A3323,'Lighting Prices'!A:A,'Lighting Prices'!E:E)","v":{"$error":"#N/A"}}]
["@LK-NVW-CH-MW",{"$f":"_xlfn.XLOOKUP(A3324,'Prices Furniture'!A:A,'Prices Furniture'!E:E)","v":705},{"$f":"_xlfn.XLOOKUP(A3324,'Lighting Prices'!A:A,'Lighting Prices'!E:E)","v":{"$error":"#N/A"}}]
["@LK-NVW-CH-ST",{"$f":"_xlfn.XLOOKUP(A3325,'Prices Furniture'!A:A,'Prices Furniture'!E:E)","v":897},{"$f":"_xlfn.XLOOKUP(A3325,'Lighting Prices'!A:A,'Lighting Prices'!E:E)","v":{"$error":"#N/A"}}]
["@LK-NVW-TCH-SO",{"$f":"_xlfn.XLOOKUP(A3326,'Prices Furniture'!A:A,'Prices Furniture'!E:E)","v":858},{"$f":"_xlfn.XLOOKUP(A3326,'Lighting Prices'!A:A,'Lighting Prices'!E:E)","v":{"$error":"#N/A"}}]
["@LK-NVW-TCH-MW",{"$f":"_xlfn.XLOOKUP(A3327,'Prices Furniture'!A:A,'Prices Furniture'!E:E)","v":794},{"$f":"_xlfn.XLOOKUP(A3327,'Lighting Prices'!A:A,'Lighting Prices'!E:E)","v":{"$error":"#N/A"}}]
["@LK-NVW-TCH-ST",{"$f":"_xlfn.XLOOKUP(A3328,'Prices Furniture'!A:A,'Prices Furniture'!E:E)","v":945},{"$f":"_xlfn.XLOOKUP(A3328,'Lighting Prices'!A:A,'Lighting Prices'!E:E)","v":{"$error":"#N/A"}}]
["@LK-NVW-AH-SOT",{"$f":"_xlfn.XLOOKUP(A3329,'Prices Furniture'!A:A,'Prices Furniture'!E:E)","v":889},{"$f":"_xlfn.XLOOKUP(A3329,'Lighting Prices'!A:A,'Lighting Prices'!E:E)","v":{"$error":"#N/A"}}]
["@LK-NVW-TAH-SOT",{"$f":"_xlfn.XLOOKUP(A3330,'Prices Furniture'!A:A,'Prices Furniture'!E:E)","v":716},{"$f":"_xlfn.XLOOKUP(A3330,'Lighting Prices'!A:A,'Lighting Prices'!E:E)","v":{"$error":"#N/A"}}]
["@LK-NVW-LP4",{"$f":"_xlfn.XLOOKUP(A3331,'Prices Furniture'!A:A,'Prices Furniture'!E:E)","v":1619},{"$f":"_xlfn.XLOOKUP(A3331,'Lighting Prices'!A:A,'Lighting Prices'!E:E)","v":{"$error":"#N/A"}}]
["@LK-NVW-TLP4",{"$f":"_xlfn.XLOOKUP(A3332,'Prices Furniture'!A:A,'Prices Furniture'!E:E)","v":1656},{"$f":"_xlfn.XLOOKUP(A3332,'Lighting Prices'!A:A,'Lighting Prices'!E:E)","v":{"$error":"#N/A"}}]
["@LK-NVW-LP5T",{"$f":"_xlfn.XLOOKUP(A3333,'Prices Furniture'!A:A,'Prices Furniture'!E:E)","v":1929},{"$f":"_xlfn.XLOOKUP(A3333,'Lighting Prices'!A:A,'Lighting Prices'!E:E)","v":{"$error":"#N/A"}}]
["@LK-NVW-TLP5T",{"$f":"_xlfn.XLOOKUP(A3334,'Prices Furniture'!A:A,'Prices Furniture'!E:E)","v":1965},{"$f":"_xlfn.XLOOKUP(A3334,'Lighting Prices'!A:A,'Lighting Prices'!E:E)","v":{"$error":"#N/A"}}]
["@LK-NVW-LL8LS",{"$f":"_xlfn.XLOOKUP(A3335,'Prices Furniture'!A:A,'Prices Furniture'!E:E)","v":1402},{"$f":"_xlfn.XLOOKUP(A3335,'Lighting Prices'!A:A,'Lighting Prices'!E:E)","v":{"$error":"#N/A"}}]
["@LK-NVW-TLL8LS",{"$f":"_xlfn.XLOOKUP(A3336,'Prices Furniture'!A:A,'Prices Furniture'!E:E)","v":1575},{"$f":"_xlfn.XLOOKUP(A3336,'Lighting Prices'!A:A,'Lighting Prices'!E:E)","v":{"$error":"#N/A"}}]
["@LK-NVW-W357",{"$f":"_xlfn.XLOOKUP(A3337,'Prices Furniture'!A:A,'Prices Furniture'!E:E)","v":249},{"$f":"_xlfn.XLOOKUP(A3337,'Lighting Prices'!A:A,'Lighting Prices'!E:E)","v":{"$error":"#N/A"}}]
["@LK-NVW-W457",{"$f":"_xlfn.XLOOKUP(A3338,'Prices Furniture'!A:A,'Prices Furniture'!E:E)","v":263},{"$f":"_xlfn.XLOOKUP(A3338,'Lighting Prices'!A:A,'Lighting Prices'!E:E)","v":{"$error":"#N/A"}}]
["@LK-NVW-W4557",{"$f":"_xlfn.XLOOKUP(A3339,'Prices Furniture'!A:A,'Prices Furniture'!E:E)","v":278},{"$f":"_xlfn.XLOOKUP(A3339,'Lighting Prices'!A:A,'Lighting Prices'!E:E)","v":{"$error":"#N/A"}}]
["@LK-NVW-W557",{"$f":"_xlfn.XLOOKUP(A3340,'Prices Furniture'!A:A,'Prices Furniture'!E:E)","v":292},{"$f":"_xlfn.XLOOKUP(A3340,'Lighting Prices'!A:A,'Lighting Prices'!E:E)","v":{"$error":"#N/A"}}]
["@LK-NVW-W657",{"$f":"_xlfn.XLOOKUP(A3341,'Prices Furniture'!A:A,'Prices Furniture'!E:E)","v":281},{"$f":"_xlfn.XLOOKUP(A3341,'Lighting Prices'!A:A,'Lighting Prices'!E:E)","v":{"$error":"#N/A"}}]
["@LK-NVW-W857",{"$f":"_xlfn.XLOOKUP(A3342,'Prices Furniture'!A:A,'Prices Furniture'!E:E)","v":445},{"$f":"_xlfn.XLOOKUP(A3342,'Lighting Prices'!A:A,'Lighting Prices'!E:E)","v":{"$error":"#N/A"}}]
["@LK-NVW-W957",{"$f":"_xlfn.XLOOKUP(A3343,'Prices Furniture'!A:A,'Prices Furniture'!E:E)","v":461},{"$f":"_xlfn.XLOOKUP(A3343,'Lighting Prices'!A:A,'Lighting Prices'!E:E)","v":{"$error":"#N/A"}}]
["@LK-NVW-W157",{"$f":"_xlfn.XLOOKUP(A3344,'Prices Furniture'!A:A,'Prices Furniture'!E:E)","v":486},{"$f":"_xlfn.XLOOKUP(A3344,'Lighting Prices'!A:A,'Lighting Prices'!E:E)","v":{"$error":"#N/A"}}]
["@LK-NVW-WC657",{"$f":"_xlfn.XLOOKUP(A3345,'Prices Furniture'!A:A,'Prices Furniture'!E:E)","v":396},{"$f":"_xlfn.XLOOKUP(A3345,'Lighting Prices'!A:A,'Lighting Prices'!E:E)","v":{"$error":"#N/A"}}]
["@LK-NVW-WC957",{"$f":"_xlfn.XLOOKUP(A3346,'Prices Furniture'!A:A,'Prices Furniture'!E:E)","v":421},{"$f":"_xlfn.XLOOKUP(A3346,'Lighting Prices'!A:A,'Lighting Prices'!E:E)","v":{"$error":"#N/A"}}]
["@LK-NVW-BHD3",{"$f":"_xlfn.XLOOKUP(A3347,'Prices Furniture'!A:A,'Prices Furniture'!E:E)","v":629},{"$f":"_xlfn.XLOOKUP(A3347,'Lighting Prices'!A:A,'Lighting Prices'!E:E)","v":{"$error":"#N/A"}}]
["@LK-NVW-BHD4",{"$f":"_xlfn.XLOOKUP(A3348,'Prices Furniture'!A:A,'Prices Furniture'!E:E)","v":678},{"$f":"_xlfn.XLOOKUP(A3348,'Lighting Prices'!A:A,'Lighting Prices'!E:E)","v":{"$error":"#N/A"}}]
["@LK-NVW-BHD5",{"$f":"_xlfn.XLOOKUP(A3349,'Prices Furniture'!A:A,'Prices Furniture'!E:E)","v":741},{"$f":"_xlfn.XLOOKUP(A3349,'Lighting Prices'!A:A,'Lighting Prices'!E:E)","v":{"$error":"#N/A"}}]
["@LK-NVW-BHD6",{"$f":"_xlfn.XLOOKUP(A3350,'Prices Furniture'!A:A,'Prices Furniture'!E:E)","v":797},{"$f":"_xlfn.XLOOKUP(A3350,'Lighting Prices'!A:A,'Lighting Prices'!E:E)","v":{"$error":"#N/A"}}]
["LK-A-NVW-WREP72",{"$f":"_xlfn.XLOOKUP(A3351,'Prices Furniture'!A:A,'Prices Furniture'!E:E)","v":77},{"$f":"_xlfn.XLOOKUP(A3351,'Lighting Prices'!A:A,'Lighting Prices'!E:E)","v":{"$error":"#N/A"}}]
["LK-A-NVW-PWEP72",{"$f":"_xlfn.XLOOKUP(A3352,'Prices Furniture'!A:A,'Prices Furniture'!E:E)","v":80},{"$f":"_xlfn.XLOOKUP(A3352,'Lighting Prices'!A:A,'Lighting Prices'!E:E)","v":{"$error":"#N/A"}}]
["LK-A-NVW-PWEP20",{"$f":"_xlfn.XLOOKUP(A3353,'Prices Furniture'!A:A,'Prices Furniture'!E:E)","v":200},{"$f":"_xlfn.XLOOKUP(A3353,'Lighting Prices'!A:A,'Lighting Prices'!E:E)","v":{"$error":"#N/A"}}]
["LK-A-NVW-ESP",{"$f":"_xlfn.XLOOKUP(A3354,'Prices Furniture'!A:A,'Prices Furniture'!E:E)","v":123},{"$f":"_xlfn.XLOOKUP(A3354,'Lighting Prices'!A:A,'Lighting Prices'!E:E)","v":{"$error":"#N/A"}}]
["LK-A-NVW-LUP",{"$f":"_xlfn.XLOOKUP(A3355,'Prices Furniture'!A:A,'Prices Furniture'!E:E)","v":391},{"$f":"_xlfn.XLOOKUP(A3355,'Lighting Prices'!A:A,'Lighting Prices'!E:E)","v":{"$error":"#N/A"}}]
["LK-A-NVW-PTEP",{"$f":"_xlfn.XLOOKUP(A3356,'Prices Furniture'!A:A,'Prices Furniture'!E:E)","v":240},{"$f":"_xlfn.XLOOKUP(A3356,'Lighting Prices'!A:A,'Lighting Prices'!E:E)","v":{"$error":"#N/A"}}]
["LK-A-NVW-BPIL",{"$f":"_xlfn.XLOOKUP(A3357,'Prices Furniture'!A:A,'Prices Furniture'!E:E)","v":231},{"$f":"_xlfn.XLOOKUP(A3357,'Lighting Prices'!A:A,'Lighting Prices'!E:E)","v":{"$error":"#N/A"}}]
["LK-A-NVW-PL",{"$f":"_xlfn.XLOOKUP(A3358,'Prices Furniture'!A:A,'Prices Furniture'!E:E)","v":90},{"$f":"_xlfn.XLOOKUP(A3358,'Lighting Prices'!A:A,'Lighting Prices'!E:E)","v":{"$error":"#N/A"}}]
["LK-A-NVW-CVPL",{"$f":"_xlfn.XLOOKUP(A3359,'Prices Furniture'!A:A,'Prices Furniture'!E:E)","v":181},{"$f":"_xlfn.XLOOKUP(A3359,'Lighting Prices'!A:A,'Lighting Prices'!E:E)","v":{"$error":"#N/A"}}]
["LK-A-NVW-SCCRN",{"$f":"_xlfn.XLOOKUP(A3360,'Prices Furniture'!A:A,'Prices Furniture'!E:E)","v":113},{"$f":"_xlfn.XLOOKUP(A3360,'Lighting Prices'!A:A,'Lighting Prices'!E:E)","v":{"$error":"#N/A"}}]
["LK-A-NVW-CSC",{"$f":"_xlfn.XLOOKUP(A3361,'Prices Furniture'!A:A,'Prices Furniture'!E:E)","v":181},{"$f":"_xlfn.XLOOKUP(A3361,'Lighting Prices'!A:A,'Lighting Prices'!E:E)","v":{"$error":"#N/A"}}]
["LK-A-NVW-BLPEL",{"$f":"_xlfn.XLOOKUP(A3362,'Prices Furniture'!A:A,'Prices Furniture'!E:E)","v":86},{"$f":"_xlfn.XLOOKUP(A3362,'Lighting Prices'!A:A,'Lighting Prices'!E:E)","v":{"$error":"#N/A"}}]
["LK-A-NVW-CVBUL",{"$f":"_xlfn.XLOOKUP(A3363,'Prices Furniture'!A:A,'Prices Furniture'!E:E)","v":180},{"$f":"_xlfn.XLOOKUP(A3363,'Lighting Prices'!A:A,'Lighting Prices'!E:E)","v":{"$error":"#N/A"}}]
["LK-A-NVW-CVP",{"$f":"_xlfn.XLOOKUP(A3364,'Prices Furniture'!A:A,'Prices Furniture'!E:E)","v":123},{"$f":"_xlfn.XLOOKUP(A3364,'Lighting Prices'!A:A,'Lighting Prices'!E:E)","v":{"$error":"#N/A"}}]
["LK-A-NVW-CPBM",{"$f":"_xlfn.XLOOKUP(A3365,'Prices Furniture'!A:A,'Prices Furniture'!E:E)","v":116},{"$f":"_xlfn.XLOOKUP(A3365,'Lighting Prices'!A:A,'Lighting Prices'!E:E)","v":{"$error":"#N/A"}}]
["LK-A-NVW-CPBC",{"$f":"_xlfn.XLOOKUP(A3366,'Prices Furniture'!A:A,'Prices Furniture'!E:E)","v":116},{"$f":"_xlfn.XLOOKUP(A3366,'Lighting Prices'!A:A,'Lighting Prices'!E:E)","v":{"$error":"#N/A"}}]
["LK-A-NVW-ET",{"$f":"_xlfn.XLOOKUP(A3367,'Prices Furniture'!A:A,'Prices Furniture'!E:E)","v":37},{"$f":"_xlfn.XLOOKUP(A3367,'Lighting Prices'!A:A,'Lighting Prices'!E:E)","v":{"$error":"#N/A"}}]